{"text_format":"1","workbook":"xlsx","n_sheets":15,"sheets":["Oversikt","WBC","RBC","HGB","HCT","RETIC","PLT","WBC Diagram","RBC Diagram","HGB Diagram","HCT Diagram","RETIC Diagram","PLT Diagram","CV'er og tillatt feil","Aksjonsregler"],"not_rendered":{"charts":12,"images":0,"macros":1,"external_links":0,"defined_names":1,"comments":0,"pivot_tables":0},"unopened":[{"sheet":"WBC Diagram","index":7,"reason":"not_a_worksheet"},{"sheet":"RBC Diagram","index":8,"reason":"not_a_worksheet"},{"sheet":"HGB Diagram","index":9,"reason":"not_a_worksheet"},{"sheet":"HCT Diagram","index":10,"reason":"not_a_worksheet"},{"sheet":"RETIC Diagram","index":11,"reason":"not_a_worksheet"},{"sheet":"PLT Diagram","index":12,"reason":"not_a_worksheet"}],"bounds":{"document_bytes":16777216,"sheet_cells":100000,"rows_first":2000,"rows_last":500,"rows_between":2000,"halvings":0,"cell_chars":16384,"cell_head_chars":4096},"cells_cut":0,"cells_raw":0,"read":"whole","date_system":"1900"}

{"sheet":"Oversikt","index":0,"n_rows":16,"n_cols":19,"rows_kept":16,"cut":false,"hidden":false,"merged":[[5,3,5,6],[5,7,5,10],[5,11,5,14],[5,15,5,18],[3,9,3,13]]}
[null,null,null,"EQS dokument 13856 versjon 3.9"]
[null,null,null,"Samkjøring hematologi"]
[null,null,null,"WBC, RBC, HGB, MCV og PLT analyseres på to instrumenter med samme måleprinsipp."]
[null,null,null,"Hver dag sammenlignes hovedmetodene. Bimetodene sammenlignes hver uke."]
[null,null,null,"Dato:",null,"Fylles ut kun hvis IKKE dagens dato (dd.mm.åå)"]
[null,null,null,"Sysmex XN-1500",null,null,null,"Sysmex XN-1000",null,null,null,"Rapidpoint 500",null,null,null,"HemoCue Hb 201+"]
[null,null,null,null,1,2,3,null,1,2,3,null,1,2,3,null,1,2,3]
[null,null,null,"WBC-N",null,null,null,"WBC-N",null,null,null,"HGB",null,null,null,"HGB"]
[null,null,null,"WBC-D",null,null,null,"WBC-D"]
[null,null,null,"RBC imp",null,null,null,"RBC imp",null,null,null,null,null,"Daglig"]
[null,null,null,"RBC opt",null,null,null,"RBC opt",null,null,null,null,null,"Ukentlig"]
[null,null,null,"HGB",null,null,null,"HGB"]
[null,null,null,"HCT",null,null,null,"HCT"]
[null,null,null,"RETIC",null,null,null,"RETIC"]
[null,null,null,"TPK imp",null,null,null,"TPK imp",null,null,null,null,null,null,null,null,null,"Daglig"]
[null,null,null,"TPK PLTF",null,null,null,"TPK PLTF",null,null,null,null,null,null,null,null,null,"Ukentlig"]

{"sheet":"WBC","index":1,"n_rows":110,"n_cols":22,"rows_kept":110,"cut":false,"hidden":false,"merged":[[1,2,1,5],[1,0,1,1],[1,6,1,10]]}
[{"$f":"Oversikt!D1","v":"EQS dokument 13856 versjon 3.9"}]
["LEUKOCYTTER",null,"Sysmex XN-1500",null,null,null,"Differanser WBC (Instrument XN-1000-Hovedinstrument XN-1500)"]
[null,null,null,null,null,"Varsel ",null,"Varsel ",null,"Varsel"]
["Dato","XN-1500","XN-1000","XN1500Diff","XN1000Diff","XN1000-XN1500","XN1000-XN1500","XN1000Diff-XN1500","XN1000Diff-XN1500","XN1500Diff-XN1500","XN1500Diff-XN1500","WBC nedre stopp","WBC øvre stopp","WBC nedre stopp","WBC øvre stopp","WBC nedre grønn","WBC øvre grønn","WBCnedre grønn","WBC øvre grønn",null,null,"HK SysDiff-CellDyn"]
[null,null,null,null,null,{"$f":"IF((C5<>\"\"),(IF((OR((G5>S5),(G5<R5))),IF(OR((G5>O5),(G5<N5)),\"STOPP\",\"Vurder\"),\"Ok\")),\"\")","v":""},{"$f":"IF((C5<>\"\"),C5-$B5,\"\")","v":""},{"$f":"IF((E5<>\"\"),(IF((OR((I5>S5),(I5<R5))),IF(OR((I5>O5),(I5<N5)),\"STOPP\",\"Vurder\"),\"Ok\")),\"\")","v":""},{"$f":"IF((E5<>\"\"),E5-$B5,-600)","v":-600},{"$f":"IF((D5<>\"\"),(IF((OR((K5>S5),(K5<R5))),IF(OR((K5>O5),(K5<N5)),\"STOPP\",\"Vurder\"),\"Ok\")),\"\")","v":""},{"$f":"IF((D5<>\"\"),D5-$B5,-600)","v":-600},{"$f":"B5-((B5*'CV''er og tillatt feil'!$H$15)/100)","v":0},{"$f":"B5+((B5*'CV''er og tillatt feil'!$H$15)/100)","v":0},{"$f":"L5-B5","v":0},{"$f":"M5-B5","v":0},{"$f":"B5-((B5*'CV''er og tillatt feil'!$G$15)/100)","v":0},{"$f":"B5+((B5*'CV''er og tillatt feil'!$G$15)/100)","v":0},{"$f":"P5-B5","v":0},{"$f":"Q5-B5","v":0},null,null,{"$f":"IF((I5=-600),\"\",I5)","v":""}]
[null,null,null,null,null,"","",{"$f":"IF((D6<>\"\"),(IF((OR((I6>S6),(I6<R6))),IF(OR((I6>O6),(I6<N6)),\"STOPP\",\"Vurder\"),\"Ok\")),\"\")","v":""},{"$f":"IF((E6<>\"\"),E6-$B6,-600)","v":-600},{"$f":"IF((D6<>\"\"),(IF((OR((K6>S6),(K6<R6))),IF(OR((K6>O6),(K6<N6)),\"STOPP\",\"Vurder\"),\"Ok\")),\"\")","v":""},{"$f":"IF((D6<>\"\"),D6-$B6,-600)","v":-600},{"$f":"B6-((B6*'CV''er og tillatt feil'!$H$15)/100)","v":0},{"$f":"B6+((B6*'CV''er og tillatt feil'!$H$15)/100)","v":0},0,0,{"$f":"B6-((B6*'CV''er og tillatt feil'!$G$15)/100)","v":0},{"$f":"B6+((B6*'CV''er og tillatt feil'!$G$15)/100)","v":0},0,0,null,null,{"$f":"IF((I6=-600),\"\",I6)","v":""}]
[null,null,null,null,null,"","","",-600,"",{"$f":"IF((D7<>\"\"),D7-$B7,-600)","v":-600},{"$f":"B7-((B7*'CV''er og tillatt feil'!$H$15)/100)","v":0},{"$f":"B7+((B7*'CV''er og tillatt feil'!$H$15)/100)","v":0},0,0,{"$f":"B7-((B7*'CV''er og tillatt feil'!$G$15)/100)","v":0},{"$f":"B7+((B7*'CV''er og tillatt feil'!$G$15)/100)","v":0},0,0,null,null,""]
[null,null,null,null,null,"","","",-600,"",-600,{"$f":"B8-((B8*'CV''er og tillatt feil'!$H$15)/100)","v":0},{"$f":"B8+((B8*'CV''er og tillatt feil'!$H$15)/100)","v":0},0,0,{"$f":"B8-((B8*'CV''er og tillatt feil'!$G$15)/100)","v":0},{"$f":"B8+((B8*'CV''er og tillatt feil'!$G$15)/100)","v":0},0,0,null,null,""]
[null,null,null,null,null,"","","",-600,"",-600,{"$f":"B9-((B9*'CV''er og tillatt feil'!$H$15)/100)","v":0},{"$f":"B9+((B9*'CV''er og tillatt feil'!$H$15)/100)","v":0},0,0,{"$f":"B9-((B9*'CV''er og tillatt feil'!$G$15)/100)","v":0},{"$f":"B9+((B9*'CV''er og tillatt feil'!$G$15)/100)","v":0},0,0,null,null,""]
[null,null,null,null,null,"","","",-600,"",-600,{"$f":"B10-((B10*'CV''er og tillatt feil'!$H$15)/100)","v":0},{"$f":"B10+((B10*'CV''er og tillatt feil'!$H$15)/100)","v":0},0,0,{"$f":"B10-((B10*'CV''er og tillatt feil'!$G$15)/100)","v":0},{"$f":"B10+((B10*'CV''er og tillatt feil'!$G$15)/100)","v":0},0,0,null,null,""]
[null,null,null,null,null,"","","",-600,"",-600,{"$f":"B11-((B11*'CV''er og tillatt feil'!$H$15)/100)","v":0},{"$f":"B11+((B11*'CV''er og tillatt feil'!$H$15)/100)","v":0},0,0,{"$f":"B11-((B11*'CV''er og tillatt feil'!$G$15)/100)","v":0},{"$f":"B11+((B11*'CV''er og tillatt feil'!$G$15)/100)","v":0},0,0,null,null,""]
[null,null,null,null,null,"","","",-600,"",-600,{"$f":"B12-((B12*'CV''er og tillatt feil'!$H$15)/100)","v":0},{"$f":"B12+((B12*'CV''er og tillatt feil'!$H$15)/100)","v":0},0,0,{"$f":"B12-((B12*'CV''er og tillatt feil'!$G$15)/100)","v":0},{"$f":"B12+((B12*'CV''er og tillatt feil'!$G$15)/100)","v":0},0,0,null,null,""]
[null,null,null,null,null,"","","",-600,"",-600,{"$f":"B13-((B13*'CV''er og tillatt feil'!$H$15)/100)","v":0},{"$f":"B13+((B13*'CV''er og tillatt feil'!$H$15)/100)","v":0},0,0,{"$f":"B13-((B13*'CV''er og tillatt feil'!$G$15)/100)","v":0},{"$f":"B13+((B13*'CV''er og tillatt feil'!$G$15)/100)","v":0},0,0,null,null,""]
[null,null,null,null,null,"","","",-600,"",-600,{"$f":"B14-((B14*'CV''er og tillatt feil'!$H$15)/100)","v":0},{"$f":"B14+((B14*'CV''er og tillatt feil'!$H$15)/100)","v":0},0,0,{"$f":"B14-((B14*'CV''er og tillatt feil'!$G$15)/100)","v":0},{"$f":"B14+((B14*'CV''er og tillatt feil'!$G$15)/100)","v":0},0,0,null,null,""]
[null,null,null,null,null,"","","",-600,"",-600,{"$f":"B15-((B15*'CV''er og tillatt feil'!$H$15)/100)","v":0},{"$f":"B15+((B15*'CV''er og tillatt feil'!$H$15)/100)","v":0},0,0,{"$f":"B15-((B15*'CV''er og tillatt feil'!$G$15)/100)","v":0},{"$f":"B15+((B15*'CV''er og tillatt feil'!$G$15)/100)","v":0},0,0,null,null,""]
[null,null,null,null,null,"","","",-600,"",-600,{"$f":"B16-((B16*'CV''er og tillatt feil'!$H$15)/100)","v":0},{"$f":"B16+((B16*'CV''er og tillatt feil'!$H$15)/100)","v":0},0,0,{"$f":"B16-((B16*'CV''er og tillatt feil'!$G$15)/100)","v":0},{"$f":"B16+((B16*'CV''er og tillatt feil'!$G$15)/100)","v":0},0,0,null,null,""]
[null,null,null,null,null,"","","",-600,"",-600,{"$f":"B17-((B17*'CV''er og tillatt feil'!$H$15)/100)","v":0},{"$f":"B17+((B17*'CV''er og tillatt feil'!$H$15)/100)","v":0},0,0,{"$f":"B17-((B17*'CV''er og tillatt feil'!$G$15)/100)","v":0},{"$f":"B17+((B17*'CV''er og tillatt feil'!$G$15)/100)","v":0},0,0,null,null,""]
[null,null,null,null,null,"","","",-600,"",-600,{"$f":"B18-((B18*'CV''er og tillatt feil'!$H$15)/100)","v":0},{"$f":"B18+((B18*'CV''er og tillatt feil'!$H$15)/100)","v":0},0,0,{"$f":"B18-((B18*'CV''er og tillatt feil'!$G$15)/100)","v":0},{"$f":"B18+((B18*'CV''er og tillatt feil'!$G$15)/100)","v":0},0,0,null,null,""]
[null,null,null,null,null,"","","",-600,"",-600,{"$f":"B19-((B19*'CV''er og tillatt feil'!$H$15)/100)","v":0},{"$f":"B19+((B19*'CV''er og tillatt feil'!$H$15)/100)","v":0},0,0,{"$f":"B19-((B19*'CV''er og tillatt feil'!$G$15)/100)","v":0},{"$f":"B19+((B19*'CV''er og tillatt feil'!$G$15)/100)","v":0},0,0,null,null,""]
[null,null,null,null,null,"","","",-600,"",-600,{"$f":"B20-((B20*'CV''er og tillatt feil'!$H$15)/100)","v":0},{"$f":"B20+((B20*'CV''er og tillatt feil'!$H$15)/100)","v":0},0,0,{"$f":"B20-((B20*'CV''er og tillatt feil'!$G$15)/100)","v":0},{"$f":"B20+((B20*'CV''er og tillatt feil'!$G$15)/100)","v":0},0,0,null,null,""]
[null,null,null,null,null,"","","",-600,"",-600,{"$f":"B21-((B21*'CV''er og tillatt feil'!$H$15)/100)","v":0},{"$f":"B21+((B21*'CV''er og tillatt feil'!$H$15)/100)","v":0},0,0,{"$f":"B21-((B21*'CV''er og tillatt feil'!$G$15)/100)","v":0},{"$f":"B21+((B21*'CV''er og tillatt feil'!$G$15)/100)","v":0},0,0,null,null,""]
[null,null,null,null,null,"","","",-600,"",-600,{"$f":"B22-((B22*'CV''er og tillatt feil'!$H$15)/100)","v":0},{"$f":"B22+((B22*'CV''er og tillatt feil'!$H$15)/100)","v":0},0,0,{"$f":"B22-((B22*'CV''er og tillatt feil'!$G$15)/100)","v":0},{"$f":"B22+((B22*'CV''er og tillatt feil'!$G$15)/100)","v":0},0,0,null,null,""]
[null,null,null,null,null,"","","",-600,"",-600,{"$f":"B23-((B23*'CV''er og tillatt feil'!$H$15)/100)","v":0},{"$f":"B23+((B23*'CV''er og tillatt feil'!$H$15)/100)","v":0},0,0,{"$f":"B23-((B23*'CV''er og tillatt feil'!$G$15)/100)","v":0},{"$f":"B23+((B23*'CV''er og tillatt feil'!$G$15)/100)","v":0},0,0,null,null,""]
[null,null,null,null,null,"","","",-600,"",-600,{"$f":"B24-((B24*'CV''er og tillatt feil'!$H$15)/100)","v":0},{"$f":"B24+((B24*'CV''er og tillatt feil'!$H$15)/100)","v":0},0,0,{"$f":"B24-((B24*'CV''er og tillatt feil'!$G$15)/100)","v":0},{"$f":"B24+((B24*'CV''er og tillatt feil'!$G$15)/100)","v":0},0,0,null,null,""]
[null,null,null,null,null,"","","",-600,"",-600,{"$f":"B25-((B25*'CV''er og tillatt feil'!$H$15)/100)","v":0},{"$f":"B25+((B25*'CV''er og tillatt feil'!$H$15)/100)","v":0},0,0,{"$f":"B25-((B25*'CV''er og tillatt feil'!$G$15)/100)","v":0},{"$f":"B25+((B25*'CV''er og tillatt feil'!$G$15)/100)","v":0},0,0,null,null,""]
[null,null,null,null,null,"","","",-600,"",-600,{"$f":"B26-((B26*'CV''er og tillatt feil'!$H$15)/100)","v":0},{"$f":"B26+((B26*'CV''er og tillatt feil'!$H$15)/100)","v":0},0,0,{"$f":"B26-((B26*'CV''er og tillatt feil'!$G$15)/100)","v":0},{"$f":"B26+((B26*'CV''er og tillatt feil'!$G$15)/100)","v":0},0,0,null,null,""]
[null,null,null,null,null,"","","",-600,"",-600,{"$f":"B27-((B27*'CV''er og tillatt feil'!$H$15)/100)","v":0},{"$f":"B27+((B27*'CV''er og tillatt feil'!$H$15)/100)","v":0},0,0,{"$f":"B27-((B27*'CV''er og tillatt feil'!$G$15)/100)","v":0},{"$f":"B27+((B27*'CV''er og tillatt feil'!$G$15)/100)","v":0},0,0,null,null,""]
[null,null,null,null,null,"","","",-600,"",-600,{"$f":"B28-((B28*'CV''er og tillatt feil'!$H$15)/100)","v":0},{"$f":"B28+((B28*'CV''er og tillatt feil'!$H$15)/100)","v":0},0,0,{"$f":"B28-((B28*'CV''er og tillatt feil'!$G$15)/100)","v":0},{"$f":"B28+((B28*'CV''er og tillatt feil'!$G$15)/100)","v":0},0,0,null,null,""]
[null,null,null,null,null,"","","",-600,"",-600,{"$f":"B29-((B29*'CV''er og tillatt feil'!$H$15)/100)","v":0},{"$f":"B29+((B29*'CV''er og tillatt feil'!$H$15)/100)","v":0},0,0,{"$f":"B29-((B29*'CV''er og tillatt feil'!$G$15)/100)","v":0},{"$f":"B29+((B29*'CV''er og tillatt feil'!$G$15)/100)","v":0},0,0,null,null,""]
[null,null,null,null,null,"","","",-600,"",-600,{"$f":"B30-((B30*'CV''er og tillatt feil'!$H$15)/100)","v":0},{"$f":"B30+((B30*'CV''er og tillatt feil'!$H$15)/100)","v":0},0,0,{"$f":"B30-((B30*'CV''er og tillatt feil'!$G$15)/100)","v":0},{"$f":"B30+((B30*'CV''er og tillatt feil'!$G$15)/100)","v":0},0,0,null,null,""]
[null,null,null,null,null,"","","",-600,"",-600,{"$f":"B31-((B31*'CV''er og tillatt feil'!$H$15)/100)","v":0},{"$f":"B31+((B31*'CV''er og tillatt feil'!$H$15)/100)","v":0},0,0,{"$f":"B31-((B31*'CV''er og tillatt feil'!$G$15)/100)","v":0},{"$f":"B31+((B31*'CV''er og tillatt feil'!$G$15)/100)","v":0},0,0,null,null,""]
[null,null,null,null,null,"","","",-600,"",-600,{"$f":"B32-((B32*'CV''er og tillatt feil'!$H$15)/100)","v":0},{"$f":"B32+((B32*'CV''er og tillatt feil'!$H$15)/100)","v":0},0,0,{"$f":"B32-((B32*'CV''er og tillatt feil'!$G$15)/100)","v":0},{"$f":"B32+((B32*'CV''er og tillatt feil'!$G$15)/100)","v":0},0,0,null,null,""]
[null,null,null,null,null,"","","",-600,"",-600,{"$f":"B33-((B33*'CV''er og tillatt feil'!$H$15)/100)","v":0},{"$f":"B33+((B33*'CV''er og tillatt feil'!$H$15)/100)","v":0},0,0,{"$f":"B33-((B33*'CV''er og tillatt feil'!$G$15)/100)","v":0},{"$f":"B33+((B33*'CV''er og tillatt feil'!$G$15)/100)","v":0},0,0,null,null,""]
[null,null,null,null,null,"","","",-600,"",-600,{"$f":"B34-((B34*'CV''er og tillatt feil'!$H$15)/100)","v":0},{"$f":"B34+((B34*'CV''er og tillatt feil'!$H$15)/100)","v":0},0,0,{"$f":"B34-((B34*'CV''er og tillatt feil'!$G$15)/100)","v":0},{"$f":"B34+((B34*'CV''er og tillatt feil'!$G$15)/100)","v":0},0,0,null,null,""]
[null,null,null,null,null,"","","",-600,"",-600,{"$f":"B35-((B35*'CV''er og tillatt feil'!$H$15)/100)","v":0},{"$f":"B35+((B35*'CV''er og tillatt feil'!$H$15)/100)","v":0},0,0,{"$f":"B35-((B35*'CV''er og tillatt feil'!$G$15)/100)","v":0},{"$f":"B35+((B35*'CV''er og tillatt feil'!$G$15)/100)","v":0},0,0,null,null,""]
[null,null,null,null,null,"","","",-600,"",-600,{"$f":"B36-((B36*'CV''er og tillatt feil'!$H$15)/100)","v":0},{"$f":"B36+((B36*'CV''er og tillatt feil'!$H$15)/100)","v":0},0,0,{"$f":"B36-((B36*'CV''er og tillatt feil'!$G$15)/100)","v":0},{"$f":"B36+((B36*'CV''er og tillatt feil'!$G$15)/100)","v":0},0,0,null,null,""]
[null,null,null,null,null,{"$f":"IF((C37<>\"\"),(IF((OR((G37>S37),(G37<R37))),IF(OR((G37>O37),(G37<N37)),\"STOPP\",\"Vurder\"),\"Ok\")),\"\")","v":""},{"$f":"IF((C37<>\"\"),C37-$B37,\"\")","v":""},"",-600,"",-600,{"$f":"B37-((B37*'CV''er og tillatt feil'!$H$15)/100)","v":0},{"$f":"B37+((B37*'CV''er og tillatt feil'!$H$15)/100)","v":0},{"$f":"L37-B37","v":0},{"$f":"M37-B37","v":0},{"$f":"B37-((B37*'CV''er og tillatt feil'!$G$15)/100)","v":0},{"$f":"B37+((B37*'CV''er og tillatt feil'!$G$15)/100)","v":0},{"$f":"P37-B37","v":0},{"$f":"Q37-B37","v":0},null,null,""]
[null,null,null,null,null,"","","",-600,"",-600,{"$f":"B38-((B38*'CV''er og tillatt feil'!$H$15)/100)","v":0},{"$f":"B38+((B38*'CV''er og tillatt feil'!$H$15)/100)","v":0},0,0,{"$f":"B38-((B38*'CV''er og tillatt feil'!$G$15)/100)","v":0},{"$f":"B38+((B38*'CV''er og tillatt feil'!$G$15)/100)","v":0},0,0,null,null,""]
[null,null,null,null,null,"","","",-600,"",-600,{"$f":"B39-((B39*'CV''er og tillatt feil'!$H$15)/100)","v":0},{"$f":"B39+((B39*'CV''er og tillatt feil'!$H$15)/100)","v":0},0,0,{"$f":"B39-((B39*'CV''er og tillatt feil'!$G$15)/100)","v":0},{"$f":"B39+((B39*'CV''er og tillatt feil'!$G$15)/100)","v":0},0,0,null,null,""]
[null,null,null,null,null,"","","",-600,"",-600,{"$f":"B40-((B40*'CV''er og tillatt feil'!$H$15)/100)","v":0},{"$f":"B40+((B40*'CV''er og tillatt feil'!$H$15)/100)","v":0},0,0,{"$f":"B40-((B40*'CV''er og tillatt feil'!$G$15)/100)","v":0},{"$f":"B40+((B40*'CV''er og tillatt feil'!$G$15)/100)","v":0},0,0,null,null,""]
[null,null,null,null,null,"","","",-600,"",-600,{"$f":"B41-((B41*'CV''er og tillatt feil'!$H$15)/100)","v":0},{"$f":"B41+((B41*'CV''er og tillatt feil'!$H$15)/100)","v":0},0,0,{"$f":"B41-((B41*'CV''er og tillatt feil'!$G$15)/100)","v":0},{"$f":"B41+((B41*'CV''er og tillatt feil'!$G$15)/100)","v":0},0,0,null,null,""]
[null,null,null,null,null,"","","",-600,"",-600,{"$f":"B42-((B42*'CV''er og tillatt feil'!$H$15)/100)","v":0},{"$f":"B42+((B42*'CV''er og tillatt feil'!$H$15)/100)","v":0},0,0,{"$f":"B42-((B42*'CV''er og tillatt feil'!$G$15)/100)","v":0},{"$f":"B42+((B42*'CV''er og tillatt feil'!$G$15)/100)","v":0},0,0,null,null,""]
[null,null,null,null,null,"","","",-600,"",-600,{"$f":"B43-((B43*'CV''er og tillatt feil'!$H$15)/100)","v":0},{"$f":"B43+((B43*'CV''er og tillatt feil'!$H$15)/100)","v":0},0,0,{"$f":"B43-((B43*'CV''er og tillatt feil'!$G$15)/100)","v":0},{"$f":"B43+((B43*'CV''er og tillatt feil'!$G$15)/100)","v":0},0,0,null,null,""]
[null,null,null,null,null,"","","",-600,"",-600,{"$f":"B44-((B44*'CV''er og tillatt feil'!$H$15)/100)","v":0},{"$f":"B44+((B44*'CV''er og tillatt feil'!$H$15)/100)","v":0},0,0,{"$f":"B44-((B44*'CV''er og tillatt feil'!$G$15)/100)","v":0},{"$f":"B44+((B44*'CV''er og tillatt feil'!$G$15)/100)","v":0},0,0,null,null,""]
[null,null,null,null,null,"","","",-600,"",-600,{"$f":"B45-((B45*'CV''er og tillatt feil'!$H$15)/100)","v":0},{"$f":"B45+((B45*'CV''er og tillatt feil'!$H$15)/100)","v":0},0,0,{"$f":"B45-((B45*'CV''er og tillatt feil'!$G$15)/100)","v":0},{"$f":"B45+((B45*'CV''er og tillatt feil'!$G$15)/100)","v":0},0,0,null,null,""]
[null,null,null,null,null,"","","",-600,"",-600,{"$f":"B46-((B46*'CV''er og tillatt feil'!$H$15)/100)","v":0},{"$f":"B46+((B46*'CV''er og tillatt feil'!$H$15)/100)","v":0},0,0,{"$f":"B46-((B46*'CV''er og tillatt feil'!$G$15)/100)","v":0},{"$f":"B46+((B46*'CV''er og tillatt feil'!$G$15)/100)","v":0},0,0,null,null,""]
[null,null,null,null,null,"","","",-600,"",-600,{"$f":"B47-((B47*'CV''er og tillatt feil'!$H$15)/100)","v":0},{"$f":"B47+((B47*'CV''er og tillatt feil'!$H$15)/100)","v":0},0,0,{"$f":"B47-((B47*'CV''er og tillatt feil'!$G$15)/100)","v":0},{"$f":"B47+((B47*'CV''er og tillatt feil'!$G$15)/100)","v":0},0,0,null,null,""]
[null,null,null,null,null,"","","",-600,"",-600,{"$f":"B48-((B48*'CV''er og tillatt feil'!$H$15)/100)","v":0},{"$f":"B48+((B48*'CV''er og tillatt feil'!$H$15)/100)","v":0},0,0,{"$f":"B48-((B48*'CV''er og tillatt feil'!$G$15)/100)","v":0},{"$f":"B48+((B48*'CV''er og tillatt feil'!$G$15)/100)","v":0},0,0,null,null,""]
[null,null,null,null,null,"","","",-600,"",-600,{"$f":"B49-((B49*'CV''er og tillatt feil'!$H$15)/100)","v":0},{"$f":"B49+((B49*'CV''er og tillatt feil'!$H$15)/100)","v":0},0,0,{"$f":"B49-((B49*'CV''er og tillatt feil'!$G$15)/100)","v":0},{"$f":"B49+((B49*'CV''er og tillatt feil'!$G$15)/100)","v":0},0,0,null,null,""]
[null,null,null,null,null,"","","",-600,"",-600,{"$f":"B50-((B50*'CV''er og tillatt feil'!$H$15)/100)","v":0},{"$f":"B50+((B50*'CV''er og tillatt feil'!$H$15)/100)","v":0},0,0,{"$f":"B50-((B50*'CV''er og tillatt feil'!$G$15)/100)","v":0},{"$f":"B50+((B50*'CV''er og tillatt feil'!$G$15)/100)","v":0},0,0,null,null,""]
[null,null,null,null,null,"","","",-600,"",-600,{"$f":"B51-((B51*'CV''er og tillatt feil'!$H$15)/100)","v":0},{"$f":"B51+((B51*'CV''er og tillatt feil'!$H$15)/100)","v":0},0,0,{"$f":"B51-((B51*'CV''er og tillatt feil'!$G$15)/100)","v":0},{"$f":"B51+((B51*'CV''er og tillatt feil'!$G$15)/100)","v":0},0,0,null,null,""]
[null,null,null,null,null,"","","",-600,"",-600,{"$f":"B52-((B52*'CV''er og tillatt feil'!$H$15)/100)","v":0},{"$f":"B52+((B52*'CV''er og tillatt feil'!$H$15)/100)","v":0},0,0,{"$f":"B52-((B52*'CV''er og tillatt feil'!$G$15)/100)","v":0},{"$f":"B52+((B52*'CV''er og tillatt feil'!$G$15)/100)","v":0},0,0,null,null,""]
[null,null,null,null,null,"","","",-600,"",-600,{"$f":"B53-((B53*'CV''er og tillatt feil'!$H$15)/100)","v":0},{"$f":"B53+((B53*'CV''er og tillatt feil'!$H$15)/100)","v":0},0,0,{"$f":"B53-((B53*'CV''er og tillatt feil'!$G$15)/100)","v":0},{"$f":"B53+((B53*'CV''er og tillatt feil'!$G$15)/100)","v":0},0,0,null,null,""]
[null,null,null,null,null,"","","",-600,"",-600,{"$f":"B54-((B54*'CV''er og tillatt feil'!$H$15)/100)","v":0},{"$f":"B54+((B54*'CV''er og tillatt feil'!$H$15)/100)","v":0},0,0,{"$f":"B54-((B54*'CV''er og tillatt feil'!$G$15)/100)","v":0},{"$f":"B54+((B54*'CV''er og tillatt feil'!$G$15)/100)","v":0},0,0,null,null,""]
[null,null,null,null,null,"","","",-600,"",-600,{"$f":"B55-((B55*'CV''er og tillatt feil'!$H$15)/100)","v":0},{"$f":"B55+((B55*'CV''er og tillatt feil'!$H$15)/100)","v":0},0,0,{"$f":"B55-((B55*'CV''er og tillatt feil'!$G$15)/100)","v":0},{"$f":"B55+((B55*'CV''er og tillatt feil'!$G$15)/100)","v":0},0,0,null,null,""]
[null,null,null,null,null,"","","",-600,"",-600,{"$f":"B56-((B56*'CV''er og tillatt feil'!$H$15)/100)","v":0},{"$f":"B56+((B56*'CV''er og tillatt feil'!$H$15)/100)","v":0},0,0,{"$f":"B56-((B56*'CV''er og tillatt feil'!$G$15)/100)","v":0},{"$f":"B56+((B56*'CV''er og tillatt feil'!$G$15)/100)","v":0},0,0,null,null,""]
[null,null,null,null,null,"","","",-600,"",-600,{"$f":"B57-((B57*'CV''er og tillatt feil'!$H$15)/100)","v":0},{"$f":"B57+((B57*'CV''er og tillatt feil'!$H$15)/100)","v":0},0,0,{"$f":"B57-((B57*'CV''er og tillatt feil'!$G$15)/100)","v":0},{"$f":"B57+((B57*'CV''er og tillatt feil'!$G$15)/100)","v":0},0,0,null,null,""]
[null,null,null,null,null,"","","",-600,"",-600,{"$f":"B58-((B58*'CV''er og tillatt feil'!$H$15)/100)","v":0},{"$f":"B58+((B58*'CV''er og tillatt feil'!$H$15)/100)","v":0},0,0,{"$f":"B58-((B58*'CV''er og tillatt feil'!$G$15)/100)","v":0},{"$f":"B58+((B58*'CV''er og tillatt feil'!$G$15)/100)","v":0},0,0,null,null,""]
[null,null,null,null,null,"","","",-600,"",-600,{"$f":"B59-((B59*'CV''er og tillatt feil'!$H$15)/100)","v":0},{"$f":"B59+((B59*'CV''er og tillatt feil'!$H$15)/100)","v":0},0,0,{"$f":"B59-((B59*'CV''er og tillatt feil'!$G$15)/100)","v":0},{"$f":"B59+((B59*'CV''er og tillatt feil'!$G$15)/100)","v":0},0,0,null,null,""]
[null,null,null,null,null,"","","",-600,"",-600,{"$f":"B60-((B60*'CV''er og tillatt feil'!$H$15)/100)","v":0},{"$f":"B60+((B60*'CV''er og tillatt feil'!$H$15)/100)","v":0},0,0,{"$f":"B60-((B60*'CV''er og tillatt feil'!$G$15)/100)","v":0},{"$f":"B60+((B60*'CV''er og tillatt feil'!$G$15)/100)","v":0},0,0,null,null,""]
[null,null,null,null,null,"","","",-600,"",-600,{"$f":"B61-((B61*'CV''er og tillatt feil'!$H$15)/100)","v":0},{"$f":"B61+((B61*'CV''er og tillatt feil'!$H$15)/100)","v":0},0,0,{"$f":"B61-((B61*'CV''er og tillatt feil'!$G$15)/100)","v":0},{"$f":"B61+((B61*'CV''er og tillatt feil'!$G$15)/100)","v":0},0,0,null,null,""]
[null,null,null,null,null,"","","",-600,"",-600,{"$f":"B62-((B62*'CV''er og tillatt feil'!$H$15)/100)","v":0},{"$f":"B62+((B62*'CV''er og tillatt feil'!$H$15)/100)","v":0},0,0,{"$f":"B62-((B62*'CV''er og tillatt feil'!$G$15)/100)","v":0},{"$f":"B62+((B62*'CV''er og tillatt feil'!$G$15)/100)","v":0},0,0,null,null,""]
[null,null,null,null,null,"","","",-600,"",-600,{"$f":"B63-((B63*'CV''er og tillatt feil'!$H$15)/100)","v":0},{"$f":"B63+((B63*'CV''er og tillatt feil'!$H$15)/100)","v":0},0,0,{"$f":"B63-((B63*'CV''er og tillatt feil'!$G$15)/100)","v":0},{"$f":"B63+((B63*'CV''er og tillatt feil'!$G$15)/100)","v":0},0,0,null,null,""]
[null,null,null,null,null,"","","",-600,"",-600,{"$f":"B64-((B64*'CV''er og tillatt feil'!$H$15)/100)","v":0},{"$f":"B64+((B64*'CV''er og tillatt feil'!$H$15)/100)","v":0},0,0,{"$f":"B64-((B64*'CV''er og tillatt feil'!$G$15)/100)","v":0},{"$f":"B64+((B64*'CV''er og tillatt feil'!$G$15)/100)","v":0},0,0,null,null,""]
[null,null,null,null,null,"","","",-600,"",-600,{"$f":"B65-((B65*'CV''er og tillatt feil'!$H$15)/100)","v":0},{"$f":"B65+((B65*'CV''er og tillatt feil'!$H$15)/100)","v":0},0,0,{"$f":"B65-((B65*'CV''er og tillatt feil'!$G$15)/100)","v":0},{"$f":"B65+((B65*'CV''er og tillatt feil'!$G$15)/100)","v":0},0,0,null,null,""]
[null,null,null,null,null,"","","",-600,"",-600,{"$f":"B66-((B66*'CV''er og tillatt feil'!$H$15)/100)","v":0},{"$f":"B66+((B66*'CV''er og tillatt feil'!$H$15)/100)","v":0},0,0,{"$f":"B66-((B66*'CV''er og tillatt feil'!$G$15)/100)","v":0},{"$f":"B66+((B66*'CV''er og tillatt feil'!$G$15)/100)","v":0},0,0,null,null,""]
[null,null,null,null,null,"","","",-600,"",-600,{"$f":"B67-((B67*'CV''er og tillatt feil'!$H$15)/100)","v":0},{"$f":"B67+((B67*'CV''er og tillatt feil'!$H$15)/100)","v":0},0,0,{"$f":"B67-((B67*'CV''er og tillatt feil'!$G$15)/100)","v":0},{"$f":"B67+((B67*'CV''er og tillatt feil'!$G$15)/100)","v":0},0,0,null,null,""]
[null,null,null,null,null,"","","",-600,"",-600,{"$f":"B68-((B68*'CV''er og tillatt feil'!$H$15)/100)","v":0},{"$f":"B68+((B68*'CV''er og tillatt feil'!$H$15)/100)","v":0},0,0,{"$f":"B68-((B68*'CV''er og tillatt feil'!$G$15)/100)","v":0},{"$f":"B68+((B68*'CV''er og tillatt feil'!$G$15)/100)","v":0},0,0,null,null,""]
[null,null,null,null,null,{"$f":"IF((C69<>\"\"),(IF((OR((G69>S69),(G69<R69))),IF(OR((G69>O69),(G69<N69)),\"STOPP\",\"Vurder\"),\"Ok\")),\"\")","v":""},{"$f":"IF((C69<>\"\"),C69-$B69,\"\")","v":""},{"$f":"IF((D69<>\"\"),(IF((OR((I69>S69),(I69<R69))),IF(OR((I69>O69),(I69<N69)),\"STOPP\",\"Vurder\"),\"Ok\")),\"\")","v":""},-600,"",-600,{"$f":"B69-((B69*'CV''er og tillatt feil'!$H$15)/100)","v":0},{"$f":"B69+((B69*'CV''er og tillatt feil'!$H$15)/100)","v":0},{"$f":"L69-B69","v":0},{"$f":"M69-B69","v":0},{"$f":"B69-((B69*'CV''er og tillatt feil'!$G$15)/100)","v":0},{"$f":"B69+((B69*'CV''er og tillatt feil'!$G$15)/100)","v":0},{"$f":"P69-B69","v":0},{"$f":"Q69-B69","v":0},null,null,{"$f":"IF((I69=-600),\"\",I69)","v":""}]
[null,null,null,null,null,"","","",{"$f":"IF((E70<>\"\"),E70-$B70,-600)","v":-600},{"$f":"IF((D70<>\"\"),(IF((OR((K70>S70),(K70<R70))),IF(OR((K70>O70),(K70<N70)),\"STOPP\",\"Vurder\"),\"Ok\")),\"\")","v":""},-600,{"$f":"B70-((B70*'CV''er og tillatt feil'!$H$15)/100)","v":0},{"$f":"B70+((B70*'CV''er og tillatt feil'!$H$15)/100)","v":0},0,0,{"$f":"B70-((B70*'CV''er og tillatt feil'!$G$15)/100)","v":0},{"$f":"B70+((B70*'CV''er og tillatt feil'!$G$15)/100)","v":0},0,0,null,null,""]
[null,null,null,null,null,"","","",-600,"",{"$f":"IF((D71<>\"\"),D71-$B71,-600)","v":-600},{"$f":"B71-((B71*'CV''er og tillatt feil'!$H$15)/100)","v":0},{"$f":"B71+((B71*'CV''er og tillatt feil'!$H$15)/100)","v":0},0,0,{"$f":"B71-((B71*'CV''er og tillatt feil'!$G$15)/100)","v":0},{"$f":"B71+((B71*'CV''er og tillatt feil'!$G$15)/100)","v":0},0,0,null,null,""]
[null,null,null,null,null,"","","",-600,"",-600,{"$f":"B72-((B72*'CV''er og tillatt feil'!$H$15)/100)","v":0},{"$f":"B72+((B72*'CV''er og tillatt feil'!$H$15)/100)","v":0},0,0,{"$f":"B72-((B72*'CV''er og tillatt feil'!$G$15)/100)","v":0},{"$f":"B72+((B72*'CV''er og tillatt feil'!$G$15)/100)","v":0},0,0,null,null,""]
[null,null,null,null,null,"","","",-600,"",-600,{"$f":"B73-((B73*'CV''er og tillatt feil'!$H$15)/100)","v":0},{"$f":"B73+((B73*'CV''er og tillatt feil'!$H$15)/100)","v":0},0,0,{"$f":"B73-((B73*'CV''er og tillatt feil'!$G$15)/100)","v":0},{"$f":"B73+((B73*'CV''er og tillatt feil'!$G$15)/100)","v":0},0,0,null,null,""]
[null,null,null,null,null,"","","",-600,"",-600,{"$f":"B74-((B74*'CV''er og tillatt feil'!$H$15)/100)","v":0},{"$f":"B74+((B74*'CV''er og tillatt feil'!$H$15)/100)","v":0},0,0,{"$f":"B74-((B74*'CV''er og tillatt feil'!$G$15)/100)","v":0},{"$f":"B74+((B74*'CV''er og tillatt feil'!$G$15)/100)","v":0},0,0,null,null,""]
[null,null,null,null,null,"","","",-600,"",-600,{"$f":"B75-((B75*'CV''er og tillatt feil'!$H$15)/100)","v":0},{"$f":"B75+((B75*'CV''er og tillatt feil'!$H$15)/100)","v":0},0,0,{"$f":"B75-((B75*'CV''er og tillatt feil'!$G$15)/100)","v":0},{"$f":"B75+((B75*'CV''er og tillatt feil'!$G$15)/100)","v":0},0,0,null,null,""]
[null,null,null,null,null,"","","",-600,"",-600,{"$f":"B76-((B76*'CV''er og tillatt feil'!$H$15)/100)","v":0},{"$f":"B76+((B76*'CV''er og tillatt feil'!$H$15)/100)","v":0},0,0,{"$f":"B76-((B76*'CV''er og tillatt feil'!$G$15)/100)","v":0},{"$f":"B76+((B76*'CV''er og tillatt feil'!$G$15)/100)","v":0},0,0,null,null,""]
[null,null,null,null,null,"","","",-600,"",-600,{"$f":"B77-((B77*'CV''er og tillatt feil'!$H$15)/100)","v":0},{"$f":"B77+((B77*'CV''er og tillatt feil'!$H$15)/100)","v":0},0,0,{"$f":"B77-((B77*'CV''er og tillatt feil'!$G$15)/100)","v":0},{"$f":"B77+((B77*'CV''er og tillatt feil'!$G$15)/100)","v":0},0,0,null,null,""]
[null,null,null,null,null,"","","",-600,"",-600,{"$f":"B78-((B78*'CV''er og tillatt feil'!$H$15)/100)","v":0},{"$f":"B78+((B78*'CV''er og tillatt feil'!$H$15)/100)","v":0},0,0,{"$f":"B78-((B78*'CV''er og tillatt feil'!$G$15)/100)","v":0},{"$f":"B78+((B78*'CV''er og tillatt feil'!$G$15)/100)","v":0},0,0,null,null,""]
[null,null,null,null,null,"","","",-600,"",-600,{"$f":"B79-((B79*'CV''er og tillatt feil'!$H$15)/100)","v":0},{"$f":"B79+((B79*'CV''er og tillatt feil'!$H$15)/100)","v":0},0,0,{"$f":"B79-((B79*'CV''er og tillatt feil'!$G$15)/100)","v":0},{"$f":"B79+((B79*'CV''er og tillatt feil'!$G$15)/100)","v":0},0,0,null,null,""]
[null,null,null,null,null,"","","",-600,"",-600,{"$f":"B80-((B80*'CV''er og tillatt feil'!$H$15)/100)","v":0},{"$f":"B80+((B80*'CV''er og tillatt feil'!$H$15)/100)","v":0},0,0,{"$f":"B80-((B80*'CV''er og tillatt feil'!$G$15)/100)","v":0},{"$f":"B80+((B80*'CV''er og tillatt feil'!$G$15)/100)","v":0},0,0,null,null,""]
[null,null,null,null,null,"","","",-600,"",-600,{"$f":"B81-((B81*'CV''er og tillatt feil'!$H$15)/100)","v":0},{"$f":"B81+((B81*'CV''er og tillatt feil'!$H$15)/100)","v":0},0,0,{"$f":"B81-((B81*'CV''er og tillatt feil'!$G$15)/100)","v":0},{"$f":"B81+((B81*'CV''er og tillatt feil'!$G$15)/100)","v":0},0,0,null,null,""]
[null,null,null,null,null,"","","",-600,"",-600,{"$f":"B82-((B82*'CV''er og tillatt feil'!$H$15)/100)","v":0},{"$f":"B82+((B82*'CV''er og tillatt feil'!$H$15)/100)","v":0},0,0,{"$f":"B82-((B82*'CV''er og tillatt feil'!$G$15)/100)","v":0},{"$f":"B82+((B82*'CV''er og tillatt feil'!$G$15)/100)","v":0},0,0,null,null,""]
[null,null,null,null,null,"","","",-600,"",-600,{"$f":"B83-((B83*'CV''er og tillatt feil'!$H$15)/100)","v":0},{"$f":"B83+((B83*'CV''er og tillatt feil'!$H$15)/100)","v":0},0,0,{"$f":"B83-((B83*'CV''er og tillatt feil'!$G$15)/100)","v":0},{"$f":"B83+((B83*'CV''er og tillatt feil'!$G$15)/100)","v":0},0,0,null,null,""]
[null,null,null,null,null,"","","",-600,"",-600,{"$f":"B84-((B84*'CV''er og tillatt feil'!$H$15)/100)","v":0},{"$f":"B84+((B84*'CV''er og tillatt feil'!$H$15)/100)","v":0},0,0,{"$f":"B84-((B84*'CV''er og tillatt feil'!$G$15)/100)","v":0},{"$f":"B84+((B84*'CV''er og tillatt feil'!$G$15)/100)","v":0},0,0,null,null,""]
[null,null,null,null,null,"","","",-600,"",-600,{"$f":"B85-((B85*'CV''er og tillatt feil'!$H$15)/100)","v":0},{"$f":"B85+((B85*'CV''er og tillatt feil'!$H$15)/100)","v":0},0,0,{"$f":"B85-((B85*'CV''er og tillatt feil'!$G$15)/100)","v":0},{"$f":"B85+((B85*'CV''er og tillatt feil'!$G$15)/100)","v":0},0,0,null,null,""]
[null,null,null,null,null,"","","",-600,"",-600,{"$f":"B86-((B86*'CV''er og tillatt feil'!$H$15)/100)","v":0},{"$f":"B86+((B86*'CV''er og tillatt feil'!$H$15)/100)","v":0},0,0,{"$f":"B86-((B86*'CV''er og tillatt feil'!$G$15)/100)","v":0},{"$f":"B86+((B86*'CV''er og tillatt feil'!$G$15)/100)","v":0},0,0,null,null,""]
[null,null,null,null,null,"","","",-600,"",-600,{"$f":"B87-((B87*'CV''er og tillatt feil'!$H$15)/100)","v":0},{"$f":"B87+((B87*'CV''er og tillatt feil'!$H$15)/100)","v":0},0,0,{"$f":"B87-((B87*'CV''er og tillatt feil'!$G$15)/100)","v":0},{"$f":"B87+((B87*'CV''er og tillatt feil'!$G$15)/100)","v":0},0,0,null,null,""]
[null,null,null,null,null,"","","",-600,"",-600,{"$f":"B88-((B88*'CV''er og tillatt feil'!$H$15)/100)","v":0},{"$f":"B88+((B88*'CV''er og tillatt feil'!$H$15)/100)","v":0},0,0,{"$f":"B88-((B88*'CV''er og tillatt feil'!$G$15)/100)","v":0},{"$f":"B88+((B88*'CV''er og tillatt feil'!$G$15)/100)","v":0},0,0,null,null,""]
[null,null,null,null,null,"","","",-600,"",-600,{"$f":"B89-((B89*'CV''er og tillatt feil'!$H$15)/100)","v":0},{"$f":"B89+((B89*'CV''er og tillatt feil'!$H$15)/100)","v":0},0,0,{"$f":"B89-((B89*'CV''er og tillatt feil'!$G$15)/100)","v":0},{"$f":"B89+((B89*'CV''er og tillatt feil'!$G$15)/100)","v":0},0,0,null,null,""]
[null,null,null,null,null,"","","",-600,"",-600,{"$f":"B90-((B90*'CV''er og tillatt feil'!$H$15)/100)","v":0},{"$f":"B90+((B90*'CV''er og tillatt feil'!$H$15)/100)","v":0},0,0,{"$f":"B90-((B90*'CV''er og tillatt feil'!$G$15)/100)","v":0},{"$f":"B90+((B90*'CV''er og tillatt feil'!$G$15)/100)","v":0},0,0,null,null,""]
[null,null,null,null,null,"","","",-600,"",-600,{"$f":"B91-((B91*'CV''er og tillatt feil'!$H$15)/100)","v":0},{"$f":"B91+((B91*'CV''er og tillatt feil'!$H$15)/100)","v":0},0,0,{"$f":"B91-((B91*'CV''er og tillatt feil'!$G$15)/100)","v":0},{"$f":"B91+((B91*'CV''er og tillatt feil'!$G$15)/100)","v":0},0,0,null,null,""]
[null,null,null,null,null,"","","",-600,"",-600,{"$f":"B92-((B92*'CV''er og tillatt feil'!$H$15)/100)","v":0},{"$f":"B92+((B92*'CV''er og tillatt feil'!$H$15)/100)","v":0},0,0,{"$f":"B92-((B92*'CV''er og tillatt feil'!$G$15)/100)","v":0},{"$f":"B92+((B92*'CV''er og tillatt feil'!$G$15)/100)","v":0},0,0,null,null,""]
[null,null,null,null,null,"","","",-600,"",-600,{"$f":"B93-((B93*'CV''er og tillatt feil'!$H$15)/100)","v":0},{"$f":"B93+((B93*'CV''er og tillatt feil'!$H$15)/100)","v":0},0,0,{"$f":"B93-((B93*'CV''er og tillatt feil'!$G$15)/100)","v":0},{"$f":"B93+((B93*'CV''er og tillatt feil'!$G$15)/100)","v":0},0,0,null,null,""]
[null,null,null,null,null,"","","",-600,"",-600,{"$f":"B94-((B94*'CV''er og tillatt feil'!$H$15)/100)","v":0},{"$f":"B94+((B94*'CV''er og tillatt feil'!$H$15)/100)","v":0},0,0,{"$f":"B94-((B94*'CV''er og tillatt feil'!$G$15)/100)","v":0},{"$f":"B94+((B94*'CV''er og tillatt feil'!$G$15)/100)","v":0},0,0,null,null,""]
[null,null,null,null,null,"","","",-600,"",-600,{"$f":"B95-((B95*'CV''er og tillatt feil'!$H$15)/100)","v":0},{"$f":"B95+((B95*'CV''er og tillatt feil'!$H$15)/100)","v":0},0,0,{"$f":"B95-((B95*'CV''er og tillatt feil'!$G$15)/100)","v":0},{"$f":"B95+((B95*'CV''er og tillatt feil'!$G$15)/100)","v":0},0,0,null,null,""]
[null,null,null,null,null,"","","",-600,"",-600,{"$f":"B96-((B96*'CV''er og tillatt feil'!$H$15)/100)","v":0},{"$f":"B96+((B96*'CV''er og tillatt feil'!$H$15)/100)","v":0},0,0,{"$f":"B96-((B96*'CV''er og tillatt feil'!$G$15)/100)","v":0},{"$f":"B96+((B96*'CV''er og tillatt feil'!$G$15)/100)","v":0},0,0,null,null,""]
[null,null,null,null,null,"","","",-600,"",-600,{"$f":"B97-((B97*'CV''er og tillatt feil'!$H$15)/100)","v":0},{"$f":"B97+((B97*'CV''er og tillatt feil'!$H$15)/100)","v":0},0,0,{"$f":"B97-((B97*'CV''er og tillatt feil'!$G$15)/100)","v":0},{"$f":"B97+((B97*'CV''er og tillatt feil'!$G$15)/100)","v":0},0,0,null,null,""]
[null,null,null,null,null,"","","",-600,"",-600,{"$f":"B98-((B98*'CV''er og tillatt feil'!$H$15)/100)","v":0},{"$f":"B98+((B98*'CV''er og tillatt feil'!$H$15)/100)","v":0},0,0,{"$f":"B98-((B98*'CV''er og tillatt feil'!$G$15)/100)","v":0},{"$f":"B98+((B98*'CV''er og tillatt feil'!$G$15)/100)","v":0},0,0,null,null,""]
[null,null,null,null,null,"","","",-600,"",-600,{"$f":"B99-((B99*'CV''er og tillatt feil'!$H$15)/100)","v":0},{"$f":"B99+((B99*'CV''er og tillatt feil'!$H$15)/100)","v":0},0,0,{"$f":"B99-((B99*'CV''er og tillatt feil'!$G$15)/100)","v":0},{"$f":"B99+((B99*'CV''er og tillatt feil'!$G$15)/100)","v":0},0,0,null,null,""]
[null,null,null,null,null,"","","",-600,"",-600,{"$f":"B100-((B100*'CV''er og tillatt feil'!$H$15)/100)","v":0},{"$f":"B100+((B100*'CV''er og tillatt feil'!$H$15)/100)","v":0},0,0,{"$f":"B100-((B100*'CV''er og tillatt feil'!$G$15)/100)","v":0},{"$f":"B100+((B100*'CV''er og tillatt feil'!$G$15)/100)","v":0},0,0,null,null,""]
[null,null,null,null,null,{"$f":"IF((C101<>\"\"),(IF((OR((G101>S101),(G101<R101))),IF(OR((G101>O101),(G101<N101)),\"STOPP\",\"Vurder\"),\"Ok\")),\"\")","v":""},"","",-600,"",-600,{"$f":"B101-((B101*'CV''er og tillatt feil'!$H$15)/100)","v":0},{"$f":"B101+((B101*'CV''er og tillatt feil'!$H$15)/100)","v":0},0,0,{"$f":"B101-((B101*'CV''er og tillatt feil'!$G$15)/100)","v":0},{"$f":"B101+((B101*'CV''er og tillatt feil'!$G$15)/100)","v":0},0,0,null,null,""]
["Antall",{"$f":"COUNT(B5:B101)","v":0},{"$f":"COUNT(C5:C101)","v":0},{"$f":"COUNT(D5:D101)","v":0},{"$f":"COUNT(E5:E101)","v":0},null,{"$f":"COUNT(G5:G101)","v":0},null,{"$f":"COUNT(V5:V101)","v":0},null,{"$f":"COUNT(X5:X101)","v":0}]
["Mean",{"$f":"AVERAGE(B5:B101)","v":{"$error":"#DIV/0!"}},{"$f":"AVERAGE(C5:C101)","v":{"$error":"#DIV/0!"}},{"$f":"AVERAGE(D5:D101)","v":{"$error":"#DIV/0!"}},{"$f":"AVERAGE(E5:E101)","v":{"$error":"#DIV/0!"}},null,{"$f":"AVERAGE(G5:G101)","v":{"$error":"#DIV/0!"}},null,{"$f":"AVERAGE(V5:V101)","v":{"$error":"#DIV/0!"}},null,{"$f":"AVERAGE(X5:X101)","v":{"$error":"#DIV/0!"}}]
["Min",{"$f":"MIN(B5:B101)","v":0},{"$f":"MIN(C5:C101)","v":0},{"$f":"MIN(D5:D101)","v":0},{"$f":"MIN(E5:E101)","v":0},null,{"$f":"MIN(G5:G101)","v":0},null,{"$f":"MIN(V5:V101)","v":0},null,{"$f":"MIN(X5:X101)","v":0}]
["Max",{"$f":"MAX(B5:B101)","v":0},{"$f":"MAX(C5:C101)","v":0},{"$f":"MAX(D5:D101)","v":0},{"$f":"MAX(E5:E101)","v":0},null,{"$f":"MAX(G5:G101)","v":0},null,{"$f":"MAX(V5:V101)","v":0},null,{"$f":"MAX(X5:X101)","v":0}]
[]
[]
[]
[]
[null," "]

{"sheet":"RBC","index":2,"n_rows":113,"n_cols":24,"rows_kept":113,"cut":false,"hidden":false,"merged":[[1,2,1,5],[1,6,1,10]]}
[{"$f":"Oversikt!D1","v":"EQS dokument 13856 versjon 3.9"}]
["ERYTROCYTTER",null,"Sysmex XN-1500 (RBCimp) er hovedmetoden",null,null,null,"Differanser RBC (Sysmex XN1000-Sysmex XN1500)"]
[null,null,null,null,null,"Varsel ",null,"Varsel ",null,"Varsel "]
["Dato","XN1500imp","XN1000imp","XN1500opt","XN1000opt","XN1000imp-XN1500imp","XN1000imp-XN1500imp","XN1000opt-XN1500imp","XN1000opt-XN1500imp","XN1500opt-XN1500imp","XN1500opt-XN1500imp","RBC nedre stopp","RBC øvre stopp","RBC nedre stopp","RBC øvre stopp","RBC nedre grønn","RBC øvre grønn","RBC nedre grønn","RBC øvre grønn",null,null,"HK SysOpt-CellDyn","HK CellOpt-CellDyn"]
[null,null,null,null,null,{"$f":"IF((C5<>\"\"),IF((OR((G5>S5),(G5<R5))),IF(OR((G5>O5),(G5<N5)),\"STOPP\",\"Vurder\"),\"Ok\"),\"\")","v":""},{"$f":"IF(C5<>\"\",C5-$B5,\"\")","v":""},{"$f":"IF((E5<>\"\"),IF((OR((I5>S5),(I5<R5))),IF(OR((I5>O5),(I5<N5)),\"STOPP\",\"Vurder\"),\"Ok\"),\"\")","v":""},{"$f":"IF(E5<>\"\",E5-$B5,-600)","v":-600},{"$f":"IF(D5<>\"\",IF((OR((K5>S5),(K5<R5))),IF(OR((K5>O5),(K5<N5)),\"STOPP\",\"Vurder\"),\"Ok\"),\"\")","v":""},{"$f":"IF(D5<>\"\",D5-$B5,-600)","v":-600},{"$f":"B5-((B5*'CV''er og tillatt feil'!$H$16)/100)","v":0},{"$f":"B5+((B5*'CV''er og tillatt feil'!$H$16)/100)","v":0},{"$f":"L5-B5","v":0},{"$f":"M5-B5","v":0},{"$f":"B5-((B5*'CV''er og tillatt feil'!$G$16)/100)","v":0},{"$f":"B5+((B5*'CV''er og tillatt feil'!$G$16)/100)","v":0},{"$f":"P5-B5","v":0},{"$f":"Q5-B5","v":0},null,null,{"$f":"IF(I5=-600,\"\",I5)","v":""},{"$f":"IF(K5=-600,\"\",K5)","v":""},{"$f":"IF(K5=-600,\"\",K5)","v":""}]
[null,null,null,null,null,{"$f":"IF((C6<>\"\"),IF((OR((G6>S6),(G6<R6))),IF(OR((G6>O6),(G6<N6)),\"STOPP\",\"Vurder\"),\"Ok\"),\"\")","v":""},{"$f":"IF(C6<>\"\",C6-$B6,\"\")","v":""},{"$f":"IF((E6<>\"\"),IF((OR((I6>S6),(I6<R6))),IF(OR((I6>O6),(I6<N6)),\"STOPP\",\"Vurder\"),\"Ok\"),\"\")","v":""},{"$f":"IF(E6<>\"\",E6-$B6,-600)","v":-600},{"$f":"IF(D6<>\"\",IF((OR((K6>S6),(K6<R6))),IF(OR((K6>O6),(K6<N6)),\"STOPP\",\"Vurder\"),\"Ok\"),\"\")","v":""},{"$f":"IF(D6<>\"\",D6-$B6,-600)","v":-600},{"$f":"B6-((B6*'CV''er og tillatt feil'!$H$16)/100)","v":0},{"$f":"B6+((B6*'CV''er og tillatt feil'!$H$16)/100)","v":0},0,0,{"$f":"B6-((B6*'CV''er og tillatt feil'!$G$16)/100)","v":0},{"$f":"B6+((B6*'CV''er og tillatt feil'!$G$16)/100)","v":0},0,0,null,null,{"$f":"IF(I6=-600,\"\",I6)","v":""},{"$f":"IF(K6=-600,\"\",K6)","v":""}]
[null,null,null,null,null,"","","",-600,"",-600,{"$f":"B7-((B7*'CV''er og tillatt feil'!$H$16)/100)","v":0},{"$f":"B7+((B7*'CV''er og tillatt feil'!$H$16)/100)","v":0},0,0,{"$f":"B7-((B7*'CV''er og tillatt feil'!$G$16)/100)","v":0},{"$f":"B7+((B7*'CV''er og tillatt feil'!$G$16)/100)","v":0},0,0,null,null,"",""]
[null,null,null,null,null,"","","",-600,"",-600,{"$f":"B8-((B8*'CV''er og tillatt feil'!$H$16)/100)","v":0},{"$f":"B8+((B8*'CV''er og tillatt feil'!$H$16)/100)","v":0},0,0,{"$f":"B8-((B8*'CV''er og tillatt feil'!$G$16)/100)","v":0},{"$f":"B8+((B8*'CV''er og tillatt feil'!$G$16)/100)","v":0},0,0,null,null,"",""]
[null,null,null,null,null,"","","",-600,"",-600,{"$f":"B9-((B9*'CV''er og tillatt feil'!$H$16)/100)","v":0},{"$f":"B9+((B9*'CV''er og tillatt feil'!$H$16)/100)","v":0},0,0,{"$f":"B9-((B9*'CV''er og tillatt feil'!$G$16)/100)","v":0},{"$f":"B9+((B9*'CV''er og tillatt feil'!$G$16)/100)","v":0},0,0,null,null,"",""]
[null,null,null,null,null,"","","",-600,"",-600,{"$f":"B10-((B10*'CV''er og tillatt feil'!$H$16)/100)","v":0},{"$f":"B10+((B10*'CV''er og tillatt feil'!$H$16)/100)","v":0},0,0,{"$f":"B10-((B10*'CV''er og tillatt feil'!$G$16)/100)","v":0},{"$f":"B10+((B10*'CV''er og tillatt feil'!$G$16)/100)","v":0},0,0,null,null,"",""]
[null,null,null,null,null,"","","",-600,"",-600,{"$f":"B11-((B11*'CV''er og tillatt feil'!$H$16)/100)","v":0},{"$f":"B11+((B11*'CV''er og tillatt feil'!$H$16)/100)","v":0},0,0,{"$f":"B11-((B11*'CV''er og tillatt feil'!$G$16)/100)","v":0},{"$f":"B11+((B11*'CV''er og tillatt feil'!$G$16)/100)","v":0},0,0,null,null,"",""]
[null,null,null,null,null,"","","",-600,"",-600,{"$f":"B12-((B12*'CV''er og tillatt feil'!$H$16)/100)","v":0},{"$f":"B12+((B12*'CV''er og tillatt feil'!$H$16)/100)","v":0},0,0,{"$f":"B12-((B12*'CV''er og tillatt feil'!$G$16)/100)","v":0},{"$f":"B12+((B12*'CV''er og tillatt feil'!$G$16)/100)","v":0},0,0,null,null,"",""]
[null,null,null,null,null,"","","",-600,"",-600,{"$f":"B13-((B13*'CV''er og tillatt feil'!$H$16)/100)","v":0},{"$f":"B13+((B13*'CV''er og tillatt feil'!$H$16)/100)","v":0},0,0,{"$f":"B13-((B13*'CV''er og tillatt feil'!$G$16)/100)","v":0},{"$f":"B13+((B13*'CV''er og tillatt feil'!$G$16)/100)","v":0},0,0,null,null,"",""]
[null,null,null,null,null,"","","",-600,"",-600,{"$f":"B14-((B14*'CV''er og tillatt feil'!$H$16)/100)","v":0},{"$f":"B14+((B14*'CV''er og tillatt feil'!$H$16)/100)","v":0},0,0,{"$f":"B14-((B14*'CV''er og tillatt feil'!$G$16)/100)","v":0},{"$f":"B14+((B14*'CV''er og tillatt feil'!$G$16)/100)","v":0},0,0,null,null,"",""]
[null,null,null,null,null,"","","",-600,"",-600,{"$f":"B15-((B15*'CV''er og tillatt feil'!$H$16)/100)","v":0},{"$f":"B15+((B15*'CV''er og tillatt feil'!$H$16)/100)","v":0},0,0,{"$f":"B15-((B15*'CV''er og tillatt feil'!$G$16)/100)","v":0},{"$f":"B15+((B15*'CV''er og tillatt feil'!$G$16)/100)","v":0},0,0,null,null,"",""]
[null,null,null,null,null,"","","",-600,"",-600,{"$f":"B16-((B16*'CV''er og tillatt feil'!$H$16)/100)","v":0},{"$f":"B16+((B16*'CV''er og tillatt feil'!$H$16)/100)","v":0},0,0,{"$f":"B16-((B16*'CV''er og tillatt feil'!$G$16)/100)","v":0},{"$f":"B16+((B16*'CV''er og tillatt feil'!$G$16)/100)","v":0},0,0,null,null,"",""]
[null,null,null,null,null,"","","",-600,"",-600,{"$f":"B17-((B17*'CV''er og tillatt feil'!$H$16)/100)","v":0},{"$f":"B17+((B17*'CV''er og tillatt feil'!$H$16)/100)","v":0},0,0,{"$f":"B17-((B17*'CV''er og tillatt feil'!$G$16)/100)","v":0},{"$f":"B17+((B17*'CV''er og tillatt feil'!$G$16)/100)","v":0},0,0,null,null,"",""]
[null,null,null,null,null,"","","",-600,"",-600,{"$f":"B18-((B18*'CV''er og tillatt feil'!$H$16)/100)","v":0},{"$f":"B18+((B18*'CV''er og tillatt feil'!$H$16)/100)","v":0},0,0,{"$f":"B18-((B18*'CV''er og tillatt feil'!$G$16)/100)","v":0},{"$f":"B18+((B18*'CV''er og tillatt feil'!$G$16)/100)","v":0},0,0,null,null,"",""]
[null,null,null,null,null,"","","",-600,"",-600,{"$f":"B19-((B19*'CV''er og tillatt feil'!$H$16)/100)","v":0},{"$f":"B19+((B19*'CV''er og tillatt feil'!$H$16)/100)","v":0},0,0,{"$f":"B19-((B19*'CV''er og tillatt feil'!$G$16)/100)","v":0},{"$f":"B19+((B19*'CV''er og tillatt feil'!$G$16)/100)","v":0},0,0,null,null,"",""]
[null,null,null,null,null,"","","",-600,"",-600,{"$f":"B20-((B20*'CV''er og tillatt feil'!$H$16)/100)","v":0},{"$f":"B20+((B20*'CV''er og tillatt feil'!$H$16)/100)","v":0},0,0,{"$f":"B20-((B20*'CV''er og tillatt feil'!$G$16)/100)","v":0},{"$f":"B20+((B20*'CV''er og tillatt feil'!$G$16)/100)","v":0},0,0,null,null,"",""]
[null,null,null,null,null,"","","",-600,"",-600,{"$f":"B21-((B21*'CV''er og tillatt feil'!$H$16)/100)","v":0},{"$f":"B21+((B21*'CV''er og tillatt feil'!$H$16)/100)","v":0},0,0,{"$f":"B21-((B21*'CV''er og tillatt feil'!$G$16)/100)","v":0},{"$f":"B21+((B21*'CV''er og tillatt feil'!$G$16)/100)","v":0},0,0,null,null,"",""]
[null,null,null,null,null,"","","",-600,"",-600,{"$f":"B22-((B22*'CV''er og tillatt feil'!$H$16)/100)","v":0},{"$f":"B22+((B22*'CV''er og tillatt feil'!$H$16)/100)","v":0},0,0,{"$f":"B22-((B22*'CV''er og tillatt feil'!$G$16)/100)","v":0},{"$f":"B22+((B22*'CV''er og tillatt feil'!$G$16)/100)","v":0},0,0,null,null,"",""]
[null,null,null,null,null,"","","",-600,"",-600,{"$f":"B23-((B23*'CV''er og tillatt feil'!$H$16)/100)","v":0},{"$f":"B23+((B23*'CV''er og tillatt feil'!$H$16)/100)","v":0},0,0,{"$f":"B23-((B23*'CV''er og tillatt feil'!$G$16)/100)","v":0},{"$f":"B23+((B23*'CV''er og tillatt feil'!$G$16)/100)","v":0},0,0,null,null,"",""]
[null,null,null,null,null,"","","",-600,"",-600,{"$f":"B24-((B24*'CV''er og tillatt feil'!$H$16)/100)","v":0},{"$f":"B24+((B24*'CV''er og tillatt feil'!$H$16)/100)","v":0},0,0,{"$f":"B24-((B24*'CV''er og tillatt feil'!$G$16)/100)","v":0},{"$f":"B24+((B24*'CV''er og tillatt feil'!$G$16)/100)","v":0},0,0,null,null,"",""]
[null,null,null,null,null,"","","",-600,"",-600,{"$f":"B25-((B25*'CV''er og tillatt feil'!$H$16)/100)","v":0},{"$f":"B25+((B25*'CV''er og tillatt feil'!$H$16)/100)","v":0},0,0,{"$f":"B25-((B25*'CV''er og tillatt feil'!$G$16)/100)","v":0},{"$f":"B25+((B25*'CV''er og tillatt feil'!$G$16)/100)","v":0},0,0,null,null,"",""]
[null,null,null,null,null,"","","",-600,"",-600,{"$f":"B26-((B26*'CV''er og tillatt feil'!$H$16)/100)","v":0},{"$f":"B26+((B26*'CV''er og tillatt feil'!$H$16)/100)","v":0},0,0,{"$f":"B26-((B26*'CV''er og tillatt feil'!$G$16)/100)","v":0},{"$f":"B26+((B26*'CV''er og tillatt feil'!$G$16)/100)","v":0},0,0,null,null,"",""]
[null,null,null,null,null,"","","",-600,"",-600,{"$f":"B27-((B27*'CV''er og tillatt feil'!$H$16)/100)","v":0},{"$f":"B27+((B27*'CV''er og tillatt feil'!$H$16)/100)","v":0},0,0,{"$f":"B27-((B27*'CV''er og tillatt feil'!$G$16)/100)","v":0},{"$f":"B27+((B27*'CV''er og tillatt feil'!$G$16)/100)","v":0},0,0,null,null,"",""]
[null,null,null,null,null,"","","",-600,"",-600,{"$f":"B28-((B28*'CV''er og tillatt feil'!$H$16)/100)","v":0},{"$f":"B28+((B28*'CV''er og tillatt feil'!$H$16)/100)","v":0},0,0,{"$f":"B28-((B28*'CV''er og tillatt feil'!$G$16)/100)","v":0},{"$f":"B28+((B28*'CV''er og tillatt feil'!$G$16)/100)","v":0},0,0,null,null,"",""]
[null,null,null,null,null,"","","",-600,"",-600,{"$f":"B29-((B29*'CV''er og tillatt feil'!$H$16)/100)","v":0},{"$f":"B29+((B29*'CV''er og tillatt feil'!$H$16)/100)","v":0},0,0,{"$f":"B29-((B29*'CV''er og tillatt feil'!$G$16)/100)","v":0},{"$f":"B29+((B29*'CV''er og tillatt feil'!$G$16)/100)","v":0},0,0,null,null,"",""]
[null,null,null,null,null,"","","",-600,"",-600,{"$f":"B30-((B30*'CV''er og tillatt feil'!$H$16)/100)","v":0},{"$f":"B30+((B30*'CV''er og tillatt feil'!$H$16)/100)","v":0},0,0,{"$f":"B30-((B30*'CV''er og tillatt feil'!$G$16)/100)","v":0},{"$f":"B30+((B30*'CV''er og tillatt feil'!$G$16)/100)","v":0},0,0,null,null,"",""]
[null,null,null,null,null,"","","",-600,"",-600,{"$f":"B31-((B31*'CV''er og tillatt feil'!$H$16)/100)","v":0},{"$f":"B31+((B31*'CV''er og tillatt feil'!$H$16)/100)","v":0},0,0,{"$f":"B31-((B31*'CV''er og tillatt feil'!$G$16)/100)","v":0},{"$f":"B31+((B31*'CV''er og tillatt feil'!$G$16)/100)","v":0},0,0,null,null,"",""]
[null,null,null,null,null,"","","",-600,"",-600,{"$f":"B32-((B32*'CV''er og tillatt feil'!$H$16)/100)","v":0},{"$f":"B32+((B32*'CV''er og tillatt feil'!$H$16)/100)","v":0},0,0,{"$f":"B32-((B32*'CV''er og tillatt feil'!$G$16)/100)","v":0},{"$f":"B32+((B32*'CV''er og tillatt feil'!$G$16)/100)","v":0},0,0,null,null,"",""]
[null,null,null,null,null,"","","",-600,"",-600,{"$f":"B33-((B33*'CV''er og tillatt feil'!$H$16)/100)","v":0},{"$f":"B33+((B33*'CV''er og tillatt feil'!$H$16)/100)","v":0},0,0,{"$f":"B33-((B33*'CV''er og tillatt feil'!$G$16)/100)","v":0},{"$f":"B33+((B33*'CV''er og tillatt feil'!$G$16)/100)","v":0},0,0,null,null,"",""]
[null,null,null,null,null,"","","",-600,"",-600,{"$f":"B34-((B34*'CV''er og tillatt feil'!$H$16)/100)","v":0},{"$f":"B34+((B34*'CV''er og tillatt feil'!$H$16)/100)","v":0},0,0,{"$f":"B34-((B34*'CV''er og tillatt feil'!$G$16)/100)","v":0},{"$f":"B34+((B34*'CV''er og tillatt feil'!$G$16)/100)","v":0},0,0,null,null,"",""]
[null,null,null,null,null,"","","",-600,"",-600,{"$f":"B35-((B35*'CV''er og tillatt feil'!$H$16)/100)","v":0},{"$f":"B35+((B35*'CV''er og tillatt feil'!$H$16)/100)","v":0},0,0,{"$f":"B35-((B35*'CV''er og tillatt feil'!$G$16)/100)","v":0},{"$f":"B35+((B35*'CV''er og tillatt feil'!$G$16)/100)","v":0},0,0,null,null,"",""]
[null,null,null,null,null,"","","",-600,"",-600,{"$f":"B36-((B36*'CV''er og tillatt feil'!$H$16)/100)","v":0},{"$f":"B36+((B36*'CV''er og tillatt feil'!$H$16)/100)","v":0},{"$f":"L36-B36","v":0},{"$f":"M36-B36","v":0},{"$f":"B36-((B36*'CV''er og tillatt feil'!$G$16)/100)","v":0},{"$f":"B36+((B36*'CV''er og tillatt feil'!$G$16)/100)","v":0},{"$f":"P36-B36","v":0},{"$f":"Q36-B36","v":0},null,null,"",""]
[null,null,null,null,null,"","","",-600,"",-600,{"$f":"B37-((B37*'CV''er og tillatt feil'!$H$16)/100)","v":0},{"$f":"B37+((B37*'CV''er og tillatt feil'!$H$16)/100)","v":0},0,0,{"$f":"B37-((B37*'CV''er og tillatt feil'!$G$16)/100)","v":0},{"$f":"B37+((B37*'CV''er og tillatt feil'!$G$16)/100)","v":0},0,0,null,null,"",""]
[null,null,null,null,null,"","","",-600,"",-600,{"$f":"B38-((B38*'CV''er og tillatt feil'!$H$16)/100)","v":0},{"$f":"B38+((B38*'CV''er og tillatt feil'!$H$16)/100)","v":0},0,0,{"$f":"B38-((B38*'CV''er og tillatt feil'!$G$16)/100)","v":0},{"$f":"B38+((B38*'CV''er og tillatt feil'!$G$16)/100)","v":0},0,0,null,null,"",""]
[null,null,null,null,null,"","","",-600,"",-600,{"$f":"B39-((B39*'CV''er og tillatt feil'!$H$16)/100)","v":0},{"$f":"B39+((B39*'CV''er og tillatt feil'!$H$16)/100)","v":0},0,0,{"$f":"B39-((B39*'CV''er og tillatt feil'!$G$16)/100)","v":0},{"$f":"B39+((B39*'CV''er og tillatt feil'!$G$16)/100)","v":0},0,0,null,null,"",""]
[null,null,null,null,null,"","","",-600,"",-600,{"$f":"B40-((B40*'CV''er og tillatt feil'!$H$16)/100)","v":0},{"$f":"B40+((B40*'CV''er og tillatt feil'!$H$16)/100)","v":0},0,0,{"$f":"B40-((B40*'CV''er og tillatt feil'!$G$16)/100)","v":0},{"$f":"B40+((B40*'CV''er og tillatt feil'!$G$16)/100)","v":0},0,0,null,null,"",""]
[null,null,null,null,null,"","","",-600,"",-600,{"$f":"B41-((B41*'CV''er og tillatt feil'!$H$16)/100)","v":0},{"$f":"B41+((B41*'CV''er og tillatt feil'!$H$16)/100)","v":0},0,0,{"$f":"B41-((B41*'CV''er og tillatt feil'!$G$16)/100)","v":0},{"$f":"B41+((B41*'CV''er og tillatt feil'!$G$16)/100)","v":0},0,0,null,null,"",""]
[null,null,null,null,null,"","","",-600,"",-600,{"$f":"B42-((B42*'CV''er og tillatt feil'!$H$16)/100)","v":0},{"$f":"B42+((B42*'CV''er og tillatt feil'!$H$16)/100)","v":0},0,0,{"$f":"B42-((B42*'CV''er og tillatt feil'!$G$16)/100)","v":0},{"$f":"B42+((B42*'CV''er og tillatt feil'!$G$16)/100)","v":0},0,0,null,null,"",""]
[null,null,null,null,null,"","","",-600,"",-600,{"$f":"B43-((B43*'CV''er og tillatt feil'!$H$16)/100)","v":0},{"$f":"B43+((B43*'CV''er og tillatt feil'!$H$16)/100)","v":0},0,0,{"$f":"B43-((B43*'CV''er og tillatt feil'!$G$16)/100)","v":0},{"$f":"B43+((B43*'CV''er og tillatt feil'!$G$16)/100)","v":0},0,0,null,null,"",""]
[null,null,null,null,null,"","","",-600,"",-600,{"$f":"B44-((B44*'CV''er og tillatt feil'!$H$16)/100)","v":0},{"$f":"B44+((B44*'CV''er og tillatt feil'!$H$16)/100)","v":0},0,0,{"$f":"B44-((B44*'CV''er og tillatt feil'!$G$16)/100)","v":0},{"$f":"B44+((B44*'CV''er og tillatt feil'!$G$16)/100)","v":0},0,0,null,null,"",""]
[null,null,null,null,null,"","","",-600,"",-600,{"$f":"B45-((B45*'CV''er og tillatt feil'!$H$16)/100)","v":0},{"$f":"B45+((B45*'CV''er og tillatt feil'!$H$16)/100)","v":0},0,0,{"$f":"B45-((B45*'CV''er og tillatt feil'!$G$16)/100)","v":0},{"$f":"B45+((B45*'CV''er og tillatt feil'!$G$16)/100)","v":0},0,0,null,null,"",""]
[null,null,null,null,null,"","","",-600,"",-600,{"$f":"B46-((B46*'CV''er og tillatt feil'!$H$16)/100)","v":0},{"$f":"B46+((B46*'CV''er og tillatt feil'!$H$16)/100)","v":0},0,0,{"$f":"B46-((B46*'CV''er og tillatt feil'!$G$16)/100)","v":0},{"$f":"B46+((B46*'CV''er og tillatt feil'!$G$16)/100)","v":0},0,0,null,null,"",""]
[null,null,null,null,null,"","","",-600,"",-600,{"$f":"B47-((B47*'CV''er og tillatt feil'!$H$16)/100)","v":0},{"$f":"B47+((B47*'CV''er og tillatt feil'!$H$16)/100)","v":0},0,0,{"$f":"B47-((B47*'CV''er og tillatt feil'!$G$16)/100)","v":0},{"$f":"B47+((B47*'CV''er og tillatt feil'!$G$16)/100)","v":0},0,0,null,null,"",""]
[null,null,null,null,null,"","","",-600,"",-600,{"$f":"B48-((B48*'CV''er og tillatt feil'!$H$16)/100)","v":0},{"$f":"B48+((B48*'CV''er og tillatt feil'!$H$16)/100)","v":0},0,0,{"$f":"B48-((B48*'CV''er og tillatt feil'!$G$16)/100)","v":0},{"$f":"B48+((B48*'CV''er og tillatt feil'!$G$16)/100)","v":0},0,0,null,null,"",""]
[null,null,null,null,null,"","","",-600,"",-600,{"$f":"B49-((B49*'CV''er og tillatt feil'!$H$16)/100)","v":0},{"$f":"B49+((B49*'CV''er og tillatt feil'!$H$16)/100)","v":0},0,0,{"$f":"B49-((B49*'CV''er og tillatt feil'!$G$16)/100)","v":0},{"$f":"B49+((B49*'CV''er og tillatt feil'!$G$16)/100)","v":0},0,0,null,null,"",""]
[null,null,null,null,null,"","","",-600,"",-600,{"$f":"B50-((B50*'CV''er og tillatt feil'!$H$16)/100)","v":0},{"$f":"B50+((B50*'CV''er og tillatt feil'!$H$16)/100)","v":0},0,0,{"$f":"B50-((B50*'CV''er og tillatt feil'!$G$16)/100)","v":0},{"$f":"B50+((B50*'CV''er og tillatt feil'!$G$16)/100)","v":0},0,0,null,null,"",""]
[null,null,null,null,null,"","","",-600,"",-600,{"$f":"B51-((B51*'CV''er og tillatt feil'!$H$16)/100)","v":0},{"$f":"B51+((B51*'CV''er og tillatt feil'!$H$16)/100)","v":0},0,0,{"$f":"B51-((B51*'CV''er og tillatt feil'!$G$16)/100)","v":0},{"$f":"B51+((B51*'CV''er og tillatt feil'!$G$16)/100)","v":0},0,0,null,null,"",""]
[null,null,null,null,null,"","","",-600,"",-600,{"$f":"B52-((B52*'CV''er og tillatt feil'!$H$16)/100)","v":0},{"$f":"B52+((B52*'CV''er og tillatt feil'!$H$16)/100)","v":0},0,0,{"$f":"B52-((B52*'CV''er og tillatt feil'!$G$16)/100)","v":0},{"$f":"B52+((B52*'CV''er og tillatt feil'!$G$16)/100)","v":0},0,0,null,null,"",""]
[null,null,null,null,null,"","","",-600,"",-600,{"$f":"B53-((B53*'CV''er og tillatt feil'!$H$16)/100)","v":0},{"$f":"B53+((B53*'CV''er og tillatt feil'!$H$16)/100)","v":0},0,0,{"$f":"B53-((B53*'CV''er og tillatt feil'!$G$16)/100)","v":0},{"$f":"B53+((B53*'CV''er og tillatt feil'!$G$16)/100)","v":0},0,0,null,null,"",""]
[null,null,null,null,null,"","","",-600,"",-600,{"$f":"B54-((B54*'CV''er og tillatt feil'!$H$16)/100)","v":0},{"$f":"B54+((B54*'CV''er og tillatt feil'!$H$16)/100)","v":0},0,0,{"$f":"B54-((B54*'CV''er og tillatt feil'!$G$16)/100)","v":0},{"$f":"B54+((B54*'CV''er og tillatt feil'!$G$16)/100)","v":0},0,0,null,null,"",""]
[null,null,null,null,null,"","","",-600,"",-600,{"$f":"B55-((B55*'CV''er og tillatt feil'!$H$16)/100)","v":0},{"$f":"B55+((B55*'CV''er og tillatt feil'!$H$16)/100)","v":0},0,0,{"$f":"B55-((B55*'CV''er og tillatt feil'!$G$16)/100)","v":0},{"$f":"B55+((B55*'CV''er og tillatt feil'!$G$16)/100)","v":0},0,0,null,null,"",""]
[null,null,null,null,null,"","","",-600,"",-600,{"$f":"B56-((B56*'CV''er og tillatt feil'!$H$16)/100)","v":0},{"$f":"B56+((B56*'CV''er og tillatt feil'!$H$16)/100)","v":0},0,0,{"$f":"B56-((B56*'CV''er og tillatt feil'!$G$16)/100)","v":0},{"$f":"B56+((B56*'CV''er og tillatt feil'!$G$16)/100)","v":0},0,0,null,null,"",""]
[null,null,null,null,null,"","","",-600,"",-600,{"$f":"B57-((B57*'CV''er og tillatt feil'!$H$16)/100)","v":0},{"$f":"B57+((B57*'CV''er og tillatt feil'!$H$16)/100)","v":0},0,0,{"$f":"B57-((B57*'CV''er og tillatt feil'!$G$16)/100)","v":0},{"$f":"B57+((B57*'CV''er og tillatt feil'!$G$16)/100)","v":0},0,0,null,null,"",""]
[null,null,null,null,null,"","","",-600,"",-600,{"$f":"B58-((B58*'CV''er og tillatt feil'!$H$16)/100)","v":0},{"$f":"B58+((B58*'CV''er og tillatt feil'!$H$16)/100)","v":0},0,0,{"$f":"B58-((B58*'CV''er og tillatt feil'!$G$16)/100)","v":0},{"$f":"B58+((B58*'CV''er og tillatt feil'!$G$16)/100)","v":0},0,0,null,null,"",""]
[null,null,null,null,null,"","","",-600,"",-600,{"$f":"B59-((B59*'CV''er og tillatt feil'!$H$16)/100)","v":0},{"$f":"B59+((B59*'CV''er og tillatt feil'!$H$16)/100)","v":0},0,0,{"$f":"B59-((B59*'CV''er og tillatt feil'!$G$16)/100)","v":0},{"$f":"B59+((B59*'CV''er og tillatt feil'!$G$16)/100)","v":0},0,0,null,null,"",""]
[null,null,null,null,null,"","","",-600,"",-600,{"$f":"B60-((B60*'CV''er og tillatt feil'!$H$16)/100)","v":0},{"$f":"B60+((B60*'CV''er og tillatt feil'!$H$16)/100)","v":0},0,0,{"$f":"B60-((B60*'CV''er og tillatt feil'!$G$16)/100)","v":0},{"$f":"B60+((B60*'CV''er og tillatt feil'!$G$16)/100)","v":0},0,0,null,null,"",""]
[null,null,null,null,null,"","","",-600,"",-600,{"$f":"B61-((B61*'CV''er og tillatt feil'!$H$16)/100)","v":0},{"$f":"B61+((B61*'CV''er og tillatt feil'!$H$16)/100)","v":0},0,0,{"$f":"B61-((B61*'CV''er og tillatt feil'!$G$16)/100)","v":0},{"$f":"B61+((B61*'CV''er og tillatt feil'!$G$16)/100)","v":0},0,0,null,null,"",""]
[null,null,null,null,null,"","","",-600,"",-600,{"$f":"B62-((B62*'CV''er og tillatt feil'!$H$16)/100)","v":0},{"$f":"B62+((B62*'CV''er og tillatt feil'!$H$16)/100)","v":0},0,0,{"$f":"B62-((B62*'CV''er og tillatt feil'!$G$16)/100)","v":0},{"$f":"B62+((B62*'CV''er og tillatt feil'!$G$16)/100)","v":0},0,0,null,null,"",""]
[null,null,null,null,null,"","","",-600,"",-600,{"$f":"B63-((B63*'CV''er og tillatt feil'!$H$16)/100)","v":0},{"$f":"B63+((B63*'CV''er og tillatt feil'!$H$16)/100)","v":0},0,0,{"$f":"B63-((B63*'CV''er og tillatt feil'!$G$16)/100)","v":0},{"$f":"B63+((B63*'CV''er og tillatt feil'!$G$16)/100)","v":0},0,0,null,null,"",""]
[null,null,null,null,null,"","","",-600,"",-600,{"$f":"B64-((B64*'CV''er og tillatt feil'!$H$16)/100)","v":0},{"$f":"B64+((B64*'CV''er og tillatt feil'!$H$16)/100)","v":0},0,0,{"$f":"B64-((B64*'CV''er og tillatt feil'!$G$16)/100)","v":0},{"$f":"B64+((B64*'CV''er og tillatt feil'!$G$16)/100)","v":0},0,0,null,null,"",""]
[null,null,null,null,null,"","","",-600,"",-600,{"$f":"B65-((B65*'CV''er og tillatt feil'!$H$16)/100)","v":0},{"$f":"B65+((B65*'CV''er og tillatt feil'!$H$16)/100)","v":0},0,0,{"$f":"B65-((B65*'CV''er og tillatt feil'!$G$16)/100)","v":0},{"$f":"B65+((B65*'CV''er og tillatt feil'!$G$16)/100)","v":0},0,0,null,null,"",""]
[null,null,null,null,null,"","","",-600,"",-600,{"$f":"B66-((B66*'CV''er og tillatt feil'!$H$16)/100)","v":0},{"$f":"B66+((B66*'CV''er og tillatt feil'!$H$16)/100)","v":0},0,0,{"$f":"B66-((B66*'CV''er og tillatt feil'!$G$16)/100)","v":0},{"$f":"B66+((B66*'CV''er og tillatt feil'!$G$16)/100)","v":0},0,0,null,null,"",""]
[null,null,null,null,null,"","","",-600,"",-600,{"$f":"B67-((B67*'CV''er og tillatt feil'!$H$16)/100)","v":0},{"$f":"B67+((B67*'CV''er og tillatt feil'!$H$16)/100)","v":0},0,0,{"$f":"B67-((B67*'CV''er og tillatt feil'!$G$16)/100)","v":0},{"$f":"B67+((B67*'CV''er og tillatt feil'!$G$16)/100)","v":0},0,0,null,null,"",""]
[null,null,null,null,null,"","","",-600,"",-600,{"$f":"B68-((B68*'CV''er og tillatt feil'!$H$16)/100)","v":0},{"$f":"B68+((B68*'CV''er og tillatt feil'!$H$16)/100)","v":0},0,0,{"$f":"B68-((B68*'CV''er og tillatt feil'!$G$16)/100)","v":0},{"$f":"B68+((B68*'CV''er og tillatt feil'!$G$16)/100)","v":0},0,0,null,null,"",""]
[null,null,null,null,null,{"$f":"IF((C69<>\"\"),IF((OR((G69>S69),(G69<R69))),IF(OR((G69>O69),(G69<N69)),\"STOPP\",\"Vurder\"),\"Ok\"),\"\")","v":""},{"$f":"IF(C69<>\"\",C69-$B69,\"\")","v":""},{"$f":"IF((E69<>\"\"),IF((OR((I69>S69),(I69<R69))),IF(OR((I69>O69),(I69<N69)),\"STOPP\",\"Vurder\"),\"Ok\"),\"\")","v":""},{"$f":"IF(E69<>\"\",E69-$B69,-600)","v":-600},{"$f":"IF(D69<>\"\",IF((OR((K69>S69),(K69<R69))),IF(OR((K69>O69),(K69<N69)),\"STOPP\",\"Vurder\"),\"Ok\"),\"\")","v":""},{"$f":"IF(D69<>\"\",D69-$B69,-600)","v":-600},{"$f":"B69-((B69*'CV''er og tillatt feil'!$H$16)/100)","v":0},{"$f":"B69+((B69*'CV''er og tillatt feil'!$H$16)/100)","v":0},0,0,{"$f":"B69-((B69*'CV''er og tillatt feil'!$G$16)/100)","v":0},{"$f":"B69+((B69*'CV''er og tillatt feil'!$G$16)/100)","v":0},0,0,null,null,{"$f":"IF(I69=-600,\"\",I69)","v":""},{"$f":"IF(K69=-600,\"\",K69)","v":""}]
[null,null,null,null,null,"","","",-600,"",-600,{"$f":"B70-((B70*'CV''er og tillatt feil'!$H$16)/100)","v":0},{"$f":"B70+((B70*'CV''er og tillatt feil'!$H$16)/100)","v":0},0,0,{"$f":"B70-((B70*'CV''er og tillatt feil'!$G$16)/100)","v":0},{"$f":"B70+((B70*'CV''er og tillatt feil'!$G$16)/100)","v":0},0,0,null,null,"",""]
[null,null,null,null,null,"","","",-600,"",-600,{"$f":"B71-((B71*'CV''er og tillatt feil'!$H$16)/100)","v":0},{"$f":"B71+((B71*'CV''er og tillatt feil'!$H$16)/100)","v":0},0,0,{"$f":"B71-((B71*'CV''er og tillatt feil'!$G$16)/100)","v":0},{"$f":"B71+((B71*'CV''er og tillatt feil'!$G$16)/100)","v":0},0,0,null,null,"",""]
[null,null,null,null,null,"","","",-600,"",-600,{"$f":"B72-((B72*'CV''er og tillatt feil'!$H$16)/100)","v":0},{"$f":"B72+((B72*'CV''er og tillatt feil'!$H$16)/100)","v":0},0,0,{"$f":"B72-((B72*'CV''er og tillatt feil'!$G$16)/100)","v":0},{"$f":"B72+((B72*'CV''er og tillatt feil'!$G$16)/100)","v":0},0,0,null,null,"",""]
[null,null,null,null,null,"","","",-600,"",-600,{"$f":"B73-((B73*'CV''er og tillatt feil'!$H$16)/100)","v":0},{"$f":"B73+((B73*'CV''er og tillatt feil'!$H$16)/100)","v":0},0,0,{"$f":"B73-((B73*'CV''er og tillatt feil'!$G$16)/100)","v":0},{"$f":"B73+((B73*'CV''er og tillatt feil'!$G$16)/100)","v":0},0,0,null,null,"",""]
[null,null,null,null,null,"","","",-600,"",-600,{"$f":"B74-((B74*'CV''er og tillatt feil'!$H$16)/100)","v":0},{"$f":"B74+((B74*'CV''er og tillatt feil'!$H$16)/100)","v":0},0,0,{"$f":"B74-((B74*'CV''er og tillatt feil'!$G$16)/100)","v":0},{"$f":"B74+((B74*'CV''er og tillatt feil'!$G$16)/100)","v":0},0,0,null,null,"",""]
[null,null,null,null,null,"","","",-600,"",-600,{"$f":"B75-((B75*'CV''er og tillatt feil'!$H$16)/100)","v":0},{"$f":"B75+((B75*'CV''er og tillatt feil'!$H$16)/100)","v":0},0,0,{"$f":"B75-((B75*'CV''er og tillatt feil'!$G$16)/100)","v":0},{"$f":"B75+((B75*'CV''er og tillatt feil'!$G$16)/100)","v":0},0,0,null,null,"",""]
[null,null,null,null,null,"","","",-600,"",-600,{"$f":"B76-((B76*'CV''er og tillatt feil'!$H$16)/100)","v":0},{"$f":"B76+((B76*'CV''er og tillatt feil'!$H$16)/100)","v":0},0,0,{"$f":"B76-((B76*'CV''er og tillatt feil'!$G$16)/100)","v":0},{"$f":"B76+((B76*'CV''er og tillatt feil'!$G$16)/100)","v":0},0,0,null,null,"",""]
[null,null,null,null,null,"","","",-600,"",-600,{"$f":"B77-((B77*'CV''er og tillatt feil'!$H$16)/100)","v":0},{"$f":"B77+((B77*'CV''er og tillatt feil'!$H$16)/100)","v":0},0,0,{"$f":"B77-((B77*'CV''er og tillatt feil'!$G$16)/100)","v":0},{"$f":"B77+((B77*'CV''er og tillatt feil'!$G$16)/100)","v":0},0,0,null,null,"",""]
[null,null,null,null,null,"","","",-600,"",-600,{"$f":"B78-((B78*'CV''er og tillatt feil'!$H$16)/100)","v":0},{"$f":"B78+((B78*'CV''er og tillatt feil'!$H$16)/100)","v":0},0,0,{"$f":"B78-((B78*'CV''er og tillatt feil'!$G$16)/100)","v":0},{"$f":"B78+((B78*'CV''er og tillatt feil'!$G$16)/100)","v":0},0,0,null,null,"",""]
[null,null,null,null,null,"","","",-600,"",-600,{"$f":"B79-((B79*'CV''er og tillatt feil'!$H$16)/100)","v":0},{"$f":"B79+((B79*'CV''er og tillatt feil'!$H$16)/100)","v":0},0,0,{"$f":"B79-((B79*'CV''er og tillatt feil'!$G$16)/100)","v":0},{"$f":"B79+((B79*'CV''er og tillatt feil'!$G$16)/100)","v":0},0,0,null,null,"",""]
[null,null,null,null,null,"","","",-600,"",-600,{"$f":"B80-((B80*'CV''er og tillatt feil'!$H$16)/100)","v":0},{"$f":"B80+((B80*'CV''er og tillatt feil'!$H$16)/100)","v":0},0,0,{"$f":"B80-((B80*'CV''er og tillatt feil'!$G$16)/100)","v":0},{"$f":"B80+((B80*'CV''er og tillatt feil'!$G$16)/100)","v":0},0,0,null,null,"",""]
[null,null,null,null,null,"","","",-600,"",-600,{"$f":"B81-((B81*'CV''er og tillatt feil'!$H$16)/100)","v":0},{"$f":"B81+((B81*'CV''er og tillatt feil'!$H$16)/100)","v":0},0,0,{"$f":"B81-((B81*'CV''er og tillatt feil'!$G$16)/100)","v":0},{"$f":"B81+((B81*'CV''er og tillatt feil'!$G$16)/100)","v":0},0,0,null,null,"",""]
[null,null,null,null,null,"","","",-600,"",-600,{"$f":"B82-((B82*'CV''er og tillatt feil'!$H$16)/100)","v":0},{"$f":"B82+((B82*'CV''er og tillatt feil'!$H$16)/100)","v":0},0,0,{"$f":"B82-((B82*'CV''er og tillatt feil'!$G$16)/100)","v":0},{"$f":"B82+((B82*'CV''er og tillatt feil'!$G$16)/100)","v":0},0,0,null,null,"",""]
[null,null,null,null,null,"","","",-600,"",-600,{"$f":"B83-((B83*'CV''er og tillatt feil'!$H$16)/100)","v":0},{"$f":"B83+((B83*'CV''er og tillatt feil'!$H$16)/100)","v":0},0,0,{"$f":"B83-((B83*'CV''er og tillatt feil'!$G$16)/100)","v":0},{"$f":"B83+((B83*'CV''er og tillatt feil'!$G$16)/100)","v":0},0,0,null,null,"",""]
[null,null,null,null,null,"","","",-600,"",-600,{"$f":"B84-((B84*'CV''er og tillatt feil'!$H$16)/100)","v":0},{"$f":"B84+((B84*'CV''er og tillatt feil'!$H$16)/100)","v":0},0,0,{"$f":"B84-((B84*'CV''er og tillatt feil'!$G$16)/100)","v":0},{"$f":"B84+((B84*'CV''er og tillatt feil'!$G$16)/100)","v":0},0,0,null,null,"",""]
[null,null,null,null,null,"","","",-600,"",-600,{"$f":"B85-((B85*'CV''er og tillatt feil'!$H$16)/100)","v":0},{"$f":"B85+((B85*'CV''er og tillatt feil'!$H$16)/100)","v":0},{"$f":"L85-B85","v":0},{"$f":"M85-B85","v":0},{"$f":"B85-((B85*'CV''er og tillatt feil'!$G$16)/100)","v":0},{"$f":"B85+((B85*'CV''er og tillatt feil'!$G$16)/100)","v":0},{"$f":"P85-B85","v":0},{"$f":"Q85-B85","v":0},null,null,"",""]
[null,null,null,null,null,"","","",-600,"",-600,{"$f":"B86-((B86*'CV''er og tillatt feil'!$H$16)/100)","v":0},{"$f":"B86+((B86*'CV''er og tillatt feil'!$H$16)/100)","v":0},0,0,{"$f":"B86-((B86*'CV''er og tillatt feil'!$G$16)/100)","v":0},{"$f":"B86+((B86*'CV''er og tillatt feil'!$G$16)/100)","v":0},0,0,null,null,"",""]
[null,null,null,null,null,"","","",-600,"",-600,{"$f":"B87-((B87*'CV''er og tillatt feil'!$H$16)/100)","v":0},{"$f":"B87+((B87*'CV''er og tillatt feil'!$H$16)/100)","v":0},0,0,{"$f":"B87-((B87*'CV''er og tillatt feil'!$G$16)/100)","v":0},{"$f":"B87+((B87*'CV''er og tillatt feil'!$G$16)/100)","v":0},0,0,null,null,"",""]
[null,null,null,null,null,"","","",-600,"",-600,{"$f":"B88-((B88*'CV''er og tillatt feil'!$H$16)/100)","v":0},{"$f":"B88+((B88*'CV''er og tillatt feil'!$H$16)/100)","v":0},0,0,{"$f":"B88-((B88*'CV''er og tillatt feil'!$G$16)/100)","v":0},{"$f":"B88+((B88*'CV''er og tillatt feil'!$G$16)/100)","v":0},0,0,null,null,"",""]
[null,null,null,null,null,"","","",-600,"",-600,{"$f":"B89-((B89*'CV''er og tillatt feil'!$H$16)/100)","v":0},{"$f":"B89+((B89*'CV''er og tillatt feil'!$H$16)/100)","v":0},0,0,{"$f":"B89-((B89*'CV''er og tillatt feil'!$G$16)/100)","v":0},{"$f":"B89+((B89*'CV''er og tillatt feil'!$G$16)/100)","v":0},0,0,null,null,"",""]
[null,null,null,null,null,"","","",-600,"",-600,{"$f":"B90-((B90*'CV''er og tillatt feil'!$H$16)/100)","v":0},{"$f":"B90+((B90*'CV''er og tillatt feil'!$H$16)/100)","v":0},0,0,{"$f":"B90-((B90*'CV''er og tillatt feil'!$G$16)/100)","v":0},{"$f":"B90+((B90*'CV''er og tillatt feil'!$G$16)/100)","v":0},0,0,null,null,"",""]
[null,null,null,null,null,"","","",-600,"",-600,{"$f":"B91-((B91*'CV''er og tillatt feil'!$H$16)/100)","v":0},{"$f":"B91+((B91*'CV''er og tillatt feil'!$H$16)/100)","v":0},0,0,{"$f":"B91-((B91*'CV''er og tillatt feil'!$G$16)/100)","v":0},{"$f":"B91+((B91*'CV''er og tillatt feil'!$G$16)/100)","v":0},0,0,null,null,"",""]
[null,null,null,null,null,"","","",-600,"",-600,{"$f":"B92-((B92*'CV''er og tillatt feil'!$H$16)/100)","v":0},{"$f":"B92+((B92*'CV''er og tillatt feil'!$H$16)/100)","v":0},0,0,{"$f":"B92-((B92*'CV''er og tillatt feil'!$G$16)/100)","v":0},{"$f":"B92+((B92*'CV''er og tillatt feil'!$G$16)/100)","v":0},0,0,null,null,"",""]
[null,null,null,null,null,"","","",-600,"",-600,{"$f":"B93-((B93*'CV''er og tillatt feil'!$H$16)/100)","v":0},{"$f":"B93+((B93*'CV''er og tillatt feil'!$H$16)/100)","v":0},0,0,{"$f":"B93-((B93*'CV''er og tillatt feil'!$G$16)/100)","v":0},{"$f":"B93+((B93*'CV''er og tillatt feil'!$G$16)/100)","v":0},0,0,null,null,"",""]
[null,null,null,null,null,"","","",-600,"",-600,{"$f":"B94-((B94*'CV''er og tillatt feil'!$H$16)/100)","v":0},{"$f":"B94+((B94*'CV''er og tillatt feil'!$H$16)/100)","v":0},0,0,{"$f":"B94-((B94*'CV''er og tillatt feil'!$G$16)/100)","v":0},{"$f":"B94+((B94*'CV''er og tillatt feil'!$G$16)/100)","v":0},0,0,null,null,"",""]
[null,null,null,null,null,"","","",-600,"",-600,{"$f":"B95-((B95*'CV''er og tillatt feil'!$H$16)/100)","v":0},{"$f":"B95+((B95*'CV''er og tillatt feil'!$H$16)/100)","v":0},0,0,{"$f":"B95-((B95*'CV''er og tillatt feil'!$G$16)/100)","v":0},{"$f":"B95+((B95*'CV''er og tillatt feil'!$G$16)/100)","v":0},0,0,null,null,"",""]
[null,null,null,null,null,"","","",-600,"",-600,{"$f":"B96-((B96*'CV''er og tillatt feil'!$H$16)/100)","v":0},{"$f":"B96+((B96*'CV''er og tillatt feil'!$H$16)/100)","v":0},0,0,{"$f":"B96-((B96*'CV''er og tillatt feil'!$G$16)/100)","v":0},{"$f":"B96+((B96*'CV''er og tillatt feil'!$G$16)/100)","v":0},0,0,null,null,"",""]
[null,null,null,null,null,"","","",-600,"",-600,{"$f":"B97-((B97*'CV''er og tillatt feil'!$H$16)/100)","v":0},{"$f":"B97+((B97*'CV''er og tillatt feil'!$H$16)/100)","v":0},0,0,{"$f":"B97-((B97*'CV''er og tillatt feil'!$G$16)/100)","v":0},{"$f":"B97+((B97*'CV''er og tillatt feil'!$G$16)/100)","v":0},0,0,null,null,"",""]
[null,null,null,null,null,"","","",-600,"",-600,{"$f":"B98-((B98*'CV''er og tillatt feil'!$H$16)/100)","v":0},{"$f":"B98+((B98*'CV''er og tillatt feil'!$H$16)/100)","v":0},0,0,{"$f":"B98-((B98*'CV''er og tillatt feil'!$G$16)/100)","v":0},{"$f":"B98+((B98*'CV''er og tillatt feil'!$G$16)/100)","v":0},0,0,null,null,"",""]
[null,null,null,null,null,"","","",-600,"",-600,{"$f":"B99-((B99*'CV''er og tillatt feil'!$H$16)/100)","v":0},{"$f":"B99+((B99*'CV''er og tillatt feil'!$H$16)/100)","v":0},0,0,{"$f":"B99-((B99*'CV''er og tillatt feil'!$G$16)/100)","v":0},{"$f":"B99+((B99*'CV''er og tillatt feil'!$G$16)/100)","v":0},0,0,null,null,"",""]
[null,null,null,null,null,"","","",-600,"",-600,{"$f":"B100-((B100*'CV''er og tillatt feil'!$H$16)/100)","v":0},{"$f":"B100+((B100*'CV''er og tillatt feil'!$H$16)/100)","v":0},0,0,{"$f":"B100-((B100*'CV''er og tillatt feil'!$G$16)/100)","v":0},{"$f":"B100+((B100*'CV''er og tillatt feil'!$G$16)/100)","v":0},0,0,null,null,"",""]
[null,null,null,null,null,"","","",-600,"",-600,{"$f":"B101-((B101*'CV''er og tillatt feil'!$H$16)/100)","v":0},{"$f":"B101+((B101*'CV''er og tillatt feil'!$H$16)/100)","v":0},0,0,{"$f":"B101-((B101*'CV''er og tillatt feil'!$G$16)/100)","v":0},{"$f":"B101+((B101*'CV''er og tillatt feil'!$G$16)/100)","v":0},0,0,null,null,"",""]
["Antall",{"$f":"COUNT(B5:B101)","v":0},{"$f":"COUNT(C5:C101)","v":0},{"$f":"COUNT(D5:D101)","v":0},{"$f":"COUNT(E5:E101)","v":0},null,{"$f":"COUNT(G5:G101)","v":0},null,{"$f":"COUNT(V5:V101)","v":0},null,{"$f":"COUNT(W5:W101)","v":0}]
["Mean",{"$f":"AVERAGE(B5:B101)","v":{"$error":"#DIV/0!"}},{"$f":"AVERAGE(C5:C101)","v":{"$error":"#DIV/0!"}},{"$f":"AVERAGE(D5:D101)","v":{"$error":"#DIV/0!"}},{"$f":"AVERAGE(E5:E101)","v":{"$error":"#DIV/0!"}},null,{"$f":"AVERAGE(G5:G101)","v":{"$error":"#DIV/0!"}},null,{"$f":"AVERAGE(V5:V101)","v":{"$error":"#DIV/0!"}},null,{"$f":"AVERAGE(W5:W101)","v":{"$error":"#DIV/0!"}}]
["Min",{"$f":"MIN(B5:B101)","v":0},{"$f":"MIN(C5:C101)","v":0},{"$f":"MIN(D5:D101)","v":0},{"$f":"MIN(E5:E101)","v":0},null,{"$f":"MIN(G5:G101)","v":0},null,{"$f":"MIN(V5:V101)","v":0},null,{"$f":"MIN(W5:W101)","v":0}]
["Max",{"$f":"MAX(B5:B101)","v":0},{"$f":"MAX(C5:C101)","v":0},{"$f":"MAX(D5:D101)","v":0},{"$f":"MAX(E5:E101)","v":0},null,{"$f":"MAX(G5:G101)","v":0},null,{"$f":"MAX(V5:V101)","v":0},null,{"$f":"MAX(W5:W101)","v":0}]
[]
[]
[]
[]
[]
[]
[]
[null,null,null,null,null,null,null,null,"  "]

{"sheet":"HGB","index":3,"n_rows":108,"n_cols":23,"rows_kept":108,"cut":false,"hidden":false,"merged":[[1,2,1,5],[1,6,1,10]]}
[{"$f":"Oversikt!D1","v":"EQS dokument 13856 versjon 3.9"}]
["HEMOGLOBIN",null,"Sysmex XN1500 er hovedmetoden",null,null,null,"Differanser HGB (XN1000-XN1500)",null,null,null,null,null,null,null,null,null,null,null,null,null,null,"HK="]
[null,null,null,null,null,"Varsel ",null,"Varsel ",null,"Varsel "]
["Dato","XN1500","XN1000","Rapidpoint","HemoCue","XN1000-XN1500","XN1000-XN1500","ABL-XN1500","Rapigpoint-XN1500","HemoCue-XN1500","HemoCue-XN1500","HGB nedre stopp","HGB øvre stopp","HGB nedre stopp","HGB øvre stopp","HGB nedre grønn","HGB øvre grønn","HGB nedre grønn","HGB øvre grønn",null,null,"HK HemoCue (P) -\nCellDyn","HK HemoCue (F) -\nCellDyn"]
[null,null,null,null,null,{"$f":"IF(C5<>\"\",IF((OR((G5>S5),(G5<R5))),IF(OR((G5>O5),(G5<N5)),\"STOPP\",\"VURDER\"),\"Ok\"),\"\")","v":""},{"$f":"IF(C5<>\"\",C5-$B5,\"\")","v":""},{"$f":"IF(D5<>\"\",IF((OR((I5>S5),(I5<R5))),IF(OR((I5>O5),(I5<N5)),\"Stopp\",\"Vurder\"),\"OK\"),\"\")","v":""},{"$f":"IF(D5<>\"\",D5-$B5,-600)","v":-600},{"$f":"IF(E5<>\"\",IF((OR((K5>S5),(K5<R5))),IF(OR((K5>O5),(K5<N5)),\"STOPP\",\"Vurder\"),\"Ok\"),\"\")","v":""},{"$f":"IF(E5<>\"\",E5-$B5,-600)","v":-600},{"$f":"B5-((B5*'CV''er og tillatt feil'!$H$17)/100)","v":0},{"$f":"B5+((B5*'CV''er og tillatt feil'!$H$17)/100)","v":0},{"$f":"L5-B5","v":0},{"$f":"M5-B5","v":0},{"$f":"B5-((B5*'CV''er og tillatt feil'!$G$17)/100)","v":0},{"$f":"B5+((B5*'CV''er og tillatt feil'!$G$17)/100)","v":0},{"$f":"P5-B5","v":0},{"$f":"Q5-B5","v":0},null,null,{"$f":"IF(I5=-600,\"\",I5)","v":""},{"$f":"IF(K5=-600,\"\",K5)","v":""}]
[null,null,null,null,null,{"$f":"IF(C6<>\"\",IF((OR((G6>S6),(G6<R6))),IF(OR((G6>O6),(G6<N6)),\"STOPP\",\"VURDER\"),\"Ok\"),\"\")","v":""},{"$f":"IF(C6<>\"\",C6-$B6,\"\")","v":""},{"$f":"IF(D6<>\"\",IF((OR((I6>S6),(I6<R6))),IF(OR((I6>O6),(I6<N6)),\"Stopp\",\"Vurder\"),\"OK\"),\"\")","v":""},{"$f":"IF(D6<>\"\",D6-$B6,-600)","v":-600},{"$f":"IF(E6<>\"\",IF((OR((K6>S6),(K6<R6))),IF(OR((K6>O6),(K6<N6)),\"STOPP\",\"Vurder\"),\"Ok\"),\"\")","v":""},{"$f":"IF(E6<>\"\",E6-$B6,-600)","v":-600},{"$f":"B6-((B6*'CV''er og tillatt feil'!$H$17)/100)","v":0},{"$f":"B6+((B6*'CV''er og tillatt feil'!$H$17)/100)","v":0},0,0,{"$f":"B6-((B6*'CV''er og tillatt feil'!$G$17)/100)","v":0},{"$f":"B6+((B6*'CV''er og tillatt feil'!$G$17)/100)","v":0},0,0,null,null,{"$f":"IF(I6=-600,\"\",I6)","v":""},{"$f":"IF(K6=-600,\"\",K6)","v":""}]
[null,null,null,null,null,"","","",-600,"",-600,{"$f":"B7-((B7*'CV''er og tillatt feil'!$H$17)/100)","v":0},{"$f":"B7+((B7*'CV''er og tillatt feil'!$H$17)/100)","v":0},0,0,{"$f":"B7-((B7*'CV''er og tillatt feil'!$G$17)/100)","v":0},{"$f":"B7+((B7*'CV''er og tillatt feil'!$G$17)/100)","v":0},0,0,null,null,"",""]
[null,null,null,null,null,{"$f":"IF(C8<>\"\",IF((OR((G8>S8),(G8<R8))),IF(OR((G8>O8),(G8<N8)),\"STOPP\",\"Vurder\"),\"Ok\"),\"\")","v":""},"","",-600,"",-600,{"$f":"B8-((B8*'CV''er og tillatt feil'!$H$17)/100)","v":0},{"$f":"B8+((B8*'CV''er og tillatt feil'!$H$17)/100)","v":0},0,0,{"$f":"B8-((B8*'CV''er og tillatt feil'!$G$17)/100)","v":0},{"$f":"B8+((B8*'CV''er og tillatt feil'!$G$17)/100)","v":0},0,0,null,null,"",""]
[null,null,null,null,null,"","","",-600,"",-600,{"$f":"B9-((B9*'CV''er og tillatt feil'!$H$17)/100)","v":0},{"$f":"B9+((B9*'CV''er og tillatt feil'!$H$17)/100)","v":0},0,0,{"$f":"B9-((B9*'CV''er og tillatt feil'!$G$17)/100)","v":0},{"$f":"B9+((B9*'CV''er og tillatt feil'!$G$17)/100)","v":0},0,0,null,null,"",""]
[null,null,null,null,null,"","","",-600,"",-600,{"$f":"B10-((B10*'CV''er og tillatt feil'!$H$17)/100)","v":0},{"$f":"B10+((B10*'CV''er og tillatt feil'!$H$17)/100)","v":0},0,0,{"$f":"B10-((B10*'CV''er og tillatt feil'!$G$17)/100)","v":0},{"$f":"B10+((B10*'CV''er og tillatt feil'!$G$17)/100)","v":0},0,0,null,null,"",""]
[null,null,null,null,null,"","","",-600,"",-600,{"$f":"B11-((B11*'CV''er og tillatt feil'!$H$17)/100)","v":0},{"$f":"B11+((B11*'CV''er og tillatt feil'!$H$17)/100)","v":0},0,0,{"$f":"B11-((B11*'CV''er og tillatt feil'!$G$17)/100)","v":0},{"$f":"B11+((B11*'CV''er og tillatt feil'!$G$17)/100)","v":0},0,0,null,null,"",""]
[null,null,null,null,null,"","","",-600,"",-600,{"$f":"B12-((B12*'CV''er og tillatt feil'!$H$17)/100)","v":0},{"$f":"B12+((B12*'CV''er og tillatt feil'!$H$17)/100)","v":0},0,0,{"$f":"B12-((B12*'CV''er og tillatt feil'!$G$17)/100)","v":0},{"$f":"B12+((B12*'CV''er og tillatt feil'!$G$17)/100)","v":0},0,0,null,null,"",""]
[null,null,null,null,null,"","","",-600,"",-600,{"$f":"B13-((B13*'CV''er og tillatt feil'!$H$17)/100)","v":0},{"$f":"B13+((B13*'CV''er og tillatt feil'!$H$17)/100)","v":0},0,0,{"$f":"B13-((B13*'CV''er og tillatt feil'!$G$17)/100)","v":0},{"$f":"B13+((B13*'CV''er og tillatt feil'!$G$17)/100)","v":0},0,0,null,null,"",""]
[null,null,null,null,null,"","","",-600,"",-600,{"$f":"B14-((B14*'CV''er og tillatt feil'!$H$17)/100)","v":0},{"$f":"B14+((B14*'CV''er og tillatt feil'!$H$17)/100)","v":0},0,0,{"$f":"B14-((B14*'CV''er og tillatt feil'!$G$17)/100)","v":0},{"$f":"B14+((B14*'CV''er og tillatt feil'!$G$17)/100)","v":0},0,0,null,null,"",""]
[null,null,null,null,null,"","","",-600,"",-600,{"$f":"B15-((B15*'CV''er og tillatt feil'!$H$17)/100)","v":0},{"$f":"B15+((B15*'CV''er og tillatt feil'!$H$17)/100)","v":0},0,0,{"$f":"B15-((B15*'CV''er og tillatt feil'!$G$17)/100)","v":0},{"$f":"B15+((B15*'CV''er og tillatt feil'!$G$17)/100)","v":0},0,0,null,null,"",""]
[null,null,null,null,null,"","","",-600,"",-600,{"$f":"B16-((B16*'CV''er og tillatt feil'!$H$17)/100)","v":0},{"$f":"B16+((B16*'CV''er og tillatt feil'!$H$17)/100)","v":0},0,0,{"$f":"B16-((B16*'CV''er og tillatt feil'!$G$17)/100)","v":0},{"$f":"B16+((B16*'CV''er og tillatt feil'!$G$17)/100)","v":0},0,0,null,null,"",""]
[null,null,null,null,null,"","","",-600,"",-600,{"$f":"B17-((B17*'CV''er og tillatt feil'!$H$17)/100)","v":0},{"$f":"B17+((B17*'CV''er og tillatt feil'!$H$17)/100)","v":0},0,0,{"$f":"B17-((B17*'CV''er og tillatt feil'!$G$17)/100)","v":0},{"$f":"B17+((B17*'CV''er og tillatt feil'!$G$17)/100)","v":0},0,0,null,null,"",""]
[null,null,null,null,null,"","","",-600,"",-600,{"$f":"B18-((B18*'CV''er og tillatt feil'!$H$17)/100)","v":0},{"$f":"B18+((B18*'CV''er og tillatt feil'!$H$17)/100)","v":0},0,0,{"$f":"B18-((B18*'CV''er og tillatt feil'!$G$17)/100)","v":0},{"$f":"B18+((B18*'CV''er og tillatt feil'!$G$17)/100)","v":0},0,0,null,null,"",""]
[null,null,null,null,null,"","","",-600,"",-600,{"$f":"B19-((B19*'CV''er og tillatt feil'!$H$17)/100)","v":0},{"$f":"B19+((B19*'CV''er og tillatt feil'!$H$17)/100)","v":0},0,0,{"$f":"B19-((B19*'CV''er og tillatt feil'!$G$17)/100)","v":0},{"$f":"B19+((B19*'CV''er og tillatt feil'!$G$17)/100)","v":0},0,0,null,null,"",""]
[null,null,null,null,null,"","","",-600,"",-600,{"$f":"B20-((B20*'CV''er og tillatt feil'!$H$17)/100)","v":0},{"$f":"B20+((B20*'CV''er og tillatt feil'!$H$17)/100)","v":0},0,0,{"$f":"B20-((B20*'CV''er og tillatt feil'!$G$17)/100)","v":0},{"$f":"B20+((B20*'CV''er og tillatt feil'!$G$17)/100)","v":0},0,0,null,null,"",""]
[null,null,null,null,null,"","","",-600,"",-600,{"$f":"B21-((B21*'CV''er og tillatt feil'!$H$17)/100)","v":0},{"$f":"B21+((B21*'CV''er og tillatt feil'!$H$17)/100)","v":0},0,0,{"$f":"B21-((B21*'CV''er og tillatt feil'!$G$17)/100)","v":0},{"$f":"B21+((B21*'CV''er og tillatt feil'!$G$17)/100)","v":0},0,0,null,null,"",""]
[null,null,null,null,null,"","","",-600,"",-600,{"$f":"B22-((B22*'CV''er og tillatt feil'!$H$17)/100)","v":0},{"$f":"B22+((B22*'CV''er og tillatt feil'!$H$17)/100)","v":0},0,0,{"$f":"B22-((B22*'CV''er og tillatt feil'!$G$17)/100)","v":0},{"$f":"B22+((B22*'CV''er og tillatt feil'!$G$17)/100)","v":0},0,0,null,null,"",""]
[null,null,null,null,null,"","","",-600,"",-600,{"$f":"B23-((B23*'CV''er og tillatt feil'!$H$17)/100)","v":0},{"$f":"B23+((B23*'CV''er og tillatt feil'!$H$17)/100)","v":0},0,0,{"$f":"B23-((B23*'CV''er og tillatt feil'!$G$17)/100)","v":0},{"$f":"B23+((B23*'CV''er og tillatt feil'!$G$17)/100)","v":0},0,0,null,null,"",""]
[null,null,null,null,null,"","","",-600,"",-600,{"$f":"B24-((B24*'CV''er og tillatt feil'!$H$17)/100)","v":0},{"$f":"B24+((B24*'CV''er og tillatt feil'!$H$17)/100)","v":0},0,0,{"$f":"B24-((B24*'CV''er og tillatt feil'!$G$17)/100)","v":0},{"$f":"B24+((B24*'CV''er og tillatt feil'!$G$17)/100)","v":0},0,0,null,null,"",""]
[null,null,null,null,null,"","","",-600,"",-600,{"$f":"B25-((B25*'CV''er og tillatt feil'!$H$17)/100)","v":0},{"$f":"B25+((B25*'CV''er og tillatt feil'!$H$17)/100)","v":0},0,0,{"$f":"B25-((B25*'CV''er og tillatt feil'!$G$17)/100)","v":0},{"$f":"B25+((B25*'CV''er og tillatt feil'!$G$17)/100)","v":0},0,0,null,null,"",""]
[null,null,null,null,null,"","","",-600,"",-600,{"$f":"B26-((B26*'CV''er og tillatt feil'!$H$17)/100)","v":0},{"$f":"B26+((B26*'CV''er og tillatt feil'!$H$17)/100)","v":0},0,0,{"$f":"B26-((B26*'CV''er og tillatt feil'!$G$17)/100)","v":0},{"$f":"B26+((B26*'CV''er og tillatt feil'!$G$17)/100)","v":0},0,0,null,null,"",""]
[null,null,null,null,null,"","","",-600,"",-600,{"$f":"B27-((B27*'CV''er og tillatt feil'!$H$17)/100)","v":0},{"$f":"B27+((B27*'CV''er og tillatt feil'!$H$17)/100)","v":0},0,0,{"$f":"B27-((B27*'CV''er og tillatt feil'!$G$17)/100)","v":0},{"$f":"B27+((B27*'CV''er og tillatt feil'!$G$17)/100)","v":0},0,0,null,null,"",""]
[null,null,null,null,null,"","","",-600,"",-600,{"$f":"B28-((B28*'CV''er og tillatt feil'!$H$17)/100)","v":0},{"$f":"B28+((B28*'CV''er og tillatt feil'!$H$17)/100)","v":0},0,0,{"$f":"B28-((B28*'CV''er og tillatt feil'!$G$17)/100)","v":0},{"$f":"B28+((B28*'CV''er og tillatt feil'!$G$17)/100)","v":0},0,0,null,null,"",""]
[null,null,null,null,null,"","","",-600,"",-600,{"$f":"B29-((B29*'CV''er og tillatt feil'!$H$17)/100)","v":0},{"$f":"B29+((B29*'CV''er og tillatt feil'!$H$17)/100)","v":0},0,0,{"$f":"B29-((B29*'CV''er og tillatt feil'!$G$17)/100)","v":0},{"$f":"B29+((B29*'CV''er og tillatt feil'!$G$17)/100)","v":0},0,0,null,null,"",""]
[null,null,null,null,null,"","","",-600,"",-600,{"$f":"B30-((B30*'CV''er og tillatt feil'!$H$17)/100)","v":0},{"$f":"B30+((B30*'CV''er og tillatt feil'!$H$17)/100)","v":0},0,0,{"$f":"B30-((B30*'CV''er og tillatt feil'!$G$17)/100)","v":0},{"$f":"B30+((B30*'CV''er og tillatt feil'!$G$17)/100)","v":0},0,0,null,null,"",""]
[null,null,null,null,null,"","","",-600,"",-600,{"$f":"B31-((B31*'CV''er og tillatt feil'!$H$17)/100)","v":0},{"$f":"B31+((B31*'CV''er og tillatt feil'!$H$17)/100)","v":0},0,0,{"$f":"B31-((B31*'CV''er og tillatt feil'!$G$17)/100)","v":0},{"$f":"B31+((B31*'CV''er og tillatt feil'!$G$17)/100)","v":0},0,0,null,null,"",""]
[null,null,null,null,null,"","","",-600,"",-600,{"$f":"B32-((B32*'CV''er og tillatt feil'!$H$17)/100)","v":0},{"$f":"B32+((B32*'CV''er og tillatt feil'!$H$17)/100)","v":0},0,0,{"$f":"B32-((B32*'CV''er og tillatt feil'!$G$17)/100)","v":0},{"$f":"B32+((B32*'CV''er og tillatt feil'!$G$17)/100)","v":0},0,0,null,null,"",""]
[null,null,null,null,null,{"$f":"IF(C33<>\"\",IF((OR((G33>S33),(G33<R33))),IF(OR((G33>O33),(G33<N33)),\"STOPP\",\"Vurder\"),\"Ok\"),\"\")","v":""},"","",-600,"",-600,{"$f":"B33-((B33*'CV''er og tillatt feil'!$H$17)/100)","v":0},{"$f":"B33+((B33*'CV''er og tillatt feil'!$H$17)/100)","v":0},0,0,{"$f":"B33-((B33*'CV''er og tillatt feil'!$G$17)/100)","v":0},{"$f":"B33+((B33*'CV''er og tillatt feil'!$G$17)/100)","v":0},0,0,null,null,"",""]
[null,null,null,null,null,{"$f":"IF(C34<>\"\",IF((OR((G34>S34),(G34<R34))),IF(OR((G34>O34),(G34<N34)),\"STOPP\",\"Vurder\"),\"Ok\"),\"\")","v":""},"","",-600,"",-600,{"$f":"B34-((B34*'CV''er og tillatt feil'!$H$17)/100)","v":0},{"$f":"B34+((B34*'CV''er og tillatt feil'!$H$17)/100)","v":0},0,0,{"$f":"B34-((B34*'CV''er og tillatt feil'!$G$17)/100)","v":0},{"$f":"B34+((B34*'CV''er og tillatt feil'!$G$17)/100)","v":0},0,0,null,null,"",""]
[null,null,null,null,null,"","","",-600,"",-600,{"$f":"B35-((B35*'CV''er og tillatt feil'!$H$17)/100)","v":0},{"$f":"B35+((B35*'CV''er og tillatt feil'!$H$17)/100)","v":0},0,0,{"$f":"B35-((B35*'CV''er og tillatt feil'!$G$17)/100)","v":0},{"$f":"B35+((B35*'CV''er og tillatt feil'!$G$17)/100)","v":0},0,0,null,null,"",""]
[null,null,null,null,null,"","","",-600,"",-600,{"$f":"B36-((B36*'CV''er og tillatt feil'!$H$17)/100)","v":0},{"$f":"B36+((B36*'CV''er og tillatt feil'!$H$17)/100)","v":0},0,0,{"$f":"B36-((B36*'CV''er og tillatt feil'!$G$17)/100)","v":0},{"$f":"B36+((B36*'CV''er og tillatt feil'!$G$17)/100)","v":0},0,0,null,null,"",""]
[null,null,null,null,null,"","","",-600,"",-600,{"$f":"B37-((B37*'CV''er og tillatt feil'!$H$17)/100)","v":0},{"$f":"B37+((B37*'CV''er og tillatt feil'!$H$17)/100)","v":0},0,0,{"$f":"B37-((B37*'CV''er og tillatt feil'!$G$17)/100)","v":0},{"$f":"B37+((B37*'CV''er og tillatt feil'!$G$17)/100)","v":0},0,0,null,null,"",""]
[null,null,null,null,null,"","","",-600,"",-600,{"$f":"B38-((B38*'CV''er og tillatt feil'!$H$17)/100)","v":0},{"$f":"B38+((B38*'CV''er og tillatt feil'!$H$17)/100)","v":0},0,0,{"$f":"B38-((B38*'CV''er og tillatt feil'!$G$17)/100)","v":0},{"$f":"B38+((B38*'CV''er og tillatt feil'!$G$17)/100)","v":0},0,0,null,null,"",""]
[null,null,null,null,null,"","","",-600,"",-600,{"$f":"B39-((B39*'CV''er og tillatt feil'!$H$17)/100)","v":0},{"$f":"B39+((B39*'CV''er og tillatt feil'!$H$17)/100)","v":0},0,0,{"$f":"B39-((B39*'CV''er og tillatt feil'!$G$17)/100)","v":0},{"$f":"B39+((B39*'CV''er og tillatt feil'!$G$17)/100)","v":0},0,0,null,null,"",""]
[null,null,null,null,null,"","","",-600,"",-600,{"$f":"B40-((B40*'CV''er og tillatt feil'!$H$17)/100)","v":0},{"$f":"B40+((B40*'CV''er og tillatt feil'!$H$17)/100)","v":0},0,0,{"$f":"B40-((B40*'CV''er og tillatt feil'!$G$17)/100)","v":0},{"$f":"B40+((B40*'CV''er og tillatt feil'!$G$17)/100)","v":0},0,0,null,null,"",""]
[null,null,null,null,null,"","","",-600,"",-600,{"$f":"B41-((B41*'CV''er og tillatt feil'!$H$17)/100)","v":0},{"$f":"B41+((B41*'CV''er og tillatt feil'!$H$17)/100)","v":0},0,0,{"$f":"B41-((B41*'CV''er og tillatt feil'!$G$17)/100)","v":0},{"$f":"B41+((B41*'CV''er og tillatt feil'!$G$17)/100)","v":0},0,0,null,null,"",""]
[null,null,null,null,null,"","","",-600,"",-600,{"$f":"B42-((B42*'CV''er og tillatt feil'!$H$17)/100)","v":0},{"$f":"B42+((B42*'CV''er og tillatt feil'!$H$17)/100)","v":0},0,0,{"$f":"B42-((B42*'CV''er og tillatt feil'!$G$17)/100)","v":0},{"$f":"B42+((B42*'CV''er og tillatt feil'!$G$17)/100)","v":0},0,0,null,null,"",""]
[null,null,null,null,null,"","","",-600,"",-600,{"$f":"B43-((B43*'CV''er og tillatt feil'!$H$17)/100)","v":0},{"$f":"B43+((B43*'CV''er og tillatt feil'!$H$17)/100)","v":0},0,0,{"$f":"B43-((B43*'CV''er og tillatt feil'!$G$17)/100)","v":0},{"$f":"B43+((B43*'CV''er og tillatt feil'!$G$17)/100)","v":0},0,0,null,null,"",""]
[null,null,null,null,null,"","","",-600,"",-600,{"$f":"B44-((B44*'CV''er og tillatt feil'!$H$17)/100)","v":0},{"$f":"B44+((B44*'CV''er og tillatt feil'!$H$17)/100)","v":0},0,0,{"$f":"B44-((B44*'CV''er og tillatt feil'!$G$17)/100)","v":0},{"$f":"B44+((B44*'CV''er og tillatt feil'!$G$17)/100)","v":0},0,0,null,null,"",""]
[null,null,null,null,null,"","","",-600,"",-600,{"$f":"B45-((B45*'CV''er og tillatt feil'!$H$17)/100)","v":0},{"$f":"B45+((B45*'CV''er og tillatt feil'!$H$17)/100)","v":0},0,0,{"$f":"B45-((B45*'CV''er og tillatt feil'!$G$17)/100)","v":0},{"$f":"B45+((B45*'CV''er og tillatt feil'!$G$17)/100)","v":0},0,0,null,null,"",""]
[null,null,null,null,null,"","","",-600,"",-600,{"$f":"B46-((B46*'CV''er og tillatt feil'!$H$17)/100)","v":0},{"$f":"B46+((B46*'CV''er og tillatt feil'!$H$17)/100)","v":0},0,0,{"$f":"B46-((B46*'CV''er og tillatt feil'!$G$17)/100)","v":0},{"$f":"B46+((B46*'CV''er og tillatt feil'!$G$17)/100)","v":0},0,0,null,null,"",""]
[null,null,null,null,null,"","","",-600,"",-600,{"$f":"B47-((B47*'CV''er og tillatt feil'!$H$17)/100)","v":0},{"$f":"B47+((B47*'CV''er og tillatt feil'!$H$17)/100)","v":0},0,0,{"$f":"B47-((B47*'CV''er og tillatt feil'!$G$17)/100)","v":0},{"$f":"B47+((B47*'CV''er og tillatt feil'!$G$17)/100)","v":0},0,0,null,null,"",""]
[null,null,null,null,null,"","","",-600,"",-600,{"$f":"B48-((B48*'CV''er og tillatt feil'!$H$17)/100)","v":0},{"$f":"B48+((B48*'CV''er og tillatt feil'!$H$17)/100)","v":0},0,0,{"$f":"B48-((B48*'CV''er og tillatt feil'!$G$17)/100)","v":0},{"$f":"B48+((B48*'CV''er og tillatt feil'!$G$17)/100)","v":0},0,0,null,null,"",""]
[null,null,null,null,null,"","","",-600,"",-600,{"$f":"B49-((B49*'CV''er og tillatt feil'!$H$17)/100)","v":0},{"$f":"B49+((B49*'CV''er og tillatt feil'!$H$17)/100)","v":0},0,0,{"$f":"B49-((B49*'CV''er og tillatt feil'!$G$17)/100)","v":0},{"$f":"B49+((B49*'CV''er og tillatt feil'!$G$17)/100)","v":0},0,0,null,null,"",""]
[null,null,null,null,null,"","","",-600,"",-600,{"$f":"B50-((B50*'CV''er og tillatt feil'!$H$17)/100)","v":0},{"$f":"B50+((B50*'CV''er og tillatt feil'!$H$17)/100)","v":0},0,0,{"$f":"B50-((B50*'CV''er og tillatt feil'!$G$17)/100)","v":0},{"$f":"B50+((B50*'CV''er og tillatt feil'!$G$17)/100)","v":0},0,0,null,null,"",""]
[null,null,null,null,null,"","","",-600,"",-600,{"$f":"B51-((B51*'CV''er og tillatt feil'!$H$17)/100)","v":0},{"$f":"B51+((B51*'CV''er og tillatt feil'!$H$17)/100)","v":0},0,0,{"$f":"B51-((B51*'CV''er og tillatt feil'!$G$17)/100)","v":0},{"$f":"B51+((B51*'CV''er og tillatt feil'!$G$17)/100)","v":0},0,0,null,null,"",""]
[null,null,null,null,null,"","","",-600,"",-600,{"$f":"B52-((B52*'CV''er og tillatt feil'!$H$17)/100)","v":0},{"$f":"B52+((B52*'CV''er og tillatt feil'!$H$17)/100)","v":0},0,0,{"$f":"B52-((B52*'CV''er og tillatt feil'!$G$17)/100)","v":0},{"$f":"B52+((B52*'CV''er og tillatt feil'!$G$17)/100)","v":0},0,0,null,null,"",""]
[null,null,null,null,null,"","","",-600,"",-600,{"$f":"B53-((B53*'CV''er og tillatt feil'!$H$17)/100)","v":0},{"$f":"B53+((B53*'CV''er og tillatt feil'!$H$17)/100)","v":0},0,0,{"$f":"B53-((B53*'CV''er og tillatt feil'!$G$17)/100)","v":0},{"$f":"B53+((B53*'CV''er og tillatt feil'!$G$17)/100)","v":0},0,0,null,null,"",""]
[null,null,null,null,null,"","","",-600,"",-600,{"$f":"B54-((B54*'CV''er og tillatt feil'!$H$17)/100)","v":0},{"$f":"B54+((B54*'CV''er og tillatt feil'!$H$17)/100)","v":0},0,0,{"$f":"B54-((B54*'CV''er og tillatt feil'!$G$17)/100)","v":0},{"$f":"B54+((B54*'CV''er og tillatt feil'!$G$17)/100)","v":0},0,0,null,null,"",""]
[null,null,null,null,null,"","","",-600,"",-600,{"$f":"B55-((B55*'CV''er og tillatt feil'!$H$17)/100)","v":0},{"$f":"B55+((B55*'CV''er og tillatt feil'!$H$17)/100)","v":0},0,0,{"$f":"B55-((B55*'CV''er og tillatt feil'!$G$17)/100)","v":0},{"$f":"B55+((B55*'CV''er og tillatt feil'!$G$17)/100)","v":0},0,0,null,null,"",""]
[null,null,null,null,null,"","","",-600,"",-600,{"$f":"B56-((B56*'CV''er og tillatt feil'!$H$17)/100)","v":0},{"$f":"B56+((B56*'CV''er og tillatt feil'!$H$17)/100)","v":0},0,0,{"$f":"B56-((B56*'CV''er og tillatt feil'!$G$17)/100)","v":0},{"$f":"B56+((B56*'CV''er og tillatt feil'!$G$17)/100)","v":0},0,0,null,null,"",""]
[null,null,null,null,null,"","","",-600,"",-600,{"$f":"B57-((B57*'CV''er og tillatt feil'!$H$17)/100)","v":0},{"$f":"B57+((B57*'CV''er og tillatt feil'!$H$17)/100)","v":0},0,0,{"$f":"B57-((B57*'CV''er og tillatt feil'!$G$17)/100)","v":0},{"$f":"B57+((B57*'CV''er og tillatt feil'!$G$17)/100)","v":0},0,0,null,null,"",""]
[null,null,null,null,null,"","","",-600,"",-600,{"$f":"B58-((B58*'CV''er og tillatt feil'!$H$17)/100)","v":0},{"$f":"B58+((B58*'CV''er og tillatt feil'!$H$17)/100)","v":0},0,0,{"$f":"B58-((B58*'CV''er og tillatt feil'!$G$17)/100)","v":0},{"$f":"B58+((B58*'CV''er og tillatt feil'!$G$17)/100)","v":0},0,0,null,null,"",""]
[null,null,null,null,null,"","","",-600,"",-600,{"$f":"B59-((B59*'CV''er og tillatt feil'!$H$17)/100)","v":0},{"$f":"B59+((B59*'CV''er og tillatt feil'!$H$17)/100)","v":0},0,0,{"$f":"B59-((B59*'CV''er og tillatt feil'!$G$17)/100)","v":0},{"$f":"B59+((B59*'CV''er og tillatt feil'!$G$17)/100)","v":0},0,0,null,null,"",""]
[null,null,null,null,null,"","","",-600,"",-600,{"$f":"B60-((B60*'CV''er og tillatt feil'!$H$17)/100)","v":0},{"$f":"B60+((B60*'CV''er og tillatt feil'!$H$17)/100)","v":0},0,0,{"$f":"B60-((B60*'CV''er og tillatt feil'!$G$17)/100)","v":0},{"$f":"B60+((B60*'CV''er og tillatt feil'!$G$17)/100)","v":0},0,0,null,null,"",""]
[null,null,null,null,null,"","","",-600,"",-600,{"$f":"B61-((B61*'CV''er og tillatt feil'!$H$17)/100)","v":0},{"$f":"B61+((B61*'CV''er og tillatt feil'!$H$17)/100)","v":0},0,0,{"$f":"B61-((B61*'CV''er og tillatt feil'!$G$17)/100)","v":0},{"$f":"B61+((B61*'CV''er og tillatt feil'!$G$17)/100)","v":0},0,0,null,null,"",""]
[null,null,null,null,null,"","","",-600,"",-600,{"$f":"B62-((B62*'CV''er og tillatt feil'!$H$17)/100)","v":0},{"$f":"B62+((B62*'CV''er og tillatt feil'!$H$17)/100)","v":0},0,0,{"$f":"B62-((B62*'CV''er og tillatt feil'!$G$17)/100)","v":0},{"$f":"B62+((B62*'CV''er og tillatt feil'!$G$17)/100)","v":0},0,0,null,null,"",""]
[null,null,null,null,null,"","","",-600,"",-600,{"$f":"B63-((B63*'CV''er og tillatt feil'!$H$17)/100)","v":0},{"$f":"B63+((B63*'CV''er og tillatt feil'!$H$17)/100)","v":0},0,0,{"$f":"B63-((B63*'CV''er og tillatt feil'!$G$17)/100)","v":0},{"$f":"B63+((B63*'CV''er og tillatt feil'!$G$17)/100)","v":0},0,0,null,null,"",""]
[null,null,null,null,null,"","","",-600,"",-600,{"$f":"B64-((B64*'CV''er og tillatt feil'!$H$17)/100)","v":0},{"$f":"B64+((B64*'CV''er og tillatt feil'!$H$17)/100)","v":0},0,0,{"$f":"B64-((B64*'CV''er og tillatt feil'!$G$17)/100)","v":0},{"$f":"B64+((B64*'CV''er og tillatt feil'!$G$17)/100)","v":0},0,0,null,null,"",""]
[null,null,null,null,null,"","","",-600,"",-600,{"$f":"B65-((B65*'CV''er og tillatt feil'!$H$17)/100)","v":0},{"$f":"B65+((B65*'CV''er og tillatt feil'!$H$17)/100)","v":0},0,0,{"$f":"B65-((B65*'CV''er og tillatt feil'!$G$17)/100)","v":0},{"$f":"B65+((B65*'CV''er og tillatt feil'!$G$17)/100)","v":0},0,0,null,null,"",""]
[null,null,null,null,null,"","","",-600,"",-600,{"$f":"B66-((B66*'CV''er og tillatt feil'!$H$17)/100)","v":0},{"$f":"B66+((B66*'CV''er og tillatt feil'!$H$17)/100)","v":0},0,0,{"$f":"B66-((B66*'CV''er og tillatt feil'!$G$17)/100)","v":0},{"$f":"B66+((B66*'CV''er og tillatt feil'!$G$17)/100)","v":0},0,0,null,null,"",""]
[null,null,null,null,null,"","","",-600,"",-600,{"$f":"B67-((B67*'CV''er og tillatt feil'!$H$17)/100)","v":0},{"$f":"B67+((B67*'CV''er og tillatt feil'!$H$17)/100)","v":0},0,0,{"$f":"B67-((B67*'CV''er og tillatt feil'!$G$17)/100)","v":0},{"$f":"B67+((B67*'CV''er og tillatt feil'!$G$17)/100)","v":0},0,0,null,null,"",""]
[null,null,null,null,null,"","","",-600,"",-600,{"$f":"B68-((B68*'CV''er og tillatt feil'!$H$17)/100)","v":0},{"$f":"B68+((B68*'CV''er og tillatt feil'!$H$17)/100)","v":0},{"$f":"L68-B68","v":0},{"$f":"M68-B68","v":0},{"$f":"B68-((B68*'CV''er og tillatt feil'!$G$17)/100)","v":0},{"$f":"B68+((B68*'CV''er og tillatt feil'!$G$17)/100)","v":0},0,0,null,null,"",""]
[null,null,null,null,null,"","","",-600,"",-600,{"$f":"B69-((B69*'CV''er og tillatt feil'!$H$17)/100)","v":0},{"$f":"B69+((B69*'CV''er og tillatt feil'!$H$17)/100)","v":0},0,0,{"$f":"B69-((B69*'CV''er og tillatt feil'!$G$17)/100)","v":0},{"$f":"B69+((B69*'CV''er og tillatt feil'!$G$17)/100)","v":0},0,0,null,null,{"$f":"IF(I69=-600,\"\",I69)","v":""},{"$f":"IF(K69=-600,\"\",K69)","v":""}]
[null,null,null,null,null,"",{"$f":"IF(C70<>\"\",C70-$B70,\"\")","v":""},{"$f":"IF(D70<>\"\",IF((OR((I70>S70),(I70<R70))),IF(OR((I70>O70),(I70<N70)),\"Stopp\",\"Vurder\"),\"OK\"),\"\")","v":""},{"$f":"IF(D70<>\"\",D70-$B70,-600)","v":-600},{"$f":"IF(E70<>\"\",IF((OR((K70>S70),(K70<R70))),IF(OR((K70>O70),(K70<N70)),\"STOPP\",\"Vurder\"),\"Ok\"),\"\")","v":""},{"$f":"IF(E70<>\"\",E70-$B70,-600)","v":-600},{"$f":"B70-((B70*'CV''er og tillatt feil'!$H$17)/100)","v":0},{"$f":"B70+((B70*'CV''er og tillatt feil'!$H$17)/100)","v":0},0,0,{"$f":"B70-((B70*'CV''er og tillatt feil'!$G$17)/100)","v":0},{"$f":"B70+((B70*'CV''er og tillatt feil'!$G$17)/100)","v":0},0,0,null,null,"",""]
[null,null,null,null,null,"","","",-600,"",-600,{"$f":"B71-((B71*'CV''er og tillatt feil'!$H$17)/100)","v":0},{"$f":"B71+((B71*'CV''er og tillatt feil'!$H$17)/100)","v":0},0,0,{"$f":"B71-((B71*'CV''er og tillatt feil'!$G$17)/100)","v":0},{"$f":"B71+((B71*'CV''er og tillatt feil'!$G$17)/100)","v":0},0,0,null,null,"",""]
[null,null,null,null,null,"","","",-600,"",-600,{"$f":"B72-((B72*'CV''er og tillatt feil'!$H$17)/100)","v":0},{"$f":"B72+((B72*'CV''er og tillatt feil'!$H$17)/100)","v":0},0,0,{"$f":"B72-((B72*'CV''er og tillatt feil'!$G$17)/100)","v":0},{"$f":"B72+((B72*'CV''er og tillatt feil'!$G$17)/100)","v":0},0,0,null,null,"",""]
[null,null,null,null,null,"","","",-600,"",-600,{"$f":"B73-((B73*'CV''er og tillatt feil'!$H$17)/100)","v":0},{"$f":"B73+((B73*'CV''er og tillatt feil'!$H$17)/100)","v":0},0,0,{"$f":"B73-((B73*'CV''er og tillatt feil'!$G$17)/100)","v":0},{"$f":"B73+((B73*'CV''er og tillatt feil'!$G$17)/100)","v":0},0,0,null,null,"",""]
[null,null,null,null,null,"","","",-600,"",-600,{"$f":"B74-((B74*'CV''er og tillatt feil'!$H$17)/100)","v":0},{"$f":"B74+((B74*'CV''er og tillatt feil'!$H$17)/100)","v":0},0,0,{"$f":"B74-((B74*'CV''er og tillatt feil'!$G$17)/100)","v":0},{"$f":"B74+((B74*'CV''er og tillatt feil'!$G$17)/100)","v":0},0,0,null,null,"",""]
[null,null,null,null,null,"","","",-600,"",-600,{"$f":"B75-((B75*'CV''er og tillatt feil'!$H$17)/100)","v":0},{"$f":"B75+((B75*'CV''er og tillatt feil'!$H$17)/100)","v":0},{"$f":"L75-B75","v":0},{"$f":"M75-B75","v":0},{"$f":"B75-((B75*'CV''er og tillatt feil'!$G$17)/100)","v":0},{"$f":"B75+((B75*'CV''er og tillatt feil'!$G$17)/100)","v":0},{"$f":"P75-B75","v":0},{"$f":"Q75-B75","v":0},null,null,"",""]
[null,null,null,null,null,"","","",-600,"",-600,{"$f":"B76-((B76*'CV''er og tillatt feil'!$H$17)/100)","v":0},{"$f":"B76+((B76*'CV''er og tillatt feil'!$H$17)/100)","v":0},0,0,{"$f":"B76-((B76*'CV''er og tillatt feil'!$G$17)/100)","v":0},{"$f":"B76+((B76*'CV''er og tillatt feil'!$G$17)/100)","v":0},0,0,null,null,"",""]
[null,null,null,null,null,"","","",-600,"",-600,{"$f":"B77-((B77*'CV''er og tillatt feil'!$H$17)/100)","v":0},{"$f":"B77+((B77*'CV''er og tillatt feil'!$H$17)/100)","v":0},0,0,{"$f":"B77-((B77*'CV''er og tillatt feil'!$G$17)/100)","v":0},{"$f":"B77+((B77*'CV''er og tillatt feil'!$G$17)/100)","v":0},0,0,null,null,"",""]
[null,null,null,null,null,"","","",-600,"",-600,{"$f":"B78-((B78*'CV''er og tillatt feil'!$H$17)/100)","v":0},{"$f":"B78+((B78*'CV''er og tillatt feil'!$H$17)/100)","v":0},0,0,{"$f":"B78-((B78*'CV''er og tillatt feil'!$G$17)/100)","v":0},{"$f":"B78+((B78*'CV''er og tillatt feil'!$G$17)/100)","v":0},0,0,null,null,"",""]
[null,null,null,null,null,"","","",-600,"",-600,{"$f":"B79-((B79*'CV''er og tillatt feil'!$H$17)/100)","v":0},{"$f":"B79+((B79*'CV''er og tillatt feil'!$H$17)/100)","v":0},0,0,{"$f":"B79-((B79*'CV''er og tillatt feil'!$G$17)/100)","v":0},{"$f":"B79+((B79*'CV''er og tillatt feil'!$G$17)/100)","v":0},0,0,null,null,"",""]
[null,null,null,null,null,"","","",-600,"",-600,{"$f":"B80-((B80*'CV''er og tillatt feil'!$H$17)/100)","v":0},{"$f":"B80+((B80*'CV''er og tillatt feil'!$H$17)/100)","v":0},0,0,{"$f":"B80-((B80*'CV''er og tillatt feil'!$G$17)/100)","v":0},{"$f":"B80+((B80*'CV''er og tillatt feil'!$G$17)/100)","v":0},0,0,null,null,"",""]
[null,null,null,null,null,"","","",-600,"",-600,{"$f":"B81-((B81*'CV''er og tillatt feil'!$H$17)/100)","v":0},{"$f":"B81+((B81*'CV''er og tillatt feil'!$H$17)/100)","v":0},0,0,{"$f":"B81-((B81*'CV''er og tillatt feil'!$G$17)/100)","v":0},{"$f":"B81+((B81*'CV''er og tillatt feil'!$G$17)/100)","v":0},0,0,null,null,"",""]
[null,null,null,null,null,"","","",-600,"",-600,{"$f":"B82-((B82*'CV''er og tillatt feil'!$H$17)/100)","v":0},{"$f":"B82+((B82*'CV''er og tillatt feil'!$H$17)/100)","v":0},0,0,{"$f":"B82-((B82*'CV''er og tillatt feil'!$G$17)/100)","v":0},{"$f":"B82+((B82*'CV''er og tillatt feil'!$G$17)/100)","v":0},0,0,null,null,"",""]
[null,null,null,null,null,"","","",-600,"",-600,{"$f":"B83-((B83*'CV''er og tillatt feil'!$H$17)/100)","v":0},{"$f":"B83+((B83*'CV''er og tillatt feil'!$H$17)/100)","v":0},0,0,{"$f":"B83-((B83*'CV''er og tillatt feil'!$G$17)/100)","v":0},{"$f":"B83+((B83*'CV''er og tillatt feil'!$G$17)/100)","v":0},0,0,null,null,"",""]
[null,null,null,null,null,"","","",-600,"",-600,{"$f":"B84-((B84*'CV''er og tillatt feil'!$H$17)/100)","v":0},{"$f":"B84+((B84*'CV''er og tillatt feil'!$H$17)/100)","v":0},0,0,{"$f":"B84-((B84*'CV''er og tillatt feil'!$G$17)/100)","v":0},{"$f":"B84+((B84*'CV''er og tillatt feil'!$G$17)/100)","v":0},0,0,null,null,"",""]
[null,null,null,null,null,"","","",-600,"",-600,{"$f":"B85-((B85*'CV''er og tillatt feil'!$H$17)/100)","v":0},{"$f":"B85+((B85*'CV''er og tillatt feil'!$H$17)/100)","v":0},0,0,{"$f":"B85-((B85*'CV''er og tillatt feil'!$G$17)/100)","v":0},{"$f":"B85+((B85*'CV''er og tillatt feil'!$G$17)/100)","v":0},0,0,null,null,"",""]
[null,null,null,null,null,"","","",-600,"",-600,{"$f":"B86-((B86*'CV''er og tillatt feil'!$H$17)/100)","v":0},{"$f":"B86+((B86*'CV''er og tillatt feil'!$H$17)/100)","v":0},0,0,{"$f":"B86-((B86*'CV''er og tillatt feil'!$G$17)/100)","v":0},{"$f":"B86+((B86*'CV''er og tillatt feil'!$G$17)/100)","v":0},0,0,null,null,"",""]
[null,null,null,null,null,"","","",-600,"",-600,{"$f":"B87-((B87*'CV''er og tillatt feil'!$H$17)/100)","v":0},{"$f":"B87+((B87*'CV''er og tillatt feil'!$H$17)/100)","v":0},0,0,{"$f":"B87-((B87*'CV''er og tillatt feil'!$G$17)/100)","v":0},{"$f":"B87+((B87*'CV''er og tillatt feil'!$G$17)/100)","v":0},0,0,null,null,"",""]
[null,null,null,null,null,"","","",-600,"",-600,{"$f":"B88-((B88*'CV''er og tillatt feil'!$H$17)/100)","v":0},{"$f":"B88+((B88*'CV''er og tillatt feil'!$H$17)/100)","v":0},0,0,{"$f":"B88-((B88*'CV''er og tillatt feil'!$G$17)/100)","v":0},{"$f":"B88+((B88*'CV''er og tillatt feil'!$G$17)/100)","v":0},0,0,null,null,"",""]
[null,null,null,null,null,"","","",-600,"",-600,{"$f":"B89-((B89*'CV''er og tillatt feil'!$H$17)/100)","v":0},{"$f":"B89+((B89*'CV''er og tillatt feil'!$H$17)/100)","v":0},0,0,{"$f":"B89-((B89*'CV''er og tillatt feil'!$G$17)/100)","v":0},{"$f":"B89+((B89*'CV''er og tillatt feil'!$G$17)/100)","v":0},0,0,null,null,"",""]
[null,null,null,null,null,"","","",-600,"",-600,{"$f":"B90-((B90*'CV''er og tillatt feil'!$H$17)/100)","v":0},{"$f":"B90+((B90*'CV''er og tillatt feil'!$H$17)/100)","v":0},0,0,{"$f":"B90-((B90*'CV''er og tillatt feil'!$G$17)/100)","v":0},{"$f":"B90+((B90*'CV''er og tillatt feil'!$G$17)/100)","v":0},0,0,null,null,"",""]
[null,null,null,null,null,"","","",-600,"",-600,{"$f":"B91-((B91*'CV''er og tillatt feil'!$H$17)/100)","v":0},{"$f":"B91+((B91*'CV''er og tillatt feil'!$H$17)/100)","v":0},0,0,{"$f":"B91-((B91*'CV''er og tillatt feil'!$G$17)/100)","v":0},{"$f":"B91+((B91*'CV''er og tillatt feil'!$G$17)/100)","v":0},0,0,null,null,"",""]
[null,null,null,null,null,"","","",-600,"",-600,{"$f":"B92-((B92*'CV''er og tillatt feil'!$H$17)/100)","v":0},{"$f":"B92+((B92*'CV''er og tillatt feil'!$H$17)/100)","v":0},0,0,{"$f":"B92-((B92*'CV''er og tillatt feil'!$G$17)/100)","v":0},{"$f":"B92+((B92*'CV''er og tillatt feil'!$G$17)/100)","v":0},0,0,null,null,"",""]
[null,null,null,null,null,"","","",-600,"",-600,{"$f":"B93-((B93*'CV''er og tillatt feil'!$H$17)/100)","v":0},{"$f":"B93+((B93*'CV''er og tillatt feil'!$H$17)/100)","v":0},0,0,{"$f":"B93-((B93*'CV''er og tillatt feil'!$G$17)/100)","v":0},{"$f":"B93+((B93*'CV''er og tillatt feil'!$G$17)/100)","v":0},0,0,null,null,"",""]
[null,null,null,null,null,"","","",-600,"",-600,{"$f":"B94-((B94*'CV''er og tillatt feil'!$H$17)/100)","v":0},{"$f":"B94+((B94*'CV''er og tillatt feil'!$H$17)/100)","v":0},0,0,{"$f":"B94-((B94*'CV''er og tillatt feil'!$G$17)/100)","v":0},{"$f":"B94+((B94*'CV''er og tillatt feil'!$G$17)/100)","v":0},0,0,null,null,"",""]
[null,null,null,null,null,"","","",-600,"",-600,{"$f":"B95-((B95*'CV''er og tillatt feil'!$H$17)/100)","v":0},{"$f":"B95+((B95*'CV''er og tillatt feil'!$H$17)/100)","v":0},0,0,{"$f":"B95-((B95*'CV''er og tillatt feil'!$G$17)/100)","v":0},{"$f":"B95+((B95*'CV''er og tillatt feil'!$G$17)/100)","v":0},0,0,null,null,"",""]
[null,null,null,null,null,"","","",-600,"",-600,{"$f":"B96-((B96*'CV''er og tillatt feil'!$H$17)/100)","v":0},{"$f":"B96+((B96*'CV''er og tillatt feil'!$H$17)/100)","v":0},0,0,{"$f":"B96-((B96*'CV''er og tillatt feil'!$G$17)/100)","v":0},{"$f":"B96+((B96*'CV''er og tillatt feil'!$G$17)/100)","v":0},0,0,null,null,"",""]
[null,null,null,null,null,"","","",-600,"",-600,{"$f":"B97-((B97*'CV''er og tillatt feil'!$H$17)/100)","v":0},{"$f":"B97+((B97*'CV''er og tillatt feil'!$H$17)/100)","v":0},0,0,{"$f":"B97-((B97*'CV''er og tillatt feil'!$G$17)/100)","v":0},{"$f":"B97+((B97*'CV''er og tillatt feil'!$G$17)/100)","v":0},0,0,null,null,"",""]
[null,null,null,null,null,{"$f":"IF(C98<>\"\",IF((OR((G98>S98),(G98<R98))),IF(OR((G98>O98),(G98<N98)),\"STOPP\",\"Vurder\"),\"Ok\"),\"\")","v":""},"","",-600,"",-600,{"$f":"B98-((B98*'CV''er og tillatt feil'!$H$17)/100)","v":0},{"$f":"B98+((B98*'CV''er og tillatt feil'!$H$17)/100)","v":0},0,0,{"$f":"B98-((B98*'CV''er og tillatt feil'!$G$17)/100)","v":0},{"$f":"B98+((B98*'CV''er og tillatt feil'!$G$17)/100)","v":0},0,0,null,null,"",""]
[null,null,null,null,null,"","","",-600,"",-600,{"$f":"B99-((B99*'CV''er og tillatt feil'!$H$17)/100)","v":0},{"$f":"B99+((B99*'CV''er og tillatt feil'!$H$17)/100)","v":0},0,0,{"$f":"B99-((B99*'CV''er og tillatt feil'!$G$17)/100)","v":0},{"$f":"B99+((B99*'CV''er og tillatt feil'!$G$17)/100)","v":0},0,0,null,null,"",""]
[null,null,null,null,null,"","","",-600,"",-600,{"$f":"B100-((B100*'CV''er og tillatt feil'!$H$17)/100)","v":0},{"$f":"B100+((B100*'CV''er og tillatt feil'!$H$17)/100)","v":0},0,0,{"$f":"B100-((B100*'CV''er og tillatt feil'!$G$17)/100)","v":0},{"$f":"B100+((B100*'CV''er og tillatt feil'!$G$17)/100)","v":0},0,0,null,null,"",""]
[null,null,null,null,null,"","","",-600,"",-600,{"$f":"B101-((B101*'CV''er og tillatt feil'!$H$17)/100)","v":0},{"$f":"B101+((B101*'CV''er og tillatt feil'!$H$17)/100)","v":0},0,0,{"$f":"B101-((B101*'CV''er og tillatt feil'!$G$17)/100)","v":0},{"$f":"B101+((B101*'CV''er og tillatt feil'!$G$17)/100)","v":0},0,0,null,null,"",""]
[null,null,null,null,null,"","","",-600,"",-600,{"$f":"B102-((B102*'CV''er og tillatt feil'!$H$17)/100)","v":0},{"$f":"B102+((B102*'CV''er og tillatt feil'!$H$17)/100)","v":0},0,0,{"$f":"B102-((B102*'CV''er og tillatt feil'!$G$17)/100)","v":0},{"$f":"B102+((B102*'CV''er og tillatt feil'!$G$17)/100)","v":0},0,0,null,null,"",""]
[null,null,null,null,null,"","","",-600,"",-600,{"$f":"B103-((B103*'CV''er og tillatt feil'!$H$17)/100)","v":0},{"$f":"B103+((B103*'CV''er og tillatt feil'!$H$17)/100)","v":0},{"$f":"L103-B103","v":0},{"$f":"M103-B103","v":0},{"$f":"B103-((B103*'CV''er og tillatt feil'!$G$17)/100)","v":0},{"$f":"B103+((B103*'CV''er og tillatt feil'!$G$17)/100)","v":0},0,0,null,null,"",""]
[null,null,null,null,null,{"$f":"IF(C104<>\"\",IF((OR((G104>S104),(G104<R104))),IF(OR((G104>O104),(G104<N104)),\"STOPP\",\"VURDER\"),\"Ok\"),\"\")","v":""},"","",-600,"",-600,{"$f":"B104-((B104*'CV''er og tillatt feil'!$H$17)/100)","v":0},{"$f":"B104+((B104*'CV''er og tillatt feil'!$H$17)/100)","v":0},{"$f":"L104-B104","v":0},{"$f":"M104-B104","v":0},{"$f":"B104-((B104*'CV''er og tillatt feil'!$G$17)/100)","v":0},{"$f":"B104+((B104*'CV''er og tillatt feil'!$G$17)/100)","v":0},0,0,null,null,"",""]
["Antall",{"$f":"COUNT(B5:B104)","v":0},{"$f":"COUNT(C5:C104)","v":0},null,{"$f":"COUNT(E5:E104)","v":0},null,{"$f":"COUNT(G5:G104)","v":0},null,{"$f":"COUNT(V5:V104)","v":0},null,{"$f":"COUNT(W5:W104)","v":0}]
["Mean",{"$f":"AVERAGE(B5:B104)","v":{"$error":"#DIV/0!"}},{"$f":"AVERAGE(C5:C104)","v":{"$error":"#DIV/0!"}},{"$f":"AVERAGE(D5:D104)","v":{"$error":"#DIV/0!"}},{"$f":"AVERAGE(E5:E104)","v":{"$error":"#DIV/0!"}},null,{"$f":"AVERAGE(G5:G104)","v":{"$error":"#DIV/0!"}},null,{"$f":"AVERAGE(V5:V104)","v":{"$error":"#DIV/0!"}},null,{"$f":"AVERAGE(W5:W104)","v":{"$error":"#DIV/0!"}}]
["Min",{"$f":"MIN(B5:B104)","v":0},{"$f":"MIN(C5:C104)","v":0},{"$f":"MIN(D5:D104)","v":0},{"$f":"MIN(E5:E104)","v":0},null,{"$f":"MIN(G5:G104)","v":0},null,{"$f":"MIN(V5:V104)","v":0},null,{"$f":"MIN(W5:W104)","v":0}]
["Max",{"$f":"MAX(B5:B104)","v":0},{"$f":"MAX(C5:C104)","v":0},{"$f":"MAX(D5:D104)","v":0},{"$f":"MAX(E5:E104)","v":0},null,{"$f":"MAX(G5:G104)","v":0},null,{"$f":"MAX(V5:V104)","v":0},null,{"$f":"MAX(W5:W104)","v":0}]

{"sheet":"HCT","index":4,"n_rows":105,"n_cols":13,"rows_kept":105,"cut":false,"hidden":false,"merged":[[1,2,1,3],[1,4,1,6]]}
[{"$f":"Oversikt!D1","v":"EQS dokument 13856 versjon 3.9"}]
["HCT",null,"Sysmex XN1500 er hovedinstrument",null,"Differanser HCT (XN1000-XN1500)"]
[null,null,null,"Varsel"]
["Dato","XN1500","XN1000","XN1000-XN1500","XN1000-XN1500","HCT nedre stopp","HCT øvre stopp","HCT nedre stopp","HCT øvre stopp","HCT nedre grønn","HCT øvre grønn","HCT nedre grønn","HCT øvre grønn"]
[null,null,null,{"$f":"IF(C5<>\"\",IF((OR((E5>M5),(E5<L5))),IF(OR((E5>I5),(E5<H5)),\"STOPP\",\"Vurder\"),\"Ok\"),\"\")","v":""},{"$f":"IF(C5<>\"\",C5-$B5,\"\")","v":""},{"$f":"B5-((B5*'CV''er og tillatt feil'!$H$18)/100)","v":0},{"$f":"B5+((B5*'CV''er og tillatt feil'!$H$18)/100)","v":0},{"$f":"F5-B5","v":0},{"$f":"G5-B5","v":0},{"$f":"B5-((B5*'CV''er og tillatt feil'!$G$18)/100)","v":0},{"$f":"B5+((B5*'CV''er og tillatt feil'!$G$18)/100)","v":0},{"$f":"J5-B5","v":0},{"$f":"K5-B5","v":0}]
[null,null,null,{"$f":"IF(C6<>\"\",IF((OR((E6>M6),(E6<L6))),IF(OR((E6>I6),(E6<H6)),\"STOPP\",\"Vurder\"),\"Ok\"),\"\")","v":""},{"$f":"IF(C6<>\"\",C6-$B6,\"\")","v":""},{"$f":"B6-((B6*'CV''er og tillatt feil'!$H$18)/100)","v":0},{"$f":"B6+((B6*'CV''er og tillatt feil'!$H$18)/100)","v":0},0,0,{"$f":"B6-((B6*'CV''er og tillatt feil'!$G$18)/100)","v":0},{"$f":"B6+((B6*'CV''er og tillatt feil'!$G$18)/100)","v":0},0,0]
[null,null,null,"","",{"$f":"B7-((B7*'CV''er og tillatt feil'!$H$18)/100)","v":0},{"$f":"B7+((B7*'CV''er og tillatt feil'!$H$18)/100)","v":0},0,0,{"$f":"B7-((B7*'CV''er og tillatt feil'!$G$18)/100)","v":0},{"$f":"B7+((B7*'CV''er og tillatt feil'!$G$18)/100)","v":0},0,0]
[null,null,null,"","",{"$f":"B8-((B8*'CV''er og tillatt feil'!$H$18)/100)","v":0},{"$f":"B8+((B8*'CV''er og tillatt feil'!$H$18)/100)","v":0},0,0,{"$f":"B8-((B8*'CV''er og tillatt feil'!$G$18)/100)","v":0},{"$f":"B8+((B8*'CV''er og tillatt feil'!$G$18)/100)","v":0},0,0]
[null,null,null,"","",{"$f":"B9-((B9*'CV''er og tillatt feil'!$H$18)/100)","v":0},{"$f":"B9+((B9*'CV''er og tillatt feil'!$H$18)/100)","v":0},0,0,{"$f":"B9-((B9*'CV''er og tillatt feil'!$G$18)/100)","v":0},{"$f":"B9+((B9*'CV''er og tillatt feil'!$G$18)/100)","v":0},0,0]
[null,null,null,"","",{"$f":"B10-((B10*'CV''er og tillatt feil'!$H$18)/100)","v":0},{"$f":"B10+((B10*'CV''er og tillatt feil'!$H$18)/100)","v":0},0,0,{"$f":"B10-((B10*'CV''er og tillatt feil'!$G$18)/100)","v":0},{"$f":"B10+((B10*'CV''er og tillatt feil'!$G$18)/100)","v":0},0,0]
[null,null,null,"","",{"$f":"B11-((B11*'CV''er og tillatt feil'!$H$18)/100)","v":0},{"$f":"B11+((B11*'CV''er og tillatt feil'!$H$18)/100)","v":0},0,0,{"$f":"B11-((B11*'CV''er og tillatt feil'!$G$18)/100)","v":0},{"$f":"B11+((B11*'CV''er og tillatt feil'!$G$18)/100)","v":0},0,0]
[null,null,null,"","",{"$f":"B12-((B12*'CV''er og tillatt feil'!$H$18)/100)","v":0},{"$f":"B12+((B12*'CV''er og tillatt feil'!$H$18)/100)","v":0},0,0,{"$f":"B12-((B12*'CV''er og tillatt feil'!$G$18)/100)","v":0},{"$f":"B12+((B12*'CV''er og tillatt feil'!$G$18)/100)","v":0},0,0]
[null,null,null,"","",{"$f":"B13-((B13*'CV''er og tillatt feil'!$H$18)/100)","v":0},{"$f":"B13+((B13*'CV''er og tillatt feil'!$H$18)/100)","v":0},0,0,{"$f":"B13-((B13*'CV''er og tillatt feil'!$G$18)/100)","v":0},{"$f":"B13+((B13*'CV''er og tillatt feil'!$G$18)/100)","v":0},0,0]
[null,null,null,"","",{"$f":"B14-((B14*'CV''er og tillatt feil'!$H$18)/100)","v":0},{"$f":"B14+((B14*'CV''er og tillatt feil'!$H$18)/100)","v":0},0,0,{"$f":"B14-((B14*'CV''er og tillatt feil'!$G$18)/100)","v":0},{"$f":"B14+((B14*'CV''er og tillatt feil'!$G$18)/100)","v":0},0,0]
[null,null,null,"","",{"$f":"B15-((B15*'CV''er og tillatt feil'!$H$18)/100)","v":0},{"$f":"B15+((B15*'CV''er og tillatt feil'!$H$18)/100)","v":0},0,0,{"$f":"B15-((B15*'CV''er og tillatt feil'!$G$18)/100)","v":0},{"$f":"B15+((B15*'CV''er og tillatt feil'!$G$18)/100)","v":0},0,0]
[null,null,null,"","",{"$f":"B16-((B16*'CV''er og tillatt feil'!$H$18)/100)","v":0},{"$f":"B16+((B16*'CV''er og tillatt feil'!$H$18)/100)","v":0},0,0,{"$f":"B16-((B16*'CV''er og tillatt feil'!$G$18)/100)","v":0},{"$f":"B16+((B16*'CV''er og tillatt feil'!$G$18)/100)","v":0},0,0]
[null,null,null,"","",{"$f":"B17-((B17*'CV''er og tillatt feil'!$H$18)/100)","v":0},{"$f":"B17+((B17*'CV''er og tillatt feil'!$H$18)/100)","v":0},0,0,{"$f":"B17-((B17*'CV''er og tillatt feil'!$G$18)/100)","v":0},{"$f":"B17+((B17*'CV''er og tillatt feil'!$G$18)/100)","v":0},0,0]
[null,null,null,"","",{"$f":"B18-((B18*'CV''er og tillatt feil'!$H$18)/100)","v":0},{"$f":"B18+((B18*'CV''er og tillatt feil'!$H$18)/100)","v":0},0,0,{"$f":"B18-((B18*'CV''er og tillatt feil'!$G$18)/100)","v":0},{"$f":"B18+((B18*'CV''er og tillatt feil'!$G$18)/100)","v":0},0,0]
[null,null,null,"","",{"$f":"B19-((B19*'CV''er og tillatt feil'!$H$18)/100)","v":0},{"$f":"B19+((B19*'CV''er og tillatt feil'!$H$18)/100)","v":0},0,0,{"$f":"B19-((B19*'CV''er og tillatt feil'!$G$18)/100)","v":0},{"$f":"B19+((B19*'CV''er og tillatt feil'!$G$18)/100)","v":0},0,0]
[null,null,null,"","",{"$f":"B20-((B20*'CV''er og tillatt feil'!$H$18)/100)","v":0},{"$f":"B20+((B20*'CV''er og tillatt feil'!$H$18)/100)","v":0},0,0,{"$f":"B20-((B20*'CV''er og tillatt feil'!$G$18)/100)","v":0},{"$f":"B20+((B20*'CV''er og tillatt feil'!$G$18)/100)","v":0},0,0]
[null,null,null,"","",{"$f":"B21-((B21*'CV''er og tillatt feil'!$H$18)/100)","v":0},{"$f":"B21+((B21*'CV''er og tillatt feil'!$H$18)/100)","v":0},0,0,{"$f":"B21-((B21*'CV''er og tillatt feil'!$G$18)/100)","v":0},{"$f":"B21+((B21*'CV''er og tillatt feil'!$G$18)/100)","v":0},0,0]
[null,null,null,"","",{"$f":"B22-((B22*'CV''er og tillatt feil'!$H$18)/100)","v":0},{"$f":"B22+((B22*'CV''er og tillatt feil'!$H$18)/100)","v":0},0,0,{"$f":"B22-((B22*'CV''er og tillatt feil'!$G$18)/100)","v":0},{"$f":"B22+((B22*'CV''er og tillatt feil'!$G$18)/100)","v":0},0,0]
[null,null,null,"","",{"$f":"B23-((B23*'CV''er og tillatt feil'!$H$18)/100)","v":0},{"$f":"B23+((B23*'CV''er og tillatt feil'!$H$18)/100)","v":0},0,0,{"$f":"B23-((B23*'CV''er og tillatt feil'!$G$18)/100)","v":0},{"$f":"B23+((B23*'CV''er og tillatt feil'!$G$18)/100)","v":0},0,0]
[null,null,null,"","",{"$f":"B24-((B24*'CV''er og tillatt feil'!$H$18)/100)","v":0},{"$f":"B24+((B24*'CV''er og tillatt feil'!$H$18)/100)","v":0},0,0,{"$f":"B24-((B24*'CV''er og tillatt feil'!$G$18)/100)","v":0},{"$f":"B24+((B24*'CV''er og tillatt feil'!$G$18)/100)","v":0},0,0]
[null,null,null,"","",{"$f":"B25-((B25*'CV''er og tillatt feil'!$H$18)/100)","v":0},{"$f":"B25+((B25*'CV''er og tillatt feil'!$H$18)/100)","v":0},0,0,{"$f":"B25-((B25*'CV''er og tillatt feil'!$G$18)/100)","v":0},{"$f":"B25+((B25*'CV''er og tillatt feil'!$G$18)/100)","v":0},0,0]
[null,null,null,"","",{"$f":"B26-((B26*'CV''er og tillatt feil'!$H$18)/100)","v":0},{"$f":"B26+((B26*'CV''er og tillatt feil'!$H$18)/100)","v":0},0,0,{"$f":"B26-((B26*'CV''er og tillatt feil'!$G$18)/100)","v":0},{"$f":"B26+((B26*'CV''er og tillatt feil'!$G$18)/100)","v":0},0,0]
[null,null,null,"","",{"$f":"B27-((B27*'CV''er og tillatt feil'!$H$18)/100)","v":0},{"$f":"B27+((B27*'CV''er og tillatt feil'!$H$18)/100)","v":0},0,0,{"$f":"B27-((B27*'CV''er og tillatt feil'!$G$18)/100)","v":0},{"$f":"B27+((B27*'CV''er og tillatt feil'!$G$18)/100)","v":0},0,0]
[null,null,null,"","",{"$f":"B28-((B28*'CV''er og tillatt feil'!$H$18)/100)","v":0},{"$f":"B28+((B28*'CV''er og tillatt feil'!$H$18)/100)","v":0},0,0,{"$f":"B28-((B28*'CV''er og tillatt feil'!$G$18)/100)","v":0},{"$f":"B28+((B28*'CV''er og tillatt feil'!$G$18)/100)","v":0},0,0]
[null,null,null,"","",{"$f":"B29-((B29*'CV''er og tillatt feil'!$H$18)/100)","v":0},{"$f":"B29+((B29*'CV''er og tillatt feil'!$H$18)/100)","v":0},0,0,{"$f":"B29-((B29*'CV''er og tillatt feil'!$G$18)/100)","v":0},{"$f":"B29+((B29*'CV''er og tillatt feil'!$G$18)/100)","v":0},0,0]
[null,null,null,"","",{"$f":"B30-((B30*'CV''er og tillatt feil'!$H$18)/100)","v":0},{"$f":"B30+((B30*'CV''er og tillatt feil'!$H$18)/100)","v":0},0,0,{"$f":"B30-((B30*'CV''er og tillatt feil'!$G$18)/100)","v":0},{"$f":"B30+((B30*'CV''er og tillatt feil'!$G$18)/100)","v":0},0,0]
[null,null,null,"","",{"$f":"B31-((B31*'CV''er og tillatt feil'!$H$18)/100)","v":0},{"$f":"B31+((B31*'CV''er og tillatt feil'!$H$18)/100)","v":0},0,0,{"$f":"B31-((B31*'CV''er og tillatt feil'!$G$18)/100)","v":0},{"$f":"B31+((B31*'CV''er og tillatt feil'!$G$18)/100)","v":0},0,0]
[null,null,null,"","",{"$f":"B32-((B32*'CV''er og tillatt feil'!$H$18)/100)","v":0},{"$f":"B32+((B32*'CV''er og tillatt feil'!$H$18)/100)","v":0},0,0,{"$f":"B32-((B32*'CV''er og tillatt feil'!$G$18)/100)","v":0},{"$f":"B32+((B32*'CV''er og tillatt feil'!$G$18)/100)","v":0},0,0]
[null,null,null,"","",{"$f":"B33-((B33*'CV''er og tillatt feil'!$H$18)/100)","v":0},{"$f":"B33+((B33*'CV''er og tillatt feil'!$H$18)/100)","v":0},0,0,{"$f":"B33-((B33*'CV''er og tillatt feil'!$G$18)/100)","v":0},{"$f":"B33+((B33*'CV''er og tillatt feil'!$G$18)/100)","v":0},0,0]
[null,null,null,"","",{"$f":"B34-((B34*'CV''er og tillatt feil'!$H$18)/100)","v":0},{"$f":"B34+((B34*'CV''er og tillatt feil'!$H$18)/100)","v":0},0,0,{"$f":"B34-((B34*'CV''er og tillatt feil'!$G$18)/100)","v":0},{"$f":"B34+((B34*'CV''er og tillatt feil'!$G$18)/100)","v":0},0,0]
[null,null,null,"","",{"$f":"B35-((B35*'CV''er og tillatt feil'!$H$18)/100)","v":0},{"$f":"B35+((B35*'CV''er og tillatt feil'!$H$18)/100)","v":0},0,0,{"$f":"B35-((B35*'CV''er og tillatt feil'!$G$18)/100)","v":0},{"$f":"B35+((B35*'CV''er og tillatt feil'!$G$18)/100)","v":0},0,0]
[null,null,null,"","",{"$f":"B36-((B36*'CV''er og tillatt feil'!$H$18)/100)","v":0},{"$f":"B36+((B36*'CV''er og tillatt feil'!$H$18)/100)","v":0},0,0,{"$f":"B36-((B36*'CV''er og tillatt feil'!$G$18)/100)","v":0},{"$f":"B36+((B36*'CV''er og tillatt feil'!$G$18)/100)","v":0},0,0]
[null,null,null,"","",{"$f":"B37-((B37*'CV''er og tillatt feil'!$H$18)/100)","v":0},{"$f":"B37+((B37*'CV''er og tillatt feil'!$H$18)/100)","v":0},{"$f":"F37-B37","v":0},{"$f":"G37-B37","v":0},{"$f":"B37-((B37*'CV''er og tillatt feil'!$G$18)/100)","v":0},{"$f":"B37+((B37*'CV''er og tillatt feil'!$G$18)/100)","v":0},{"$f":"J37-B37","v":0},{"$f":"K37-B37","v":0}]
[null,null,null,"","",{"$f":"B38-((B38*'CV''er og tillatt feil'!$H$18)/100)","v":0},{"$f":"B38+((B38*'CV''er og tillatt feil'!$H$18)/100)","v":0},0,0,{"$f":"B38-((B38*'CV''er og tillatt feil'!$G$18)/100)","v":0},{"$f":"B38+((B38*'CV''er og tillatt feil'!$G$18)/100)","v":0},0,0]
[null,null,null,"","",{"$f":"B39-((B39*'CV''er og tillatt feil'!$H$18)/100)","v":0},{"$f":"B39+((B39*'CV''er og tillatt feil'!$H$18)/100)","v":0},0,0,{"$f":"B39-((B39*'CV''er og tillatt feil'!$G$18)/100)","v":0},{"$f":"B39+((B39*'CV''er og tillatt feil'!$G$18)/100)","v":0},0,0]
[null,null,null,"","",{"$f":"B40-((B40*'CV''er og tillatt feil'!$H$18)/100)","v":0},{"$f":"B40+((B40*'CV''er og tillatt feil'!$H$18)/100)","v":0},0,0,{"$f":"B40-((B40*'CV''er og tillatt feil'!$G$18)/100)","v":0},{"$f":"B40+((B40*'CV''er og tillatt feil'!$G$18)/100)","v":0},0,0]
[null,null,null,"","",{"$f":"B41-((B41*'CV''er og tillatt feil'!$H$18)/100)","v":0},{"$f":"B41+((B41*'CV''er og tillatt feil'!$H$18)/100)","v":0},0,0,{"$f":"B41-((B41*'CV''er og tillatt feil'!$G$18)/100)","v":0},{"$f":"B41+((B41*'CV''er og tillatt feil'!$G$18)/100)","v":0},0,0]
[null,null,null,"","",{"$f":"B42-((B42*'CV''er og tillatt feil'!$H$18)/100)","v":0},{"$f":"B42+((B42*'CV''er og tillatt feil'!$H$18)/100)","v":0},0,0,{"$f":"B42-((B42*'CV''er og tillatt feil'!$G$18)/100)","v":0},{"$f":"B42+((B42*'CV''er og tillatt feil'!$G$18)/100)","v":0},0,0]
[null,null,null,"","",{"$f":"B43-((B43*'CV''er og tillatt feil'!$H$18)/100)","v":0},{"$f":"B43+((B43*'CV''er og tillatt feil'!$H$18)/100)","v":0},0,0,{"$f":"B43-((B43*'CV''er og tillatt feil'!$G$18)/100)","v":0},{"$f":"B43+((B43*'CV''er og tillatt feil'!$G$18)/100)","v":0},0,0]
[null,null,null,"","",{"$f":"B44-((B44*'CV''er og tillatt feil'!$H$18)/100)","v":0},{"$f":"B44+((B44*'CV''er og tillatt feil'!$H$18)/100)","v":0},0,0,{"$f":"B44-((B44*'CV''er og tillatt feil'!$G$18)/100)","v":0},{"$f":"B44+((B44*'CV''er og tillatt feil'!$G$18)/100)","v":0},0,0]
[null,null,null,"","",{"$f":"B45-((B45*'CV''er og tillatt feil'!$H$18)/100)","v":0},{"$f":"B45+((B45*'CV''er og tillatt feil'!$H$18)/100)","v":0},0,0,{"$f":"B45-((B45*'CV''er og tillatt feil'!$G$18)/100)","v":0},{"$f":"B45+((B45*'CV''er og tillatt feil'!$G$18)/100)","v":0},0,0]
[null,null,null,"","",{"$f":"B46-((B46*'CV''er og tillatt feil'!$H$18)/100)","v":0},{"$f":"B46+((B46*'CV''er og tillatt feil'!$H$18)/100)","v":0},0,0,{"$f":"B46-((B46*'CV''er og tillatt feil'!$G$18)/100)","v":0},{"$f":"B46+((B46*'CV''er og tillatt feil'!$G$18)/100)","v":0},0,0]
[null,null,null,"","",{"$f":"B47-((B47*'CV''er og tillatt feil'!$H$18)/100)","v":0},{"$f":"B47+((B47*'CV''er og tillatt feil'!$H$18)/100)","v":0},0,0,{"$f":"B47-((B47*'CV''er og tillatt feil'!$G$18)/100)","v":0},{"$f":"B47+((B47*'CV''er og tillatt feil'!$G$18)/100)","v":0},0,0]
[null,null,null,"","",{"$f":"B48-((B48*'CV''er og tillatt feil'!$H$18)/100)","v":0},{"$f":"B48+((B48*'CV''er og tillatt feil'!$H$18)/100)","v":0},0,0,{"$f":"B48-((B48*'CV''er og tillatt feil'!$G$18)/100)","v":0},{"$f":"B48+((B48*'CV''er og tillatt feil'!$G$18)/100)","v":0},0,0]
[null,null,null,"","",{"$f":"B49-((B49*'CV''er og tillatt feil'!$H$18)/100)","v":0},{"$f":"B49+((B49*'CV''er og tillatt feil'!$H$18)/100)","v":0},0,0,{"$f":"B49-((B49*'CV''er og tillatt feil'!$G$18)/100)","v":0},{"$f":"B49+((B49*'CV''er og tillatt feil'!$G$18)/100)","v":0},0,0]
[null,null,null,"","",{"$f":"B50-((B50*'CV''er og tillatt feil'!$H$18)/100)","v":0},{"$f":"B50+((B50*'CV''er og tillatt feil'!$H$18)/100)","v":0},0,0,{"$f":"B50-((B50*'CV''er og tillatt feil'!$G$18)/100)","v":0},{"$f":"B50+((B50*'CV''er og tillatt feil'!$G$18)/100)","v":0},0,0]
[null,null,null,"","",{"$f":"B51-((B51*'CV''er og tillatt feil'!$H$18)/100)","v":0},{"$f":"B51+((B51*'CV''er og tillatt feil'!$H$18)/100)","v":0},0,0,{"$f":"B51-((B51*'CV''er og tillatt feil'!$G$18)/100)","v":0},{"$f":"B51+((B51*'CV''er og tillatt feil'!$G$18)/100)","v":0},0,0]
[null,null,null,"","",{"$f":"B52-((B52*'CV''er og tillatt feil'!$H$18)/100)","v":0},{"$f":"B52+((B52*'CV''er og tillatt feil'!$H$18)/100)","v":0},0,0,{"$f":"B52-((B52*'CV''er og tillatt feil'!$G$18)/100)","v":0},{"$f":"B52+((B52*'CV''er og tillatt feil'!$G$18)/100)","v":0},0,0]
[null,null,null,"","",{"$f":"B53-((B53*'CV''er og tillatt feil'!$H$18)/100)","v":0},{"$f":"B53+((B53*'CV''er og tillatt feil'!$H$18)/100)","v":0},0,0,{"$f":"B53-((B53*'CV''er og tillatt feil'!$G$18)/100)","v":0},{"$f":"B53+((B53*'CV''er og tillatt feil'!$G$18)/100)","v":0},0,0]
[null,null,null,"","",{"$f":"B54-((B54*'CV''er og tillatt feil'!$H$18)/100)","v":0},{"$f":"B54+((B54*'CV''er og tillatt feil'!$H$18)/100)","v":0},0,0,{"$f":"B54-((B54*'CV''er og tillatt feil'!$G$18)/100)","v":0},{"$f":"B54+((B54*'CV''er og tillatt feil'!$G$18)/100)","v":0},0,0]
[null,null,null,"","",{"$f":"B55-((B55*'CV''er og tillatt feil'!$H$18)/100)","v":0},{"$f":"B55+((B55*'CV''er og tillatt feil'!$H$18)/100)","v":0},0,0,{"$f":"B55-((B55*'CV''er og tillatt feil'!$G$18)/100)","v":0},{"$f":"B55+((B55*'CV''er og tillatt feil'!$G$18)/100)","v":0},0,0]
[null,null,null,"","",{"$f":"B56-((B56*'CV''er og tillatt feil'!$H$18)/100)","v":0},{"$f":"B56+((B56*'CV''er og tillatt feil'!$H$18)/100)","v":0},0,0,{"$f":"B56-((B56*'CV''er og tillatt feil'!$G$18)/100)","v":0},{"$f":"B56+((B56*'CV''er og tillatt feil'!$G$18)/100)","v":0},0,0]
[null,null,null,"","",{"$f":"B57-((B57*'CV''er og tillatt feil'!$H$18)/100)","v":0},{"$f":"B57+((B57*'CV''er og tillatt feil'!$H$18)/100)","v":0},0,0,{"$f":"B57-((B57*'CV''er og tillatt feil'!$G$18)/100)","v":0},{"$f":"B57+((B57*'CV''er og tillatt feil'!$G$18)/100)","v":0},0,0]
[null,null,null,"","",{"$f":"B58-((B58*'CV''er og tillatt feil'!$H$18)/100)","v":0},{"$f":"B58+((B58*'CV''er og tillatt feil'!$H$18)/100)","v":0},0,0,{"$f":"B58-((B58*'CV''er og tillatt feil'!$G$18)/100)","v":0},{"$f":"B58+((B58*'CV''er og tillatt feil'!$G$18)/100)","v":0},0,0]
[null,null,null,"","",{"$f":"B59-((B59*'CV''er og tillatt feil'!$H$18)/100)","v":0},{"$f":"B59+((B59*'CV''er og tillatt feil'!$H$18)/100)","v":0},0,0,{"$f":"B59-((B59*'CV''er og tillatt feil'!$G$18)/100)","v":0},{"$f":"B59+((B59*'CV''er og tillatt feil'!$G$18)/100)","v":0},0,0]
[null,null,null,"","",{"$f":"B60-((B60*'CV''er og tillatt feil'!$H$18)/100)","v":0},{"$f":"B60+((B60*'CV''er og tillatt feil'!$H$18)/100)","v":0},0,0,{"$f":"B60-((B60*'CV''er og tillatt feil'!$G$18)/100)","v":0},{"$f":"B60+((B60*'CV''er og tillatt feil'!$G$18)/100)","v":0},0,0]
[null,null,null,"","",{"$f":"B61-((B61*'CV''er og tillatt feil'!$H$18)/100)","v":0},{"$f":"B61+((B61*'CV''er og tillatt feil'!$H$18)/100)","v":0},0,0,{"$f":"B61-((B61*'CV''er og tillatt feil'!$G$18)/100)","v":0},{"$f":"B61+((B61*'CV''er og tillatt feil'!$G$18)/100)","v":0},0,0]
[null,null,null,"","",{"$f":"B62-((B62*'CV''er og tillatt feil'!$H$18)/100)","v":0},{"$f":"B62+((B62*'CV''er og tillatt feil'!$H$18)/100)","v":0},0,0,{"$f":"B62-((B62*'CV''er og tillatt feil'!$G$18)/100)","v":0},{"$f":"B62+((B62*'CV''er og tillatt feil'!$G$18)/100)","v":0},0,0]
[null,null,null,"","",{"$f":"B63-((B63*'CV''er og tillatt feil'!$H$18)/100)","v":0},{"$f":"B63+((B63*'CV''er og tillatt feil'!$H$18)/100)","v":0},0,0,{"$f":"B63-((B63*'CV''er og tillatt feil'!$G$18)/100)","v":0},{"$f":"B63+((B63*'CV''er og tillatt feil'!$G$18)/100)","v":0},0,0]
[null,null,null,"","",{"$f":"B64-((B64*'CV''er og tillatt feil'!$H$18)/100)","v":0},{"$f":"B64+((B64*'CV''er og tillatt feil'!$H$18)/100)","v":0},0,0,{"$f":"B64-((B64*'CV''er og tillatt feil'!$G$18)/100)","v":0},{"$f":"B64+((B64*'CV''er og tillatt feil'!$G$18)/100)","v":0},0,0]
[null,null,null,"","",{"$f":"B65-((B65*'CV''er og tillatt feil'!$H$18)/100)","v":0},{"$f":"B65+((B65*'CV''er og tillatt feil'!$H$18)/100)","v":0},0,0,{"$f":"B65-((B65*'CV''er og tillatt feil'!$G$18)/100)","v":0},{"$f":"B65+((B65*'CV''er og tillatt feil'!$G$18)/100)","v":0},0,0]
[null,null,null,"","",{"$f":"B66-((B66*'CV''er og tillatt feil'!$H$18)/100)","v":0},{"$f":"B66+((B66*'CV''er og tillatt feil'!$H$18)/100)","v":0},0,0,{"$f":"B66-((B66*'CV''er og tillatt feil'!$G$18)/100)","v":0},{"$f":"B66+((B66*'CV''er og tillatt feil'!$G$18)/100)","v":0},0,0]
[null,null,null,"","",{"$f":"B67-((B67*'CV''er og tillatt feil'!$H$18)/100)","v":0},{"$f":"B67+((B67*'CV''er og tillatt feil'!$H$18)/100)","v":0},0,0,{"$f":"B67-((B67*'CV''er og tillatt feil'!$G$18)/100)","v":0},{"$f":"B67+((B67*'CV''er og tillatt feil'!$G$18)/100)","v":0},0,0]
[null,null,null,"","",{"$f":"B68-((B68*'CV''er og tillatt feil'!$H$18)/100)","v":0},{"$f":"B68+((B68*'CV''er og tillatt feil'!$H$18)/100)","v":0},{"$f":"F68-B68","v":0},{"$f":"G68-B68","v":0},{"$f":"B68-((B68*'CV''er og tillatt feil'!$G$18)/100)","v":0},{"$f":"B68+((B68*'CV''er og tillatt feil'!$G$18)/100)","v":0},{"$f":"J68-B68","v":0},{"$f":"K68-B68","v":0}]
[null,null,null,"","",{"$f":"B69-((B69*'CV''er og tillatt feil'!$H$18)/100)","v":0},{"$f":"B69+((B69*'CV''er og tillatt feil'!$H$18)/100)","v":0},0,0,{"$f":"B69-((B69*'CV''er og tillatt feil'!$G$18)/100)","v":0},{"$f":"B69+((B69*'CV''er og tillatt feil'!$G$18)/100)","v":0},0,0]
[null,null,null,{"$f":"IF(C70<>\"\",IF((OR((E70>M70),(E70<L70))),IF(OR((E70>I70),(E70<H70)),\"STOPP\",\"Vurder\"),\"Ok\"),\"\")","v":""},{"$f":"IF(C70<>\"\",C70-$B70,\"\")","v":""},{"$f":"B70-((B70*'CV''er og tillatt feil'!$H$18)/100)","v":0},{"$f":"B70+((B70*'CV''er og tillatt feil'!$H$18)/100)","v":0},0,0,{"$f":"B70-((B70*'CV''er og tillatt feil'!$G$18)/100)","v":0},{"$f":"B70+((B70*'CV''er og tillatt feil'!$G$18)/100)","v":0},0,0]
[null,null,null,"","",{"$f":"B71-((B71*'CV''er og tillatt feil'!$H$18)/100)","v":0},{"$f":"B71+((B71*'CV''er og tillatt feil'!$H$18)/100)","v":0},0,0,{"$f":"B71-((B71*'CV''er og tillatt feil'!$G$18)/100)","v":0},{"$f":"B71+((B71*'CV''er og tillatt feil'!$G$18)/100)","v":0},0,0]
[null,null,null,"","",{"$f":"B72-((B72*'CV''er og tillatt feil'!$H$18)/100)","v":0},{"$f":"B72+((B72*'CV''er og tillatt feil'!$H$18)/100)","v":0},0,0,{"$f":"B72-((B72*'CV''er og tillatt feil'!$G$18)/100)","v":0},{"$f":"B72+((B72*'CV''er og tillatt feil'!$G$18)/100)","v":0},0,0]
[null,null,null,"","",{"$f":"B73-((B73*'CV''er og tillatt feil'!$H$18)/100)","v":0},{"$f":"B73+((B73*'CV''er og tillatt feil'!$H$18)/100)","v":0},0,0,{"$f":"B73-((B73*'CV''er og tillatt feil'!$G$18)/100)","v":0},{"$f":"B73+((B73*'CV''er og tillatt feil'!$G$18)/100)","v":0},0,0]
[null,null,null,"Ok","",{"$f":"B74-((B74*'CV''er og tillatt feil'!$H$18)/100)","v":0},{"$f":"B74+((B74*'CV''er og tillatt feil'!$H$18)/100)","v":0},{"$f":"F74-B74","v":0},{"$f":"G74-B74","v":0},{"$f":"B74-((B74*'CV''er og tillatt feil'!$G$18)/100)","v":0},{"$f":"B74+((B74*'CV''er og tillatt feil'!$G$18)/100)","v":0},{"$f":"J74-B74","v":0},{"$f":"K74-B74","v":0}]
[null,null,null,"Ok","",{"$f":"B75-((B75*'CV''er og tillatt feil'!$H$18)/100)","v":0},{"$f":"B75+((B75*'CV''er og tillatt feil'!$H$18)/100)","v":0},0,0,{"$f":"B75-((B75*'CV''er og tillatt feil'!$G$18)/100)","v":0},{"$f":"B75+((B75*'CV''er og tillatt feil'!$G$18)/100)","v":0},0,0]
[null,null,null,"Ok","",{"$f":"B76-((B76*'CV''er og tillatt feil'!$H$18)/100)","v":0},{"$f":"B76+((B76*'CV''er og tillatt feil'!$H$18)/100)","v":0},0,0,{"$f":"B76-((B76*'CV''er og tillatt feil'!$G$18)/100)","v":0},{"$f":"B76+((B76*'CV''er og tillatt feil'!$G$18)/100)","v":0},0,0]
[null,null,null,"","",{"$f":"B77-((B77*'CV''er og tillatt feil'!$H$18)/100)","v":0},{"$f":"B77+((B77*'CV''er og tillatt feil'!$H$18)/100)","v":0},0,0,{"$f":"B77-((B77*'CV''er og tillatt feil'!$G$18)/100)","v":0},{"$f":"B77+((B77*'CV''er og tillatt feil'!$G$18)/100)","v":0},0,0]
[null,null,null,"","",{"$f":"B78-((B78*'CV''er og tillatt feil'!$H$18)/100)","v":0},{"$f":"B78+((B78*'CV''er og tillatt feil'!$H$18)/100)","v":0},0,0,{"$f":"B78-((B78*'CV''er og tillatt feil'!$G$18)/100)","v":0},{"$f":"B78+((B78*'CV''er og tillatt feil'!$G$18)/100)","v":0},0,0]
[null,null,null,"","",{"$f":"B79-((B79*'CV''er og tillatt feil'!$H$18)/100)","v":0},{"$f":"B79+((B79*'CV''er og tillatt feil'!$H$18)/100)","v":0},0,0,{"$f":"B79-((B79*'CV''er og tillatt feil'!$G$18)/100)","v":0},{"$f":"B79+((B79*'CV''er og tillatt feil'!$G$18)/100)","v":0},0,0]
[null,null,null,"","",{"$f":"B74-((B74*'CV''er og tillatt feil'!$H$18)/100)","v":0},{"$f":"B74+((B74*'CV''er og tillatt feil'!$H$18)/100)","v":0},{"$f":"F80-B74","v":0},{"$f":"G80-B74","v":0},{"$f":"B74-((B74*'CV''er og tillatt feil'!$G$18)/100)","v":0},{"$f":"B74+((B74*'CV''er og tillatt feil'!$G$18)/100)","v":0},{"$f":"J80-B74","v":0},{"$f":"K80-B74","v":0}]
[null,null,null,"","",{"$f":"B75-((B75*'CV''er og tillatt feil'!$H$18)/100)","v":0},{"$f":"B75+((B75*'CV''er og tillatt feil'!$H$18)/100)","v":0},{"$f":"F81-B75","v":0},{"$f":"G81-B75","v":0},{"$f":"B75-((B75*'CV''er og tillatt feil'!$G$18)/100)","v":0},{"$f":"B75+((B75*'CV''er og tillatt feil'!$G$18)/100)","v":0},{"$f":"J81-B75","v":0},{"$f":"K81-B75","v":0}]
[null,null,null,"","",{"$f":"B76-((B76*'CV''er og tillatt feil'!$H$18)/100)","v":0},{"$f":"B76+((B76*'CV''er og tillatt feil'!$H$18)/100)","v":0},{"$f":"F82-B76","v":0},{"$f":"G82-B76","v":0},{"$f":"B76-((B76*'CV''er og tillatt feil'!$G$18)/100)","v":0},{"$f":"B76+((B76*'CV''er og tillatt feil'!$G$18)/100)","v":0},{"$f":"J82-B76","v":0},{"$f":"K82-B76","v":0}]
[null,null,null,"","",{"$f":"B83-((B83*'CV''er og tillatt feil'!$H$18)/100)","v":0},{"$f":"B83+((B83*'CV''er og tillatt feil'!$H$18)/100)","v":0},{"$f":"F83-B83","v":0},{"$f":"G83-B83","v":0},{"$f":"B83-((B83*'CV''er og tillatt feil'!$G$18)/100)","v":0},{"$f":"B83+((B83*'CV''er og tillatt feil'!$G$18)/100)","v":0},{"$f":"J83-B83","v":0},{"$f":"K83-B83","v":0}]
[null,null,null,"","",{"$f":"B84-((B84*'CV''er og tillatt feil'!$H$18)/100)","v":0},{"$f":"B84+((B84*'CV''er og tillatt feil'!$H$18)/100)","v":0},0,0,{"$f":"B84-((B84*'CV''er og tillatt feil'!$G$18)/100)","v":0},{"$f":"B84+((B84*'CV''er og tillatt feil'!$G$18)/100)","v":0},0,0]
[null,null,null,"","",{"$f":"B85-((B85*'CV''er og tillatt feil'!$H$18)/100)","v":0},{"$f":"B85+((B85*'CV''er og tillatt feil'!$H$18)/100)","v":0},0,0,{"$f":"B85-((B85*'CV''er og tillatt feil'!$G$18)/100)","v":0},{"$f":"B85+((B85*'CV''er og tillatt feil'!$G$18)/100)","v":0},0,0]
[null,null,null,"","",{"$f":"B86-((B86*'CV''er og tillatt feil'!$H$18)/100)","v":0},{"$f":"B86+((B86*'CV''er og tillatt feil'!$H$18)/100)","v":0},0,0,{"$f":"B86-((B86*'CV''er og tillatt feil'!$G$18)/100)","v":0},{"$f":"B86+((B86*'CV''er og tillatt feil'!$G$18)/100)","v":0},0,0]
[null,null,null,"","",{"$f":"B87-((B87*'CV''er og tillatt feil'!$H$18)/100)","v":0},{"$f":"B87+((B87*'CV''er og tillatt feil'!$H$18)/100)","v":0},0,0,{"$f":"B87-((B87*'CV''er og tillatt feil'!$G$18)/100)","v":0},{"$f":"B87+((B87*'CV''er og tillatt feil'!$G$18)/100)","v":0},0,0]
[null,null,null,"","",{"$f":"B88-((B88*'CV''er og tillatt feil'!$H$18)/100)","v":0},{"$f":"B88+((B88*'CV''er og tillatt feil'!$H$18)/100)","v":0},0,0,{"$f":"B88-((B88*'CV''er og tillatt feil'!$G$18)/100)","v":0},{"$f":"B88+((B88*'CV''er og tillatt feil'!$G$18)/100)","v":0},0,0]
[null,null,null,"","",{"$f":"B89-((B89*'CV''er og tillatt feil'!$H$18)/100)","v":0},{"$f":"B89+((B89*'CV''er og tillatt feil'!$H$18)/100)","v":0},0,0,{"$f":"B89-((B89*'CV''er og tillatt feil'!$G$18)/100)","v":0},{"$f":"B89+((B89*'CV''er og tillatt feil'!$G$18)/100)","v":0},0,0]
[null,null,null,"","",{"$f":"B90-((B90*'CV''er og tillatt feil'!$H$18)/100)","v":0},{"$f":"B90+((B90*'CV''er og tillatt feil'!$H$18)/100)","v":0},0,0,{"$f":"B90-((B90*'CV''er og tillatt feil'!$G$18)/100)","v":0},{"$f":"B90+((B90*'CV''er og tillatt feil'!$G$18)/100)","v":0},0,0]
[null,null,null,"","",{"$f":"B91-((B91*'CV''er og tillatt feil'!$H$18)/100)","v":0},{"$f":"B91+((B91*'CV''er og tillatt feil'!$H$18)/100)","v":0},0,0,{"$f":"B91-((B91*'CV''er og tillatt feil'!$G$18)/100)","v":0},{"$f":"B91+((B91*'CV''er og tillatt feil'!$G$18)/100)","v":0},0,0]
[null,null,null,"","",{"$f":"B92-((B92*'CV''er og tillatt feil'!$H$18)/100)","v":0},{"$f":"B92+((B92*'CV''er og tillatt feil'!$H$18)/100)","v":0},0,0,{"$f":"B92-((B92*'CV''er og tillatt feil'!$G$18)/100)","v":0},{"$f":"B92+((B92*'CV''er og tillatt feil'!$G$18)/100)","v":0},0,0]
[null,null,null,"","",{"$f":"B93-((B93*'CV''er og tillatt feil'!$H$18)/100)","v":0},{"$f":"B93+((B93*'CV''er og tillatt feil'!$H$18)/100)","v":0},0,0,{"$f":"B93-((B93*'CV''er og tillatt feil'!$G$18)/100)","v":0},{"$f":"B93+((B93*'CV''er og tillatt feil'!$G$18)/100)","v":0},0,0]
[null,null,null,"","",{"$f":"B94-((B94*'CV''er og tillatt feil'!$H$18)/100)","v":0},{"$f":"B94+((B94*'CV''er og tillatt feil'!$H$18)/100)","v":0},0,0,{"$f":"B94-((B94*'CV''er og tillatt feil'!$G$18)/100)","v":0},{"$f":"B94+((B94*'CV''er og tillatt feil'!$G$18)/100)","v":0},0,0]
[null,null,null,"","",{"$f":"B95-((B95*'CV''er og tillatt feil'!$H$18)/100)","v":0},{"$f":"B95+((B95*'CV''er og tillatt feil'!$H$18)/100)","v":0},0,0,{"$f":"B95-((B95*'CV''er og tillatt feil'!$G$18)/100)","v":0},{"$f":"B95+((B95*'CV''er og tillatt feil'!$G$18)/100)","v":0},0,0]
[null,null,null,"","",{"$f":"B96-((B96*'CV''er og tillatt feil'!$H$18)/100)","v":0},{"$f":"B96+((B96*'CV''er og tillatt feil'!$H$18)/100)","v":0},0,0,{"$f":"B96-((B96*'CV''er og tillatt feil'!$G$18)/100)","v":0},{"$f":"B96+((B96*'CV''er og tillatt feil'!$G$18)/100)","v":0},0,0]
[null,null,null,"","",{"$f":"B97-((B97*'CV''er og tillatt feil'!$H$18)/100)","v":0},{"$f":"B97+((B97*'CV''er og tillatt feil'!$H$18)/100)","v":0},0,0,{"$f":"B97-((B97*'CV''er og tillatt feil'!$G$18)/100)","v":0},{"$f":"B97+((B97*'CV''er og tillatt feil'!$G$18)/100)","v":0},0,0]
[null,null,null,"","",{"$f":"B98-((B98*'CV''er og tillatt feil'!$H$18)/100)","v":0},{"$f":"B98+((B98*'CV''er og tillatt feil'!$H$18)/100)","v":0},0,0,{"$f":"B98-((B98*'CV''er og tillatt feil'!$G$18)/100)","v":0},{"$f":"B98+((B98*'CV''er og tillatt feil'!$G$18)/100)","v":0},0,0]
[null,null,null,"","",{"$f":"B99-((B99*'CV''er og tillatt feil'!$H$18)/100)","v":0},{"$f":"B99+((B99*'CV''er og tillatt feil'!$H$18)/100)","v":0},0,0,{"$f":"B99-((B99*'CV''er og tillatt feil'!$G$18)/100)","v":0},{"$f":"B99+((B99*'CV''er og tillatt feil'!$G$18)/100)","v":0},0,0]
[null,null,null,"","",{"$f":"B100-((B100*'CV''er og tillatt feil'!$H$18)/100)","v":0},{"$f":"B100+((B100*'CV''er og tillatt feil'!$H$18)/100)","v":0},{"$f":"F100-B100","v":0},{"$f":"G100-B100","v":0},{"$f":"B100-((B100*'CV''er og tillatt feil'!$G$18)/100)","v":0},{"$f":"B100+((B100*'CV''er og tillatt feil'!$G$18)/100)","v":0},{"$f":"J100-B100","v":0},{"$f":"K100-B100","v":0}]
[null,null,null,"","",{"$f":"B101-((B101*'CV''er og tillatt feil'!$H$18)/100)","v":0},{"$f":"B101+((B101*'CV''er og tillatt feil'!$H$18)/100)","v":0},{"$f":"F101-B101","v":0},{"$f":"G101-B101","v":0},{"$f":"B101-((B101*'CV''er og tillatt feil'!$G$18)/100)","v":0},{"$f":"B101+((B101*'CV''er og tillatt feil'!$G$18)/100)","v":0},{"$f":"J101-B101","v":0},{"$f":"K101-B101","v":0}]
["Antall",{"$f":"COUNT(B5:B101)","v":0},{"$f":"COUNT(C5:C101)","v":0},null,{"$f":"COUNT(E5:E101)","v":0}]
["Mean",{"$f":"AVERAGE(B5:B101)","v":{"$error":"#DIV/0!"}},{"$f":"AVERAGE(C5:C101)","v":{"$error":"#DIV/0!"}},null,{"$f":"AVERAGE(E5:E101)","v":{"$error":"#DIV/0!"}}]
["Min",{"$f":"MIN(B5:B101)","v":0},{"$f":"MIN(C5:C101)","v":0},null,{"$f":"MIN(E5:E101)","v":0}]
["Max",{"$f":"MAX(B5:B101)","v":0},{"$f":"MAX(C5:C101)","v":0},null,{"$f":"MAX(E5:E101)","v":0}]

{"sheet":"RETIC","index":5,"n_rows":105,"n_cols":13,"rows_kept":105,"cut":false,"hidden":false,"merged":[[1,2,1,3]]}
[{"$f":"Oversikt!D1","v":"EQS dokument 13856 versjon 3.9"}]
["RETICULOCYTTER",null,"Sysmex XN1500 er hovedinstrument",null,"Differanser RETIC ( XN1000-XN1500)"]
[null,null,null,"Varsel"]
["Dato","XN1500","XN1000","XN1000-XN1500","XN1000-XN1500","RETIC nedre stopp","RETIC øvre stopp","RETIC nedre stopp","RETIC øvre stopp","RETIC nedre grønn","RETIC øvre grønn","RETIC nedre grønn","RETIC øvre grønn"]
[null,null,null,{"$f":"IF(C5<>\"\",IF((OR((E5>M5),(E5<L5))),IF(OR((E5>I5),(E5<H5)),\"STOPP\",\"Vurder\"),\"Ok\"),\"\")","v":""},{"$f":"IF(C5<>\"\",C5-$B5,\"\")","v":""},{"$f":"B5-((B5*'CV''er og tillatt feil'!$H$19)/100)","v":0},{"$f":"B5+((B5*'CV''er og tillatt feil'!$H$19)/100)","v":0},{"$f":"F5-B5","v":0},{"$f":"G5-B5","v":0},{"$f":"B5-((B5*'CV''er og tillatt feil'!$G$19)/100)","v":0},{"$f":"B5+((B5*'CV''er og tillatt feil'!$G$19)/100)","v":0},{"$f":"J5-B5","v":0},{"$f":"K5-B5","v":0}]
[null,null,null,{"$f":"IF(C6<>\"\",IF((OR((E6>M6),(E6<L6))),IF(OR((E6>I6),(E6<H6)),\"STOPP\",\"Vurder\"),\"Ok\"),\"\")","v":""},{"$f":"IF(C6<>\"\",C6-$B6,\"\")","v":""},{"$f":"B6-((B6*'CV''er og tillatt feil'!$H$19)/100)","v":0},{"$f":"B6+((B6*'CV''er og tillatt feil'!$H$19)/100)","v":0},0,0,{"$f":"B6-((B6*'CV''er og tillatt feil'!$G$19)/100)","v":0},{"$f":"B6+((B6*'CV''er og tillatt feil'!$G$19)/100)","v":0},0,0]
[null,null,null,{"$f":"IF(C7<>\"\",IF((OR((E7>M7),(E7<L7))),IF(OR((E7>I7),(E7<H7)),\"STOPP\",\"Vurder\"),\"Ok\"),\"\")","v":""},{"$f":"IF(C7<>\"\",C7-$B7,\"\")","v":""},{"$f":"B7-((B7*'CV''er og tillatt feil'!$H$19)/100)","v":0},{"$f":"B7+((B7*'CV''er og tillatt feil'!$H$19)/100)","v":0},0,0,{"$f":"B7-((B7*'CV''er og tillatt feil'!$G$19)/100)","v":0},{"$f":"B7+((B7*'CV''er og tillatt feil'!$G$19)/100)","v":0},0,0]
[null,null,null,"","",{"$f":"B8-((B8*'CV''er og tillatt feil'!$H$19)/100)","v":0},{"$f":"B8+((B8*'CV''er og tillatt feil'!$H$19)/100)","v":0},0,0,{"$f":"B8-((B8*'CV''er og tillatt feil'!$G$19)/100)","v":0},{"$f":"B8+((B8*'CV''er og tillatt feil'!$G$19)/100)","v":0},0,0]
[null,null,null,"","",{"$f":"B9-((B9*'CV''er og tillatt feil'!$H$19)/100)","v":0},{"$f":"B9+((B9*'CV''er og tillatt feil'!$H$19)/100)","v":0},0,0,{"$f":"B9-((B9*'CV''er og tillatt feil'!$G$19)/100)","v":0},{"$f":"B9+((B9*'CV''er og tillatt feil'!$G$19)/100)","v":0},0,0]
[null,null,null,"","",{"$f":"B10-((B10*'CV''er og tillatt feil'!$H$19)/100)","v":0},{"$f":"B10+((B10*'CV''er og tillatt feil'!$H$19)/100)","v":0},0,0,{"$f":"B10-((B10*'CV''er og tillatt feil'!$G$19)/100)","v":0},{"$f":"B10+((B10*'CV''er og tillatt feil'!$G$19)/100)","v":0},0,0]
[null,null,null,"","",{"$f":"B11-((B11*'CV''er og tillatt feil'!$H$19)/100)","v":0},{"$f":"B11+((B11*'CV''er og tillatt feil'!$H$19)/100)","v":0},0,0,{"$f":"B11-((B11*'CV''er og tillatt feil'!$G$19)/100)","v":0},{"$f":"B11+((B11*'CV''er og tillatt feil'!$G$19)/100)","v":0},0,0]
[null,null,null,"","",{"$f":"B12-((B12*'CV''er og tillatt feil'!$H$19)/100)","v":0},{"$f":"B12+((B12*'CV''er og tillatt feil'!$H$19)/100)","v":0},0,0,{"$f":"B12-((B12*'CV''er og tillatt feil'!$G$19)/100)","v":0},{"$f":"B12+((B12*'CV''er og tillatt feil'!$G$19)/100)","v":0},0,0]
[null,null,null,"","",{"$f":"B13-((B13*'CV''er og tillatt feil'!$H$19)/100)","v":0},{"$f":"B13+((B13*'CV''er og tillatt feil'!$H$19)/100)","v":0},0,0,{"$f":"B13-((B13*'CV''er og tillatt feil'!$G$19)/100)","v":0},{"$f":"B13+((B13*'CV''er og tillatt feil'!$G$19)/100)","v":0},0,0]
[null,null,null,"","",{"$f":"B14-((B14*'CV''er og tillatt feil'!$H$19)/100)","v":0},{"$f":"B14+((B14*'CV''er og tillatt feil'!$H$19)/100)","v":0},0,0,{"$f":"B14-((B14*'CV''er og tillatt feil'!$G$19)/100)","v":0},{"$f":"B14+((B14*'CV''er og tillatt feil'!$G$19)/100)","v":0},0,0]
[null,null,null,"","",{"$f":"B15-((B15*'CV''er og tillatt feil'!$H$19)/100)","v":0},{"$f":"B15+((B15*'CV''er og tillatt feil'!$H$19)/100)","v":0},0,0,{"$f":"B15-((B15*'CV''er og tillatt feil'!$G$19)/100)","v":0},{"$f":"B15+((B15*'CV''er og tillatt feil'!$G$19)/100)","v":0},0,0]
[null,null,null,"","",{"$f":"B16-((B16*'CV''er og tillatt feil'!$H$19)/100)","v":0},{"$f":"B16+((B16*'CV''er og tillatt feil'!$H$19)/100)","v":0},0,0,{"$f":"B16-((B16*'CV''er og tillatt feil'!$G$19)/100)","v":0},{"$f":"B16+((B16*'CV''er og tillatt feil'!$G$19)/100)","v":0},0,0]
[null,null,null,"","",{"$f":"B17-((B17*'CV''er og tillatt feil'!$H$19)/100)","v":0},{"$f":"B17+((B17*'CV''er og tillatt feil'!$H$19)/100)","v":0},0,0,{"$f":"B17-((B17*'CV''er og tillatt feil'!$G$19)/100)","v":0},{"$f":"B17+((B17*'CV''er og tillatt feil'!$G$19)/100)","v":0},0,0]
[null,null,null,"","",{"$f":"B18-((B18*'CV''er og tillatt feil'!$H$19)/100)","v":0},{"$f":"B18+((B18*'CV''er og tillatt feil'!$H$19)/100)","v":0},0,0,{"$f":"B18-((B18*'CV''er og tillatt feil'!$G$19)/100)","v":0},{"$f":"B18+((B18*'CV''er og tillatt feil'!$G$19)/100)","v":0},0,0]
[null,null,null,"","",{"$f":"B19-((B19*'CV''er og tillatt feil'!$H$19)/100)","v":0},{"$f":"B19+((B19*'CV''er og tillatt feil'!$H$19)/100)","v":0},0,0,{"$f":"B19-((B19*'CV''er og tillatt feil'!$G$19)/100)","v":0},{"$f":"B19+((B19*'CV''er og tillatt feil'!$G$19)/100)","v":0},0,0]
[null,null,null,"","",{"$f":"B20-((B20*'CV''er og tillatt feil'!$H$19)/100)","v":0},{"$f":"B20+((B20*'CV''er og tillatt feil'!$H$19)/100)","v":0},0,0,{"$f":"B20-((B20*'CV''er og tillatt feil'!$G$19)/100)","v":0},{"$f":"B20+((B20*'CV''er og tillatt feil'!$G$19)/100)","v":0},0,0]
[null,null,null,"","",{"$f":"B21-((B21*'CV''er og tillatt feil'!$H$19)/100)","v":0},{"$f":"B21+((B21*'CV''er og tillatt feil'!$H$19)/100)","v":0},0,0,{"$f":"B21-((B21*'CV''er og tillatt feil'!$G$19)/100)","v":0},{"$f":"B21+((B21*'CV''er og tillatt feil'!$G$19)/100)","v":0},0,0]
[null,null,null,"","",{"$f":"B22-((B22*'CV''er og tillatt feil'!$H$19)/100)","v":0},{"$f":"B22+((B22*'CV''er og tillatt feil'!$H$19)/100)","v":0},0,0,{"$f":"B22-((B22*'CV''er og tillatt feil'!$G$19)/100)","v":0},{"$f":"B22+((B22*'CV''er og tillatt feil'!$G$19)/100)","v":0},0,0]
[null,null,null,"","",{"$f":"B23-((B23*'CV''er og tillatt feil'!$H$19)/100)","v":0},{"$f":"B23+((B23*'CV''er og tillatt feil'!$H$19)/100)","v":0},0,0,{"$f":"B23-((B23*'CV''er og tillatt feil'!$G$19)/100)","v":0},{"$f":"B23+((B23*'CV''er og tillatt feil'!$G$19)/100)","v":0},0,0]
[null,null,null,"","",{"$f":"B24-((B24*'CV''er og tillatt feil'!$H$19)/100)","v":0},{"$f":"B24+((B24*'CV''er og tillatt feil'!$H$19)/100)","v":0},0,0,{"$f":"B24-((B24*'CV''er og tillatt feil'!$G$19)/100)","v":0},{"$f":"B24+((B24*'CV''er og tillatt feil'!$G$19)/100)","v":0},0,0]
[null,null,null,"","",{"$f":"B25-((B25*'CV''er og tillatt feil'!$H$19)/100)","v":0},{"$f":"B25+((B25*'CV''er og tillatt feil'!$H$19)/100)","v":0},0,0,{"$f":"B25-((B25*'CV''er og tillatt feil'!$G$19)/100)","v":0},{"$f":"B25+((B25*'CV''er og tillatt feil'!$G$19)/100)","v":0},0,0]
[null,null,null,"","",{"$f":"B26-((B26*'CV''er og tillatt feil'!$H$19)/100)","v":0},{"$f":"B26+((B26*'CV''er og tillatt feil'!$H$19)/100)","v":0},0,0,{"$f":"B26-((B26*'CV''er og tillatt feil'!$G$19)/100)","v":0},{"$f":"B26+((B26*'CV''er og tillatt feil'!$G$19)/100)","v":0},0,0]
[null,null,null,"","",{"$f":"B27-((B27*'CV''er og tillatt feil'!$H$19)/100)","v":0},{"$f":"B27+((B27*'CV''er og tillatt feil'!$H$19)/100)","v":0},0,0,{"$f":"B27-((B27*'CV''er og tillatt feil'!$G$19)/100)","v":0},{"$f":"B27+((B27*'CV''er og tillatt feil'!$G$19)/100)","v":0},0,0]
[null,null,null,"","",{"$f":"B28-((B28*'CV''er og tillatt feil'!$H$19)/100)","v":0},{"$f":"B28+((B28*'CV''er og tillatt feil'!$H$19)/100)","v":0},0,0,{"$f":"B28-((B28*'CV''er og tillatt feil'!$G$19)/100)","v":0},{"$f":"B28+((B28*'CV''er og tillatt feil'!$G$19)/100)","v":0},0,0]
[null,null,null,"","",{"$f":"B29-((B29*'CV''er og tillatt feil'!$H$19)/100)","v":0},{"$f":"B29+((B29*'CV''er og tillatt feil'!$H$19)/100)","v":0},0,0,{"$f":"B29-((B29*'CV''er og tillatt feil'!$G$19)/100)","v":0},{"$f":"B29+((B29*'CV''er og tillatt feil'!$G$19)/100)","v":0},0,0]
[null,null,null,"","",{"$f":"B30-((B30*'CV''er og tillatt feil'!$H$19)/100)","v":0},{"$f":"B30+((B30*'CV''er og tillatt feil'!$H$19)/100)","v":0},0,0,{"$f":"B30-((B30*'CV''er og tillatt feil'!$G$19)/100)","v":0},{"$f":"B30+((B30*'CV''er og tillatt feil'!$G$19)/100)","v":0},0,0]
[null,null,null,"","",{"$f":"B31-((B31*'CV''er og tillatt feil'!$H$19)/100)","v":0},{"$f":"B31+((B31*'CV''er og tillatt feil'!$H$19)/100)","v":0},0,0,{"$f":"B31-((B31*'CV''er og tillatt feil'!$G$19)/100)","v":0},{"$f":"B31+((B31*'CV''er og tillatt feil'!$G$19)/100)","v":0},0,0]
[null,null,null,"","",{"$f":"B32-((B32*'CV''er og tillatt feil'!$H$19)/100)","v":0},{"$f":"B32+((B32*'CV''er og tillatt feil'!$H$19)/100)","v":0},0,0,{"$f":"B32-((B32*'CV''er og tillatt feil'!$G$19)/100)","v":0},{"$f":"B32+((B32*'CV''er og tillatt feil'!$G$19)/100)","v":0},0,0]
[null,null,null,"","",{"$f":"B33-((B33*'CV''er og tillatt feil'!$H$19)/100)","v":0},{"$f":"B33+((B33*'CV''er og tillatt feil'!$H$19)/100)","v":0},0,0,{"$f":"B33-((B33*'CV''er og tillatt feil'!$G$19)/100)","v":0},{"$f":"B33+((B33*'CV''er og tillatt feil'!$G$19)/100)","v":0},0,0]
[null,null,null,"","",{"$f":"B34-((B34*'CV''er og tillatt feil'!$H$19)/100)","v":0},{"$f":"B34+((B34*'CV''er og tillatt feil'!$H$19)/100)","v":0},0,0,{"$f":"B34-((B34*'CV''er og tillatt feil'!$G$19)/100)","v":0},{"$f":"B34+((B34*'CV''er og tillatt feil'!$G$19)/100)","v":0},0,0]
[null,null,null,"","",{"$f":"B35-((B35*'CV''er og tillatt feil'!$H$19)/100)","v":0},{"$f":"B35+((B35*'CV''er og tillatt feil'!$H$19)/100)","v":0},0,0,{"$f":"B35-((B35*'CV''er og tillatt feil'!$G$19)/100)","v":0},{"$f":"B35+((B35*'CV''er og tillatt feil'!$G$19)/100)","v":0},0,0]
[null,null,null,"","",{"$f":"B36-((B36*'CV''er og tillatt feil'!$H$19)/100)","v":0},{"$f":"B36+((B36*'CV''er og tillatt feil'!$H$19)/100)","v":0},0,0,{"$f":"B36-((B36*'CV''er og tillatt feil'!$G$19)/100)","v":0},{"$f":"B36+((B36*'CV''er og tillatt feil'!$G$19)/100)","v":0},0,0]
[null,null,null,"","",{"$f":"B37-((B37*'CV''er og tillatt feil'!$H$19)/100)","v":0},{"$f":"B37+((B37*'CV''er og tillatt feil'!$H$19)/100)","v":0},0,0,{"$f":"B37-((B37*'CV''er og tillatt feil'!$G$19)/100)","v":0},{"$f":"B37+((B37*'CV''er og tillatt feil'!$G$19)/100)","v":0},0,0]
[null,null,null,"","",{"$f":"B38-((B38*'CV''er og tillatt feil'!$H$19)/100)","v":0},{"$f":"B38+((B38*'CV''er og tillatt feil'!$H$19)/100)","v":0},0,0,{"$f":"B38-((B38*'CV''er og tillatt feil'!$G$19)/100)","v":0},{"$f":"B38+((B38*'CV''er og tillatt feil'!$G$19)/100)","v":0},0,0]
[null,null,null,"","",{"$f":"B39-((B39*'CV''er og tillatt feil'!$H$19)/100)","v":0},{"$f":"B39+((B39*'CV''er og tillatt feil'!$H$19)/100)","v":0},0,0,{"$f":"B39-((B39*'CV''er og tillatt feil'!$G$19)/100)","v":0},{"$f":"B39+((B39*'CV''er og tillatt feil'!$G$19)/100)","v":0},0,0]
[null,null,null,"","",{"$f":"B40-((B40*'CV''er og tillatt feil'!$H$19)/100)","v":0},{"$f":"B40+((B40*'CV''er og tillatt feil'!$H$19)/100)","v":0},0,0,{"$f":"B40-((B40*'CV''er og tillatt feil'!$G$19)/100)","v":0},{"$f":"B40+((B40*'CV''er og tillatt feil'!$G$19)/100)","v":0},0,0]
[null,null,null,"","",{"$f":"B41-((B41*'CV''er og tillatt feil'!$H$19)/100)","v":0},{"$f":"B41+((B41*'CV''er og tillatt feil'!$H$19)/100)","v":0},0,0,{"$f":"B41-((B41*'CV''er og tillatt feil'!$G$19)/100)","v":0},{"$f":"B41+((B41*'CV''er og tillatt feil'!$G$19)/100)","v":0},0,0]
[null,null,null,"","",{"$f":"B42-((B42*'CV''er og tillatt feil'!$H$19)/100)","v":0},{"$f":"B42+((B42*'CV''er og tillatt feil'!$H$19)/100)","v":0},0,0,{"$f":"B42-((B42*'CV''er og tillatt feil'!$G$19)/100)","v":0},{"$f":"B42+((B42*'CV''er og tillatt feil'!$G$19)/100)","v":0},0,0]
[null,null,null,"","",{"$f":"B43-((B43*'CV''er og tillatt feil'!$H$19)/100)","v":0},{"$f":"B43+((B43*'CV''er og tillatt feil'!$H$19)/100)","v":0},0,0,{"$f":"B43-((B43*'CV''er og tillatt feil'!$G$19)/100)","v":0},{"$f":"B43+((B43*'CV''er og tillatt feil'!$G$19)/100)","v":0},0,0]
[null,null,null,"","",{"$f":"B44-((B44*'CV''er og tillatt feil'!$H$19)/100)","v":0},{"$f":"B44+((B44*'CV''er og tillatt feil'!$H$19)/100)","v":0},0,0,{"$f":"B44-((B44*'CV''er og tillatt feil'!$G$19)/100)","v":0},{"$f":"B44+((B44*'CV''er og tillatt feil'!$G$19)/100)","v":0},0,0]
[null,null,null,"","",{"$f":"B45-((B45*'CV''er og tillatt feil'!$H$19)/100)","v":0},{"$f":"B45+((B45*'CV''er og tillatt feil'!$H$19)/100)","v":0},0,0,{"$f":"B45-((B45*'CV''er og tillatt feil'!$G$19)/100)","v":0},{"$f":"B45+((B45*'CV''er og tillatt feil'!$G$19)/100)","v":0},0,0]
[null,null,null,"","",{"$f":"B46-((B46*'CV''er og tillatt feil'!$H$19)/100)","v":0},{"$f":"B46+((B46*'CV''er og tillatt feil'!$H$19)/100)","v":0},0,0,{"$f":"B46-((B46*'CV''er og tillatt feil'!$G$19)/100)","v":0},{"$f":"B46+((B46*'CV''er og tillatt feil'!$G$19)/100)","v":0},0,0]
[null,null,null,"","",{"$f":"B47-((B47*'CV''er og tillatt feil'!$H$19)/100)","v":0},{"$f":"B47+((B47*'CV''er og tillatt feil'!$H$19)/100)","v":0},0,0,{"$f":"B47-((B47*'CV''er og tillatt feil'!$G$19)/100)","v":0},{"$f":"B47+((B47*'CV''er og tillatt feil'!$G$19)/100)","v":0},0,0]
[null,null,null,"","",{"$f":"B48-((B48*'CV''er og tillatt feil'!$H$19)/100)","v":0},{"$f":"B48+((B48*'CV''er og tillatt feil'!$H$19)/100)","v":0},0,0,{"$f":"B48-((B48*'CV''er og tillatt feil'!$G$19)/100)","v":0},{"$f":"B48+((B48*'CV''er og tillatt feil'!$G$19)/100)","v":0},0,0]
[null,null,null,"","",{"$f":"B49-((B49*'CV''er og tillatt feil'!$H$19)/100)","v":0},{"$f":"B49+((B49*'CV''er og tillatt feil'!$H$19)/100)","v":0},0,0,{"$f":"B49-((B49*'CV''er og tillatt feil'!$G$19)/100)","v":0},{"$f":"B49+((B49*'CV''er og tillatt feil'!$G$19)/100)","v":0},0,0]
[null,null,null,"","",{"$f":"B50-((B50*'CV''er og tillatt feil'!$H$19)/100)","v":0},{"$f":"B50+((B50*'CV''er og tillatt feil'!$H$19)/100)","v":0},0,0,{"$f":"B50-((B50*'CV''er og tillatt feil'!$G$19)/100)","v":0},{"$f":"B50+((B50*'CV''er og tillatt feil'!$G$19)/100)","v":0},0,0]
[null,null,null,"","",{"$f":"B51-((B51*'CV''er og tillatt feil'!$H$19)/100)","v":0},{"$f":"B51+((B51*'CV''er og tillatt feil'!$H$19)/100)","v":0},0,0,{"$f":"B51-((B51*'CV''er og tillatt feil'!$G$19)/100)","v":0},{"$f":"B51+((B51*'CV''er og tillatt feil'!$G$19)/100)","v":0},0,0]
[null,null,null,"","",{"$f":"B52-((B52*'CV''er og tillatt feil'!$H$19)/100)","v":0},{"$f":"B52+((B52*'CV''er og tillatt feil'!$H$19)/100)","v":0},0,0,{"$f":"B52-((B52*'CV''er og tillatt feil'!$G$19)/100)","v":0},{"$f":"B52+((B52*'CV''er og tillatt feil'!$G$19)/100)","v":0},0,0]
[null,null,null,"","",{"$f":"B53-((B53*'CV''er og tillatt feil'!$H$19)/100)","v":0},{"$f":"B53+((B53*'CV''er og tillatt feil'!$H$19)/100)","v":0},0,0,{"$f":"B53-((B53*'CV''er og tillatt feil'!$G$19)/100)","v":0},{"$f":"B53+((B53*'CV''er og tillatt feil'!$G$19)/100)","v":0},0,0]
[null,null,null,"","",{"$f":"B54-((B54*'CV''er og tillatt feil'!$H$19)/100)","v":0},{"$f":"B54+((B54*'CV''er og tillatt feil'!$H$19)/100)","v":0},0,0,{"$f":"B54-((B54*'CV''er og tillatt feil'!$G$19)/100)","v":0},{"$f":"B54+((B54*'CV''er og tillatt feil'!$G$19)/100)","v":0},0,0]
[null,null,null,"","",{"$f":"B55-((B55*'CV''er og tillatt feil'!$H$19)/100)","v":0},{"$f":"B55+((B55*'CV''er og tillatt feil'!$H$19)/100)","v":0},0,0,{"$f":"B55-((B55*'CV''er og tillatt feil'!$G$19)/100)","v":0},{"$f":"B55+((B55*'CV''er og tillatt feil'!$G$19)/100)","v":0},0,0]
[null,null,null,"","",{"$f":"B56-((B56*'CV''er og tillatt feil'!$H$19)/100)","v":0},{"$f":"B56+((B56*'CV''er og tillatt feil'!$H$19)/100)","v":0},0,0,{"$f":"B56-((B56*'CV''er og tillatt feil'!$G$19)/100)","v":0},{"$f":"B56+((B56*'CV''er og tillatt feil'!$G$19)/100)","v":0},0,0]
[null,null,null,"","",{"$f":"B57-((B57*'CV''er og tillatt feil'!$H$19)/100)","v":0},{"$f":"B57+((B57*'CV''er og tillatt feil'!$H$19)/100)","v":0},0,0,{"$f":"B57-((B57*'CV''er og tillatt feil'!$G$19)/100)","v":0},{"$f":"B57+((B57*'CV''er og tillatt feil'!$G$19)/100)","v":0},0,0]
[null,null,null,"","",{"$f":"B58-((B58*'CV''er og tillatt feil'!$H$19)/100)","v":0},{"$f":"B58+((B58*'CV''er og tillatt feil'!$H$19)/100)","v":0},0,0,{"$f":"B58-((B58*'CV''er og tillatt feil'!$G$19)/100)","v":0},{"$f":"B58+((B58*'CV''er og tillatt feil'!$G$19)/100)","v":0},0,0]
[null,null,null,"","",{"$f":"B59-((B59*'CV''er og tillatt feil'!$H$19)/100)","v":0},{"$f":"B59+((B59*'CV''er og tillatt feil'!$H$19)/100)","v":0},0,0,{"$f":"B59-((B59*'CV''er og tillatt feil'!$G$19)/100)","v":0},{"$f":"B59+((B59*'CV''er og tillatt feil'!$G$19)/100)","v":0},0,0]
[null,null,null,"","",{"$f":"B60-((B60*'CV''er og tillatt feil'!$H$19)/100)","v":0},{"$f":"B60+((B60*'CV''er og tillatt feil'!$H$19)/100)","v":0},0,0,{"$f":"B60-((B60*'CV''er og tillatt feil'!$G$19)/100)","v":0},{"$f":"B60+((B60*'CV''er og tillatt feil'!$G$19)/100)","v":0},0,0]
[null,null,null,"","",{"$f":"B61-((B61*'CV''er og tillatt feil'!$H$19)/100)","v":0},{"$f":"B61+((B61*'CV''er og tillatt feil'!$H$19)/100)","v":0},0,0,{"$f":"B61-((B61*'CV''er og tillatt feil'!$G$19)/100)","v":0},{"$f":"B61+((B61*'CV''er og tillatt feil'!$G$19)/100)","v":0},0,0]
[null,null,null,"","",{"$f":"B62-((B62*'CV''er og tillatt feil'!$H$19)/100)","v":0},{"$f":"B62+((B62*'CV''er og tillatt feil'!$H$19)/100)","v":0},0,0,{"$f":"B62-((B62*'CV''er og tillatt feil'!$G$19)/100)","v":0},{"$f":"B62+((B62*'CV''er og tillatt feil'!$G$19)/100)","v":0},0,0]
[null,null,null,"","",{"$f":"B63-((B63*'CV''er og tillatt feil'!$H$19)/100)","v":0},{"$f":"B63+((B63*'CV''er og tillatt feil'!$H$19)/100)","v":0},0,0,{"$f":"B63-((B63*'CV''er og tillatt feil'!$G$19)/100)","v":0},{"$f":"B63+((B63*'CV''er og tillatt feil'!$G$19)/100)","v":0},0,0]
[null,null,null,"","",{"$f":"B64-((B64*'CV''er og tillatt feil'!$H$19)/100)","v":0},{"$f":"B64+((B64*'CV''er og tillatt feil'!$H$19)/100)","v":0},0,0,{"$f":"B64-((B64*'CV''er og tillatt feil'!$G$19)/100)","v":0},{"$f":"B64+((B64*'CV''er og tillatt feil'!$G$19)/100)","v":0},0,0]
[null,null,null,"","",{"$f":"B65-((B65*'CV''er og tillatt feil'!$H$19)/100)","v":0},{"$f":"B65+((B65*'CV''er og tillatt feil'!$H$19)/100)","v":0},0,0,{"$f":"B65-((B65*'CV''er og tillatt feil'!$G$19)/100)","v":0},{"$f":"B65+((B65*'CV''er og tillatt feil'!$G$19)/100)","v":0},0,0]
[null,null,null,"","",{"$f":"B66-((B66*'CV''er og tillatt feil'!$H$19)/100)","v":0},{"$f":"B66+((B66*'CV''er og tillatt feil'!$H$19)/100)","v":0},0,0,{"$f":"B66-((B66*'CV''er og tillatt feil'!$G$19)/100)","v":0},{"$f":"B66+((B66*'CV''er og tillatt feil'!$G$19)/100)","v":0},0,0]
[null,null,null,"","",{"$f":"B67-((B67*'CV''er og tillatt feil'!$H$19)/100)","v":0},{"$f":"B67+((B67*'CV''er og tillatt feil'!$H$19)/100)","v":0},0,0,{"$f":"B67-((B67*'CV''er og tillatt feil'!$G$19)/100)","v":0},{"$f":"B67+((B67*'CV''er og tillatt feil'!$G$19)/100)","v":0},0,0]
[null,null,null,"","",{"$f":"B68-((B68*'CV''er og tillatt feil'!$H$19)/100)","v":0},{"$f":"B68+((B68*'CV''er og tillatt feil'!$H$19)/100)","v":0},0,0,{"$f":"B68-((B68*'CV''er og tillatt feil'!$G$19)/100)","v":0},{"$f":"B68+((B68*'CV''er og tillatt feil'!$G$19)/100)","v":0},0,0]
[null,null,null,"","",{"$f":"B69-((B69*'CV''er og tillatt feil'!$H$19)/100)","v":0},{"$f":"B69+((B69*'CV''er og tillatt feil'!$H$19)/100)","v":0},{"$f":"F69-B69","v":0},{"$f":"G69-B69","v":0},{"$f":"B69-((B69*'CV''er og tillatt feil'!$G$19)/100)","v":0},{"$f":"B69+((B69*'CV''er og tillatt feil'!$G$19)/100)","v":0},{"$f":"J69-B69","v":0},{"$f":"K69-B69","v":0}]
[null,null,null,"","",{"$f":"B70-((B70*'CV''er og tillatt feil'!$H$19)/100)","v":0},{"$f":"B70+((B70*'CV''er og tillatt feil'!$H$19)/100)","v":0},0,0,{"$f":"B70-((B70*'CV''er og tillatt feil'!$G$19)/100)","v":0},{"$f":"B70+((B70*'CV''er og tillatt feil'!$G$19)/100)","v":0},0,0]
[null,null,null,{"$f":"IF(C71<>\"\",IF((OR((E71>M71),(E71<L71))),IF(OR((E71>I71),(E71<H71)),\"STOPP\",\"Vurder\"),\"Ok\"),\"\")","v":""},{"$f":"IF(C71<>\"\",C71-$B71,\"\")","v":""},{"$f":"B71-((B71*'CV''er og tillatt feil'!$H$19)/100)","v":0},{"$f":"B71+((B71*'CV''er og tillatt feil'!$H$19)/100)","v":0},0,0,{"$f":"B71-((B71*'CV''er og tillatt feil'!$G$19)/100)","v":0},{"$f":"B71+((B71*'CV''er og tillatt feil'!$G$19)/100)","v":0},0,0]
[null,null,null,"","",{"$f":"B72-((B72*'CV''er og tillatt feil'!$H$19)/100)","v":0},{"$f":"B72+((B72*'CV''er og tillatt feil'!$H$19)/100)","v":0},0,0,{"$f":"B72-((B72*'CV''er og tillatt feil'!$G$19)/100)","v":0},{"$f":"B72+((B72*'CV''er og tillatt feil'!$G$19)/100)","v":0},0,0]
[null,null,null,"","",{"$f":"B73-((B73*'CV''er og tillatt feil'!$H$19)/100)","v":0},{"$f":"B73+((B73*'CV''er og tillatt feil'!$H$19)/100)","v":0},0,0,{"$f":"B73-((B73*'CV''er og tillatt feil'!$G$19)/100)","v":0},{"$f":"B73+((B73*'CV''er og tillatt feil'!$G$19)/100)","v":0},0,0]
[null,null,null,"","",{"$f":"B74-((B74*'CV''er og tillatt feil'!$H$19)/100)","v":0},{"$f":"B74+((B74*'CV''er og tillatt feil'!$H$19)/100)","v":0},0,0,{"$f":"B74-((B74*'CV''er og tillatt feil'!$G$19)/100)","v":0},{"$f":"B74+((B74*'CV''er og tillatt feil'!$G$19)/100)","v":0},0,0]
[null,null,null,"","",{"$f":"B75-((B75*'CV''er og tillatt feil'!$H$19)/100)","v":0},{"$f":"B75+((B75*'CV''er og tillatt feil'!$H$19)/100)","v":0},0,0,{"$f":"B75-((B75*'CV''er og tillatt feil'!$G$19)/100)","v":0},{"$f":"B75+((B75*'CV''er og tillatt feil'!$G$19)/100)","v":0},0,0]
[null,null,null,"","",{"$f":"B76-((B76*'CV''er og tillatt feil'!$H$19)/100)","v":0},{"$f":"B76+((B76*'CV''er og tillatt feil'!$H$19)/100)","v":0},0,0,{"$f":"B76-((B76*'CV''er og tillatt feil'!$G$19)/100)","v":0},{"$f":"B76+((B76*'CV''er og tillatt feil'!$G$19)/100)","v":0},0,0]
[null,null,null,"","",{"$f":"B77-((B77*'CV''er og tillatt feil'!$H$19)/100)","v":0},{"$f":"B77+((B77*'CV''er og tillatt feil'!$H$19)/100)","v":0},0,0,{"$f":"B77-((B77*'CV''er og tillatt feil'!$G$19)/100)","v":0},{"$f":"B77+((B77*'CV''er og tillatt feil'!$G$19)/100)","v":0},0,0]
[null,null,null,"","",{"$f":"B78-((B78*'CV''er og tillatt feil'!$H$19)/100)","v":0},{"$f":"B78+((B78*'CV''er og tillatt feil'!$H$19)/100)","v":0},0,0,{"$f":"B78-((B78*'CV''er og tillatt feil'!$G$19)/100)","v":0},{"$f":"B78+((B78*'CV''er og tillatt feil'!$G$19)/100)","v":0},0,0]
[null,null,null,"","",{"$f":"B79-((B79*'CV''er og tillatt feil'!$H$19)/100)","v":0},{"$f":"B79+((B79*'CV''er og tillatt feil'!$H$19)/100)","v":0},0,0,{"$f":"B79-((B79*'CV''er og tillatt feil'!$G$19)/100)","v":0},{"$f":"B79+((B79*'CV''er og tillatt feil'!$G$19)/100)","v":0},0,0]
[null,null,null,"","",{"$f":"B80-((B80*'CV''er og tillatt feil'!$H$19)/100)","v":0},{"$f":"B80+((B80*'CV''er og tillatt feil'!$H$19)/100)","v":0},0,0,{"$f":"B80-((B80*'CV''er og tillatt feil'!$G$19)/100)","v":0},{"$f":"B80+((B80*'CV''er og tillatt feil'!$G$19)/100)","v":0},0,0]
[null,null,null,"","",{"$f":"B81-((B81*'CV''er og tillatt feil'!$H$19)/100)","v":0},{"$f":"B81+((B81*'CV''er og tillatt feil'!$H$19)/100)","v":0},0,0,{"$f":"B81-((B81*'CV''er og tillatt feil'!$G$19)/100)","v":0},{"$f":"B81+((B81*'CV''er og tillatt feil'!$G$19)/100)","v":0},0,0]
[null,null,null,"","",{"$f":"B82-((B82*'CV''er og tillatt feil'!$H$19)/100)","v":0},{"$f":"B82+((B82*'CV''er og tillatt feil'!$H$19)/100)","v":0},0,0,{"$f":"B82-((B82*'CV''er og tillatt feil'!$G$19)/100)","v":0},{"$f":"B82+((B82*'CV''er og tillatt feil'!$G$19)/100)","v":0},0,0]
[null,null,null,"","",{"$f":"B83-((B83*'CV''er og tillatt feil'!$H$19)/100)","v":0},{"$f":"B83+((B83*'CV''er og tillatt feil'!$H$19)/100)","v":0},0,0,{"$f":"B83-((B83*'CV''er og tillatt feil'!$G$19)/100)","v":0},{"$f":"B83+((B83*'CV''er og tillatt feil'!$G$19)/100)","v":0},0,0]
[null,null,null,"","",{"$f":"B84-((B84*'CV''er og tillatt feil'!$H$19)/100)","v":0},{"$f":"B84+((B84*'CV''er og tillatt feil'!$H$19)/100)","v":0},0,0,{"$f":"B84-((B84*'CV''er og tillatt feil'!$G$19)/100)","v":0},{"$f":"B84+((B84*'CV''er og tillatt feil'!$G$19)/100)","v":0},0,0]
[null,null,null,"","",{"$f":"B85-((B85*'CV''er og tillatt feil'!$H$19)/100)","v":0},{"$f":"B85+((B85*'CV''er og tillatt feil'!$H$19)/100)","v":0},0,0,{"$f":"B85-((B85*'CV''er og tillatt feil'!$G$19)/100)","v":0},{"$f":"B85+((B85*'CV''er og tillatt feil'!$G$19)/100)","v":0},0,0]
[null,null,null,"","",{"$f":"B86-((B86*'CV''er og tillatt feil'!$H$19)/100)","v":0},{"$f":"B86+((B86*'CV''er og tillatt feil'!$H$19)/100)","v":0},0,0,{"$f":"B86-((B86*'CV''er og tillatt feil'!$G$19)/100)","v":0},{"$f":"B86+((B86*'CV''er og tillatt feil'!$G$19)/100)","v":0},0,0]
[null,null,null,"","",{"$f":"B87-((B87*'CV''er og tillatt feil'!$H$19)/100)","v":0},{"$f":"B87+((B87*'CV''er og tillatt feil'!$H$19)/100)","v":0},0,0,{"$f":"B87-((B87*'CV''er og tillatt feil'!$G$19)/100)","v":0},{"$f":"B87+((B87*'CV''er og tillatt feil'!$G$19)/100)","v":0},0,0]
[null,null,null,"","",{"$f":"B88-((B88*'CV''er og tillatt feil'!$H$19)/100)","v":0},{"$f":"B88+((B88*'CV''er og tillatt feil'!$H$19)/100)","v":0},0,0,{"$f":"B88-((B88*'CV''er og tillatt feil'!$G$19)/100)","v":0},{"$f":"B88+((B88*'CV''er og tillatt feil'!$G$19)/100)","v":0},0,0]
[null,null,null,"","",{"$f":"B89-((B89*'CV''er og tillatt feil'!$H$19)/100)","v":0},{"$f":"B89+((B89*'CV''er og tillatt feil'!$H$19)/100)","v":0},0,0,{"$f":"B89-((B89*'CV''er og tillatt feil'!$G$19)/100)","v":0},{"$f":"B89+((B89*'CV''er og tillatt feil'!$G$19)/100)","v":0},0,0]
[null,null,null,"","",{"$f":"B90-((B90*'CV''er og tillatt feil'!$H$19)/100)","v":0},{"$f":"B90+((B90*'CV''er og tillatt feil'!$H$19)/100)","v":0},0,0,{"$f":"B90-((B90*'CV''er og tillatt feil'!$G$19)/100)","v":0},{"$f":"B90+((B90*'CV''er og tillatt feil'!$G$19)/100)","v":0},0,0]
[null,null,null,"","",{"$f":"B91-((B91*'CV''er og tillatt feil'!$H$19)/100)","v":0},{"$f":"B91+((B91*'CV''er og tillatt feil'!$H$19)/100)","v":0},0,0,{"$f":"B91-((B91*'CV''er og tillatt feil'!$G$19)/100)","v":0},{"$f":"B91+((B91*'CV''er og tillatt feil'!$G$19)/100)","v":0},0,0]
[null,null,null,"","",{"$f":"B92-((B92*'CV''er og tillatt feil'!$H$19)/100)","v":0},{"$f":"B92+((B92*'CV''er og tillatt feil'!$H$19)/100)","v":0},0,0,{"$f":"B92-((B92*'CV''er og tillatt feil'!$G$19)/100)","v":0},{"$f":"B92+((B92*'CV''er og tillatt feil'!$G$19)/100)","v":0},0,0]
[null,null,null,"","",{"$f":"B93-((B93*'CV''er og tillatt feil'!$H$19)/100)","v":0},{"$f":"B93+((B93*'CV''er og tillatt feil'!$H$19)/100)","v":0},0,0,{"$f":"B93-((B93*'CV''er og tillatt feil'!$G$19)/100)","v":0},{"$f":"B93+((B93*'CV''er og tillatt feil'!$G$19)/100)","v":0},0,0]
[null,null,null,"","",{"$f":"B94-((B94*'CV''er og tillatt feil'!$H$19)/100)","v":0},{"$f":"B94+((B94*'CV''er og tillatt feil'!$H$19)/100)","v":0},0,0,{"$f":"B94-((B94*'CV''er og tillatt feil'!$G$19)/100)","v":0},{"$f":"B94+((B94*'CV''er og tillatt feil'!$G$19)/100)","v":0},0,0]
[null,null,null,"","",{"$f":"B95-((B95*'CV''er og tillatt feil'!$H$19)/100)","v":0},{"$f":"B95+((B95*'CV''er og tillatt feil'!$H$19)/100)","v":0},0,0,{"$f":"B95-((B95*'CV''er og tillatt feil'!$G$19)/100)","v":0},{"$f":"B95+((B95*'CV''er og tillatt feil'!$G$19)/100)","v":0},0,0]
[null,null,null,"","",{"$f":"B96-((B96*'CV''er og tillatt feil'!$H$19)/100)","v":0},{"$f":"B96+((B96*'CV''er og tillatt feil'!$H$19)/100)","v":0},0,0,{"$f":"B96-((B96*'CV''er og tillatt feil'!$G$19)/100)","v":0},{"$f":"B96+((B96*'CV''er og tillatt feil'!$G$19)/100)","v":0},0,0]
[null,null,null,"","",{"$f":"B97-((B97*'CV''er og tillatt feil'!$H$19)/100)","v":0},{"$f":"B97+((B97*'CV''er og tillatt feil'!$H$19)/100)","v":0},0,0,{"$f":"B97-((B97*'CV''er og tillatt feil'!$G$19)/100)","v":0},{"$f":"B97+((B97*'CV''er og tillatt feil'!$G$19)/100)","v":0},0,0]
[null,null,null,"","",{"$f":"B98-((B98*'CV''er og tillatt feil'!$H$19)/100)","v":0},{"$f":"B98+((B98*'CV''er og tillatt feil'!$H$19)/100)","v":0},0,0,{"$f":"B98-((B98*'CV''er og tillatt feil'!$G$19)/100)","v":0},{"$f":"B98+((B98*'CV''er og tillatt feil'!$G$19)/100)","v":0},0,0]
[null,null,null,"","",{"$f":"B99-((B99*'CV''er og tillatt feil'!$H$19)/100)","v":0},{"$f":"B99+((B99*'CV''er og tillatt feil'!$H$19)/100)","v":0},0,0,{"$f":"B99-((B99*'CV''er og tillatt feil'!$G$19)/100)","v":0},{"$f":"B99+((B99*'CV''er og tillatt feil'!$G$19)/100)","v":0},0,0]
[null,null,null,"","",{"$f":"B100-((B100*'CV''er og tillatt feil'!$H$19)/100)","v":0},{"$f":"B100+((B100*'CV''er og tillatt feil'!$H$19)/100)","v":0},{"$f":"F100-B100","v":0},{"$f":"G100-B100","v":0},{"$f":"B100-((B100*'CV''er og tillatt feil'!$G$19)/100)","v":0},{"$f":"B100+((B100*'CV''er og tillatt feil'!$G$19)/100)","v":0},{"$f":"J100-B100","v":0},{"$f":"K100-B100","v":0}]
[null,null,null,"","",{"$f":"B101-((B101*'CV''er og tillatt feil'!$H$19)/100)","v":0},{"$f":"B101+((B101*'CV''er og tillatt feil'!$H$19)/100)","v":0},{"$f":"F101-B101","v":0},{"$f":"G101-B101","v":0},{"$f":"B101-((B101*'CV''er og tillatt feil'!$G$19)/100)","v":0},{"$f":"B101+((B101*'CV''er og tillatt feil'!$G$19)/100)","v":0},{"$f":"J101-B101","v":0},{"$f":"K101-B101","v":0}]
["Antall",{"$f":"COUNT(B5:B101)","v":0},{"$f":"COUNT(C5:C101)","v":0},null,{"$f":"COUNT(E5:E101)","v":0}]
["Mean",{"$f":"AVERAGE(B5:B101)","v":{"$error":"#DIV/0!"}},{"$f":"AVERAGE(C5:C101)","v":{"$error":"#DIV/0!"}},null,{"$f":"AVERAGE(E5:E101)","v":{"$error":"#DIV/0!"}}]
["Min",{"$f":"MIN(B5:B101)","v":0},{"$f":"MIN(C5:C101)","v":0},null,{"$f":"MIN(E5:E101)","v":0}]
["Max",{"$f":"MAX(B5:B101)","v":0},{"$f":"MAX(C5:C101)","v":0},null,{"$f":"MAX(E5:E101)","v":0}]

{"sheet":"PLT","index":6,"n_rows":118,"n_cols":29,"rows_kept":118,"cut":false,"hidden":false,"merged":[[1,3,1,6],[1,0,1,2],[1,7,1,14]]}
[{"$f":"Oversikt!D1","v":"EQS dokument 13856 versjon 3.9"}]
["TROMBOCYTTER",null,null,"Sysmex XN1500 imp er hovedmetoden",null,null,null,"Differanser PLT (XN1000-XN1500)",null,null,null,null,null,null,null,null,null,null,null,null,null,null,null,null,null,null,"HK = hjelpekolonne"]
[null,null,null,null,null,null,"Varsel",null,"Varsel",null,null,"Varsel"]
["Dato","XN1500imp","XN1000imp","XN1500PLTF","XN1000PLTF",null,"XN1000imp-XN1500imp","XN1000imp-XN1500imp","XN1000PLTF-XN1500PLTimp","XN1000PLTF-XN1500PLTimp",null,"XN1500PLTF-XN1500PLTimp","XN1500PLTF-XN1500PLTimp",null,null,"PLT nedre stopp","PLT øvre stopp","PLT nedre stopp","PLT øvre stopp","PLT nedre grønn","PLT øvre grønn","PLT nedre grønn","PLT øvre grønn",null,null,null,"HK Sys.Opt - CellDyn","HK CD Imp - CellDyn","HK CD-61-CellDyn"]
[null,null,null,null,null,null,{"$f":"IF(C5<>\"\",IF((OR((H5>W5),(H5<V5))),IF(OR((H5>S5),(H5<R5)),\"STOPP\",\"Vurder\"),\"Ok\"),\"\")","v":""},{"$f":"IF(C5<>\"\",C5-$B5,\"\")","v":""},{"$f":"IF(E5<>\"\",IF((OR((J5>W5),(J5<V5))),IF(OR((J5>S5),(J5<R5)),\"STOPP\",\"Vurder\"),\"Ok\"),\"\")","v":""},{"$f":"IF(E5<>\"\",E5-$B5,-600)","v":-600},null,{"$f":"IF(D5<>\"\",IF((OR((M5>W5),(M5<V5))),IF(OR((M5>S5),(M5<R5)),\"STOPP\",\"Vurder\"),\"Ok\"),\"\")","v":""},{"$f":"IF(D5<>\"\",D5-$B5,-600)","v":-600},{"$f":"IF(F5<>\"\",IF((OR((O5>W5),(O5<V5))),IF(OR((O5>S5),(O5<R5)),\"STOPP\",\"Vurder\"),\"Ok\"),\"\")","v":""},{"$f":"IF(F5<>\"\",F5-$B5,-600)","v":-600},{"$f":"B5-((B5*'CV''er og tillatt feil'!$H$20)/100)","v":0},{"$f":"B5+((B5*'CV''er og tillatt feil'!$H$20)/100)","v":0},{"$f":"P5-B5","v":0},{"$f":"Q5-B5","v":0},{"$f":"B5-((B5*'CV''er og tillatt feil'!$G$20)/100)","v":0},{"$f":"B5+((B5*'CV''er og tillatt feil'!$G$20)/100)","v":0},{"$f":"T5-B5","v":0},{"$f":"U5-B5","v":0},null,null,null,{"$f":"IF(J5=-600,\"\",J5)","v":""},{"$f":"IF(M5=-600,\"\",M5)","v":""},{"$f":"IF(O5=-600,\"\",O5)","v":""}]
[null,null,null,null,null,null,{"$f":"IF(C6<>\"\",IF((OR((H6>W6),(H6<V6))),IF(OR((H6>S6),(H6<R6)),\"STOPP\",\"Vurder\"),\"Ok\"),\"\")","v":""},{"$f":"IF(C6<>\"\",C6-$B6,\"\")","v":""},{"$f":"IF(E6<>\"\",IF((OR((J6>W6),(J6<V6))),IF(OR((J6>S6),(J6<R6)),\"STOPP\",\"Vurder\"),\"Ok\"),\"\")","v":""},{"$f":"IF(E6<>\"\",E6-$B6,-600)","v":-600},null,{"$f":"IF(D6<>\"\",IF((OR((M6>W6),(M6<V6))),IF(OR((M6>S6),(M6<R6)),\"STOPP\",\"Vurder\"),\"Ok\"),\"\")","v":""},{"$f":"IF(D6<>\"\",D6-$B6,-600)","v":-600},{"$f":"IF(F6<>\"\",IF((OR((O6>W6),(O6<V6))),IF(OR((O6>S6),(O6<R6)),\"STOPP\",\"Vurder\"),\"Ok\"),\"\")","v":""},{"$f":"IF(F6<>\"\",F6-$B6,-600)","v":-600},{"$f":"B6-((B6*'CV''er og tillatt feil'!$H$20)/100)","v":0},{"$f":"B6+((B6*'CV''er og tillatt feil'!$H$20)/100)","v":0},0,0,{"$f":"B6-((B6*'CV''er og tillatt feil'!$G$20)/100)","v":0},{"$f":"B6+((B6*'CV''er og tillatt feil'!$G$20)/100)","v":0},0,0,null,null,null,{"$f":"IF(J6=-600,\"\",J6)","v":""},{"$f":"IF(M6=-600,\"\",M6)","v":""},{"$f":"IF(O6=-600,\"\",O6)","v":""}]
[null,null,null,null,null,null,"","","",-600,null,"",-600,"",-600,{"$f":"B7-((B7*'CV''er og tillatt feil'!$H$20)/100)","v":0},{"$f":"B7+((B7*'CV''er og tillatt feil'!$H$20)/100)","v":0},0,0,{"$f":"B7-((B7*'CV''er og tillatt feil'!$G$20)/100)","v":0},{"$f":"B7+((B7*'CV''er og tillatt feil'!$G$20)/100)","v":0},0,0,null,null,null,"","",""]
[null,null,null,null,null,null,"","","",-600,null,"",-600,"",-600,{"$f":"B8-((B8*'CV''er og tillatt feil'!$H$20)/100)","v":0},{"$f":"B8+((B8*'CV''er og tillatt feil'!$H$20)/100)","v":0},0,0,{"$f":"B8-((B8*'CV''er og tillatt feil'!$G$20)/100)","v":0},{"$f":"B8+((B8*'CV''er og tillatt feil'!$G$20)/100)","v":0},0,0,null,null,null,"","",""]
[null,null,null,null,null,null,"","","",-600,null,"",-600,"",-600,{"$f":"B9-((B9*'CV''er og tillatt feil'!$H$20)/100)","v":0},{"$f":"B9+((B9*'CV''er og tillatt feil'!$H$20)/100)","v":0},0,0,{"$f":"B9-((B9*'CV''er og tillatt feil'!$G$20)/100)","v":0},{"$f":"B9+((B9*'CV''er og tillatt feil'!$G$20)/100)","v":0},0,0,null,null,null,"","",""]
[null,null,null,null,null,null,"","","",-600,null,"",-600,"",-600,{"$f":"B10-((B10*'CV''er og tillatt feil'!$H$20)/100)","v":0},{"$f":"B10+((B10*'CV''er og tillatt feil'!$H$20)/100)","v":0},0,0,{"$f":"B10-((B10*'CV''er og tillatt feil'!$G$20)/100)","v":0},{"$f":"B10+((B10*'CV''er og tillatt feil'!$G$20)/100)","v":0},0,0,null,null,null,"","",""]
[null,null,null,null,null,null,"","","",-600,null,"",-600,"",-600,{"$f":"B11-((B11*'CV''er og tillatt feil'!$H$20)/100)","v":0},{"$f":"B11+((B11*'CV''er og tillatt feil'!$H$20)/100)","v":0},0,0,{"$f":"B11-((B11*'CV''er og tillatt feil'!$G$20)/100)","v":0},{"$f":"B11+((B11*'CV''er og tillatt feil'!$G$20)/100)","v":0},0,0,null,null,null,"","",""]
[null,null,null,null,null,null,"","","",-600,null,"",-600,"",-600,{"$f":"B12-((B12*'CV''er og tillatt feil'!$H$20)/100)","v":0},{"$f":"B12+((B12*'CV''er og tillatt feil'!$H$20)/100)","v":0},0,0,{"$f":"B12-((B12*'CV''er og tillatt feil'!$G$20)/100)","v":0},{"$f":"B12+((B12*'CV''er og tillatt feil'!$G$20)/100)","v":0},0,0,null,null,null,"","",""]
[null,null,null,null,null,null,"","","",-600,null,"",-600,"",-600,{"$f":"B13-((B13*'CV''er og tillatt feil'!$H$20)/100)","v":0},{"$f":"B13+((B13*'CV''er og tillatt feil'!$H$20)/100)","v":0},0,0,{"$f":"B13-((B13*'CV''er og tillatt feil'!$G$20)/100)","v":0},{"$f":"B13+((B13*'CV''er og tillatt feil'!$G$20)/100)","v":0},0,0,null,null,null,"","",""]
[null,null,null,null,null,null,"","","",-600,null,"",-600,"",-600,{"$f":"B14-((B14*'CV''er og tillatt feil'!$H$20)/100)","v":0},{"$f":"B14+((B14*'CV''er og tillatt feil'!$H$20)/100)","v":0},0,0,{"$f":"B14-((B14*'CV''er og tillatt feil'!$G$20)/100)","v":0},{"$f":"B14+((B14*'CV''er og tillatt feil'!$G$20)/100)","v":0},0,0,null,null,null,"","",""]
[null,null,null,null,null,null,"","","",-600,null,"",-600,"",-600,{"$f":"B15-((B15*'CV''er og tillatt feil'!$H$20)/100)","v":0},{"$f":"B15+((B15*'CV''er og tillatt feil'!$H$20)/100)","v":0},0,0,{"$f":"B15-((B15*'CV''er og tillatt feil'!$G$20)/100)","v":0},{"$f":"B15+((B15*'CV''er og tillatt feil'!$G$20)/100)","v":0},0,0,null,null,null,"","",""]
[null,null,null,null,null,null,"","","",-600,null,"",-600,"",-600,{"$f":"B16-((B16*'CV''er og tillatt feil'!$H$20)/100)","v":0},{"$f":"B16+((B16*'CV''er og tillatt feil'!$H$20)/100)","v":0},0,0,{"$f":"B16-((B16*'CV''er og tillatt feil'!$G$20)/100)","v":0},{"$f":"B16+((B16*'CV''er og tillatt feil'!$G$20)/100)","v":0},0,0,null,null,null,"","",""]
[null,null,null,null,null,null,"","","",-600,null,"",-600,"",-600,{"$f":"B17-((B17*'CV''er og tillatt feil'!$H$20)/100)","v":0},{"$f":"B17+((B17*'CV''er og tillatt feil'!$H$20)/100)","v":0},0,0,{"$f":"B17-((B17*'CV''er og tillatt feil'!$G$20)/100)","v":0},{"$f":"B17+((B17*'CV''er og tillatt feil'!$G$20)/100)","v":0},0,0,null,null,null,"","",""]
[null,null,null,null,null,null,"","","",-600,null,"",-600,"",-600,{"$f":"B18-((B18*'CV''er og tillatt feil'!$H$20)/100)","v":0},{"$f":"B18+((B18*'CV''er og tillatt feil'!$H$20)/100)","v":0},0,0,{"$f":"B18-((B18*'CV''er og tillatt feil'!$G$20)/100)","v":0},{"$f":"B18+((B18*'CV''er og tillatt feil'!$G$20)/100)","v":0},0,0,null,null,null,"","",""]
[null,null,null,null,null,null,"","","",-600,null,"",-600,"",-600,{"$f":"B19-((B19*'CV''er og tillatt feil'!$H$20)/100)","v":0},{"$f":"B19+((B19*'CV''er og tillatt feil'!$H$20)/100)","v":0},0,0,{"$f":"B19-((B19*'CV''er og tillatt feil'!$G$20)/100)","v":0},{"$f":"B19+((B19*'CV''er og tillatt feil'!$G$20)/100)","v":0},0,0,null,null,null,"","",""]
[null,null,null,null,null,null,"","","",-600,null,"",-600,"",-600,{"$f":"B20-((B20*'CV''er og tillatt feil'!$H$20)/100)","v":0},{"$f":"B20+((B20*'CV''er og tillatt feil'!$H$20)/100)","v":0},0,0,{"$f":"B20-((B20*'CV''er og tillatt feil'!$G$20)/100)","v":0},{"$f":"B20+((B20*'CV''er og tillatt feil'!$G$20)/100)","v":0},0,0,null,null,null,"","",""]
[null,null,null,null,null,null,"","","",-600,null,"",-600,"",-600,{"$f":"B21-((B21*'CV''er og tillatt feil'!$H$20)/100)","v":0},{"$f":"B21+((B21*'CV''er og tillatt feil'!$H$20)/100)","v":0},0,0,{"$f":"B21-((B21*'CV''er og tillatt feil'!$G$20)/100)","v":0},{"$f":"B21+((B21*'CV''er og tillatt feil'!$G$20)/100)","v":0},0,0,null,null,null,"","",""]
[null,null,null,null,null,null,"","","",-600,null,"",-600,"",-600,{"$f":"B22-((B22*'CV''er og tillatt feil'!$H$20)/100)","v":0},{"$f":"B22+((B22*'CV''er og tillatt feil'!$H$20)/100)","v":0},0,0,{"$f":"B22-((B22*'CV''er og tillatt feil'!$G$20)/100)","v":0},{"$f":"B22+((B22*'CV''er og tillatt feil'!$G$20)/100)","v":0},0,0,null,null,null,"","",""]
[null,null,null,null,null,null,"","","",-600,null,"",-600,"",-600,{"$f":"B23-((B23*'CV''er og tillatt feil'!$H$20)/100)","v":0},{"$f":"B23+((B23*'CV''er og tillatt feil'!$H$20)/100)","v":0},0,0,{"$f":"B23-((B23*'CV''er og tillatt feil'!$G$20)/100)","v":0},{"$f":"B23+((B23*'CV''er og tillatt feil'!$G$20)/100)","v":0},0,0,null,null,null,"","",""]
[null,null,null,null,null,null,"","","",-600,null,"",-600,"",-600,{"$f":"B24-((B24*'CV''er og tillatt feil'!$H$20)/100)","v":0},{"$f":"B24+((B24*'CV''er og tillatt feil'!$H$20)/100)","v":0},0,0,{"$f":"B24-((B24*'CV''er og tillatt feil'!$G$20)/100)","v":0},{"$f":"B24+((B24*'CV''er og tillatt feil'!$G$20)/100)","v":0},0,0,null,null,null,"","",""]
[null,null,null,null,null,null,"","","",-600,null,"",-600,"",-600,{"$f":"B25-((B25*'CV''er og tillatt feil'!$H$20)/100)","v":0},{"$f":"B25+((B25*'CV''er og tillatt feil'!$H$20)/100)","v":0},0,0,{"$f":"B25-((B25*'CV''er og tillatt feil'!$G$20)/100)","v":0},{"$f":"B25+((B25*'CV''er og tillatt feil'!$G$20)/100)","v":0},0,0,null,null,null,"","",""]
[null,null,null,null,null,null,"","","",-600,null,"",-600,"",-600,{"$f":"B26-((B26*'CV''er og tillatt feil'!$H$20)/100)","v":0},{"$f":"B26+((B26*'CV''er og tillatt feil'!$H$20)/100)","v":0},0,0,{"$f":"B26-((B26*'CV''er og tillatt feil'!$G$20)/100)","v":0},{"$f":"B26+((B26*'CV''er og tillatt feil'!$G$20)/100)","v":0},0,0,null,null,null,"","",""]
[null,null,null,null,null,null,"","","",-600,null,"",-600,"",-600,{"$f":"B27-((B27*'CV''er og tillatt feil'!$H$20)/100)","v":0},{"$f":"B27+((B27*'CV''er og tillatt feil'!$H$20)/100)","v":0},0,0,{"$f":"B27-((B27*'CV''er og tillatt feil'!$G$20)/100)","v":0},{"$f":"B27+((B27*'CV''er og tillatt feil'!$G$20)/100)","v":0},0,0,null,null,null,"","",""]
[null,null,null,null,null,null,"","","",-600,null,"",-600,"",-600,{"$f":"B28-((B28*'CV''er og tillatt feil'!$H$20)/100)","v":0},{"$f":"B28+((B28*'CV''er og tillatt feil'!$H$20)/100)","v":0},0,0,{"$f":"B28-((B28*'CV''er og tillatt feil'!$G$20)/100)","v":0},{"$f":"B28+((B28*'CV''er og tillatt feil'!$G$20)/100)","v":0},0,0,null,null,null,"","",""]
[null,null,null,null,null,null,"","","",-600,null,"",-600,"",-600,{"$f":"B29-((B29*'CV''er og tillatt feil'!$H$20)/100)","v":0},{"$f":"B29+((B29*'CV''er og tillatt feil'!$H$20)/100)","v":0},0,0,{"$f":"B29-((B29*'CV''er og tillatt feil'!$G$20)/100)","v":0},{"$f":"B29+((B29*'CV''er og tillatt feil'!$G$20)/100)","v":0},0,0,null,null,null,"","",""]
[null,null,null,null,null,null,"","","",-600,null,"",-600,"",-600,{"$f":"B30-((B30*'CV''er og tillatt feil'!$H$20)/100)","v":0},{"$f":"B30+((B30*'CV''er og tillatt feil'!$H$20)/100)","v":0},0,0,{"$f":"B30-((B30*'CV''er og tillatt feil'!$G$20)/100)","v":0},{"$f":"B30+((B30*'CV''er og tillatt feil'!$G$20)/100)","v":0},0,0,null,null,null,"","",""]
[null,null,null,null,null,null,"","","",-600,null,"",-600,"",-600,{"$f":"B31-((B31*'CV''er og tillatt feil'!$H$20)/100)","v":0},{"$f":"B31+((B31*'CV''er og tillatt feil'!$H$20)/100)","v":0},0,0,{"$f":"B31-((B31*'CV''er og tillatt feil'!$G$20)/100)","v":0},{"$f":"B31+((B31*'CV''er og tillatt feil'!$G$20)/100)","v":0},0,0,null,null,null,"","",""]
[null,null,null,null,null,null,"","","",-600,null,"",-600,"",-600,{"$f":"B32-((B32*'CV''er og tillatt feil'!$H$20)/100)","v":0},{"$f":"B32+((B32*'CV''er og tillatt feil'!$H$20)/100)","v":0},0,0,{"$f":"B32-((B32*'CV''er og tillatt feil'!$G$20)/100)","v":0},{"$f":"B32+((B32*'CV''er og tillatt feil'!$G$20)/100)","v":0},0,0,null,null,null,"","",""]
[null,null,null,null,null,null,"","","",-600,null,"",-600,"",-600,{"$f":"B33-((B33*'CV''er og tillatt feil'!$H$20)/100)","v":0},{"$f":"B33+((B33*'CV''er og tillatt feil'!$H$20)/100)","v":0},0,0,{"$f":"B33-((B33*'CV''er og tillatt feil'!$G$20)/100)","v":0},{"$f":"B33+((B33*'CV''er og tillatt feil'!$G$20)/100)","v":0},0,0,null,null,null,"","",""]
[null,null,null,null,null,null,"","","",-600,null,"",-600,"",-600,{"$f":"B34-((B34*'CV''er og tillatt feil'!$H$20)/100)","v":0},{"$f":"B34+((B34*'CV''er og tillatt feil'!$H$20)/100)","v":0},0,0,{"$f":"B34-((B34*'CV''er og tillatt feil'!$G$20)/100)","v":0},{"$f":"B34+((B34*'CV''er og tillatt feil'!$G$20)/100)","v":0},0,0,null,null,null,"","",""]
[null,null,null,null,null,null,"","","",-600,null,"",-600,"",-600,{"$f":"B35-((B35*'CV''er og tillatt feil'!$H$20)/100)","v":0},{"$f":"B35+((B35*'CV''er og tillatt feil'!$H$20)/100)","v":0},0,0,{"$f":"B35-((B35*'CV''er og tillatt feil'!$G$20)/100)","v":0},{"$f":"B35+((B35*'CV''er og tillatt feil'!$G$20)/100)","v":0},0,0,null,null,null,"","",""]
[null,null,null,null,null,null,"","","",-600,null,"",-600,"",-600,{"$f":"B36-((B36*'CV''er og tillatt feil'!$H$20)/100)","v":0},{"$f":"B36+((B36*'CV''er og tillatt feil'!$H$20)/100)","v":0},0,0,{"$f":"B36-((B36*'CV''er og tillatt feil'!$G$20)/100)","v":0},{"$f":"B36+((B36*'CV''er og tillatt feil'!$G$20)/100)","v":0},0,0,null,null,null,"","",""]
[null,null,null,null,null,null,"","","",-600,null,"",-600,"",-600,{"$f":"B37-((B37*'CV''er og tillatt feil'!$H$20)/100)","v":0},{"$f":"B37+((B37*'CV''er og tillatt feil'!$H$20)/100)","v":0},0,0,{"$f":"B37-((B37*'CV''er og tillatt feil'!$G$20)/100)","v":0},{"$f":"B37+((B37*'CV''er og tillatt feil'!$G$20)/100)","v":0},{"$f":"T37-B37","v":0},{"$f":"U37-B37","v":0},null,null,null,"","",""]
[null,null,null,null,null,null,"","","",-600,null,"",-600,"",-600,{"$f":"B38-((B38*'CV''er og tillatt feil'!$H$20)/100)","v":0},{"$f":"B38+((B38*'CV''er og tillatt feil'!$H$20)/100)","v":0},0,0,{"$f":"B38-((B38*'CV''er og tillatt feil'!$G$20)/100)","v":0},{"$f":"B38+((B38*'CV''er og tillatt feil'!$G$20)/100)","v":0},0,0,null,null,null,"","",""]
[null,null,null,null,null,null,"","","",-600,null,"",-600,"",-600,{"$f":"B39-((B39*'CV''er og tillatt feil'!$H$20)/100)","v":0},{"$f":"B39+((B39*'CV''er og tillatt feil'!$H$20)/100)","v":0},0,0,{"$f":"B39-((B39*'CV''er og tillatt feil'!$G$20)/100)","v":0},{"$f":"B39+((B39*'CV''er og tillatt feil'!$G$20)/100)","v":0},0,0,null,null,null,"","",""]
[null,null,null,null,null,null,"","","",-600,null,"",-600,"",-600,{"$f":"B40-((B40*'CV''er og tillatt feil'!$H$20)/100)","v":0},{"$f":"B40+((B40*'CV''er og tillatt feil'!$H$20)/100)","v":0},0,0,{"$f":"B40-((B40*'CV''er og tillatt feil'!$G$20)/100)","v":0},{"$f":"B40+((B40*'CV''er og tillatt feil'!$G$20)/100)","v":0},0,0,null,null,null,"","",""]
[null,null,null,null,null,null,"","","",-600,null,"",-600,"",-600,{"$f":"B41-((B41*'CV''er og tillatt feil'!$H$20)/100)","v":0},{"$f":"B41+((B41*'CV''er og tillatt feil'!$H$20)/100)","v":0},0,0,{"$f":"B41-((B41*'CV''er og tillatt feil'!$G$20)/100)","v":0},{"$f":"B41+((B41*'CV''er og tillatt feil'!$G$20)/100)","v":0},0,0,null,null,null,"","",""]
[null,null,null,null,null,null,"","","",-600,null,"",-600,"",-600,{"$f":"B42-((B42*'CV''er og tillatt feil'!$H$20)/100)","v":0},{"$f":"B42+((B42*'CV''er og tillatt feil'!$H$20)/100)","v":0},0,0,{"$f":"B42-((B42*'CV''er og tillatt feil'!$G$20)/100)","v":0},{"$f":"B42+((B42*'CV''er og tillatt feil'!$G$20)/100)","v":0},0,0,null,null,null,"","",""]
[null,null,null,null,null,null,"","","",-600,null,"",-600,"",-600,{"$f":"B43-((B43*'CV''er og tillatt feil'!$H$20)/100)","v":0},{"$f":"B43+((B43*'CV''er og tillatt feil'!$H$20)/100)","v":0},0,0,{"$f":"B43-((B43*'CV''er og tillatt feil'!$G$20)/100)","v":0},{"$f":"B43+((B43*'CV''er og tillatt feil'!$G$20)/100)","v":0},0,0,null,null,null,"","",""]
[null,null,null,null,null,null,"","","",-600,null,"",-600,"",-600,{"$f":"B44-((B44*'CV''er og tillatt feil'!$H$20)/100)","v":0},{"$f":"B44+((B44*'CV''er og tillatt feil'!$H$20)/100)","v":0},0,0,{"$f":"B44-((B44*'CV''er og tillatt feil'!$G$20)/100)","v":0},{"$f":"B44+((B44*'CV''er og tillatt feil'!$G$20)/100)","v":0},0,0,null,null,null,"","",""]
[null,null,null,null,null,null,"","","",-600,null,"",-600,"",-600,{"$f":"B45-((B45*'CV''er og tillatt feil'!$H$20)/100)","v":0},{"$f":"B45+((B45*'CV''er og tillatt feil'!$H$20)/100)","v":0},0,0,{"$f":"B45-((B45*'CV''er og tillatt feil'!$G$20)/100)","v":0},{"$f":"B45+((B45*'CV''er og tillatt feil'!$G$20)/100)","v":0},0,0,null,null,null,"","",""]
[null,null,null,null,null,null,"","","",-600,null,"",-600,"",-600,{"$f":"B46-((B46*'CV''er og tillatt feil'!$H$20)/100)","v":0},{"$f":"B46+((B46*'CV''er og tillatt feil'!$H$20)/100)","v":0},0,0,{"$f":"B46-((B46*'CV''er og tillatt feil'!$G$20)/100)","v":0},{"$f":"B46+((B46*'CV''er og tillatt feil'!$G$20)/100)","v":0},0,0,null,null,null,"","",""]
[null,null,null,null,null,null,"","","",-600,null,"",-600,"",-600,{"$f":"B47-((B47*'CV''er og tillatt feil'!$H$20)/100)","v":0},{"$f":"B47+((B47*'CV''er og tillatt feil'!$H$20)/100)","v":0},0,0,{"$f":"B47-((B47*'CV''er og tillatt feil'!$G$20)/100)","v":0},{"$f":"B47+((B47*'CV''er og tillatt feil'!$G$20)/100)","v":0},0,0,null,null,null,"","",""]
[null,null,null,null,null,null,"","","",-600,null,"",-600,"",-600,{"$f":"B48-((B48*'CV''er og tillatt feil'!$H$20)/100)","v":0},{"$f":"B48+((B48*'CV''er og tillatt feil'!$H$20)/100)","v":0},0,0,{"$f":"B48-((B48*'CV''er og tillatt feil'!$G$20)/100)","v":0},{"$f":"B48+((B48*'CV''er og tillatt feil'!$G$20)/100)","v":0},0,0,null,null,null,"","",""]
[null,null,null,null,null,null,"","","",-600,null,"",-600,"",-600,{"$f":"B49-((B49*'CV''er og tillatt feil'!$H$20)/100)","v":0},{"$f":"B49+((B49*'CV''er og tillatt feil'!$H$20)/100)","v":0},0,0,{"$f":"B49-((B49*'CV''er og tillatt feil'!$G$20)/100)","v":0},{"$f":"B49+((B49*'CV''er og tillatt feil'!$G$20)/100)","v":0},0,0,null,null,null,"","",""]
[null,null,null,null,null,null,"","","",-600,null,"",-600,"",-600,{"$f":"B50-((B50*'CV''er og tillatt feil'!$H$20)/100)","v":0},{"$f":"B50+((B50*'CV''er og tillatt feil'!$H$20)/100)","v":0},0,0,{"$f":"B50-((B50*'CV''er og tillatt feil'!$G$20)/100)","v":0},{"$f":"B50+((B50*'CV''er og tillatt feil'!$G$20)/100)","v":0},0,0,null,null,null,"","",""]
[null,null,null,null,null,null,"","","",-600,null,"",-600,"",-600,{"$f":"B51-((B51*'CV''er og tillatt feil'!$H$20)/100)","v":0},{"$f":"B51+((B51*'CV''er og tillatt feil'!$H$20)/100)","v":0},0,0,{"$f":"B51-((B51*'CV''er og tillatt feil'!$G$20)/100)","v":0},{"$f":"B51+((B51*'CV''er og tillatt feil'!$G$20)/100)","v":0},0,0,null,null,null,"","",""]
[null,null,null,null,null,null,"","","",-600,null,"",-600,"",-600,{"$f":"B52-((B52*'CV''er og tillatt feil'!$H$20)/100)","v":0},{"$f":"B52+((B52*'CV''er og tillatt feil'!$H$20)/100)","v":0},0,0,{"$f":"B52-((B52*'CV''er og tillatt feil'!$G$20)/100)","v":0},{"$f":"B52+((B52*'CV''er og tillatt feil'!$G$20)/100)","v":0},0,0,null,null,null,"","",""]
[null,null,null,null,null,null,"","","",-600,null,"",-600,"",-600,{"$f":"B53-((B53*'CV''er og tillatt feil'!$H$20)/100)","v":0},{"$f":"B53+((B53*'CV''er og tillatt feil'!$H$20)/100)","v":0},0,0,{"$f":"B53-((B53*'CV''er og tillatt feil'!$G$20)/100)","v":0},{"$f":"B53+((B53*'CV''er og tillatt feil'!$G$20)/100)","v":0},0,0,null,null,null,"","",""]
[null,null,null,null,null,null,"","","",-600,null,"",-600,"",-600,{"$f":"B54-((B54*'CV''er og tillatt feil'!$H$20)/100)","v":0},{"$f":"B54+((B54*'CV''er og tillatt feil'!$H$20)/100)","v":0},0,0,{"$f":"B54-((B54*'CV''er og tillatt feil'!$G$20)/100)","v":0},{"$f":"B54+((B54*'CV''er og tillatt feil'!$G$20)/100)","v":0},0,0,null,null,null,"","",""]
[null,null,null,null,null,null,"","","",-600,null,"",-600,"",-600,{"$f":"B55-((B55*'CV''er og tillatt feil'!$H$20)/100)","v":0},{"$f":"B55+((B55*'CV''er og tillatt feil'!$H$20)/100)","v":0},0,0,{"$f":"B55-((B55*'CV''er og tillatt feil'!$G$20)/100)","v":0},{"$f":"B55+((B55*'CV''er og tillatt feil'!$G$20)/100)","v":0},0,0,null,null,null,"","",""]
[null,null,null,null,null,null,"","","",-600,null,"",-600,"",-600,{"$f":"B56-((B56*'CV''er og tillatt feil'!$H$20)/100)","v":0},{"$f":"B56+((B56*'CV''er og tillatt feil'!$H$20)/100)","v":0},0,0,{"$f":"B56-((B56*'CV''er og tillatt feil'!$G$20)/100)","v":0},{"$f":"B56+((B56*'CV''er og tillatt feil'!$G$20)/100)","v":0},0,0,null,null,null,"","",""]
[null,null,null,null,null,null,"","","",-600,null,"",-600,"",-600,{"$f":"B57-((B57*'CV''er og tillatt feil'!$H$20)/100)","v":0},{"$f":"B57+((B57*'CV''er og tillatt feil'!$H$20)/100)","v":0},0,0,{"$f":"B57-((B57*'CV''er og tillatt feil'!$G$20)/100)","v":0},{"$f":"B57+((B57*'CV''er og tillatt feil'!$G$20)/100)","v":0},0,0,null,null,null,"","",""]
[null,null,null,null,null,null,"","","",-600,null,"",-600,"",-600,{"$f":"B58-((B58*'CV''er og tillatt feil'!$H$20)/100)","v":0},{"$f":"B58+((B58*'CV''er og tillatt feil'!$H$20)/100)","v":0},0,0,{"$f":"B58-((B58*'CV''er og tillatt feil'!$G$20)/100)","v":0},{"$f":"B58+((B58*'CV''er og tillatt feil'!$G$20)/100)","v":0},0,0,null,null,null,"","",""]
[null,null,null,null,null,null,"","","",-600,null,"",-600,"",-600,{"$f":"B59-((B59*'CV''er og tillatt feil'!$H$20)/100)","v":0},{"$f":"B59+((B59*'CV''er og tillatt feil'!$H$20)/100)","v":0},0,0,{"$f":"B59-((B59*'CV''er og tillatt feil'!$G$20)/100)","v":0},{"$f":"B59+((B59*'CV''er og tillatt feil'!$G$20)/100)","v":0},0,0,null,null,null,"","",""]
[null,null,null,null,null,null,"","","",-600,null,"",-600,"",-600,{"$f":"B60-((B60*'CV''er og tillatt feil'!$H$20)/100)","v":0},{"$f":"B60+((B60*'CV''er og tillatt feil'!$H$20)/100)","v":0},0,0,{"$f":"B60-((B60*'CV''er og tillatt feil'!$G$20)/100)","v":0},{"$f":"B60+((B60*'CV''er og tillatt feil'!$G$20)/100)","v":0},0,0,null,null,null,"","",""]
[null,null,null,null,null,null,"","","",-600,null,"",-600,"",-600,{"$f":"B61-((B61*'CV''er og tillatt feil'!$H$20)/100)","v":0},{"$f":"B61+((B61*'CV''er og tillatt feil'!$H$20)/100)","v":0},0,0,{"$f":"B61-((B61*'CV''er og tillatt feil'!$G$20)/100)","v":0},{"$f":"B61+((B61*'CV''er og tillatt feil'!$G$20)/100)","v":0},0,0,null,null,null,"","",""]
[null,null,null,null,null,null,"","","",-600,null,"",-600,"",-600,{"$f":"B62-((B62*'CV''er og tillatt feil'!$H$20)/100)","v":0},{"$f":"B62+((B62*'CV''er og tillatt feil'!$H$20)/100)","v":0},0,0,{"$f":"B62-((B62*'CV''er og tillatt feil'!$G$20)/100)","v":0},{"$f":"B62+((B62*'CV''er og tillatt feil'!$G$20)/100)","v":0},0,0,null,null,null,"","",""]
[null,null,null,null,null,null,"","","",-600,null,"",-600,"",-600,{"$f":"B63-((B63*'CV''er og tillatt feil'!$H$20)/100)","v":0},{"$f":"B63+((B63*'CV''er og tillatt feil'!$H$20)/100)","v":0},0,0,{"$f":"B63-((B63*'CV''er og tillatt feil'!$G$20)/100)","v":0},{"$f":"B63+((B63*'CV''er og tillatt feil'!$G$20)/100)","v":0},0,0,null,null,null,"","",""]
[null,null,null,null,null,null,"","","",-600,null,"",-600,"",-600,{"$f":"B64-((B64*'CV''er og tillatt feil'!$H$20)/100)","v":0},{"$f":"B64+((B64*'CV''er og tillatt feil'!$H$20)/100)","v":0},0,0,{"$f":"B64-((B64*'CV''er og tillatt feil'!$G$20)/100)","v":0},{"$f":"B64+((B64*'CV''er og tillatt feil'!$G$20)/100)","v":0},0,0,null,null,null,"","",""]
[null,null,null,null,null,null,"","","",-600,null,"",-600,"",-600,{"$f":"B65-((B65*'CV''er og tillatt feil'!$H$20)/100)","v":0},{"$f":"B65+((B65*'CV''er og tillatt feil'!$H$20)/100)","v":0},0,0,{"$f":"B65-((B65*'CV''er og tillatt feil'!$G$20)/100)","v":0},{"$f":"B65+((B65*'CV''er og tillatt feil'!$G$20)/100)","v":0},0,0,null,null,null,"","",""]
[null,null,null,null,null,null,"","","",-600,null,"",-600,"",-600,{"$f":"B66-((B66*'CV''er og tillatt feil'!$H$20)/100)","v":0},{"$f":"B66+((B66*'CV''er og tillatt feil'!$H$20)/100)","v":0},0,0,{"$f":"B66-((B66*'CV''er og tillatt feil'!$G$20)/100)","v":0},{"$f":"B66+((B66*'CV''er og tillatt feil'!$G$20)/100)","v":0},0,0,null,null,null,"","",""]
[null,null,null,null,null,null,"","","",-600,null,"",-600,"",-600,{"$f":"B67-((B67*'CV''er og tillatt feil'!$H$20)/100)","v":0},{"$f":"B67+((B67*'CV''er og tillatt feil'!$H$20)/100)","v":0},0,0,{"$f":"B67-((B67*'CV''er og tillatt feil'!$G$20)/100)","v":0},{"$f":"B67+((B67*'CV''er og tillatt feil'!$G$20)/100)","v":0},0,0,null,null,null,"","",""]
[null,null,null,null,null,null,"","","",-600,null,"",-600,"",-600,{"$f":"B68-((B68*'CV''er og tillatt feil'!$H$20)/100)","v":0},{"$f":"B68+((B68*'CV''er og tillatt feil'!$H$20)/100)","v":0},{"$f":"P68-B68","v":0},{"$f":"Q68-B68","v":0},{"$f":"B68-((B68*'CV''er og tillatt feil'!$G$20)/100)","v":0},{"$f":"B68+((B68*'CV''er og tillatt feil'!$G$20)/100)","v":0},0,0,null,null,null,"","",""]
[null,null,null,null,null,null,{"$f":"IF(C69<>\"\",IF((OR((H69>W69),(H69<V69))),IF(OR((H69>S69),(H69<R69)),\"STOPP\",\"Vurder\"),\"Ok\"),\"\")","v":""},{"$f":"IF(C69<>\"\",C69-$B69,\"\")","v":""},{"$f":"IF(E69<>\"\",IF((OR((J69>W69),(J69<V69))),IF(OR((J69>S69),(J69<R69)),\"STOPP\",\"Vurder\"),\"Ok\"),\"\")","v":""},{"$f":"IF(E69<>\"\",E69-$B69,-600)","v":-600},null,{"$f":"IF(D69<>\"\",IF((OR((M69>W69),(M69<V69))),IF(OR((M69>S69),(M69<R69)),\"STOPP\",\"Vurder\"),\"Ok\"),\"\")","v":""},{"$f":"IF(D69<>\"\",D69-$B69,-600)","v":-600},{"$f":"IF(F69<>\"\",IF((OR((O69>W69),(O69<V69))),IF(OR((O69>S69),(O69<R69)),\"STOPP\",\"Vurder\"),\"Ok\"),\"\")","v":""},{"$f":"IF(F69<>\"\",F69-$B69,-600)","v":-600},{"$f":"B69-((B69*'CV''er og tillatt feil'!$H$20)/100)","v":0},{"$f":"B69+((B69*'CV''er og tillatt feil'!$H$20)/100)","v":0},{"$f":"P69-B69","v":0},{"$f":"Q69-B69","v":0},{"$f":"B69-((B69*'CV''er og tillatt feil'!$G$20)/100)","v":0},{"$f":"B69+((B69*'CV''er og tillatt feil'!$G$20)/100)","v":0},{"$f":"T69-B69","v":0},{"$f":"U69-B69","v":0},null,null,null,{"$f":"IF(J69=-600,\"\",J69)","v":""},{"$f":"IF(M69=-600,\"\",M69)","v":""},{"$f":"IF(O69=-600,\"\",O69)","v":""}]
[null,null,null,null,null,null,"","","",-600,null,"",-600,"",-600,{"$f":"B70-((B70*'CV''er og tillatt feil'!$H$20)/100)","v":0},{"$f":"B70+((B70*'CV''er og tillatt feil'!$H$20)/100)","v":0},0,0,{"$f":"B70-((B70*'CV''er og tillatt feil'!$G$20)/100)","v":0},{"$f":"B70+((B70*'CV''er og tillatt feil'!$G$20)/100)","v":0},0,0,null,null,null,"","",""]
[null,null,null,null,null,null,"","","",-600,null,"",-600,"",-600,{"$f":"B71-((B71*'CV''er og tillatt feil'!$H$20)/100)","v":0},{"$f":"B71+((B71*'CV''er og tillatt feil'!$H$20)/100)","v":0},0,0,{"$f":"B71-((B71*'CV''er og tillatt feil'!$G$20)/100)","v":0},{"$f":"B71+((B71*'CV''er og tillatt feil'!$G$20)/100)","v":0},0,0,null,null,null,"","",""]
[null,null,null,null,null,null,"","","",-600,null,"",-600,"",-600,{"$f":"B72-((B72*'CV''er og tillatt feil'!$H$20)/100)","v":0},{"$f":"B72+((B72*'CV''er og tillatt feil'!$H$20)/100)","v":0},0,0,{"$f":"B72-((B72*'CV''er og tillatt feil'!$G$20)/100)","v":0},{"$f":"B72+((B72*'CV''er og tillatt feil'!$G$20)/100)","v":0},0,0,null,null,null,"","",""]
[null,null,null,null,null,null,"","","",-600,null,"",-600,"",-600,{"$f":"B73-((B73*'CV''er og tillatt feil'!$H$20)/100)","v":0},{"$f":"B73+((B73*'CV''er og tillatt feil'!$H$20)/100)","v":0},0,0,{"$f":"B73-((B73*'CV''er og tillatt feil'!$G$20)/100)","v":0},{"$f":"B73+((B73*'CV''er og tillatt feil'!$G$20)/100)","v":0},0,0,null,null,null,"","",""]
[null,null,null,null,null,null,"","","",-600,null,"",-600,"",-600,{"$f":"B74-((B74*'CV''er og tillatt feil'!$H$20)/100)","v":0},{"$f":"B74+((B74*'CV''er og tillatt feil'!$H$20)/100)","v":0},0,0,{"$f":"B74-((B74*'CV''er og tillatt feil'!$G$20)/100)","v":0},{"$f":"B74+((B74*'CV''er og tillatt feil'!$G$20)/100)","v":0},0,0,null,null,null,"","",""]
[null,null,null,null,null,null,"","","",-600,null,"",-600,"",-600,{"$f":"B75-((B75*'CV''er og tillatt feil'!$H$20)/100)","v":0},{"$f":"B75+((B75*'CV''er og tillatt feil'!$H$20)/100)","v":0},0,0,{"$f":"B75-((B75*'CV''er og tillatt feil'!$G$20)/100)","v":0},{"$f":"B75+((B75*'CV''er og tillatt feil'!$G$20)/100)","v":0},0,0,null,null,null,"","",""]
[null,null,null,null,null,null,"","","",-600,null,"",-600,"",-600,{"$f":"B76-((B76*'CV''er og tillatt feil'!$H$20)/100)","v":0},{"$f":"B76+((B76*'CV''er og tillatt feil'!$H$20)/100)","v":0},0,0,{"$f":"B76-((B76*'CV''er og tillatt feil'!$G$20)/100)","v":0},{"$f":"B76+((B76*'CV''er og tillatt feil'!$G$20)/100)","v":0},0,0,null,null,null,"","",""]
[null,null,null,null,null,null,"","","",-600,null,"",-600,"",-600,{"$f":"B77-((B77*'CV''er og tillatt feil'!$H$20)/100)","v":0},{"$f":"B77+((B77*'CV''er og tillatt feil'!$H$20)/100)","v":0},0,0,{"$f":"B77-((B77*'CV''er og tillatt feil'!$G$20)/100)","v":0},{"$f":"B77+((B77*'CV''er og tillatt feil'!$G$20)/100)","v":0},0,0,null,null,null,"","",""]
[null,null,null,null,null,null,"","","",-600,null,"",-600,"",-600,{"$f":"B78-((B78*'CV''er og tillatt feil'!$H$20)/100)","v":0},{"$f":"B78+((B78*'CV''er og tillatt feil'!$H$20)/100)","v":0},0,0,{"$f":"B78-((B78*'CV''er og tillatt feil'!$G$20)/100)","v":0},{"$f":"B78+((B78*'CV''er og tillatt feil'!$G$20)/100)","v":0},0,0,null,null,null,"","",""]
[null,null,null,null,null,null,"","","",-600,null,"",-600,"",-600,{"$f":"B79-((B79*'CV''er og tillatt feil'!$H$20)/100)","v":0},{"$f":"B79+((B79*'CV''er og tillatt feil'!$H$20)/100)","v":0},0,0,{"$f":"B79-((B79*'CV''er og tillatt feil'!$G$20)/100)","v":0},{"$f":"B79+((B79*'CV''er og tillatt feil'!$G$20)/100)","v":0},0,0,null,null,null,"","",""]
[null,null,null,null,null,null,"","","",-600,null,"",-600,"",-600,{"$f":"B80-((B80*'CV''er og tillatt feil'!$H$20)/100)","v":0},{"$f":"B80+((B80*'CV''er og tillatt feil'!$H$20)/100)","v":0},0,0,{"$f":"B80-((B80*'CV''er og tillatt feil'!$G$20)/100)","v":0},{"$f":"B80+((B80*'CV''er og tillatt feil'!$G$20)/100)","v":0},0,0,null,null,null,"","",""]
[null,null,null,null,null,null,"","","",-600,null,"",-600,"",-600,{"$f":"B81-((B81*'CV''er og tillatt feil'!$H$20)/100)","v":0},{"$f":"B81+((B81*'CV''er og tillatt feil'!$H$20)/100)","v":0},0,0,{"$f":"B81-((B81*'CV''er og tillatt feil'!$G$20)/100)","v":0},{"$f":"B81+((B81*'CV''er og tillatt feil'!$G$20)/100)","v":0},0,0,null,null,null,"","",""]
[null,null,null,null,null,null,"","","",-600,null,"",-600,"",-600,{"$f":"B82-((B82*'CV''er og tillatt feil'!$H$20)/100)","v":0},{"$f":"B82+((B82*'CV''er og tillatt feil'!$H$20)/100)","v":0},0,0,{"$f":"B82-((B82*'CV''er og tillatt feil'!$G$20)/100)","v":0},{"$f":"B82+((B82*'CV''er og tillatt feil'!$G$20)/100)","v":0},0,0,null,null,null,"","",""]
[null,null,null,null,null,null,"","","",-600,null,"",-600,"",-600,{"$f":"B83-((B83*'CV''er og tillatt feil'!$H$20)/100)","v":0},{"$f":"B83+((B83*'CV''er og tillatt feil'!$H$20)/100)","v":0},0,0,{"$f":"B83-((B83*'CV''er og tillatt feil'!$G$20)/100)","v":0},{"$f":"B83+((B83*'CV''er og tillatt feil'!$G$20)/100)","v":0},0,0,null,null,null,"","",""]
[null,null,null,null,null,null,"","","",-600,null,"",-600,"",-600,{"$f":"B84-((B84*'CV''er og tillatt feil'!$H$20)/100)","v":0},{"$f":"B84+((B84*'CV''er og tillatt feil'!$H$20)/100)","v":0},0,0,{"$f":"B84-((B84*'CV''er og tillatt feil'!$G$20)/100)","v":0},{"$f":"B84+((B84*'CV''er og tillatt feil'!$G$20)/100)","v":0},0,0,null,null,null,"","",""]
[null,null,null,null,null,null,"","","",-600,null,"",-600,"",-600,{"$f":"B85-((B85*'CV''er og tillatt feil'!$H$20)/100)","v":0},{"$f":"B85+((B85*'CV''er og tillatt feil'!$H$20)/100)","v":0},0,0,{"$f":"B85-((B85*'CV''er og tillatt feil'!$G$20)/100)","v":0},{"$f":"B85+((B85*'CV''er og tillatt feil'!$G$20)/100)","v":0},0,0,null,null,null,"","",""]
[null,null,null,null,null,null,"","","",-600,null,"",-600,"",-600,{"$f":"B86-((B86*'CV''er og tillatt feil'!$H$20)/100)","v":0},{"$f":"B86+((B86*'CV''er og tillatt feil'!$H$20)/100)","v":0},0,0,{"$f":"B86-((B86*'CV''er og tillatt feil'!$G$20)/100)","v":0},{"$f":"B86+((B86*'CV''er og tillatt feil'!$G$20)/100)","v":0},0,0,null,null,null,"","",""]
[null,null,null,null,null,null,"","","",-600,null,"",-600,"",-600,{"$f":"B87-((B87*'CV''er og tillatt feil'!$H$20)/100)","v":0},{"$f":"B87+((B87*'CV''er og tillatt feil'!$H$20)/100)","v":0},0,0,{"$f":"B87-((B87*'CV''er og tillatt feil'!$G$20)/100)","v":0},{"$f":"B87+((B87*'CV''er og tillatt feil'!$G$20)/100)","v":0},0,0,null,null,null,"","",""]
[null,null,null,null,null,null,"","","",-600,null,"",-600,"",-600,{"$f":"B88-((B88*'CV''er og tillatt feil'!$H$20)/100)","v":0},{"$f":"B88+((B88*'CV''er og tillatt feil'!$H$20)/100)","v":0},0,0,{"$f":"B88-((B88*'CV''er og tillatt feil'!$G$20)/100)","v":0},{"$f":"B88+((B88*'CV''er og tillatt feil'!$G$20)/100)","v":0},0,0,null,null,null,"","",""]
[null,null,null,null,null,null,"","","",-600,null,"",-600,"",-600,{"$f":"B89-((B89*'CV''er og tillatt feil'!$H$20)/100)","v":0},{"$f":"B89+((B89*'CV''er og tillatt feil'!$H$20)/100)","v":0},0,0,{"$f":"B89-((B89*'CV''er og tillatt feil'!$G$20)/100)","v":0},{"$f":"B89+((B89*'CV''er og tillatt feil'!$G$20)/100)","v":0},0,0,null,null,null,"","",""]
[null,null,null,null,null,null,"","","",-600,null,"",-600,"",-600,{"$f":"B90-((B90*'CV''er og tillatt feil'!$H$20)/100)","v":0},{"$f":"B90+((B90*'CV''er og tillatt feil'!$H$20)/100)","v":0},0,0,{"$f":"B90-((B90*'CV''er og tillatt feil'!$G$20)/100)","v":0},{"$f":"B90+((B90*'CV''er og tillatt feil'!$G$20)/100)","v":0},0,0,null,null,null,"","",""]
[null,null,null,null,null,null,"","","",-600,null,"",-600,"",-600,{"$f":"B91-((B91*'CV''er og tillatt feil'!$H$20)/100)","v":0},{"$f":"B91+((B91*'CV''er og tillatt feil'!$H$20)/100)","v":0},0,0,{"$f":"B91-((B91*'CV''er og tillatt feil'!$G$20)/100)","v":0},{"$f":"B91+((B91*'CV''er og tillatt feil'!$G$20)/100)","v":0},0,0,null,null,null,"","",""]
[null,null,null,null,null,null,"","","",-600,null,"",-600,"",-600,{"$f":"B92-((B92*'CV''er og tillatt feil'!$H$20)/100)","v":0},{"$f":"B92+((B92*'CV''er og tillatt feil'!$H$20)/100)","v":0},0,0,{"$f":"B92-((B92*'CV''er og tillatt feil'!$G$20)/100)","v":0},{"$f":"B92+((B92*'CV''er og tillatt feil'!$G$20)/100)","v":0},0,0,null,null,null,"","",""]
[null,null,null,null,null,null,"","","",-600,null,"",-600,"",-600,{"$f":"B93-((B93*'CV''er og tillatt feil'!$H$20)/100)","v":0},{"$f":"B93+((B93*'CV''er og tillatt feil'!$H$20)/100)","v":0},0,0,{"$f":"B93-((B93*'CV''er og tillatt feil'!$G$20)/100)","v":0},{"$f":"B93+((B93*'CV''er og tillatt feil'!$G$20)/100)","v":0},0,0,null,null,null,"","",""]
[null,null,null,null,null,null,"","","",-600,null,"",-600,"",-600,{"$f":"B94-((B94*'CV''er og tillatt feil'!$H$20)/100)","v":0},{"$f":"B94+((B94*'CV''er og tillatt feil'!$H$20)/100)","v":0},0,0,{"$f":"B94-((B94*'CV''er og tillatt feil'!$G$20)/100)","v":0},{"$f":"B94+((B94*'CV''er og tillatt feil'!$G$20)/100)","v":0},0,0,null,null,null,"","",""]
[null,null,null,null,null,null,"","","",-600,null,"",-600,"",-600,{"$f":"B95-((B95*'CV''er og tillatt feil'!$H$20)/100)","v":0},{"$f":"B95+((B95*'CV''er og tillatt feil'!$H$20)/100)","v":0},0,0,{"$f":"B95-((B95*'CV''er og tillatt feil'!$G$20)/100)","v":0},{"$f":"B95+((B95*'CV''er og tillatt feil'!$G$20)/100)","v":0},0,0,null,null,null,"","",""]
[null,null,null,null,null,null,"","","",-600,null,"",-600,"",-600,{"$f":"B96-((B96*'CV''er og tillatt feil'!$H$20)/100)","v":0},{"$f":"B96+((B96*'CV''er og tillatt feil'!$H$20)/100)","v":0},0,0,{"$f":"B96-((B96*'CV''er og tillatt feil'!$G$20)/100)","v":0},{"$f":"B96+((B96*'CV''er og tillatt feil'!$G$20)/100)","v":0},0,0,null,null,null,"","",""]
[null,null,null,null,null,null,"","","",-600,null,"",-600,"",-600,{"$f":"B97-((B97*'CV''er og tillatt feil'!$H$20)/100)","v":0},{"$f":"B97+((B97*'CV''er og tillatt feil'!$H$20)/100)","v":0},0,0,{"$f":"B97-((B97*'CV''er og tillatt feil'!$G$20)/100)","v":0},{"$f":"B97+((B97*'CV''er og tillatt feil'!$G$20)/100)","v":0},0,0,null,null,null,"","",""]
[null,null,null,null,null,null,"","","",-600,null,"",-600,"",-600,{"$f":"B98-((B98*'CV''er og tillatt feil'!$H$20)/100)","v":0},{"$f":"B98+((B98*'CV''er og tillatt feil'!$H$20)/100)","v":0},0,0,{"$f":"B98-((B98*'CV''er og tillatt feil'!$G$20)/100)","v":0},{"$f":"B98+((B98*'CV''er og tillatt feil'!$G$20)/100)","v":0},0,0,null,null,null,"","",""]
[null,null,null,null,null,null,"","","",-600,null,"",-600,"",-600,{"$f":"B99-((B99*'CV''er og tillatt feil'!$H$20)/100)","v":0},{"$f":"B99+((B99*'CV''er og tillatt feil'!$H$20)/100)","v":0},0,0,{"$f":"B99-((B99*'CV''er og tillatt feil'!$G$20)/100)","v":0},{"$f":"B99+((B99*'CV''er og tillatt feil'!$G$20)/100)","v":0},0,0,null,null,null,"","",""]
[null,null,null,null,null,null,"","","",-600,null,"",-600,"",-600,{"$f":"B100-((B100*'CV''er og tillatt feil'!$H$20)/100)","v":0},{"$f":"B100+((B100*'CV''er og tillatt feil'!$H$20)/100)","v":0},0,0,{"$f":"B100-((B100*'CV''er og tillatt feil'!$G$20)/100)","v":0},{"$f":"B100+((B100*'CV''er og tillatt feil'!$G$20)/100)","v":0},0,0,null,null,null,"","",""]
[null,null,null,null,null,null,"","","",-600,null,"",-600,"",-600,{"$f":"B101-((B101*'CV''er og tillatt feil'!$H$20)/100)","v":0},{"$f":"B101+((B101*'CV''er og tillatt feil'!$H$20)/100)","v":0},0,0,{"$f":"B101-((B101*'CV''er og tillatt feil'!$G$20)/100)","v":0},{"$f":"B101+((B101*'CV''er og tillatt feil'!$G$20)/100)","v":0},0,0,null,null,null,"","",""]
[null,null,null,null,null,null,"","","",-600,null,"",-600,"",-600,{"$f":"B102-((B102*'CV''er og tillatt feil'!$H$20)/100)","v":0},{"$f":"B102+((B102*'CV''er og tillatt feil'!$H$20)/100)","v":0},0,0,{"$f":"B102-((B102*'CV''er og tillatt feil'!$G$20)/100)","v":0},{"$f":"B102+((B102*'CV''er og tillatt feil'!$G$20)/100)","v":0},0,0,null,null,null,"","",""]
[null,null,null,null,null,null,"","","",-600,null,"",-600,"",-600,{"$f":"B103-((B103*'CV''er og tillatt feil'!$H$20)/100)","v":0},{"$f":"B103+((B103*'CV''er og tillatt feil'!$H$20)/100)","v":0},0,0,{"$f":"B103-((B103*'CV''er og tillatt feil'!$G$20)/100)","v":0},{"$f":"B103+((B103*'CV''er og tillatt feil'!$G$20)/100)","v":0},0,0,null,null,null,"","",""]
[null,null,null,null,null,null,"","","",-600,null,"",-600,"",-600,{"$f":"B104-((B104*'CV''er og tillatt feil'!$H$20)/100)","v":0},{"$f":"B104+((B104*'CV''er og tillatt feil'!$H$20)/100)","v":0},{"$f":"P104-B104","v":0},{"$f":"Q104-B104","v":0},{"$f":"B104-((B104*'CV''er og tillatt feil'!$G$20)/100)","v":0},{"$f":"B104+((B104*'CV''er og tillatt feil'!$G$20)/100)","v":0},{"$f":"T104-B104","v":0},{"$f":"U104-B104","v":0},null,null,null,"","",""]
["Antall",{"$f":"COUNT( B5:C104)","v":0},{"$f":"COUNT( C5:D104)","v":0},{"$f":"COUNT( D5:E104)","v":0},{"$f":"COUNT( E5:F104)","v":0},{"$f":"COUNT( F5:G104)","v":0},null,{"$f":"COUNT(H5:H104)","v":0},null,{"$f":"COUNT(AA5:AA104)","v":0},{"$f":"COUNT(K5:K54)","v":0},null,{"$f":"COUNT(AB5:AB104)","v":0},null,null,null,null,null,null,null,null,null,null,null,null,null,null,0,0]
["Mean",{"$f":"AVERAGE(B5:B104)","v":{"$error":"#DIV/0!"}},{"$f":"AVERAGE(C5:C104)","v":{"$error":"#DIV/0!"}},{"$f":"AVERAGE(D5:D104)","v":{"$error":"#DIV/0!"}},{"$f":"AVERAGE(E5:E104)","v":{"$error":"#DIV/0!"}},{"$f":"AVERAGE(F5:F104)","v":{"$error":"#DIV/0!"}},null,{"$f":"AVERAGE(H5:H105)","v":0},null,{"$f":"AVERAGE(AA5:AA104)","v":{"$error":"#DIV/0!"}},{"$f":"AVERAGE(K5:K54)","v":{"$error":"#DIV/0!"}},null,{"$f":"AVERAGE(AB5:AB104)","v":{"$error":"#DIV/0!"}}]
["Min",{"$f":"MIN(B5:B104)","v":0},{"$f":"MIN(C5:C104)","v":0},{"$f":"MIN(D5:D104)","v":0},{"$f":"MIN(E5:E104)","v":0},{"$f":"MIN(F5:F104)","v":0},null,{"$f":"MIN(H5:H105)","v":0},null,{"$f":"MIN(AA5:AA104)","v":0},{"$f":"MIN(K5:K54)","v":0},null,{"$f":"MIN(AB5:AB104)","v":0}]
["Max",{"$f":"MAX(B5:B104)","v":0},{"$f":"MAX(C5:C104)","v":0},{"$f":"MAX(D5:D104)","v":0},{"$f":"MAX(E5:E104)","v":0},{"$f":"MAX(F5:F104)","v":0},null,{"$f":"MAX(H5:H105)","v":0},null,{"$f":"MAX(AA5:AA104)","v":0},{"$f":"MAX(K5:K54)","v":0},null,{"$f":"MAX(AB5:AB104)","v":0}]
[]
[]
[]
[]
[]
[]
[]
[]
[]
[null,null,null,null,null,null,null,null,null,"                                "]

{"sheet":"CV'er og tillatt feil","index":13,"n_rows":28,"n_cols":18,"rows_kept":28,"cut":false,"hidden":false,"merged":[[12,12,12,14],[12,15,12,17]]}
["|"]
[]
[]
[]
[null,null,"Denne samkjøring med pasientprøver er valgt etter modell fra NOKLUS v/ Sverre Sandberg og Nina G. Christensen."]
[null,null,"Totalgrenser (røde) for tillatt variasjon er satt etter en vurdering av analysens yteevne i forhold til de medisinske behov."]
[null,null,"Og akseptable (grønne) er satt etter utregning av total CV x 2 for Sysmex XN-1500 og Sysmex XN-1000."]
[null,null,"Felles CV Levanger Namsos"]
[null,null,"CVtotal= √ CVSysmex XN-15002 + CVSysmex XN-10002"]
[]
[null,null,"Det er gjort et skjønn når CV for hvert instrument er satt. XN-1500 er valgt som hovedinstrument."]
[]
[null,null,null,null,null,null,null,null,null,null,null,null,"XN-1500",null,null,"XN-1000"]
[null,null,"Parameter","Sysmex XN1500\nCV","Sysmex XN1000\nCV","Beregning CVtotal","GRØNN\n2 x CVtotal","              RØD\nFastlagt etter en vurdering av analysens yteevne i forhold til de medisinske behov\nGjennomgått med Medisinsk faglig rådgiver Arne Åsberg 29/4-19.",null,null,null,null,"CV L","CV H","CV","CV L","CV N","CV"]
[null,null,"WBC",1.71,1.89,{"$f":"SQRT(D15^2+E15^2)","v":2.5487644065311335},{"$f":"2*F15","v":5.0975288130622669},11,null,null,null,"WBC",2.12,1.1499999999999999,{"$f":"SQRT((M15^2+N15^2)/2)","v":1.7054178373642044},2.1800000000000002,1.55,{"$f":"SQRT((P15^2+Q15^2)/2)","v":1.8914148143651621}]
[null,null,"RBC",0.89,0.91,1.2728707711311467,2.5457415422622933,5,null,null,null,"RBC",1.01,0.74,{"$f":"SQRT((M16^2+N16^2)/2)","v":0.88535303692933698},1,0.8,{"$f":"SQRT((P16^2+Q16^2)/2)","v":0.90553851381374173}]
[null,null,"HGB",0.77,0.78,1.0960383204979651,2.1920766409959302,5,null,null,null,"HGB",0.94,0.55000000000000004,0.77009739643761943,0.85,0.7,0.77862057511987182]
[null,null,"HCT",1.36,1.4,1.9518196638009364,3.9036393276018728,10,null,null,null,"HCT",1.59,1.07,1.3551752654177245,1.58,1.2,1.4029255147726127]
[null,null,"RETIC",3.89,3.2,5.0370725625108879,10.074145125021776,30,null,null,null,"RETIC",2.9,4.67,3.887087598704202,2.74,3.6,3.1990311033186285]
[null,null,"PLT",3.58,3.85,5.2572711552667704,10.514542310533541,20,null,null,null,"PLT",4.8,1.63,3.5844734620303718,4.88,2.4,3.8454128516974611]
[]
[null,null,"Benyttede CV'er:"]
[null,null,"WBC","CVmid for L og H ktr","CVmid for L og N ktr",null,"Dette regnearket og CV'ene sjekkes årlig."]
[null,null,"RBC","CVmid for L og H ktr","CVmid for L og N ktr",null,"CV for Sysmex XN1000 er fra året 2024."]
[null,null,"HGB","CVmid for L og H ktr","CVmid for L og N ktr",null,"CV for Sysmex XN1500 er fra året 2024."]
[null,null,"HCT","CVmid for L og H ktr","CVmid for L og N ktr"]
[null,null,"RETIC","CVmid for L og H ktr","CVmid for L og N ktr"]
[null,null,"PLT","CVmid for L og H ktr","CVmid for L og N ktr"]

{"sheet":"Aksjonsregler","index":14,"n_rows":1,"n_cols":1,"rows_kept":1,"cut":false,"hidden":false,"merged":[]}
[{"$f":"Oversikt!D1","v":"EQS dokument 13856 versjon 3.9"}]