{"text_format":"1","workbook":"xlsx","n_sheets":15,"sheets":["Grenser","Kommentar_Vurdering","Registrering","Ikke i bruk 1","Ikke i bruk 2","Ikke i bruk 3","Ikke i bruk 4","Ikke i bruk 5","Ikke i bruk 6","Ikke i bruk 7","Ikke i bruk 8","Ikke i bruk 9","Ikke i bruk 10","Ikke i bruk 11","Ikke i bruk 12"],"not_rendered":{"charts":12,"images":0,"macros":1,"external_links":0,"defined_names":0,"comments":0,"pivot_tables":0},"unopened":[],"bounds":{"document_bytes":16777216,"sheet_cells":100000,"rows_first":2000,"rows_last":500,"rows_between":2000,"halvings":0,"cell_chars":16384,"cell_head_chars":4096},"cells_cut":0,"cells_raw":0,"read":"whole","date_system":"1900"}

{"sheet":"Grenser","index":0,"n_rows":15,"n_cols":7,"rows_kept":15,"cut":false,"hidden":false,"merged":[]}
["EQSDocument 17946, v2.2"]
["Stamme:"]
[null,"Antibiotika","Lav Sone","Høy Sone","Diagram Sone Lav","Diagram Sone Høy","Soneutvidelseutvidelse"]
[null,"Ikke i bruk 1",null,null,{"$f":"C4-$G$4","v":-3},{"$f":"D4+$G$4","v":3},3]
[null,"Ikke i bruk 2",null,null,{"$f":"C5-$G$4","v":-3},{"$f":"D5+$G$4","v":3}]
[null,"Ikke i bruk 3",null,null,-3,3]
[null,"Ikke i bruk 4",null,null,-3,3]
[null,"Ikke i bruk 5",null,null,-3,3]
[null,"Ikke i bruk 6",null,null,-3,3]
[null,"Ikke i bruk 7",null,null,-3,3]
[null,"Ikke i bruk 8",null,null,-3,3]
[null,"Ikke i bruk 9",null,null,-3,3]
[null,"Ikke i bruk 10",null,null,-3,3]
[null,"Ikke i bruk 11",null,null,-3,3]
[null,"Ikke i bruk 12",null,null,-3,3]

{"sheet":"Kommentar_Vurdering","index":1,"n_rows":2,"n_cols":3,"rows_kept":2,"cut":false,"hidden":false,"merged":[]}
[{"$f":"Grenser!A1","v":"EQSDocument 17946, v2.2"}]
["Dato","Sign","Kommentar"]

{"sheet":"Registrering","index":2,"n_rows":17,"n_cols":5,"rows_kept":17,"cut":false,"hidden":false,"merged":[[16,1,16,3],[17,1,17,3]]}
[{"$f":"Grenser!A1","v":"EQSDocument 17946, v2.2"},null,null,"Sist avlest:","25.01.2024"]
[{"$f":"Grenser!A2","v":"Stamme:"}]
[null,"Avlest Dato:",null,"Fylles ut hvis ikke dagens dato."]
[null,"Antibiotika","Avlest sone","Satt opp av:","Avlest av:"]
[null,{"$f":"Grenser!B4","v":"Ikke i bruk 1"}]
[null,{"$f":"Grenser!B5","v":"Ikke i bruk 2"}]
[null,{"$f":"Grenser!B6","v":"Ikke i bruk 3"}]
[null,{"$f":"Grenser!B7","v":"Ikke i bruk 4"}]
[null,{"$f":"Grenser!B8","v":"Ikke i bruk 5"}]
[null,{"$f":"Grenser!B9","v":"Ikke i bruk 6"}]
[null,{"$f":"Grenser!B10","v":"Ikke i bruk 7"}]
[null,{"$f":"Grenser!B11","v":"Ikke i bruk 8"}]
[null,{"$f":"Grenser!B12","v":"Ikke i bruk 9"}]
[null,{"$f":"Grenser!B13","v":"Ikke i bruk 10"}]
[null,{"$f":"Grenser!B14","v":"Ikke i bruk 11"}]
[null,{"$f":"Grenser!B15","v":"Ikke i bruk 12"}]
[null,"Produksjonsdato res.skål"]

{"sheet":"Ikke i bruk 1","index":3,"n_rows":199,"n_cols":11,"rows_kept":199,"cut":false,"hidden":false,"merged":[[0,0,0,9]]}
[{"$f":"Grenser!B4","v":"Ikke i bruk 1"}]
["Antall",{"$f":" COUNT(B7:B199)","v":0}]
["Middelverdi",{"$f":"AVERAGE(B7:B199)","v":{"$error":"#DIV/0!"}}]
["Standardavvik",{"$f":"STDEV(B7:B199)","v":{"$error":"#DIV/0!"}}]
["Median",{"$f":"MEDIAN(B7:B199)","v":{"$error":"#NUM!"}}]
["Dato avlest","Avlest sone","Vurdering","Produksjonsdato res.skål","Satt opp sign","Lav grense","Høy grense","Dato Satt opp","Avlest sign","Teller","Avlest sone korrigert"]
[null,null,{"$f":"IF(B7<>\"\",(IF(OR(B7<F7,B7>G7),\"STOPP\",\"OK\")),\"\")","v":""},null,null,null,null,null,null,null,{"$f":"IF(AND(B7>=(F7-Grenser!$G$4),B7<=(G7+Grenser!$G$4)),B7,IF(B7>(G7+Grenser!$G$4),G7+Grenser!$G$4,F7-Grenser!$G$4))","v":0}]
[null,null,"",null,null,null,null,null,null,null,{"$f":"IF(AND(B8>=(F8-Grenser!$G$4),B8<=(G8+Grenser!$G$4)),B8,IF(B8>(G8+Grenser!$G$4),G8+Grenser!$G$4,F8-Grenser!$G$4))","v":0}]
[null,null,"",null,null,null,null,null,null,null,{"$f":"IF(AND(B9>=(F9-Grenser!$G$4),B9<=(G9+Grenser!$G$4)),B9,IF(B9>(G9+Grenser!$G$4),G9+Grenser!$G$4,F9-Grenser!$G$4))","v":0}]
[null,null,"",null,null,null,null,null,null,null,{"$f":"IF(AND(B10>=(F10-Grenser!$G$4),B10<=(G10+Grenser!$G$4)),B10,IF(B10>(G10+Grenser!$G$4),G10+Grenser!$G$4,F10-Grenser!$G$4))","v":0}]
[null,null,"",null,null,null,null,null,null,null,{"$f":"IF(AND(B11>=(F11-Grenser!$G$4),B11<=(G11+Grenser!$G$4)),B11,IF(B11>(G11+Grenser!$G$4),G11+Grenser!$G$4,F11-Grenser!$G$4))","v":0}]
[null,null,"",null,null,null,null,null,null,null,{"$f":"IF(AND(B12>=(F12-Grenser!$G$4),B12<=(G12+Grenser!$G$4)),B12,IF(B12>(G12+Grenser!$G$4),G12+Grenser!$G$4,F12-Grenser!$G$4))","v":0}]
[null,null,"",null,null,null,null,null,null,null,{"$f":"IF(AND(B13>=(F13-Grenser!$G$4),B13<=(G13+Grenser!$G$4)),B13,IF(B13>(G13+Grenser!$G$4),G13+Grenser!$G$4,F13-Grenser!$G$4))","v":0}]
[null,null,"",null,null,null,null,null,null,null,{"$f":"IF(AND(B14>=(F14-Grenser!$G$4),B14<=(G14+Grenser!$G$4)),B14,IF(B14>(G14+Grenser!$G$4),G14+Grenser!$G$4,F14-Grenser!$G$4))","v":0}]
[null,null,"",null,null,null,null,null,null,null,{"$f":"IF(AND(B15>=(F15-Grenser!$G$4),B15<=(G15+Grenser!$G$4)),B15,IF(B15>(G15+Grenser!$G$4),G15+Grenser!$G$4,F15-Grenser!$G$4))","v":0}]
[null,null,"",null,null,null,null,null,null,null,{"$f":"IF(AND(B16>=(F16-Grenser!$G$4),B16<=(G16+Grenser!$G$4)),B16,IF(B16>(G16+Grenser!$G$4),G16+Grenser!$G$4,F16-Grenser!$G$4))","v":0}]
[null,null,"",null,null,null,null,null,null,null,{"$f":"IF(AND(B17>=(F17-Grenser!$G$4),B17<=(G17+Grenser!$G$4)),B17,IF(B17>(G17+Grenser!$G$4),G17+Grenser!$G$4,F17-Grenser!$G$4))","v":0}]
[null,null,"",null,null,null,null,null,null,null,{"$f":"IF(AND(B18>=(F18-Grenser!$G$4),B18<=(G18+Grenser!$G$4)),B18,IF(B18>(G18+Grenser!$G$4),G18+Grenser!$G$4,F18-Grenser!$G$4))","v":0}]
[null,null,"",null,null,null,null,null,null,null,{"$f":"IF(AND(B19>=(F19-Grenser!$G$4),B19<=(G19+Grenser!$G$4)),B19,IF(B19>(G19+Grenser!$G$4),G19+Grenser!$G$4,F19-Grenser!$G$4))","v":0}]
[null,null,"",null,null,null,null,null,null,null,{"$f":"IF(AND(B20>=(F20-Grenser!$G$4),B20<=(G20+Grenser!$G$4)),B20,IF(B20>(G20+Grenser!$G$4),G20+Grenser!$G$4,F20-Grenser!$G$4))","v":0}]
[null,null,"",null,null,null,null,null,null,null,{"$f":"IF(AND(B21>=(F21-Grenser!$G$4),B21<=(G21+Grenser!$G$4)),B21,IF(B21>(G21+Grenser!$G$4),G21+Grenser!$G$4,F21-Grenser!$G$4))","v":0}]
[null,null,"",null,null,null,null,null,null,null,{"$f":"IF(AND(B22>=(F22-Grenser!$G$4),B22<=(G22+Grenser!$G$4)),B22,IF(B22>(G22+Grenser!$G$4),G22+Grenser!$G$4,F22-Grenser!$G$4))","v":0}]
[null,null,"",null,null,null,null,null,null,null,{"$f":"IF(AND(B23>=(F23-Grenser!$G$4),B23<=(G23+Grenser!$G$4)),B23,IF(B23>(G23+Grenser!$G$4),G23+Grenser!$G$4,F23-Grenser!$G$4))","v":0}]
[null,null,"",null,null,null,null,null,null,null,{"$f":"IF(AND(B24>=(F24-Grenser!$G$4),B24<=(G24+Grenser!$G$4)),B24,IF(B24>(G24+Grenser!$G$4),G24+Grenser!$G$4,F24-Grenser!$G$4))","v":0}]
[null,null,"",null,null,null,null,null,null,null,{"$f":"IF(AND(B25>=(F25-Grenser!$G$4),B25<=(G25+Grenser!$G$4)),B25,IF(B25>(G25+Grenser!$G$4),G25+Grenser!$G$4,F25-Grenser!$G$4))","v":0}]
[null,null,"",null,null,null,null,null,null,null,{"$f":"IF(AND(B26>=(F26-Grenser!$G$4),B26<=(G26+Grenser!$G$4)),B26,IF(B26>(G26+Grenser!$G$4),G26+Grenser!$G$4,F26-Grenser!$G$4))","v":0}]
[null,null,"",null,null,null,null,null,null,null,{"$f":"IF(AND(B27>=(F27-Grenser!$G$4),B27<=(G27+Grenser!$G$4)),B27,IF(B27>(G27+Grenser!$G$4),G27+Grenser!$G$4,F27-Grenser!$G$4))","v":0}]
[null,null,"",null,null,null,null,null,null,null,{"$f":"IF(AND(B28>=(F28-Grenser!$G$4),B28<=(G28+Grenser!$G$4)),B28,IF(B28>(G28+Grenser!$G$4),G28+Grenser!$G$4,F28-Grenser!$G$4))","v":0}]
[null,null,"",null,null,null,null,null,null,null,{"$f":"IF(AND(B29>=(F29-Grenser!$G$4),B29<=(G29+Grenser!$G$4)),B29,IF(B29>(G29+Grenser!$G$4),G29+Grenser!$G$4,F29-Grenser!$G$4))","v":0}]
[null,null,"",null,null,null,null,null,null,null,{"$f":"IF(AND(B30>=(F30-Grenser!$G$4),B30<=(G30+Grenser!$G$4)),B30,IF(B30>(G30+Grenser!$G$4),G30+Grenser!$G$4,F30-Grenser!$G$4))","v":0}]
[null,null,"",null,null,null,null,null,null,null,{"$f":"IF(AND(B31>=(F31-Grenser!$G$4),B31<=(G31+Grenser!$G$4)),B31,IF(B31>(G31+Grenser!$G$4),G31+Grenser!$G$4,F31-Grenser!$G$4))","v":0}]
[null,null,"",null,null,null,null,null,null,null,{"$f":"IF(AND(B32>=(F32-Grenser!$G$4),B32<=(G32+Grenser!$G$4)),B32,IF(B32>(G32+Grenser!$G$4),G32+Grenser!$G$4,F32-Grenser!$G$4))","v":0}]
[null,null,"",null,null,null,null,null,null,null,{"$f":"IF(AND(B33>=(F33-Grenser!$G$4),B33<=(G33+Grenser!$G$4)),B33,IF(B33>(G33+Grenser!$G$4),G33+Grenser!$G$4,F33-Grenser!$G$4))","v":0}]
[null,null,"",null,null,null,null,null,null,null,{"$f":"IF(AND(B34>=(F34-Grenser!$G$4),B34<=(G34+Grenser!$G$4)),B34,IF(B34>(G34+Grenser!$G$4),G34+Grenser!$G$4,F34-Grenser!$G$4))","v":0}]
[null,null,"",null,null,null,null,null,null,null,{"$f":"IF(AND(B35>=(F35-Grenser!$G$4),B35<=(G35+Grenser!$G$4)),B35,IF(B35>(G35+Grenser!$G$4),G35+Grenser!$G$4,F35-Grenser!$G$4))","v":0}]
[null,null,"",null,null,null,null,null,null,null,{"$f":"IF(AND(B36>=(F36-Grenser!$G$4),B36<=(G36+Grenser!$G$4)),B36,IF(B36>(G36+Grenser!$G$4),G36+Grenser!$G$4,F36-Grenser!$G$4))","v":0}]
[null,null,"",null,null,null,null,null,null,null,{"$f":"IF(AND(B37>=(F37-Grenser!$G$4),B37<=(G37+Grenser!$G$4)),B37,IF(B37>(G37+Grenser!$G$4),G37+Grenser!$G$4,F37-Grenser!$G$4))","v":0}]
[null,null,"",null,null,null,null,null,null,null,{"$f":"IF(AND(B38>=(F38-Grenser!$G$4),B38<=(G38+Grenser!$G$4)),B38,IF(B38>(G38+Grenser!$G$4),G38+Grenser!$G$4,F38-Grenser!$G$4))","v":0}]
[null,null,"",null,null,null,null,null,null,null,{"$f":"IF(AND(B39>=(F39-Grenser!$G$4),B39<=(G39+Grenser!$G$4)),B39,IF(B39>(G39+Grenser!$G$4),G39+Grenser!$G$4,F39-Grenser!$G$4))","v":0}]
[null,null,"",null,null,null,null,null,null,null,{"$f":"IF(AND(B40>=(F40-Grenser!$G$4),B40<=(G40+Grenser!$G$4)),B40,IF(B40>(G40+Grenser!$G$4),G40+Grenser!$G$4,F40-Grenser!$G$4))","v":0}]
[null,null,"",null,null,null,null,null,null,null,{"$f":"IF(AND(B41>=(F41-Grenser!$G$4),B41<=(G41+Grenser!$G$4)),B41,IF(B41>(G41+Grenser!$G$4),G41+Grenser!$G$4,F41-Grenser!$G$4))","v":0}]
[null,null,"",null,null,null,null,null,null,null,{"$f":"IF(AND(B42>=(F42-Grenser!$G$4),B42<=(G42+Grenser!$G$4)),B42,IF(B42>(G42+Grenser!$G$4),G42+Grenser!$G$4,F42-Grenser!$G$4))","v":0}]
[null,null,"",null,null,null,null,null,null,null,{"$f":"IF(AND(B43>=(F43-Grenser!$G$4),B43<=(G43+Grenser!$G$4)),B43,IF(B43>(G43+Grenser!$G$4),G43+Grenser!$G$4,F43-Grenser!$G$4))","v":0}]
[null,null,"",null,null,null,null,null,null,null,{"$f":"IF(AND(B44>=(F44-Grenser!$G$4),B44<=(G44+Grenser!$G$4)),B44,IF(B44>(G44+Grenser!$G$4),G44+Grenser!$G$4,F44-Grenser!$G$4))","v":0}]
[null,null,"",null,null,null,null,null,null,null,{"$f":"IF(AND(B45>=(F45-Grenser!$G$4),B45<=(G45+Grenser!$G$4)),B45,IF(B45>(G45+Grenser!$G$4),G45+Grenser!$G$4,F45-Grenser!$G$4))","v":0}]
[null,null,"",null,null,null,null,null,null,null,{"$f":"IF(AND(B46>=(F46-Grenser!$G$4),B46<=(G46+Grenser!$G$4)),B46,IF(B46>(G46+Grenser!$G$4),G46+Grenser!$G$4,F46-Grenser!$G$4))","v":0}]
[null,null,"",null,null,null,null,null,null,null,{"$f":"IF(AND(B47>=(F47-Grenser!$G$4),B47<=(G47+Grenser!$G$4)),B47,IF(B47>(G47+Grenser!$G$4),G47+Grenser!$G$4,F47-Grenser!$G$4))","v":0}]
[null,null,"",null,null,null,null,null,null,null,{"$f":"IF(AND(B48>=(F48-Grenser!$G$4),B48<=(G48+Grenser!$G$4)),B48,IF(B48>(G48+Grenser!$G$4),G48+Grenser!$G$4,F48-Grenser!$G$4))","v":0}]
[null,null,"",null,null,null,null,null,null,null,{"$f":"IF(AND(B49>=(F49-Grenser!$G$4),B49<=(G49+Grenser!$G$4)),B49,IF(B49>(G49+Grenser!$G$4),G49+Grenser!$G$4,F49-Grenser!$G$4))","v":0}]
[null,null,"",null,null,null,null,null,null,null,{"$f":"IF(AND(B50>=(F50-Grenser!$G$4),B50<=(G50+Grenser!$G$4)),B50,IF(B50>(G50+Grenser!$G$4),G50+Grenser!$G$4,F50-Grenser!$G$4))","v":0}]
[null,null,"",null,null,null,null,null,null,null,{"$f":"IF(AND(B51>=(F51-Grenser!$G$4),B51<=(G51+Grenser!$G$4)),B51,IF(B51>(G51+Grenser!$G$4),G51+Grenser!$G$4,F51-Grenser!$G$4))","v":0}]
[null,null,"",null,null,null,null,null,null,null,{"$f":"IF(AND(B52>=(F52-Grenser!$G$4),B52<=(G52+Grenser!$G$4)),B52,IF(B52>(G52+Grenser!$G$4),G52+Grenser!$G$4,F52-Grenser!$G$4))","v":0}]
[null,null,"",null,null,null,null,null,null,null,{"$f":"IF(AND(B53>=(F53-Grenser!$G$4),B53<=(G53+Grenser!$G$4)),B53,IF(B53>(G53+Grenser!$G$4),G53+Grenser!$G$4,F53-Grenser!$G$4))","v":0}]
[null,null,"",null,null,null,null,null,null,null,{"$f":"IF(AND(B54>=(F54-Grenser!$G$4),B54<=(G54+Grenser!$G$4)),B54,IF(B54>(G54+Grenser!$G$4),G54+Grenser!$G$4,F54-Grenser!$G$4))","v":0}]
[null,null,"",null,null,null,null,null,null,null,{"$f":"IF(AND(B55>=(F55-Grenser!$G$4),B55<=(G55+Grenser!$G$4)),B55,IF(B55>(G55+Grenser!$G$4),G55+Grenser!$G$4,F55-Grenser!$G$4))","v":0}]
[null,null,"",null,null,null,null,null,null,null,{"$f":"IF(AND(B56>=(F56-Grenser!$G$4),B56<=(G56+Grenser!$G$4)),B56,IF(B56>(G56+Grenser!$G$4),G56+Grenser!$G$4,F56-Grenser!$G$4))","v":0}]
[null,null,"",null,null,null,null,null,null,null,{"$f":"IF(AND(B57>=(F57-Grenser!$G$4),B57<=(G57+Grenser!$G$4)),B57,IF(B57>(G57+Grenser!$G$4),G57+Grenser!$G$4,F57-Grenser!$G$4))","v":0}]
[null,null,"",null,null,null,null,null,null,null,{"$f":"IF(AND(B58>=(F58-Grenser!$G$4),B58<=(G58+Grenser!$G$4)),B58,IF(B58>(G58+Grenser!$G$4),G58+Grenser!$G$4,F58-Grenser!$G$4))","v":0}]
[null,null,"",null,null,null,null,null,null,null,{"$f":"IF(AND(B59>=(F59-Grenser!$G$4),B59<=(G59+Grenser!$G$4)),B59,IF(B59>(G59+Grenser!$G$4),G59+Grenser!$G$4,F59-Grenser!$G$4))","v":0}]
[null,null,"",null,null,null,null,null,null,null,{"$f":"IF(AND(B60>=(F60-Grenser!$G$4),B60<=(G60+Grenser!$G$4)),B60,IF(B60>(G60+Grenser!$G$4),G60+Grenser!$G$4,F60-Grenser!$G$4))","v":0}]
[null,null,"",null,null,null,null,null,null,null,{"$f":"IF(AND(B61>=(F61-Grenser!$G$4),B61<=(G61+Grenser!$G$4)),B61,IF(B61>(G61+Grenser!$G$4),G61+Grenser!$G$4,F61-Grenser!$G$4))","v":0}]
[null,null,"",null,null,null,null,null,null,null,{"$f":"IF(AND(B62>=(F62-Grenser!$G$4),B62<=(G62+Grenser!$G$4)),B62,IF(B62>(G62+Grenser!$G$4),G62+Grenser!$G$4,F62-Grenser!$G$4))","v":0}]
[null,null,"",null,null,null,null,null,null,null,{"$f":"IF(AND(B63>=(F63-Grenser!$G$4),B63<=(G63+Grenser!$G$4)),B63,IF(B63>(G63+Grenser!$G$4),G63+Grenser!$G$4,F63-Grenser!$G$4))","v":0}]
[null,null,"",null,null,null,null,null,null,null,{"$f":"IF(AND(B64>=(F64-Grenser!$G$4),B64<=(G64+Grenser!$G$4)),B64,IF(B64>(G64+Grenser!$G$4),G64+Grenser!$G$4,F64-Grenser!$G$4))","v":0}]
[null,null,"",null,null,null,null,null,null,null,{"$f":"IF(AND(B65>=(F65-Grenser!$G$4),B65<=(G65+Grenser!$G$4)),B65,IF(B65>(G65+Grenser!$G$4),G65+Grenser!$G$4,F65-Grenser!$G$4))","v":0}]
[null,null,"",null,null,null,null,null,null,null,{"$f":"IF(AND(B66>=(F66-Grenser!$G$4),B66<=(G66+Grenser!$G$4)),B66,IF(B66>(G66+Grenser!$G$4),G66+Grenser!$G$4,F66-Grenser!$G$4))","v":0}]
[null,null,"",null,null,null,null,null,null,null,{"$f":"IF(AND(B67>=(F67-Grenser!$G$4),B67<=(G67+Grenser!$G$4)),B67,IF(B67>(G67+Grenser!$G$4),G67+Grenser!$G$4,F67-Grenser!$G$4))","v":0}]
[null,null,"",null,null,null,null,null,null,null,{"$f":"IF(AND(B68>=(F68-Grenser!$G$4),B68<=(G68+Grenser!$G$4)),B68,IF(B68>(G68+Grenser!$G$4),G68+Grenser!$G$4,F68-Grenser!$G$4))","v":0}]
[null,null,{"$f":"IF(B69<>\"\",(IF(OR(B69<F69,B69>G69),\"STOPP\",\"OK\")),\"\")","v":""},null,null,null,null,null,null,null,{"$f":"IF(AND(B69>=(F69-Grenser!$G$4),B69<=(G69+Grenser!$G$4)),B69,IF(B69>(G69+Grenser!$G$4),G69+Grenser!$G$4,F69-Grenser!$G$4))","v":0}]
[null,null,"",null,null,null,null,null,null,null,{"$f":"IF(AND(B70>=(F70-Grenser!$G$4),B70<=(G70+Grenser!$G$4)),B70,IF(B70>(G70+Grenser!$G$4),G70+Grenser!$G$4,F70-Grenser!$G$4))","v":0}]
[null,null,"",null,null,null,null,null,null,null,{"$f":"IF(AND(B71>=(F71-Grenser!$G$4),B71<=(G71+Grenser!$G$4)),B71,IF(B71>(G71+Grenser!$G$4),G71+Grenser!$G$4,F71-Grenser!$G$4))","v":0}]
[null,null,"",null,null,null,null,null,null,null,{"$f":"IF(AND(B72>=(F72-Grenser!$G$4),B72<=(G72+Grenser!$G$4)),B72,IF(B72>(G72+Grenser!$G$4),G72+Grenser!$G$4,F72-Grenser!$G$4))","v":0}]
[null,null,"",null,null,null,null,null,null,null,{"$f":"IF(AND(B73>=(F73-Grenser!$G$4),B73<=(G73+Grenser!$G$4)),B73,IF(B73>(G73+Grenser!$G$4),G73+Grenser!$G$4,F73-Grenser!$G$4))","v":0}]
[null,null,"",null,null,null,null,null,null,null,{"$f":"IF(AND(B74>=(F74-Grenser!$G$4),B74<=(G74+Grenser!$G$4)),B74,IF(B74>(G74+Grenser!$G$4),G74+Grenser!$G$4,F74-Grenser!$G$4))","v":0}]
[null,null,"",null,null,null,null,null,null,null,{"$f":"IF(AND(B75>=(F75-Grenser!$G$4),B75<=(G75+Grenser!$G$4)),B75,IF(B75>(G75+Grenser!$G$4),G75+Grenser!$G$4,F75-Grenser!$G$4))","v":0}]
[null,null,"",null,null,null,null,null,null,null,{"$f":"IF(AND(B76>=(F76-Grenser!$G$4),B76<=(G76+Grenser!$G$4)),B76,IF(B76>(G76+Grenser!$G$4),G76+Grenser!$G$4,F76-Grenser!$G$4))","v":0}]
[null,null,"",null,null,null,null,null,null,null,{"$f":"IF(AND(B77>=(F77-Grenser!$G$4),B77<=(G77+Grenser!$G$4)),B77,IF(B77>(G77+Grenser!$G$4),G77+Grenser!$G$4,F77-Grenser!$G$4))","v":0}]
[null,null,"",null,null,null,null,null,null,null,{"$f":"IF(AND(B78>=(F78-Grenser!$G$4),B78<=(G78+Grenser!$G$4)),B78,IF(B78>(G78+Grenser!$G$4),G78+Grenser!$G$4,F78-Grenser!$G$4))","v":0}]
[null,null,"",null,null,null,null,null,null,null,{"$f":"IF(AND(B79>=(F79-Grenser!$G$4),B79<=(G79+Grenser!$G$4)),B79,IF(B79>(G79+Grenser!$G$4),G79+Grenser!$G$4,F79-Grenser!$G$4))","v":0}]
[null,null,"",null,null,null,null,null,null,null,{"$f":"IF(AND(B80>=(F80-Grenser!$G$4),B80<=(G80+Grenser!$G$4)),B80,IF(B80>(G80+Grenser!$G$4),G80+Grenser!$G$4,F80-Grenser!$G$4))","v":0}]
[null,null,"",null,null,null,null,null,null,null,{"$f":"IF(AND(B81>=(F81-Grenser!$G$4),B81<=(G81+Grenser!$G$4)),B81,IF(B81>(G81+Grenser!$G$4),G81+Grenser!$G$4,F81-Grenser!$G$4))","v":0}]
[null,null,"",null,null,null,null,null,null,null,{"$f":"IF(AND(B82>=(F82-Grenser!$G$4),B82<=(G82+Grenser!$G$4)),B82,IF(B82>(G82+Grenser!$G$4),G82+Grenser!$G$4,F82-Grenser!$G$4))","v":0}]
[null,null,"",null,null,null,null,null,null,null,{"$f":"IF(AND(B83>=(F83-Grenser!$G$4),B83<=(G83+Grenser!$G$4)),B83,IF(B83>(G83+Grenser!$G$4),G83+Grenser!$G$4,F83-Grenser!$G$4))","v":0}]
[null,null,"",null,null,null,null,null,null,null,{"$f":"IF(AND(B84>=(F84-Grenser!$G$4),B84<=(G84+Grenser!$G$4)),B84,IF(B84>(G84+Grenser!$G$4),G84+Grenser!$G$4,F84-Grenser!$G$4))","v":0}]
[null,null,"",null,null,null,null,null,null,null,{"$f":"IF(AND(B85>=(F85-Grenser!$G$4),B85<=(G85+Grenser!$G$4)),B85,IF(B85>(G85+Grenser!$G$4),G85+Grenser!$G$4,F85-Grenser!$G$4))","v":0}]
[null,null,"",null,null,null,null,null,null,null,{"$f":"IF(AND(B86>=(F86-Grenser!$G$4),B86<=(G86+Grenser!$G$4)),B86,IF(B86>(G86+Grenser!$G$4),G86+Grenser!$G$4,F86-Grenser!$G$4))","v":0}]
[null,null,"",null,null,null,null,null,null,null,{"$f":"IF(AND(B87>=(F87-Grenser!$G$4),B87<=(G87+Grenser!$G$4)),B87,IF(B87>(G87+Grenser!$G$4),G87+Grenser!$G$4,F87-Grenser!$G$4))","v":0}]
[null,null,"",null,null,null,null,null,null,null,{"$f":"IF(AND(B88>=(F88-Grenser!$G$4),B88<=(G88+Grenser!$G$4)),B88,IF(B88>(G88+Grenser!$G$4),G88+Grenser!$G$4,F88-Grenser!$G$4))","v":0}]
[null,null,"",null,null,null,null,null,null,null,{"$f":"IF(AND(B89>=(F89-Grenser!$G$4),B89<=(G89+Grenser!$G$4)),B89,IF(B89>(G89+Grenser!$G$4),G89+Grenser!$G$4,F89-Grenser!$G$4))","v":0}]
[null,null,"",null,null,null,null,null,null,null,{"$f":"IF(AND(B90>=(F90-Grenser!$G$4),B90<=(G90+Grenser!$G$4)),B90,IF(B90>(G90+Grenser!$G$4),G90+Grenser!$G$4,F90-Grenser!$G$4))","v":0}]
[null,null,"",null,null,null,null,null,null,null,{"$f":"IF(AND(B91>=(F91-Grenser!$G$4),B91<=(G91+Grenser!$G$4)),B91,IF(B91>(G91+Grenser!$G$4),G91+Grenser!$G$4,F91-Grenser!$G$4))","v":0}]
[null,null,"",null,null,null,null,null,null,null,{"$f":"IF(AND(B92>=(F92-Grenser!$G$4),B92<=(G92+Grenser!$G$4)),B92,IF(B92>(G92+Grenser!$G$4),G92+Grenser!$G$4,F92-Grenser!$G$4))","v":0}]
[null,null,"",null,null,null,null,null,null,null,{"$f":"IF(AND(B93>=(F93-Grenser!$G$4),B93<=(G93+Grenser!$G$4)),B93,IF(B93>(G93+Grenser!$G$4),G93+Grenser!$G$4,F93-Grenser!$G$4))","v":0}]
[null,null,"",null,null,null,null,null,null,null,{"$f":"IF(AND(B94>=(F94-Grenser!$G$4),B94<=(G94+Grenser!$G$4)),B94,IF(B94>(G94+Grenser!$G$4),G94+Grenser!$G$4,F94-Grenser!$G$4))","v":0}]
[null,null,"",null,null,null,null,null,null,null,{"$f":"IF(AND(B95>=(F95-Grenser!$G$4),B95<=(G95+Grenser!$G$4)),B95,IF(B95>(G95+Grenser!$G$4),G95+Grenser!$G$4,F95-Grenser!$G$4))","v":0}]
[null,null,"",null,null,null,null,null,null,null,{"$f":"IF(AND(B96>=(F96-Grenser!$G$4),B96<=(G96+Grenser!$G$4)),B96,IF(B96>(G96+Grenser!$G$4),G96+Grenser!$G$4,F96-Grenser!$G$4))","v":0}]
[null,null,"",null,null,null,null,null,null,null,{"$f":"IF(AND(B97>=(F97-Grenser!$G$4),B97<=(G97+Grenser!$G$4)),B97,IF(B97>(G97+Grenser!$G$4),G97+Grenser!$G$4,F97-Grenser!$G$4))","v":0}]
[null,null,"",null,null,null,null,null,null,null,{"$f":"IF(AND(B98>=(F98-Grenser!$G$4),B98<=(G98+Grenser!$G$4)),B98,IF(B98>(G98+Grenser!$G$4),G98+Grenser!$G$4,F98-Grenser!$G$4))","v":0}]
[null,null,"",null,null,null,null,null,null,null,{"$f":"IF(AND(B99>=(F99-Grenser!$G$4),B99<=(G99+Grenser!$G$4)),B99,IF(B99>(G99+Grenser!$G$4),G99+Grenser!$G$4,F99-Grenser!$G$4))","v":0}]
[null,null,"",null,null,null,null,null,null,null,{"$f":"IF(AND(B100>=(F100-Grenser!$G$4),B100<=(G100+Grenser!$G$4)),B100,IF(B100>(G100+Grenser!$G$4),G100+Grenser!$G$4,F100-Grenser!$G$4))","v":0}]
[null,null,"",null,null,null,null,null,null,null,{"$f":"IF(AND(B101>=(F101-Grenser!$G$4),B101<=(G101+Grenser!$G$4)),B101,IF(B101>(G101+Grenser!$G$4),G101+Grenser!$G$4,F101-Grenser!$G$4))","v":0}]
[null,null,"",null,null,null,null,null,null,null,{"$f":"IF(AND(B102>=(F102-Grenser!$G$4),B102<=(G102+Grenser!$G$4)),B102,IF(B102>(G102+Grenser!$G$4),G102+Grenser!$G$4,F102-Grenser!$G$4))","v":0}]
[null,null,"",null,null,null,null,null,null,null,{"$f":"IF(AND(B103>=(F103-Grenser!$G$4),B103<=(G103+Grenser!$G$4)),B103,IF(B103>(G103+Grenser!$G$4),G103+Grenser!$G$4,F103-Grenser!$G$4))","v":0}]
[null,null,"",null,null,null,null,null,null,null,{"$f":"IF(AND(B104>=(F104-Grenser!$G$4),B104<=(G104+Grenser!$G$4)),B104,IF(B104>(G104+Grenser!$G$4),G104+Grenser!$G$4,F104-Grenser!$G$4))","v":0}]
[null,null,"",null,null,null,null,null,null,null,{"$f":"IF(AND(B105>=(F105-Grenser!$G$4),B105<=(G105+Grenser!$G$4)),B105,IF(B105>(G105+Grenser!$G$4),G105+Grenser!$G$4,F105-Grenser!$G$4))","v":0}]
[null,null,"",null,null,null,null,null,null,null,{"$f":"IF(AND(B106>=(F106-Grenser!$G$4),B106<=(G106+Grenser!$G$4)),B106,IF(B106>(G106+Grenser!$G$4),G106+Grenser!$G$4,F106-Grenser!$G$4))","v":0}]
[null,null,"",null,null,null,null,null,null,null,{"$f":"IF(AND(B107>=(F107-Grenser!$G$4),B107<=(G107+Grenser!$G$4)),B107,IF(B107>(G107+Grenser!$G$4),G107+Grenser!$G$4,F107-Grenser!$G$4))","v":0}]
[null,null,"",null,null,null,null,null,null,null,{"$f":"IF(AND(B108>=(F108-Grenser!$G$4),B108<=(G108+Grenser!$G$4)),B108,IF(B108>(G108+Grenser!$G$4),G108+Grenser!$G$4,F108-Grenser!$G$4))","v":0}]
[null,null,"",null,null,null,null,null,null,null,{"$f":"IF(AND(B109>=(F109-Grenser!$G$4),B109<=(G109+Grenser!$G$4)),B109,IF(B109>(G109+Grenser!$G$4),G109+Grenser!$G$4,F109-Grenser!$G$4))","v":0}]
[null,null,"",null,null,null,null,null,null,null,{"$f":"IF(AND(B110>=(F110-Grenser!$G$4),B110<=(G110+Grenser!$G$4)),B110,IF(B110>(G110+Grenser!$G$4),G110+Grenser!$G$4,F110-Grenser!$G$4))","v":0}]
[null,null,"",null,null,null,null,null,null,null,{"$f":"IF(AND(B111>=(F111-Grenser!$G$4),B111<=(G111+Grenser!$G$4)),B111,IF(B111>(G111+Grenser!$G$4),G111+Grenser!$G$4,F111-Grenser!$G$4))","v":0}]
[null,null,"",null,null,null,null,null,null,null,{"$f":"IF(AND(B112>=(F112-Grenser!$G$4),B112<=(G112+Grenser!$G$4)),B112,IF(B112>(G112+Grenser!$G$4),G112+Grenser!$G$4,F112-Grenser!$G$4))","v":0}]
[null,null,"",null,null,null,null,null,null,null,{"$f":"IF(AND(B113>=(F113-Grenser!$G$4),B113<=(G113+Grenser!$G$4)),B113,IF(B113>(G113+Grenser!$G$4),G113+Grenser!$G$4,F113-Grenser!$G$4))","v":0}]
[null,null,"",null,null,null,null,null,null,null,{"$f":"IF(AND(B114>=(F114-Grenser!$G$4),B114<=(G114+Grenser!$G$4)),B114,IF(B114>(G114+Grenser!$G$4),G114+Grenser!$G$4,F114-Grenser!$G$4))","v":0}]
[null,null,"",null,null,null,null,null,null,null,{"$f":"IF(AND(B115>=(F115-Grenser!$G$4),B115<=(G115+Grenser!$G$4)),B115,IF(B115>(G115+Grenser!$G$4),G115+Grenser!$G$4,F115-Grenser!$G$4))","v":0}]
[null,null,"",null,null,null,null,null,null,null,{"$f":"IF(AND(B116>=(F116-Grenser!$G$4),B116<=(G116+Grenser!$G$4)),B116,IF(B116>(G116+Grenser!$G$4),G116+Grenser!$G$4,F116-Grenser!$G$4))","v":0}]
[null,null,"",null,null,null,null,null,null,null,{"$f":"IF(AND(B117>=(F117-Grenser!$G$4),B117<=(G117+Grenser!$G$4)),B117,IF(B117>(G117+Grenser!$G$4),G117+Grenser!$G$4,F117-Grenser!$G$4))","v":0}]
[null,null,"",null,null,null,null,null,null,null,{"$f":"IF(AND(B118>=(F118-Grenser!$G$4),B118<=(G118+Grenser!$G$4)),B118,IF(B118>(G118+Grenser!$G$4),G118+Grenser!$G$4,F118-Grenser!$G$4))","v":0}]
[null,null,"",null,null,null,null,null,null,null,{"$f":"IF(AND(B119>=(F119-Grenser!$G$4),B119<=(G119+Grenser!$G$4)),B119,IF(B119>(G119+Grenser!$G$4),G119+Grenser!$G$4,F119-Grenser!$G$4))","v":0}]
[null,null,"",null,null,null,null,null,null,null,{"$f":"IF(AND(B120>=(F120-Grenser!$G$4),B120<=(G120+Grenser!$G$4)),B120,IF(B120>(G120+Grenser!$G$4),G120+Grenser!$G$4,F120-Grenser!$G$4))","v":0}]
[null,null,"",null,null,null,null,null,null,null,{"$f":"IF(AND(B121>=(F121-Grenser!$G$4),B121<=(G121+Grenser!$G$4)),B121,IF(B121>(G121+Grenser!$G$4),G121+Grenser!$G$4,F121-Grenser!$G$4))","v":0}]
[null,null,"",null,null,null,null,null,null,null,{"$f":"IF(AND(B122>=(F122-Grenser!$G$4),B122<=(G122+Grenser!$G$4)),B122,IF(B122>(G122+Grenser!$G$4),G122+Grenser!$G$4,F122-Grenser!$G$4))","v":0}]
[null,null,"",null,null,null,null,null,null,null,{"$f":"IF(AND(B123>=(F123-Grenser!$G$4),B123<=(G123+Grenser!$G$4)),B123,IF(B123>(G123+Grenser!$G$4),G123+Grenser!$G$4,F123-Grenser!$G$4))","v":0}]
[null,null,"",null,null,null,null,null,null,null,{"$f":"IF(AND(B124>=(F124-Grenser!$G$4),B124<=(G124+Grenser!$G$4)),B124,IF(B124>(G124+Grenser!$G$4),G124+Grenser!$G$4,F124-Grenser!$G$4))","v":0}]
[null,null,"",null,null,null,null,null,null,null,{"$f":"IF(AND(B125>=(F125-Grenser!$G$4),B125<=(G125+Grenser!$G$4)),B125,IF(B125>(G125+Grenser!$G$4),G125+Grenser!$G$4,F125-Grenser!$G$4))","v":0}]
[null,null,"",null,null,null,null,null,null,null,{"$f":"IF(AND(B126>=(F126-Grenser!$G$4),B126<=(G126+Grenser!$G$4)),B126,IF(B126>(G126+Grenser!$G$4),G126+Grenser!$G$4,F126-Grenser!$G$4))","v":0}]
[null,null,"",null,null,null,null,null,null,null,{"$f":"IF(AND(B127>=(F127-Grenser!$G$4),B127<=(G127+Grenser!$G$4)),B127,IF(B127>(G127+Grenser!$G$4),G127+Grenser!$G$4,F127-Grenser!$G$4))","v":0}]
[null,null,"",null,null,null,null,null,null,null,{"$f":"IF(AND(B128>=(F128-Grenser!$G$4),B128<=(G128+Grenser!$G$4)),B128,IF(B128>(G128+Grenser!$G$4),G128+Grenser!$G$4,F128-Grenser!$G$4))","v":0}]
[null,null,"",null,null,null,null,null,null,null,{"$f":"IF(AND(B129>=(F129-Grenser!$G$4),B129<=(G129+Grenser!$G$4)),B129,IF(B129>(G129+Grenser!$G$4),G129+Grenser!$G$4,F129-Grenser!$G$4))","v":0}]
[null,null,"",null,null,null,null,null,null,null,{"$f":"IF(AND(B130>=(F130-Grenser!$G$4),B130<=(G130+Grenser!$G$4)),B130,IF(B130>(G130+Grenser!$G$4),G130+Grenser!$G$4,F130-Grenser!$G$4))","v":0}]
[null,null,"",null,null,null,null,null,null,null,{"$f":"IF(AND(B131>=(F131-Grenser!$G$4),B131<=(G131+Grenser!$G$4)),B131,IF(B131>(G131+Grenser!$G$4),G131+Grenser!$G$4,F131-Grenser!$G$4))","v":0}]
[null,null,"",null,null,null,null,null,null,null,{"$f":"IF(AND(B132>=(F132-Grenser!$G$4),B132<=(G132+Grenser!$G$4)),B132,IF(B132>(G132+Grenser!$G$4),G132+Grenser!$G$4,F132-Grenser!$G$4))","v":0}]
[null,null,{"$f":"IF(B133<>\"\",(IF(OR(B133<F133,B133>G133),\"STOPP\",\"OK\")),\"\")","v":""},null,null,null,null,null,null,null,{"$f":"IF(AND(B133>=(F133-Grenser!$G$4),B133<=(G133+Grenser!$G$4)),B133,IF(B133>(G133+Grenser!$G$4),G133+Grenser!$G$4,F133-Grenser!$G$4))","v":0}]
[null,null,"",null,null,null,null,null,null,null,{"$f":"IF(AND(B134>=(F134-Grenser!$G$4),B134<=(G134+Grenser!$G$4)),B134,IF(B134>(G134+Grenser!$G$4),G134+Grenser!$G$4,F134-Grenser!$G$4))","v":0}]
[null,null,"",null,null,null,null,null,null,null,{"$f":"IF(AND(B135>=(F135-Grenser!$G$4),B135<=(G135+Grenser!$G$4)),B135,IF(B135>(G135+Grenser!$G$4),G135+Grenser!$G$4,F135-Grenser!$G$4))","v":0}]
[null,null,"",null,null,null,null,null,null,null,{"$f":"IF(AND(B136>=(F136-Grenser!$G$4),B136<=(G136+Grenser!$G$4)),B136,IF(B136>(G136+Grenser!$G$4),G136+Grenser!$G$4,F136-Grenser!$G$4))","v":0}]
[null,null,"",null,null,null,null,null,null,null,{"$f":"IF(AND(B137>=(F137-Grenser!$G$4),B137<=(G137+Grenser!$G$4)),B137,IF(B137>(G137+Grenser!$G$4),G137+Grenser!$G$4,F137-Grenser!$G$4))","v":0}]
[null,null,"",null,null,null,null,null,null,null,{"$f":"IF(AND(B138>=(F138-Grenser!$G$4),B138<=(G138+Grenser!$G$4)),B138,IF(B138>(G138+Grenser!$G$4),G138+Grenser!$G$4,F138-Grenser!$G$4))","v":0}]
[null,null,"",null,null,null,null,null,null,null,{"$f":"IF(AND(B139>=(F139-Grenser!$G$4),B139<=(G139+Grenser!$G$4)),B139,IF(B139>(G139+Grenser!$G$4),G139+Grenser!$G$4,F139-Grenser!$G$4))","v":0}]
[null,null,"",null,null,null,null,null,null,null,{"$f":"IF(AND(B140>=(F140-Grenser!$G$4),B140<=(G140+Grenser!$G$4)),B140,IF(B140>(G140+Grenser!$G$4),G140+Grenser!$G$4,F140-Grenser!$G$4))","v":0}]
[null,null,"",null,null,null,null,null,null,null,{"$f":"IF(AND(B141>=(F141-Grenser!$G$4),B141<=(G141+Grenser!$G$4)),B141,IF(B141>(G141+Grenser!$G$4),G141+Grenser!$G$4,F141-Grenser!$G$4))","v":0}]
[null,null,"",null,null,null,null,null,null,null,{"$f":"IF(AND(B142>=(F142-Grenser!$G$4),B142<=(G142+Grenser!$G$4)),B142,IF(B142>(G142+Grenser!$G$4),G142+Grenser!$G$4,F142-Grenser!$G$4))","v":0}]
[null,null,"",null,null,null,null,null,null,null,{"$f":"IF(AND(B143>=(F143-Grenser!$G$4),B143<=(G143+Grenser!$G$4)),B143,IF(B143>(G143+Grenser!$G$4),G143+Grenser!$G$4,F143-Grenser!$G$4))","v":0}]
[null,null,"",null,null,null,null,null,null,null,{"$f":"IF(AND(B144>=(F144-Grenser!$G$4),B144<=(G144+Grenser!$G$4)),B144,IF(B144>(G144+Grenser!$G$4),G144+Grenser!$G$4,F144-Grenser!$G$4))","v":0}]
[null,null,"",null,null,null,null,null,null,null,{"$f":"IF(AND(B145>=(F145-Grenser!$G$4),B145<=(G145+Grenser!$G$4)),B145,IF(B145>(G145+Grenser!$G$4),G145+Grenser!$G$4,F145-Grenser!$G$4))","v":0}]
[null,null,"",null,null,null,null,null,null,null,{"$f":"IF(AND(B146>=(F146-Grenser!$G$4),B146<=(G146+Grenser!$G$4)),B146,IF(B146>(G146+Grenser!$G$4),G146+Grenser!$G$4,F146-Grenser!$G$4))","v":0}]
[null,null,"",null,null,null,null,null,null,null,{"$f":"IF(AND(B147>=(F147-Grenser!$G$4),B147<=(G147+Grenser!$G$4)),B147,IF(B147>(G147+Grenser!$G$4),G147+Grenser!$G$4,F147-Grenser!$G$4))","v":0}]
[null,null,"",null,null,null,null,null,null,null,{"$f":"IF(AND(B148>=(F148-Grenser!$G$4),B148<=(G148+Grenser!$G$4)),B148,IF(B148>(G148+Grenser!$G$4),G148+Grenser!$G$4,F148-Grenser!$G$4))","v":0}]
[null,null,"",null,null,null,null,null,null,null,{"$f":"IF(AND(B149>=(F149-Grenser!$G$4),B149<=(G149+Grenser!$G$4)),B149,IF(B149>(G149+Grenser!$G$4),G149+Grenser!$G$4,F149-Grenser!$G$4))","v":0}]
[null,null,"",null,null,null,null,null,null,null,{"$f":"IF(AND(B150>=(F150-Grenser!$G$4),B150<=(G150+Grenser!$G$4)),B150,IF(B150>(G150+Grenser!$G$4),G150+Grenser!$G$4,F150-Grenser!$G$4))","v":0}]
[null,null,"",null,null,null,null,null,null,null,{"$f":"IF(AND(B151>=(F151-Grenser!$G$4),B151<=(G151+Grenser!$G$4)),B151,IF(B151>(G151+Grenser!$G$4),G151+Grenser!$G$4,F151-Grenser!$G$4))","v":0}]
[null,null,"",null,null,null,null,null,null,null,{"$f":"IF(AND(B152>=(F152-Grenser!$G$4),B152<=(G152+Grenser!$G$4)),B152,IF(B152>(G152+Grenser!$G$4),G152+Grenser!$G$4,F152-Grenser!$G$4))","v":0}]
[null,null,"",null,null,null,null,null,null,null,{"$f":"IF(AND(B153>=(F153-Grenser!$G$4),B153<=(G153+Grenser!$G$4)),B153,IF(B153>(G153+Grenser!$G$4),G153+Grenser!$G$4,F153-Grenser!$G$4))","v":0}]
[null,null,"",null,null,null,null,null,null,null,{"$f":"IF(AND(B154>=(F154-Grenser!$G$4),B154<=(G154+Grenser!$G$4)),B154,IF(B154>(G154+Grenser!$G$4),G154+Grenser!$G$4,F154-Grenser!$G$4))","v":0}]
[null,null,"",null,null,null,null,null,null,null,{"$f":"IF(AND(B155>=(F155-Grenser!$G$4),B155<=(G155+Grenser!$G$4)),B155,IF(B155>(G155+Grenser!$G$4),G155+Grenser!$G$4,F155-Grenser!$G$4))","v":0}]
[null,null,"",null,null,null,null,null,null,null,{"$f":"IF(AND(B156>=(F156-Grenser!$G$4),B156<=(G156+Grenser!$G$4)),B156,IF(B156>(G156+Grenser!$G$4),G156+Grenser!$G$4,F156-Grenser!$G$4))","v":0}]
[null,null,"",null,null,null,null,null,null,null,{"$f":"IF(AND(B157>=(F157-Grenser!$G$4),B157<=(G157+Grenser!$G$4)),B157,IF(B157>(G157+Grenser!$G$4),G157+Grenser!$G$4,F157-Grenser!$G$4))","v":0}]
[null,null,"",null,null,null,null,null,null,null,{"$f":"IF(AND(B158>=(F158-Grenser!$G$4),B158<=(G158+Grenser!$G$4)),B158,IF(B158>(G158+Grenser!$G$4),G158+Grenser!$G$4,F158-Grenser!$G$4))","v":0}]
[null,null,"",null,null,null,null,null,null,null,{"$f":"IF(AND(B159>=(F159-Grenser!$G$4),B159<=(G159+Grenser!$G$4)),B159,IF(B159>(G159+Grenser!$G$4),G159+Grenser!$G$4,F159-Grenser!$G$4))","v":0}]
[null,null,"",null,null,null,null,null,null,null,{"$f":"IF(AND(B160>=(F160-Grenser!$G$4),B160<=(G160+Grenser!$G$4)),B160,IF(B160>(G160+Grenser!$G$4),G160+Grenser!$G$4,F160-Grenser!$G$4))","v":0}]
[null,null,"",null,null,null,null,null,null,null,{"$f":"IF(AND(B161>=(F161-Grenser!$G$4),B161<=(G161+Grenser!$G$4)),B161,IF(B161>(G161+Grenser!$G$4),G161+Grenser!$G$4,F161-Grenser!$G$4))","v":0}]
[null,null,"",null,null,null,null,null,null,null,{"$f":"IF(AND(B162>=(F162-Grenser!$G$4),B162<=(G162+Grenser!$G$4)),B162,IF(B162>(G162+Grenser!$G$4),G162+Grenser!$G$4,F162-Grenser!$G$4))","v":0}]
[null,null,"",null,null,null,null,null,null,null,{"$f":"IF(AND(B163>=(F163-Grenser!$G$4),B163<=(G163+Grenser!$G$4)),B163,IF(B163>(G163+Grenser!$G$4),G163+Grenser!$G$4,F163-Grenser!$G$4))","v":0}]
[null,null,"",null,null,null,null,null,null,null,{"$f":"IF(AND(B164>=(F164-Grenser!$G$4),B164<=(G164+Grenser!$G$4)),B164,IF(B164>(G164+Grenser!$G$4),G164+Grenser!$G$4,F164-Grenser!$G$4))","v":0}]
[null,null,"",null,null,null,null,null,null,null,{"$f":"IF(AND(B165>=(F165-Grenser!$G$4),B165<=(G165+Grenser!$G$4)),B165,IF(B165>(G165+Grenser!$G$4),G165+Grenser!$G$4,F165-Grenser!$G$4))","v":0}]
[null,null,"",null,null,null,null,null,null,null,{"$f":"IF(AND(B166>=(F166-Grenser!$G$4),B166<=(G166+Grenser!$G$4)),B166,IF(B166>(G166+Grenser!$G$4),G166+Grenser!$G$4,F166-Grenser!$G$4))","v":0}]
[null,null,"",null,null,null,null,null,null,null,{"$f":"IF(AND(B167>=(F167-Grenser!$G$4),B167<=(G167+Grenser!$G$4)),B167,IF(B167>(G167+Grenser!$G$4),G167+Grenser!$G$4,F167-Grenser!$G$4))","v":0}]
[null,null,"",null,null,null,null,null,null,null,{"$f":"IF(AND(B168>=(F168-Grenser!$G$4),B168<=(G168+Grenser!$G$4)),B168,IF(B168>(G168+Grenser!$G$4),G168+Grenser!$G$4,F168-Grenser!$G$4))","v":0}]
[null,null,"",null,null,null,null,null,null,null,{"$f":"IF(AND(B169>=(F169-Grenser!$G$4),B169<=(G169+Grenser!$G$4)),B169,IF(B169>(G169+Grenser!$G$4),G169+Grenser!$G$4,F169-Grenser!$G$4))","v":0}]
[null,null,"",null,null,null,null,null,null,null,{"$f":"IF(AND(B170>=(F170-Grenser!$G$4),B170<=(G170+Grenser!$G$4)),B170,IF(B170>(G170+Grenser!$G$4),G170+Grenser!$G$4,F170-Grenser!$G$4))","v":0}]
[null,null,"",null,null,null,null,null,null,null,{"$f":"IF(AND(B171>=(F171-Grenser!$G$4),B171<=(G171+Grenser!$G$4)),B171,IF(B171>(G171+Grenser!$G$4),G171+Grenser!$G$4,F171-Grenser!$G$4))","v":0}]
[null,null,"",null,null,null,null,null,null,null,{"$f":"IF(AND(B172>=(F172-Grenser!$G$4),B172<=(G172+Grenser!$G$4)),B172,IF(B172>(G172+Grenser!$G$4),G172+Grenser!$G$4,F172-Grenser!$G$4))","v":0}]
[null,null,"",null,null,null,null,null,null,null,{"$f":"IF(AND(B173>=(F173-Grenser!$G$4),B173<=(G173+Grenser!$G$4)),B173,IF(B173>(G173+Grenser!$G$4),G173+Grenser!$G$4,F173-Grenser!$G$4))","v":0}]
[null,null,"",null,null,null,null,null,null,null,{"$f":"IF(AND(B174>=(F174-Grenser!$G$4),B174<=(G174+Grenser!$G$4)),B174,IF(B174>(G174+Grenser!$G$4),G174+Grenser!$G$4,F174-Grenser!$G$4))","v":0}]
[null,null,"",null,null,null,null,null,null,null,{"$f":"IF(AND(B175>=(F175-Grenser!$G$4),B175<=(G175+Grenser!$G$4)),B175,IF(B175>(G175+Grenser!$G$4),G175+Grenser!$G$4,F175-Grenser!$G$4))","v":0}]
[null,null,"",null,null,null,null,null,null,null,{"$f":"IF(AND(B176>=(F176-Grenser!$G$4),B176<=(G176+Grenser!$G$4)),B176,IF(B176>(G176+Grenser!$G$4),G176+Grenser!$G$4,F176-Grenser!$G$4))","v":0}]
[null,null,"",null,null,null,null,null,null,null,{"$f":"IF(AND(B177>=(F177-Grenser!$G$4),B177<=(G177+Grenser!$G$4)),B177,IF(B177>(G177+Grenser!$G$4),G177+Grenser!$G$4,F177-Grenser!$G$4))","v":0}]
[null,null,"",null,null,null,null,null,null,null,{"$f":"IF(AND(B178>=(F178-Grenser!$G$4),B178<=(G178+Grenser!$G$4)),B178,IF(B178>(G178+Grenser!$G$4),G178+Grenser!$G$4,F178-Grenser!$G$4))","v":0}]
[null,null,"",null,null,null,null,null,null,null,{"$f":"IF(AND(B179>=(F179-Grenser!$G$4),B179<=(G179+Grenser!$G$4)),B179,IF(B179>(G179+Grenser!$G$4),G179+Grenser!$G$4,F179-Grenser!$G$4))","v":0}]
[null,null,"",null,null,null,null,null,null,null,{"$f":"IF(AND(B180>=(F180-Grenser!$G$4),B180<=(G180+Grenser!$G$4)),B180,IF(B180>(G180+Grenser!$G$4),G180+Grenser!$G$4,F180-Grenser!$G$4))","v":0}]
[null,null,"",null,null,null,null,null,null,null,{"$f":"IF(AND(B181>=(F181-Grenser!$G$4),B181<=(G181+Grenser!$G$4)),B181,IF(B181>(G181+Grenser!$G$4),G181+Grenser!$G$4,F181-Grenser!$G$4))","v":0}]
[null,null,"",null,null,null,null,null,null,null,{"$f":"IF(AND(B182>=(F182-Grenser!$G$4),B182<=(G182+Grenser!$G$4)),B182,IF(B182>(G182+Grenser!$G$4),G182+Grenser!$G$4,F182-Grenser!$G$4))","v":0}]
[null,null,"",null,null,null,null,null,null,null,{"$f":"IF(AND(B183>=(F183-Grenser!$G$4),B183<=(G183+Grenser!$G$4)),B183,IF(B183>(G183+Grenser!$G$4),G183+Grenser!$G$4,F183-Grenser!$G$4))","v":0}]
[null,null,"",null,null,null,null,null,null,null,{"$f":"IF(AND(B184>=(F184-Grenser!$G$4),B184<=(G184+Grenser!$G$4)),B184,IF(B184>(G184+Grenser!$G$4),G184+Grenser!$G$4,F184-Grenser!$G$4))","v":0}]
[null,null,"",null,null,null,null,null,null,null,{"$f":"IF(AND(B185>=(F185-Grenser!$G$4),B185<=(G185+Grenser!$G$4)),B185,IF(B185>(G185+Grenser!$G$4),G185+Grenser!$G$4,F185-Grenser!$G$4))","v":0}]
[null,null,"",null,null,null,null,null,null,null,{"$f":"IF(AND(B186>=(F186-Grenser!$G$4),B186<=(G186+Grenser!$G$4)),B186,IF(B186>(G186+Grenser!$G$4),G186+Grenser!$G$4,F186-Grenser!$G$4))","v":0}]
[null,null,"",null,null,null,null,null,null,null,{"$f":"IF(AND(B187>=(F187-Grenser!$G$4),B187<=(G187+Grenser!$G$4)),B187,IF(B187>(G187+Grenser!$G$4),G187+Grenser!$G$4,F187-Grenser!$G$4))","v":0}]
[null,null,"",null,null,null,null,null,null,null,{"$f":"IF(AND(B188>=(F188-Grenser!$G$4),B188<=(G188+Grenser!$G$4)),B188,IF(B188>(G188+Grenser!$G$4),G188+Grenser!$G$4,F188-Grenser!$G$4))","v":0}]
[null,null,"",null,null,null,null,null,null,null,{"$f":"IF(AND(B189>=(F189-Grenser!$G$4),B189<=(G189+Grenser!$G$4)),B189,IF(B189>(G189+Grenser!$G$4),G189+Grenser!$G$4,F189-Grenser!$G$4))","v":0}]
[null,null,"",null,null,null,null,null,null,null,{"$f":"IF(AND(B190>=(F190-Grenser!$G$4),B190<=(G190+Grenser!$G$4)),B190,IF(B190>(G190+Grenser!$G$4),G190+Grenser!$G$4,F190-Grenser!$G$4))","v":0}]
[null,null,"",null,null,null,null,null,null,null,{"$f":"IF(AND(B191>=(F191-Grenser!$G$4),B191<=(G191+Grenser!$G$4)),B191,IF(B191>(G191+Grenser!$G$4),G191+Grenser!$G$4,F191-Grenser!$G$4))","v":0}]
[null,null,"",null,null,null,null,null,null,null,{"$f":"IF(AND(B192>=(F192-Grenser!$G$4),B192<=(G192+Grenser!$G$4)),B192,IF(B192>(G192+Grenser!$G$4),G192+Grenser!$G$4,F192-Grenser!$G$4))","v":0}]
[null,null,"",null,null,null,null,null,null,null,{"$f":"IF(AND(B193>=(F193-Grenser!$G$4),B193<=(G193+Grenser!$G$4)),B193,IF(B193>(G193+Grenser!$G$4),G193+Grenser!$G$4,F193-Grenser!$G$4))","v":0}]
[null,null,"",null,null,null,null,null,null,null,{"$f":"IF(AND(B194>=(F194-Grenser!$G$4),B194<=(G194+Grenser!$G$4)),B194,IF(B194>(G194+Grenser!$G$4),G194+Grenser!$G$4,F194-Grenser!$G$4))","v":0}]
[null,null,"",null,null,null,null,null,null,null,{"$f":"IF(AND(B195>=(F195-Grenser!$G$4),B195<=(G195+Grenser!$G$4)),B195,IF(B195>(G195+Grenser!$G$4),G195+Grenser!$G$4,F195-Grenser!$G$4))","v":0}]
[null,null,"",null,null,null,null,null,null,null,{"$f":"IF(AND(B196>=(F196-Grenser!$G$4),B196<=(G196+Grenser!$G$4)),B196,IF(B196>(G196+Grenser!$G$4),G196+Grenser!$G$4,F196-Grenser!$G$4))","v":0}]
[null,null,{"$f":"IF(B197<>\"\",(IF(OR(B197<F197,B197>G197),\"STOPP\",\"OK\")),\"\")","v":""},null,null,null,null,null,null,{"$f":"IF(G197<>\"\",IF((OR((G197>$V197),(G197<$U197))),IF(OR((G197>$T197),(G197<$S197)),\"STOPP\",\"Vurder\"),\"Ok\"),\"\")","v":""},{"$f":"IF(AND(B197>=(F197-Grenser!$G$4),B197<=(G197+Grenser!$G$4)),B197,IF(B197>(G197+Grenser!$G$4),G197+Grenser!$G$4,F197-Grenser!$G$4))","v":0}]
[null,null,{"$f":"IF(B198<>\"\",(IF(OR(B198<F198,B198>G198),\"STOPP\",\"OK\")),\"\")","v":""},null,null,null,null,null,null,"",{"$f":"IF(AND(B198>=(F198-Grenser!$G$4),B198<=(G198+Grenser!$G$4)),B198,IF(B198>(G198+Grenser!$G$4),G198+Grenser!$G$4,F198-Grenser!$G$4))","v":0}]
[null,null,{"$f":"IF(B199<>\"\",(IF(OR(B199<F199,B199>G199),\"STOPP\",\"OK\")),\"\")","v":""},null,null,null,null,null,null,"",{"$f":"IF(AND(B199>=(F199-Grenser!$G$4),B199<=(G199+Grenser!$G$4)),B199,IF(B199>(G199+Grenser!$G$4),G199+Grenser!$G$4,F199-Grenser!$G$4))","v":0}]

{"sheet":"Ikke i bruk 2","index":4,"n_rows":199,"n_cols":11,"rows_kept":199,"cut":false,"hidden":false,"merged":[[0,0,0,9]]}
[{"$f":"Grenser!B5","v":"Ikke i bruk 2"}]
["Antall",{"$f":" COUNT(B7:B199)","v":0}]
["Middelverdi",{"$f":"AVERAGE(B7:B199)","v":{"$error":"#DIV/0!"}}]
["Standardavvik",{"$f":"STDEV(B7:B199)","v":{"$error":"#DIV/0!"}}]
["Median",{"$f":"MEDIAN(B7:B199)","v":{"$error":"#NUM!"}}]
["Dato avlest","Avlest sone","Vurdering","Produksjonsdato res.skål","Satt opp sign","Lav grense","Høy grense","Dato Satt opp","Avlest Sign","Teller","Avlest sone korrigert"]
[null,null,{"$f":"IF(B7<>\"\",(IF(OR(B7<F7,B7>G7),\"STOPP\",\"OK\")),\"\")","v":""},null,null,null,null,null,null,null,{"$f":"IF(AND(B7>=(F7-Grenser!$G$4),B7<=(G7+Grenser!$G$4)),B7,IF(B7>(G7+Grenser!$G$4),G7+Grenser!$G$4,F7-Grenser!$G$4))","v":0}]
[null,null,{"$f":"IF(B8<>\"\",(IF(OR(B8<F8,B8>G8),\"STOPP\",\"OK\")),\"\")","v":""},null,null,null,null,null,null,null,{"$f":"IF(AND(B8>=(F8-Grenser!$G$4),B8<=(G8+Grenser!$G$4)),B8,IF(B8>(G8+Grenser!$G$4),G8+Grenser!$G$4,F8-Grenser!$G$4))","v":0}]
[null,null,"",null,null,null,null,null,null,null,{"$f":"IF(AND(B9>=(F9-Grenser!$G$4),B9<=(G9+Grenser!$G$4)),B9,IF(B9>(G9+Grenser!$G$4),G9+Grenser!$G$4,F9-Grenser!$G$4))","v":0}]
[null,null,"",null,null,null,null,null,null,null,{"$f":"IF(AND(B10>=(F10-Grenser!$G$4),B10<=(G10+Grenser!$G$4)),B10,IF(B10>(G10+Grenser!$G$4),G10+Grenser!$G$4,F10-Grenser!$G$4))","v":0}]
[null,null,"",null,null,null,null,null,null,null,{"$f":"IF(AND(B11>=(F11-Grenser!$G$4),B11<=(G11+Grenser!$G$4)),B11,IF(B11>(G11+Grenser!$G$4),G11+Grenser!$G$4,F11-Grenser!$G$4))","v":0}]
[null,null,"",null,null,null,null,null,null,null,{"$f":"IF(AND(B12>=(F12-Grenser!$G$4),B12<=(G12+Grenser!$G$4)),B12,IF(B12>(G12+Grenser!$G$4),G12+Grenser!$G$4,F12-Grenser!$G$4))","v":0}]
[null,null,"",null,null,null,null,null,null,null,{"$f":"IF(AND(B13>=(F13-Grenser!$G$4),B13<=(G13+Grenser!$G$4)),B13,IF(B13>(G13+Grenser!$G$4),G13+Grenser!$G$4,F13-Grenser!$G$4))","v":0}]
[null,null,"",null,null,null,null,null,null,null,{"$f":"IF(AND(B14>=(F14-Grenser!$G$4),B14<=(G14+Grenser!$G$4)),B14,IF(B14>(G14+Grenser!$G$4),G14+Grenser!$G$4,F14-Grenser!$G$4))","v":0}]
[null,null,"",null,null,null,null,null,null,null,{"$f":"IF(AND(B15>=(F15-Grenser!$G$4),B15<=(G15+Grenser!$G$4)),B15,IF(B15>(G15+Grenser!$G$4),G15+Grenser!$G$4,F15-Grenser!$G$4))","v":0}]
[null,null,"",null,null,null,null,null,null,null,{"$f":"IF(AND(B16>=(F16-Grenser!$G$4),B16<=(G16+Grenser!$G$4)),B16,IF(B16>(G16+Grenser!$G$4),G16+Grenser!$G$4,F16-Grenser!$G$4))","v":0}]
[null,null,"",null,null,null,null,null,null,null,{"$f":"IF(AND(B17>=(F17-Grenser!$G$4),B17<=(G17+Grenser!$G$4)),B17,IF(B17>(G17+Grenser!$G$4),G17+Grenser!$G$4,F17-Grenser!$G$4))","v":0}]
[null,null,"",null,null,null,null,null,null,null,{"$f":"IF(AND(B18>=(F18-Grenser!$G$4),B18<=(G18+Grenser!$G$4)),B18,IF(B18>(G18+Grenser!$G$4),G18+Grenser!$G$4,F18-Grenser!$G$4))","v":0}]
[null,null,"",null,null,null,null,null,null,null,{"$f":"IF(AND(B19>=(F19-Grenser!$G$4),B19<=(G19+Grenser!$G$4)),B19,IF(B19>(G19+Grenser!$G$4),G19+Grenser!$G$4,F19-Grenser!$G$4))","v":0}]
[null,null,"",null,null,null,null,null,null,null,{"$f":"IF(AND(B20>=(F20-Grenser!$G$4),B20<=(G20+Grenser!$G$4)),B20,IF(B20>(G20+Grenser!$G$4),G20+Grenser!$G$4,F20-Grenser!$G$4))","v":0}]
[null,null,{"$f":"IF(B21<>\"\",(IF(OR(B21<F21,B21>G21),\"STOPP\",\"OK\")),\"\")","v":""},null,null,null,null,null,null,null,{"$f":"IF(AND(B21>=(F21-Grenser!$G$4),B21<=(G21+Grenser!$G$4)),B21,IF(B21>(G21+Grenser!$G$4),G21+Grenser!$G$4,F21-Grenser!$G$4))","v":0}]
[null,null,{"$f":"IF(B22<>\"\",(IF(OR(B22<F22,B22>G22),\"STOPP\",\"OK\")),\"\")","v":""},null,null,null,null,null,null,null,{"$f":"IF(AND(B22>=(F22-Grenser!$G$4),B22<=(G22+Grenser!$G$4)),B22,IF(B22>(G22+Grenser!$G$4),G22+Grenser!$G$4,F22-Grenser!$G$4))","v":0}]
[null,null,{"$f":"IF(B23<>\"\",(IF(OR(B23<F23,B23>G23),\"STOPP\",\"OK\")),\"\")","v":""},null,null,null,null,null,null,null,{"$f":"IF(AND(B23>=(F23-Grenser!$G$4),B23<=(G23+Grenser!$G$4)),B23,IF(B23>(G23+Grenser!$G$4),G23+Grenser!$G$4,F23-Grenser!$G$4))","v":0}]
[null,null,"",null,null,null,null,null,null,null,{"$f":"IF(AND(B24>=(F24-Grenser!$G$4),B24<=(G24+Grenser!$G$4)),B24,IF(B24>(G24+Grenser!$G$4),G24+Grenser!$G$4,F24-Grenser!$G$4))","v":0}]
[null,null,"",null,null,null,null,null,null,null,{"$f":"IF(AND(B25>=(F25-Grenser!$G$4),B25<=(G25+Grenser!$G$4)),B25,IF(B25>(G25+Grenser!$G$4),G25+Grenser!$G$4,F25-Grenser!$G$4))","v":0}]
[null,null,"",null,null,null,null,null,null,null,{"$f":"IF(AND(B26>=(F26-Grenser!$G$4),B26<=(G26+Grenser!$G$4)),B26,IF(B26>(G26+Grenser!$G$4),G26+Grenser!$G$4,F26-Grenser!$G$4))","v":0}]
[null,null,"",null,null,null,null,null,null,null,{"$f":"IF(AND(B27>=(F27-Grenser!$G$4),B27<=(G27+Grenser!$G$4)),B27,IF(B27>(G27+Grenser!$G$4),G27+Grenser!$G$4,F27-Grenser!$G$4))","v":0}]
[null,null,"",null,null,null,null,null,null,null,{"$f":"IF(AND(B28>=(F28-Grenser!$G$4),B28<=(G28+Grenser!$G$4)),B28,IF(B28>(G28+Grenser!$G$4),G28+Grenser!$G$4,F28-Grenser!$G$4))","v":0}]
[null,null,"",null,null,null,null,null,null,null,{"$f":"IF(AND(B29>=(F29-Grenser!$G$4),B29<=(G29+Grenser!$G$4)),B29,IF(B29>(G29+Grenser!$G$4),G29+Grenser!$G$4,F29-Grenser!$G$4))","v":0}]
[null,null,"",null,null,null,null,null,null,null,{"$f":"IF(AND(B30>=(F30-Grenser!$G$4),B30<=(G30+Grenser!$G$4)),B30,IF(B30>(G30+Grenser!$G$4),G30+Grenser!$G$4,F30-Grenser!$G$4))","v":0}]
[null,null,"",null,null,null,null,null,null,null,{"$f":"IF(AND(B31>=(F31-Grenser!$G$4),B31<=(G31+Grenser!$G$4)),B31,IF(B31>(G31+Grenser!$G$4),G31+Grenser!$G$4,F31-Grenser!$G$4))","v":0}]
[null,null,"",null,null,null,null,null,null,null,{"$f":"IF(AND(B32>=(F32-Grenser!$G$4),B32<=(G32+Grenser!$G$4)),B32,IF(B32>(G32+Grenser!$G$4),G32+Grenser!$G$4,F32-Grenser!$G$4))","v":0}]
[null,null,"",null,null,null,null,null,null,null,{"$f":"IF(AND(B33>=(F33-Grenser!$G$4),B33<=(G33+Grenser!$G$4)),B33,IF(B33>(G33+Grenser!$G$4),G33+Grenser!$G$4,F33-Grenser!$G$4))","v":0}]
[null,null,"",null,null,null,null,null,null,null,{"$f":"IF(AND(B34>=(F34-Grenser!$G$4),B34<=(G34+Grenser!$G$4)),B34,IF(B34>(G34+Grenser!$G$4),G34+Grenser!$G$4,F34-Grenser!$G$4))","v":0}]
[null,null,"",null,null,null,null,null,null,null,{"$f":"IF(AND(B35>=(F35-Grenser!$G$4),B35<=(G35+Grenser!$G$4)),B35,IF(B35>(G35+Grenser!$G$4),G35+Grenser!$G$4,F35-Grenser!$G$4))","v":0}]
[null,null,"",null,null,null,null,null,null,null,{"$f":"IF(AND(B36>=(F36-Grenser!$G$4),B36<=(G36+Grenser!$G$4)),B36,IF(B36>(G36+Grenser!$G$4),G36+Grenser!$G$4,F36-Grenser!$G$4))","v":0}]
[null,null,"",null,null,null,null,null,null,null,{"$f":"IF(AND(B37>=(F37-Grenser!$G$4),B37<=(G37+Grenser!$G$4)),B37,IF(B37>(G37+Grenser!$G$4),G37+Grenser!$G$4,F37-Grenser!$G$4))","v":0}]
[null,null,"",null,null,null,null,null,null,null,{"$f":"IF(AND(B38>=(F38-Grenser!$G$4),B38<=(G38+Grenser!$G$4)),B38,IF(B38>(G38+Grenser!$G$4),G38+Grenser!$G$4,F38-Grenser!$G$4))","v":0}]
[null,null,"",null,null,null,null,null,null,null,{"$f":"IF(AND(B39>=(F39-Grenser!$G$4),B39<=(G39+Grenser!$G$4)),B39,IF(B39>(G39+Grenser!$G$4),G39+Grenser!$G$4,F39-Grenser!$G$4))","v":0}]
[null,null,"",null,null,null,null,null,null,null,{"$f":"IF(AND(B40>=(F40-Grenser!$G$4),B40<=(G40+Grenser!$G$4)),B40,IF(B40>(G40+Grenser!$G$4),G40+Grenser!$G$4,F40-Grenser!$G$4))","v":0}]
[null,null,"",null,null,null,null,null,null,null,{"$f":"IF(AND(B41>=(F41-Grenser!$G$4),B41<=(G41+Grenser!$G$4)),B41,IF(B41>(G41+Grenser!$G$4),G41+Grenser!$G$4,F41-Grenser!$G$4))","v":0}]
[null,null,"",null,null,null,null,null,null,null,{"$f":"IF(AND(B42>=(F42-Grenser!$G$4),B42<=(G42+Grenser!$G$4)),B42,IF(B42>(G42+Grenser!$G$4),G42+Grenser!$G$4,F42-Grenser!$G$4))","v":0}]
[null,null,"",null,null,null,null,null,null,null,{"$f":"IF(AND(B43>=(F43-Grenser!$G$4),B43<=(G43+Grenser!$G$4)),B43,IF(B43>(G43+Grenser!$G$4),G43+Grenser!$G$4,F43-Grenser!$G$4))","v":0}]
[null,null,"",null,null,null,null,null,null,null,{"$f":"IF(AND(B44>=(F44-Grenser!$G$4),B44<=(G44+Grenser!$G$4)),B44,IF(B44>(G44+Grenser!$G$4),G44+Grenser!$G$4,F44-Grenser!$G$4))","v":0}]
[null,null,"",null,null,null,null,null,null,null,{"$f":"IF(AND(B45>=(F45-Grenser!$G$4),B45<=(G45+Grenser!$G$4)),B45,IF(B45>(G45+Grenser!$G$4),G45+Grenser!$G$4,F45-Grenser!$G$4))","v":0}]
[null,null,"",null,null,null,null,null,null,null,{"$f":"IF(AND(B46>=(F46-Grenser!$G$4),B46<=(G46+Grenser!$G$4)),B46,IF(B46>(G46+Grenser!$G$4),G46+Grenser!$G$4,F46-Grenser!$G$4))","v":0}]
[null,null,"",null,null,null,null,null,null,null,{"$f":"IF(AND(B47>=(F47-Grenser!$G$4),B47<=(G47+Grenser!$G$4)),B47,IF(B47>(G47+Grenser!$G$4),G47+Grenser!$G$4,F47-Grenser!$G$4))","v":0}]
[null,null,"",null,null,null,null,null,null,null,{"$f":"IF(AND(B48>=(F48-Grenser!$G$4),B48<=(G48+Grenser!$G$4)),B48,IF(B48>(G48+Grenser!$G$4),G48+Grenser!$G$4,F48-Grenser!$G$4))","v":0}]
[null,null,"",null,null,null,null,null,null,null,{"$f":"IF(AND(B49>=(F49-Grenser!$G$4),B49<=(G49+Grenser!$G$4)),B49,IF(B49>(G49+Grenser!$G$4),G49+Grenser!$G$4,F49-Grenser!$G$4))","v":0}]
[null,null,"",null,null,null,null,null,null,null,{"$f":"IF(AND(B50>=(F50-Grenser!$G$4),B50<=(G50+Grenser!$G$4)),B50,IF(B50>(G50+Grenser!$G$4),G50+Grenser!$G$4,F50-Grenser!$G$4))","v":0}]
[null,null,"",null,null,null,null,null,null,null,{"$f":"IF(AND(B51>=(F51-Grenser!$G$4),B51<=(G51+Grenser!$G$4)),B51,IF(B51>(G51+Grenser!$G$4),G51+Grenser!$G$4,F51-Grenser!$G$4))","v":0}]
[null,null,"",null,null,null,null,null,null,null,{"$f":"IF(AND(B52>=(F52-Grenser!$G$4),B52<=(G52+Grenser!$G$4)),B52,IF(B52>(G52+Grenser!$G$4),G52+Grenser!$G$4,F52-Grenser!$G$4))","v":0}]
[null,null,"",null,null,null,null,null,null,null,{"$f":"IF(AND(B53>=(F53-Grenser!$G$4),B53<=(G53+Grenser!$G$4)),B53,IF(B53>(G53+Grenser!$G$4),G53+Grenser!$G$4,F53-Grenser!$G$4))","v":0}]
[null,null,"",null,null,null,null,null,null,null,{"$f":"IF(AND(B54>=(F54-Grenser!$G$4),B54<=(G54+Grenser!$G$4)),B54,IF(B54>(G54+Grenser!$G$4),G54+Grenser!$G$4,F54-Grenser!$G$4))","v":0}]
[null,null,"",null,null,null,null,null,null,null,{"$f":"IF(AND(B55>=(F55-Grenser!$G$4),B55<=(G55+Grenser!$G$4)),B55,IF(B55>(G55+Grenser!$G$4),G55+Grenser!$G$4,F55-Grenser!$G$4))","v":0}]
[null,null,"",null,null,null,null,null,null,null,{"$f":"IF(AND(B56>=(F56-Grenser!$G$4),B56<=(G56+Grenser!$G$4)),B56,IF(B56>(G56+Grenser!$G$4),G56+Grenser!$G$4,F56-Grenser!$G$4))","v":0}]
[null,null,"",null,null,null,null,null,null,null,{"$f":"IF(AND(B57>=(F57-Grenser!$G$4),B57<=(G57+Grenser!$G$4)),B57,IF(B57>(G57+Grenser!$G$4),G57+Grenser!$G$4,F57-Grenser!$G$4))","v":0}]
[null,null,"",null,null,null,null,null,null,null,{"$f":"IF(AND(B58>=(F58-Grenser!$G$4),B58<=(G58+Grenser!$G$4)),B58,IF(B58>(G58+Grenser!$G$4),G58+Grenser!$G$4,F58-Grenser!$G$4))","v":0}]
[null,null,"",null,null,null,null,null,null,null,{"$f":"IF(AND(B59>=(F59-Grenser!$G$4),B59<=(G59+Grenser!$G$4)),B59,IF(B59>(G59+Grenser!$G$4),G59+Grenser!$G$4,F59-Grenser!$G$4))","v":0}]
[null,null,"",null,null,null,null,null,null,null,{"$f":"IF(AND(B60>=(F60-Grenser!$G$4),B60<=(G60+Grenser!$G$4)),B60,IF(B60>(G60+Grenser!$G$4),G60+Grenser!$G$4,F60-Grenser!$G$4))","v":0}]
[null,null,"",null,null,null,null,null,null,null,{"$f":"IF(AND(B61>=(F61-Grenser!$G$4),B61<=(G61+Grenser!$G$4)),B61,IF(B61>(G61+Grenser!$G$4),G61+Grenser!$G$4,F61-Grenser!$G$4))","v":0}]
[null,null,"",null,null,null,null,null,null,null,{"$f":"IF(AND(B62>=(F62-Grenser!$G$4),B62<=(G62+Grenser!$G$4)),B62,IF(B62>(G62+Grenser!$G$4),G62+Grenser!$G$4,F62-Grenser!$G$4))","v":0}]
[null,null,"",null,null,null,null,null,null,null,{"$f":"IF(AND(B63>=(F63-Grenser!$G$4),B63<=(G63+Grenser!$G$4)),B63,IF(B63>(G63+Grenser!$G$4),G63+Grenser!$G$4,F63-Grenser!$G$4))","v":0}]
[null,null,"",null,null,null,null,null,null,null,{"$f":"IF(AND(B64>=(F64-Grenser!$G$4),B64<=(G64+Grenser!$G$4)),B64,IF(B64>(G64+Grenser!$G$4),G64+Grenser!$G$4,F64-Grenser!$G$4))","v":0}]
[null,null,"",null,null,null,null,null,null,null,{"$f":"IF(AND(B65>=(F65-Grenser!$G$4),B65<=(G65+Grenser!$G$4)),B65,IF(B65>(G65+Grenser!$G$4),G65+Grenser!$G$4,F65-Grenser!$G$4))","v":0}]
[null,null,"",null,null,null,null,null,null,null,{"$f":"IF(AND(B66>=(F66-Grenser!$G$4),B66<=(G66+Grenser!$G$4)),B66,IF(B66>(G66+Grenser!$G$4),G66+Grenser!$G$4,F66-Grenser!$G$4))","v":0}]
[null,null,"",null,null,null,null,null,null,null,{"$f":"IF(AND(B67>=(F67-Grenser!$G$4),B67<=(G67+Grenser!$G$4)),B67,IF(B67>(G67+Grenser!$G$4),G67+Grenser!$G$4,F67-Grenser!$G$4))","v":0}]
[null,null,"",null,null,null,null,null,null,null,{"$f":"IF(AND(B68>=(F68-Grenser!$G$4),B68<=(G68+Grenser!$G$4)),B68,IF(B68>(G68+Grenser!$G$4),G68+Grenser!$G$4,F68-Grenser!$G$4))","v":0}]
[null,null,"",null,null,null,null,null,null,null,{"$f":"IF(AND(B69>=(F69-Grenser!$G$4),B69<=(G69+Grenser!$G$4)),B69,IF(B69>(G69+Grenser!$G$4),G69+Grenser!$G$4,F69-Grenser!$G$4))","v":0}]
[null,null,{"$f":"IF(B70<>\"\",(IF(OR(B70<F70,B70>G70),\"STOPP\",\"OK\")),\"\")","v":""},null,null,null,null,null,null,null,{"$f":"IF(AND(B70>=(F70-Grenser!$G$4),B70<=(G70+Grenser!$G$4)),B70,IF(B70>(G70+Grenser!$G$4),G70+Grenser!$G$4,F70-Grenser!$G$4))","v":0}]
[null,null,"",null,null,null,null,null,null,null,{"$f":"IF(AND(B71>=(F71-Grenser!$G$4),B71<=(G71+Grenser!$G$4)),B71,IF(B71>(G71+Grenser!$G$4),G71+Grenser!$G$4,F71-Grenser!$G$4))","v":0}]
[null,null,"",null,null,null,null,null,null,null,{"$f":"IF(AND(B72>=(F72-Grenser!$G$4),B72<=(G72+Grenser!$G$4)),B72,IF(B72>(G72+Grenser!$G$4),G72+Grenser!$G$4,F72-Grenser!$G$4))","v":0}]
[null,null,"",null,null,null,null,null,null,null,{"$f":"IF(AND(B73>=(F73-Grenser!$G$4),B73<=(G73+Grenser!$G$4)),B73,IF(B73>(G73+Grenser!$G$4),G73+Grenser!$G$4,F73-Grenser!$G$4))","v":0}]
[null,null,"",null,null,null,null,null,null,null,{"$f":"IF(AND(B74>=(F74-Grenser!$G$4),B74<=(G74+Grenser!$G$4)),B74,IF(B74>(G74+Grenser!$G$4),G74+Grenser!$G$4,F74-Grenser!$G$4))","v":0}]
[null,null,"",null,null,null,null,null,null,null,{"$f":"IF(AND(B75>=(F75-Grenser!$G$4),B75<=(G75+Grenser!$G$4)),B75,IF(B75>(G75+Grenser!$G$4),G75+Grenser!$G$4,F75-Grenser!$G$4))","v":0}]
[null,null,"",null,null,null,null,null,null,null,{"$f":"IF(AND(B76>=(F76-Grenser!$G$4),B76<=(G76+Grenser!$G$4)),B76,IF(B76>(G76+Grenser!$G$4),G76+Grenser!$G$4,F76-Grenser!$G$4))","v":0}]
[null,null,"",null,null,null,null,null,null,null,{"$f":"IF(AND(B77>=(F77-Grenser!$G$4),B77<=(G77+Grenser!$G$4)),B77,IF(B77>(G77+Grenser!$G$4),G77+Grenser!$G$4,F77-Grenser!$G$4))","v":0}]
[null,null,"",null,null,null,null,null,null,null,{"$f":"IF(AND(B78>=(F78-Grenser!$G$4),B78<=(G78+Grenser!$G$4)),B78,IF(B78>(G78+Grenser!$G$4),G78+Grenser!$G$4,F78-Grenser!$G$4))","v":0}]
[null,null,"",null,null,null,null,null,null,null,{"$f":"IF(AND(B79>=(F79-Grenser!$G$4),B79<=(G79+Grenser!$G$4)),B79,IF(B79>(G79+Grenser!$G$4),G79+Grenser!$G$4,F79-Grenser!$G$4))","v":0}]
[null,null,"",null,null,null,null,null,null,null,{"$f":"IF(AND(B80>=(F80-Grenser!$G$4),B80<=(G80+Grenser!$G$4)),B80,IF(B80>(G80+Grenser!$G$4),G80+Grenser!$G$4,F80-Grenser!$G$4))","v":0}]
[null,null,"",null,null,null,null,null,null,null,{"$f":"IF(AND(B81>=(F81-Grenser!$G$4),B81<=(G81+Grenser!$G$4)),B81,IF(B81>(G81+Grenser!$G$4),G81+Grenser!$G$4,F81-Grenser!$G$4))","v":0}]
[null,null,"",null,null,null,null,null,null,null,{"$f":"IF(AND(B82>=(F82-Grenser!$G$4),B82<=(G82+Grenser!$G$4)),B82,IF(B82>(G82+Grenser!$G$4),G82+Grenser!$G$4,F82-Grenser!$G$4))","v":0}]
[null,null,"",null,null,null,null,null,null,null,{"$f":"IF(AND(B83>=(F83-Grenser!$G$4),B83<=(G83+Grenser!$G$4)),B83,IF(B83>(G83+Grenser!$G$4),G83+Grenser!$G$4,F83-Grenser!$G$4))","v":0}]
[null,null,"",null,null,null,null,null,null,null,{"$f":"IF(AND(B84>=(F84-Grenser!$G$4),B84<=(G84+Grenser!$G$4)),B84,IF(B84>(G84+Grenser!$G$4),G84+Grenser!$G$4,F84-Grenser!$G$4))","v":0}]
[null,null,"",null,null,null,null,null,null,null,{"$f":"IF(AND(B85>=(F85-Grenser!$G$4),B85<=(G85+Grenser!$G$4)),B85,IF(B85>(G85+Grenser!$G$4),G85+Grenser!$G$4,F85-Grenser!$G$4))","v":0}]
[null,null,"",null,null,null,null,null,null,null,{"$f":"IF(AND(B86>=(F86-Grenser!$G$4),B86<=(G86+Grenser!$G$4)),B86,IF(B86>(G86+Grenser!$G$4),G86+Grenser!$G$4,F86-Grenser!$G$4))","v":0}]
[null,null,"",null,null,null,null,null,null,null,{"$f":"IF(AND(B87>=(F87-Grenser!$G$4),B87<=(G87+Grenser!$G$4)),B87,IF(B87>(G87+Grenser!$G$4),G87+Grenser!$G$4,F87-Grenser!$G$4))","v":0}]
[null,null,"",null,null,null,null,null,null,null,{"$f":"IF(AND(B88>=(F88-Grenser!$G$4),B88<=(G88+Grenser!$G$4)),B88,IF(B88>(G88+Grenser!$G$4),G88+Grenser!$G$4,F88-Grenser!$G$4))","v":0}]
[null,null,"",null,null,null,null,null,null,null,{"$f":"IF(AND(B89>=(F89-Grenser!$G$4),B89<=(G89+Grenser!$G$4)),B89,IF(B89>(G89+Grenser!$G$4),G89+Grenser!$G$4,F89-Grenser!$G$4))","v":0}]
[null,null,"",null,null,null,null,null,null,null,{"$f":"IF(AND(B90>=(F90-Grenser!$G$4),B90<=(G90+Grenser!$G$4)),B90,IF(B90>(G90+Grenser!$G$4),G90+Grenser!$G$4,F90-Grenser!$G$4))","v":0}]
[null,null,"",null,null,null,null,null,null,null,{"$f":"IF(AND(B91>=(F91-Grenser!$G$4),B91<=(G91+Grenser!$G$4)),B91,IF(B91>(G91+Grenser!$G$4),G91+Grenser!$G$4,F91-Grenser!$G$4))","v":0}]
[null,null,"",null,null,null,null,null,null,null,{"$f":"IF(AND(B92>=(F92-Grenser!$G$4),B92<=(G92+Grenser!$G$4)),B92,IF(B92>(G92+Grenser!$G$4),G92+Grenser!$G$4,F92-Grenser!$G$4))","v":0}]
[null,null,"",null,null,null,null,null,null,null,{"$f":"IF(AND(B93>=(F93-Grenser!$G$4),B93<=(G93+Grenser!$G$4)),B93,IF(B93>(G93+Grenser!$G$4),G93+Grenser!$G$4,F93-Grenser!$G$4))","v":0}]
[null,null,"",null,null,null,null,null,null,null,{"$f":"IF(AND(B94>=(F94-Grenser!$G$4),B94<=(G94+Grenser!$G$4)),B94,IF(B94>(G94+Grenser!$G$4),G94+Grenser!$G$4,F94-Grenser!$G$4))","v":0}]
[null,null,"",null,null,null,null,null,null,null,{"$f":"IF(AND(B95>=(F95-Grenser!$G$4),B95<=(G95+Grenser!$G$4)),B95,IF(B95>(G95+Grenser!$G$4),G95+Grenser!$G$4,F95-Grenser!$G$4))","v":0}]
[null,null,"",null,null,null,null,null,null,null,{"$f":"IF(AND(B96>=(F96-Grenser!$G$4),B96<=(G96+Grenser!$G$4)),B96,IF(B96>(G96+Grenser!$G$4),G96+Grenser!$G$4,F96-Grenser!$G$4))","v":0}]
[null,null,"",null,null,null,null,null,null,null,{"$f":"IF(AND(B97>=(F97-Grenser!$G$4),B97<=(G97+Grenser!$G$4)),B97,IF(B97>(G97+Grenser!$G$4),G97+Grenser!$G$4,F97-Grenser!$G$4))","v":0}]
[null,null,"",null,null,null,null,null,null,null,{"$f":"IF(AND(B98>=(F98-Grenser!$G$4),B98<=(G98+Grenser!$G$4)),B98,IF(B98>(G98+Grenser!$G$4),G98+Grenser!$G$4,F98-Grenser!$G$4))","v":0}]
[null,null,"",null,null,null,null,null,null,null,{"$f":"IF(AND(B99>=(F99-Grenser!$G$4),B99<=(G99+Grenser!$G$4)),B99,IF(B99>(G99+Grenser!$G$4),G99+Grenser!$G$4,F99-Grenser!$G$4))","v":0}]
[null,null,"",null,null,null,null,null,null,null,{"$f":"IF(AND(B100>=(F100-Grenser!$G$4),B100<=(G100+Grenser!$G$4)),B100,IF(B100>(G100+Grenser!$G$4),G100+Grenser!$G$4,F100-Grenser!$G$4))","v":0}]
[null,null,"",null,null,null,null,null,null,null,{"$f":"IF(AND(B101>=(F101-Grenser!$G$4),B101<=(G101+Grenser!$G$4)),B101,IF(B101>(G101+Grenser!$G$4),G101+Grenser!$G$4,F101-Grenser!$G$4))","v":0}]
[null,null,"",null,null,null,null,null,null,null,{"$f":"IF(AND(B102>=(F102-Grenser!$G$4),B102<=(G102+Grenser!$G$4)),B102,IF(B102>(G102+Grenser!$G$4),G102+Grenser!$G$4,F102-Grenser!$G$4))","v":0}]
[null,null,"",null,null,null,null,null,null,null,{"$f":"IF(AND(B103>=(F103-Grenser!$G$4),B103<=(G103+Grenser!$G$4)),B103,IF(B103>(G103+Grenser!$G$4),G103+Grenser!$G$4,F103-Grenser!$G$4))","v":0}]
[null,null,"",null,null,null,null,null,null,null,{"$f":"IF(AND(B104>=(F104-Grenser!$G$4),B104<=(G104+Grenser!$G$4)),B104,IF(B104>(G104+Grenser!$G$4),G104+Grenser!$G$4,F104-Grenser!$G$4))","v":0}]
[null,null,"",null,null,null,null,null,null,null,{"$f":"IF(AND(B105>=(F105-Grenser!$G$4),B105<=(G105+Grenser!$G$4)),B105,IF(B105>(G105+Grenser!$G$4),G105+Grenser!$G$4,F105-Grenser!$G$4))","v":0}]
[null,null,"",null,null,null,null,null,null,null,{"$f":"IF(AND(B106>=(F106-Grenser!$G$4),B106<=(G106+Grenser!$G$4)),B106,IF(B106>(G106+Grenser!$G$4),G106+Grenser!$G$4,F106-Grenser!$G$4))","v":0}]
[null,null,"",null,null,null,null,null,null,null,{"$f":"IF(AND(B107>=(F107-Grenser!$G$4),B107<=(G107+Grenser!$G$4)),B107,IF(B107>(G107+Grenser!$G$4),G107+Grenser!$G$4,F107-Grenser!$G$4))","v":0}]
[null,null,"",null,null,null,null,null,null,null,{"$f":"IF(AND(B108>=(F108-Grenser!$G$4),B108<=(G108+Grenser!$G$4)),B108,IF(B108>(G108+Grenser!$G$4),G108+Grenser!$G$4,F108-Grenser!$G$4))","v":0}]
[null,null,"",null,null,null,null,null,null,null,{"$f":"IF(AND(B109>=(F109-Grenser!$G$4),B109<=(G109+Grenser!$G$4)),B109,IF(B109>(G109+Grenser!$G$4),G109+Grenser!$G$4,F109-Grenser!$G$4))","v":0}]
[null,null,"",null,null,null,null,null,null,null,{"$f":"IF(AND(B110>=(F110-Grenser!$G$4),B110<=(G110+Grenser!$G$4)),B110,IF(B110>(G110+Grenser!$G$4),G110+Grenser!$G$4,F110-Grenser!$G$4))","v":0}]
[null,null,"",null,null,null,null,null,null,null,{"$f":"IF(AND(B111>=(F111-Grenser!$G$4),B111<=(G111+Grenser!$G$4)),B111,IF(B111>(G111+Grenser!$G$4),G111+Grenser!$G$4,F111-Grenser!$G$4))","v":0}]
[null,null,"",null,null,null,null,null,null,null,{"$f":"IF(AND(B112>=(F112-Grenser!$G$4),B112<=(G112+Grenser!$G$4)),B112,IF(B112>(G112+Grenser!$G$4),G112+Grenser!$G$4,F112-Grenser!$G$4))","v":0}]
[null,null,"",null,null,null,null,null,null,null,{"$f":"IF(AND(B113>=(F113-Grenser!$G$4),B113<=(G113+Grenser!$G$4)),B113,IF(B113>(G113+Grenser!$G$4),G113+Grenser!$G$4,F113-Grenser!$G$4))","v":0}]
[null,null,"",null,null,null,null,null,null,null,{"$f":"IF(AND(B114>=(F114-Grenser!$G$4),B114<=(G114+Grenser!$G$4)),B114,IF(B114>(G114+Grenser!$G$4),G114+Grenser!$G$4,F114-Grenser!$G$4))","v":0}]
[null,null,"",null,null,null,null,null,null,null,{"$f":"IF(AND(B115>=(F115-Grenser!$G$4),B115<=(G115+Grenser!$G$4)),B115,IF(B115>(G115+Grenser!$G$4),G115+Grenser!$G$4,F115-Grenser!$G$4))","v":0}]
[null,null,"",null,null,null,null,null,null,null,{"$f":"IF(AND(B116>=(F116-Grenser!$G$4),B116<=(G116+Grenser!$G$4)),B116,IF(B116>(G116+Grenser!$G$4),G116+Grenser!$G$4,F116-Grenser!$G$4))","v":0}]
[null,null,"",null,null,null,null,null,null,null,{"$f":"IF(AND(B117>=(F117-Grenser!$G$4),B117<=(G117+Grenser!$G$4)),B117,IF(B117>(G117+Grenser!$G$4),G117+Grenser!$G$4,F117-Grenser!$G$4))","v":0}]
[null,null,"",null,null,null,null,null,null,null,{"$f":"IF(AND(B118>=(F118-Grenser!$G$4),B118<=(G118+Grenser!$G$4)),B118,IF(B118>(G118+Grenser!$G$4),G118+Grenser!$G$4,F118-Grenser!$G$4))","v":0}]
[null,null,"",null,null,null,null,null,null,null,{"$f":"IF(AND(B119>=(F119-Grenser!$G$4),B119<=(G119+Grenser!$G$4)),B119,IF(B119>(G119+Grenser!$G$4),G119+Grenser!$G$4,F119-Grenser!$G$4))","v":0}]
[null,null,"",null,null,null,null,null,null,null,{"$f":"IF(AND(B120>=(F120-Grenser!$G$4),B120<=(G120+Grenser!$G$4)),B120,IF(B120>(G120+Grenser!$G$4),G120+Grenser!$G$4,F120-Grenser!$G$4))","v":0}]
[null,null,"",null,null,null,null,null,null,null,{"$f":"IF(AND(B121>=(F121-Grenser!$G$4),B121<=(G121+Grenser!$G$4)),B121,IF(B121>(G121+Grenser!$G$4),G121+Grenser!$G$4,F121-Grenser!$G$4))","v":0}]
[null,null,"",null,null,null,null,null,null,null,{"$f":"IF(AND(B122>=(F122-Grenser!$G$4),B122<=(G122+Grenser!$G$4)),B122,IF(B122>(G122+Grenser!$G$4),G122+Grenser!$G$4,F122-Grenser!$G$4))","v":0}]
[null,null,"",null,null,null,null,null,null,null,{"$f":"IF(AND(B123>=(F123-Grenser!$G$4),B123<=(G123+Grenser!$G$4)),B123,IF(B123>(G123+Grenser!$G$4),G123+Grenser!$G$4,F123-Grenser!$G$4))","v":0}]
[null,null,"",null,null,null,null,null,null,null,{"$f":"IF(AND(B124>=(F124-Grenser!$G$4),B124<=(G124+Grenser!$G$4)),B124,IF(B124>(G124+Grenser!$G$4),G124+Grenser!$G$4,F124-Grenser!$G$4))","v":0}]
[null,null,"",null,null,null,null,null,null,null,{"$f":"IF(AND(B125>=(F125-Grenser!$G$4),B125<=(G125+Grenser!$G$4)),B125,IF(B125>(G125+Grenser!$G$4),G125+Grenser!$G$4,F125-Grenser!$G$4))","v":0}]
[null,null,"",null,null,null,null,null,null,null,{"$f":"IF(AND(B126>=(F126-Grenser!$G$4),B126<=(G126+Grenser!$G$4)),B126,IF(B126>(G126+Grenser!$G$4),G126+Grenser!$G$4,F126-Grenser!$G$4))","v":0}]
[null,null,"",null,null,null,null,null,null,null,{"$f":"IF(AND(B127>=(F127-Grenser!$G$4),B127<=(G127+Grenser!$G$4)),B127,IF(B127>(G127+Grenser!$G$4),G127+Grenser!$G$4,F127-Grenser!$G$4))","v":0}]
[null,null,"",null,null,null,null,null,null,null,{"$f":"IF(AND(B128>=(F128-Grenser!$G$4),B128<=(G128+Grenser!$G$4)),B128,IF(B128>(G128+Grenser!$G$4),G128+Grenser!$G$4,F128-Grenser!$G$4))","v":0}]
[null,null,"",null,null,null,null,null,null,null,{"$f":"IF(AND(B129>=(F129-Grenser!$G$4),B129<=(G129+Grenser!$G$4)),B129,IF(B129>(G129+Grenser!$G$4),G129+Grenser!$G$4,F129-Grenser!$G$4))","v":0}]
[null,null,"",null,null,null,null,null,null,null,{"$f":"IF(AND(B130>=(F130-Grenser!$G$4),B130<=(G130+Grenser!$G$4)),B130,IF(B130>(G130+Grenser!$G$4),G130+Grenser!$G$4,F130-Grenser!$G$4))","v":0}]
[null,null,"",null,null,null,null,null,null,null,{"$f":"IF(AND(B131>=(F131-Grenser!$G$4),B131<=(G131+Grenser!$G$4)),B131,IF(B131>(G131+Grenser!$G$4),G131+Grenser!$G$4,F131-Grenser!$G$4))","v":0}]
[null,null,"",null,null,null,null,null,null,null,{"$f":"IF(AND(B132>=(F132-Grenser!$G$4),B132<=(G132+Grenser!$G$4)),B132,IF(B132>(G132+Grenser!$G$4),G132+Grenser!$G$4,F132-Grenser!$G$4))","v":0}]
[null,null,"",null,null,null,null,null,null,null,{"$f":"IF(AND(B133>=(F133-Grenser!$G$4),B133<=(G133+Grenser!$G$4)),B133,IF(B133>(G133+Grenser!$G$4),G133+Grenser!$G$4,F133-Grenser!$G$4))","v":0}]
[null,null,{"$f":"IF(B134<>\"\",(IF(OR(B134<F134,B134>G134),\"STOPP\",\"OK\")),\"\")","v":""},null,null,null,null,null,null,null,{"$f":"IF(AND(B134>=(F134-Grenser!$G$4),B134<=(G134+Grenser!$G$4)),B134,IF(B134>(G134+Grenser!$G$4),G134+Grenser!$G$4,F134-Grenser!$G$4))","v":0}]
[null,null,"",null,null,null,null,null,null,null,{"$f":"IF(AND(B135>=(F135-Grenser!$G$4),B135<=(G135+Grenser!$G$4)),B135,IF(B135>(G135+Grenser!$G$4),G135+Grenser!$G$4,F135-Grenser!$G$4))","v":0}]
[null,null,"",null,null,null,null,null,null,null,{"$f":"IF(AND(B136>=(F136-Grenser!$G$4),B136<=(G136+Grenser!$G$4)),B136,IF(B136>(G136+Grenser!$G$4),G136+Grenser!$G$4,F136-Grenser!$G$4))","v":0}]
[null,null,"",null,null,null,null,null,null,null,{"$f":"IF(AND(B137>=(F137-Grenser!$G$4),B137<=(G137+Grenser!$G$4)),B137,IF(B137>(G137+Grenser!$G$4),G137+Grenser!$G$4,F137-Grenser!$G$4))","v":0}]
[null,null,"",null,null,null,null,null,null,null,{"$f":"IF(AND(B138>=(F138-Grenser!$G$4),B138<=(G138+Grenser!$G$4)),B138,IF(B138>(G138+Grenser!$G$4),G138+Grenser!$G$4,F138-Grenser!$G$4))","v":0}]
[null,null,"",null,null,null,null,null,null,null,{"$f":"IF(AND(B139>=(F139-Grenser!$G$4),B139<=(G139+Grenser!$G$4)),B139,IF(B139>(G139+Grenser!$G$4),G139+Grenser!$G$4,F139-Grenser!$G$4))","v":0}]
[null,null,"",null,null,null,null,null,null,null,{"$f":"IF(AND(B140>=(F140-Grenser!$G$4),B140<=(G140+Grenser!$G$4)),B140,IF(B140>(G140+Grenser!$G$4),G140+Grenser!$G$4,F140-Grenser!$G$4))","v":0}]
[null,null,"",null,null,null,null,null,null,null,{"$f":"IF(AND(B141>=(F141-Grenser!$G$4),B141<=(G141+Grenser!$G$4)),B141,IF(B141>(G141+Grenser!$G$4),G141+Grenser!$G$4,F141-Grenser!$G$4))","v":0}]
[null,null,"",null,null,null,null,null,null,null,{"$f":"IF(AND(B142>=(F142-Grenser!$G$4),B142<=(G142+Grenser!$G$4)),B142,IF(B142>(G142+Grenser!$G$4),G142+Grenser!$G$4,F142-Grenser!$G$4))","v":0}]
[null,null,"",null,null,null,null,null,null,null,{"$f":"IF(AND(B143>=(F143-Grenser!$G$4),B143<=(G143+Grenser!$G$4)),B143,IF(B143>(G143+Grenser!$G$4),G143+Grenser!$G$4,F143-Grenser!$G$4))","v":0}]
[null,null,"",null,null,null,null,null,null,null,{"$f":"IF(AND(B144>=(F144-Grenser!$G$4),B144<=(G144+Grenser!$G$4)),B144,IF(B144>(G144+Grenser!$G$4),G144+Grenser!$G$4,F144-Grenser!$G$4))","v":0}]
[null,null,"",null,null,null,null,null,null,null,{"$f":"IF(AND(B145>=(F145-Grenser!$G$4),B145<=(G145+Grenser!$G$4)),B145,IF(B145>(G145+Grenser!$G$4),G145+Grenser!$G$4,F145-Grenser!$G$4))","v":0}]
[null,null,"",null,null,null,null,null,null,null,{"$f":"IF(AND(B146>=(F146-Grenser!$G$4),B146<=(G146+Grenser!$G$4)),B146,IF(B146>(G146+Grenser!$G$4),G146+Grenser!$G$4,F146-Grenser!$G$4))","v":0}]
[null,null,"",null,null,null,null,null,null,null,{"$f":"IF(AND(B147>=(F147-Grenser!$G$4),B147<=(G147+Grenser!$G$4)),B147,IF(B147>(G147+Grenser!$G$4),G147+Grenser!$G$4,F147-Grenser!$G$4))","v":0}]
[null,null,"",null,null,null,null,null,null,null,{"$f":"IF(AND(B148>=(F148-Grenser!$G$4),B148<=(G148+Grenser!$G$4)),B148,IF(B148>(G148+Grenser!$G$4),G148+Grenser!$G$4,F148-Grenser!$G$4))","v":0}]
[null,null,"",null,null,null,null,null,null,null,{"$f":"IF(AND(B149>=(F149-Grenser!$G$4),B149<=(G149+Grenser!$G$4)),B149,IF(B149>(G149+Grenser!$G$4),G149+Grenser!$G$4,F149-Grenser!$G$4))","v":0}]
[null,null,"",null,null,null,null,null,null,null,{"$f":"IF(AND(B150>=(F150-Grenser!$G$4),B150<=(G150+Grenser!$G$4)),B150,IF(B150>(G150+Grenser!$G$4),G150+Grenser!$G$4,F150-Grenser!$G$4))","v":0}]
[null,null,"",null,null,null,null,null,null,null,{"$f":"IF(AND(B151>=(F151-Grenser!$G$4),B151<=(G151+Grenser!$G$4)),B151,IF(B151>(G151+Grenser!$G$4),G151+Grenser!$G$4,F151-Grenser!$G$4))","v":0}]
[null,null,"",null,null,null,null,null,null,null,{"$f":"IF(AND(B152>=(F152-Grenser!$G$4),B152<=(G152+Grenser!$G$4)),B152,IF(B152>(G152+Grenser!$G$4),G152+Grenser!$G$4,F152-Grenser!$G$4))","v":0}]
[null,null,"",null,null,null,null,null,null,null,{"$f":"IF(AND(B153>=(F153-Grenser!$G$4),B153<=(G153+Grenser!$G$4)),B153,IF(B153>(G153+Grenser!$G$4),G153+Grenser!$G$4,F153-Grenser!$G$4))","v":0}]
[null,null,"",null,null,null,null,null,null,null,{"$f":"IF(AND(B154>=(F154-Grenser!$G$4),B154<=(G154+Grenser!$G$4)),B154,IF(B154>(G154+Grenser!$G$4),G154+Grenser!$G$4,F154-Grenser!$G$4))","v":0}]
[null,null,"",null,null,null,null,null,null,null,{"$f":"IF(AND(B155>=(F155-Grenser!$G$4),B155<=(G155+Grenser!$G$4)),B155,IF(B155>(G155+Grenser!$G$4),G155+Grenser!$G$4,F155-Grenser!$G$4))","v":0}]
[null,null,"",null,null,null,null,null,null,null,{"$f":"IF(AND(B156>=(F156-Grenser!$G$4),B156<=(G156+Grenser!$G$4)),B156,IF(B156>(G156+Grenser!$G$4),G156+Grenser!$G$4,F156-Grenser!$G$4))","v":0}]
[null,null,"",null,null,null,null,null,null,null,{"$f":"IF(AND(B157>=(F157-Grenser!$G$4),B157<=(G157+Grenser!$G$4)),B157,IF(B157>(G157+Grenser!$G$4),G157+Grenser!$G$4,F157-Grenser!$G$4))","v":0}]
[null,null,"",null,null,null,null,null,null,null,{"$f":"IF(AND(B158>=(F158-Grenser!$G$4),B158<=(G158+Grenser!$G$4)),B158,IF(B158>(G158+Grenser!$G$4),G158+Grenser!$G$4,F158-Grenser!$G$4))","v":0}]
[null,null,"",null,null,null,null,null,null,null,{"$f":"IF(AND(B159>=(F159-Grenser!$G$4),B159<=(G159+Grenser!$G$4)),B159,IF(B159>(G159+Grenser!$G$4),G159+Grenser!$G$4,F159-Grenser!$G$4))","v":0}]
[null,null,"",null,null,null,null,null,null,null,{"$f":"IF(AND(B160>=(F160-Grenser!$G$4),B160<=(G160+Grenser!$G$4)),B160,IF(B160>(G160+Grenser!$G$4),G160+Grenser!$G$4,F160-Grenser!$G$4))","v":0}]
[null,null,"",null,null,null,null,null,null,null,{"$f":"IF(AND(B161>=(F161-Grenser!$G$4),B161<=(G161+Grenser!$G$4)),B161,IF(B161>(G161+Grenser!$G$4),G161+Grenser!$G$4,F161-Grenser!$G$4))","v":0}]
[null,null,"",null,null,null,null,null,null,null,{"$f":"IF(AND(B162>=(F162-Grenser!$G$4),B162<=(G162+Grenser!$G$4)),B162,IF(B162>(G162+Grenser!$G$4),G162+Grenser!$G$4,F162-Grenser!$G$4))","v":0}]
[null,null,"",null,null,null,null,null,null,null,{"$f":"IF(AND(B163>=(F163-Grenser!$G$4),B163<=(G163+Grenser!$G$4)),B163,IF(B163>(G163+Grenser!$G$4),G163+Grenser!$G$4,F163-Grenser!$G$4))","v":0}]
[null,null,"",null,null,null,null,null,null,null,{"$f":"IF(AND(B164>=(F164-Grenser!$G$4),B164<=(G164+Grenser!$G$4)),B164,IF(B164>(G164+Grenser!$G$4),G164+Grenser!$G$4,F164-Grenser!$G$4))","v":0}]
[null,null,"",null,null,null,null,null,null,null,{"$f":"IF(AND(B165>=(F165-Grenser!$G$4),B165<=(G165+Grenser!$G$4)),B165,IF(B165>(G165+Grenser!$G$4),G165+Grenser!$G$4,F165-Grenser!$G$4))","v":0}]
[null,null,"",null,null,null,null,null,null,null,{"$f":"IF(AND(B166>=(F166-Grenser!$G$4),B166<=(G166+Grenser!$G$4)),B166,IF(B166>(G166+Grenser!$G$4),G166+Grenser!$G$4,F166-Grenser!$G$4))","v":0}]
[null,null,"",null,null,null,null,null,null,null,{"$f":"IF(AND(B167>=(F167-Grenser!$G$4),B167<=(G167+Grenser!$G$4)),B167,IF(B167>(G167+Grenser!$G$4),G167+Grenser!$G$4,F167-Grenser!$G$4))","v":0}]
[null,null,"",null,null,null,null,null,null,null,{"$f":"IF(AND(B168>=(F168-Grenser!$G$4),B168<=(G168+Grenser!$G$4)),B168,IF(B168>(G168+Grenser!$G$4),G168+Grenser!$G$4,F168-Grenser!$G$4))","v":0}]
[null,null,"",null,null,null,null,null,null,null,{"$f":"IF(AND(B169>=(F169-Grenser!$G$4),B169<=(G169+Grenser!$G$4)),B169,IF(B169>(G169+Grenser!$G$4),G169+Grenser!$G$4,F169-Grenser!$G$4))","v":0}]
[null,null,"",null,null,null,null,null,null,null,{"$f":"IF(AND(B170>=(F170-Grenser!$G$4),B170<=(G170+Grenser!$G$4)),B170,IF(B170>(G170+Grenser!$G$4),G170+Grenser!$G$4,F170-Grenser!$G$4))","v":0}]
[null,null,"",null,null,null,null,null,null,null,{"$f":"IF(AND(B171>=(F171-Grenser!$G$4),B171<=(G171+Grenser!$G$4)),B171,IF(B171>(G171+Grenser!$G$4),G171+Grenser!$G$4,F171-Grenser!$G$4))","v":0}]
[null,null,"",null,null,null,null,null,null,null,{"$f":"IF(AND(B172>=(F172-Grenser!$G$4),B172<=(G172+Grenser!$G$4)),B172,IF(B172>(G172+Grenser!$G$4),G172+Grenser!$G$4,F172-Grenser!$G$4))","v":0}]
[null,null,"",null,null,null,null,null,null,null,{"$f":"IF(AND(B173>=(F173-Grenser!$G$4),B173<=(G173+Grenser!$G$4)),B173,IF(B173>(G173+Grenser!$G$4),G173+Grenser!$G$4,F173-Grenser!$G$4))","v":0}]
[null,null,"",null,null,null,null,null,null,null,{"$f":"IF(AND(B174>=(F174-Grenser!$G$4),B174<=(G174+Grenser!$G$4)),B174,IF(B174>(G174+Grenser!$G$4),G174+Grenser!$G$4,F174-Grenser!$G$4))","v":0}]
[null,null,"",null,null,null,null,null,null,null,{"$f":"IF(AND(B175>=(F175-Grenser!$G$4),B175<=(G175+Grenser!$G$4)),B175,IF(B175>(G175+Grenser!$G$4),G175+Grenser!$G$4,F175-Grenser!$G$4))","v":0}]
[null,null,"",null,null,null,null,null,null,null,{"$f":"IF(AND(B176>=(F176-Grenser!$G$4),B176<=(G176+Grenser!$G$4)),B176,IF(B176>(G176+Grenser!$G$4),G176+Grenser!$G$4,F176-Grenser!$G$4))","v":0}]
[null,null,"",null,null,null,null,null,null,null,{"$f":"IF(AND(B177>=(F177-Grenser!$G$4),B177<=(G177+Grenser!$G$4)),B177,IF(B177>(G177+Grenser!$G$4),G177+Grenser!$G$4,F177-Grenser!$G$4))","v":0}]
[null,null,"",null,null,null,null,null,null,null,{"$f":"IF(AND(B178>=(F178-Grenser!$G$4),B178<=(G178+Grenser!$G$4)),B178,IF(B178>(G178+Grenser!$G$4),G178+Grenser!$G$4,F178-Grenser!$G$4))","v":0}]
[null,null,"",null,null,null,null,null,null,null,{"$f":"IF(AND(B179>=(F179-Grenser!$G$4),B179<=(G179+Grenser!$G$4)),B179,IF(B179>(G179+Grenser!$G$4),G179+Grenser!$G$4,F179-Grenser!$G$4))","v":0}]
[null,null,"",null,null,null,null,null,null,null,{"$f":"IF(AND(B180>=(F180-Grenser!$G$4),B180<=(G180+Grenser!$G$4)),B180,IF(B180>(G180+Grenser!$G$4),G180+Grenser!$G$4,F180-Grenser!$G$4))","v":0}]
[null,null,"",null,null,null,null,null,null,null,{"$f":"IF(AND(B181>=(F181-Grenser!$G$4),B181<=(G181+Grenser!$G$4)),B181,IF(B181>(G181+Grenser!$G$4),G181+Grenser!$G$4,F181-Grenser!$G$4))","v":0}]
[null,null,"",null,null,null,null,null,null,null,{"$f":"IF(AND(B182>=(F182-Grenser!$G$4),B182<=(G182+Grenser!$G$4)),B182,IF(B182>(G182+Grenser!$G$4),G182+Grenser!$G$4,F182-Grenser!$G$4))","v":0}]
[null,null,"",null,null,null,null,null,null,null,{"$f":"IF(AND(B183>=(F183-Grenser!$G$4),B183<=(G183+Grenser!$G$4)),B183,IF(B183>(G183+Grenser!$G$4),G183+Grenser!$G$4,F183-Grenser!$G$4))","v":0}]
[null,null,"",null,null,null,null,null,null,null,{"$f":"IF(AND(B184>=(F184-Grenser!$G$4),B184<=(G184+Grenser!$G$4)),B184,IF(B184>(G184+Grenser!$G$4),G184+Grenser!$G$4,F184-Grenser!$G$4))","v":0}]
[null,null,"",null,null,null,null,null,null,null,{"$f":"IF(AND(B185>=(F185-Grenser!$G$4),B185<=(G185+Grenser!$G$4)),B185,IF(B185>(G185+Grenser!$G$4),G185+Grenser!$G$4,F185-Grenser!$G$4))","v":0}]
[null,null,"",null,null,null,null,null,null,null,{"$f":"IF(AND(B186>=(F186-Grenser!$G$4),B186<=(G186+Grenser!$G$4)),B186,IF(B186>(G186+Grenser!$G$4),G186+Grenser!$G$4,F186-Grenser!$G$4))","v":0}]
[null,null,"",null,null,null,null,null,null,null,{"$f":"IF(AND(B187>=(F187-Grenser!$G$4),B187<=(G187+Grenser!$G$4)),B187,IF(B187>(G187+Grenser!$G$4),G187+Grenser!$G$4,F187-Grenser!$G$4))","v":0}]
[null,null,"",null,null,null,null,null,null,null,{"$f":"IF(AND(B188>=(F188-Grenser!$G$4),B188<=(G188+Grenser!$G$4)),B188,IF(B188>(G188+Grenser!$G$4),G188+Grenser!$G$4,F188-Grenser!$G$4))","v":0}]
[null,null,"",null,null,null,null,null,null,null,{"$f":"IF(AND(B189>=(F189-Grenser!$G$4),B189<=(G189+Grenser!$G$4)),B189,IF(B189>(G189+Grenser!$G$4),G189+Grenser!$G$4,F189-Grenser!$G$4))","v":0}]
[null,null,"",null,null,null,null,null,null,null,{"$f":"IF(AND(B190>=(F190-Grenser!$G$4),B190<=(G190+Grenser!$G$4)),B190,IF(B190>(G190+Grenser!$G$4),G190+Grenser!$G$4,F190-Grenser!$G$4))","v":0}]
[null,null,"",null,null,null,null,null,null,null,{"$f":"IF(AND(B191>=(F191-Grenser!$G$4),B191<=(G191+Grenser!$G$4)),B191,IF(B191>(G191+Grenser!$G$4),G191+Grenser!$G$4,F191-Grenser!$G$4))","v":0}]
[null,null,"",null,null,null,null,null,null,null,{"$f":"IF(AND(B192>=(F192-Grenser!$G$4),B192<=(G192+Grenser!$G$4)),B192,IF(B192>(G192+Grenser!$G$4),G192+Grenser!$G$4,F192-Grenser!$G$4))","v":0}]
[null,null,"",null,null,null,null,null,null,null,{"$f":"IF(AND(B193>=(F193-Grenser!$G$4),B193<=(G193+Grenser!$G$4)),B193,IF(B193>(G193+Grenser!$G$4),G193+Grenser!$G$4,F193-Grenser!$G$4))","v":0}]
[null,null,"",null,null,null,null,null,null,null,{"$f":"IF(AND(B194>=(F194-Grenser!$G$4),B194<=(G194+Grenser!$G$4)),B194,IF(B194>(G194+Grenser!$G$4),G194+Grenser!$G$4,F194-Grenser!$G$4))","v":0}]
[null,null,"",null,null,null,null,null,null,null,{"$f":"IF(AND(B195>=(F195-Grenser!$G$4),B195<=(G195+Grenser!$G$4)),B195,IF(B195>(G195+Grenser!$G$4),G195+Grenser!$G$4,F195-Grenser!$G$4))","v":0}]
[null,null,"",null,null,null,null,null,null,null,{"$f":"IF(AND(B196>=(F196-Grenser!$G$4),B196<=(G196+Grenser!$G$4)),B196,IF(B196>(G196+Grenser!$G$4),G196+Grenser!$G$4,F196-Grenser!$G$4))","v":0}]
[null,null,"",null,null,null,null,null,null,null,{"$f":"IF(AND(B197>=(F197-Grenser!$G$4),B197<=(G197+Grenser!$G$4)),B197,IF(B197>(G197+Grenser!$G$4),G197+Grenser!$G$4,F197-Grenser!$G$4))","v":0}]
[null,null,{"$f":"IF(B198<>\"\",(IF(OR(B198<F198,B198>G198),\"STOPP\",\"OK\")),\"\")","v":""},null,null,null,null,null,null,null,{"$f":"IF(AND(B198>=(F198-Grenser!$G$4),B198<=(G198+Grenser!$G$4)),B198,IF(B198>(G198+Grenser!$G$4),G198+Grenser!$G$4,F198-Grenser!$G$4))","v":0}]
[null,null,"",null,null,null,null,null,null,null,{"$f":"IF(AND(B199>=(F199-Grenser!$G$4),B199<=(G199+Grenser!$G$4)),B199,IF(B199>(G199+Grenser!$G$4),G199+Grenser!$G$4,F199-Grenser!$G$4))","v":0}]

{"sheet":"Ikke i bruk 3","index":5,"n_rows":198,"n_cols":11,"rows_kept":198,"cut":false,"hidden":false,"merged":[[0,0,0,9]]}
[{"$f":"Grenser!B6","v":"Ikke i bruk 3"}]
["Antall",{"$f":" COUNT(B7:B198)","v":0}]
["Middelverdi",{"$f":"AVERAGE(B7:B198)","v":{"$error":"#DIV/0!"}}]
["Standardavvik",{"$f":"STDEV(B7:B198)","v":{"$error":"#DIV/0!"}}]
["Median",{"$f":"MEDIAN(B7:B198)","v":{"$error":"#NUM!"}}]
["Dato avlest","Avlest sone","Vurdering","Produksjonsdato res.skål","Satt opp sign","Lav grense","Høy grense","Dato Satt opp","Avlest sign","Teller","Avlest sone korrigert"]
[null,null,{"$f":"IF(B7<>\"\",(IF(OR(B7<F7,B7>G7),\"STOPP\",\"OK\")),\"\")","v":""},null,null,null,null,null,null,null,{"$f":"IF(AND(B7>=(F7-Grenser!$G$4),B7<=(G7+Grenser!$G$4)),B7,IF(B7>(G7+Grenser!$G$4),G7+Grenser!$G$4,F7-Grenser!$G$4))","v":0}]
[null,null,"",null,null,null,null,null,null,null,{"$f":"IF(AND(B8>=(F8-Grenser!$G$4),B8<=(G8+Grenser!$G$4)),B8,IF(B8>(G8+Grenser!$G$4),G8+Grenser!$G$4,F8-Grenser!$G$4))","v":0}]
[null,null,{"$f":"IF(B9<>\"\",(IF(OR(B9<F9,B9>G9),\"STOPP\",\"OK\")),\"\")","v":""},null,null,null,null,null,null,null,{"$f":"IF(AND(B9>=(F9-Grenser!$G$4),B9<=(G9+Grenser!$G$4)),B9,IF(B9>(G9+Grenser!$G$4),G9+Grenser!$G$4,F9-Grenser!$G$4))","v":0}]
[null,null,"",null,null,null,null,null,null,null,{"$f":"IF(AND(B10>=(F10-Grenser!$G$4),B10<=(G10+Grenser!$G$4)),B10,IF(B10>(G10+Grenser!$G$4),G10+Grenser!$G$4,F10-Grenser!$G$4))","v":0}]
[null,null,"",null,null,null,null,null,null,null,{"$f":"IF(AND(B11>=(F11-Grenser!$G$4),B11<=(G11+Grenser!$G$4)),B11,IF(B11>(G11+Grenser!$G$4),G11+Grenser!$G$4,F11-Grenser!$G$4))","v":0}]
[null,null,"",null,null,null,null,null,null,null,{"$f":"IF(AND(B12>=(F12-Grenser!$G$4),B12<=(G12+Grenser!$G$4)),B12,IF(B12>(G12+Grenser!$G$4),G12+Grenser!$G$4,F12-Grenser!$G$4))","v":0}]
[null,null,{"$f":"IF(B13<>\"\",(IF(OR(B13<F13,B13>G13),\"STOPP\",\"OK\")),\"\")","v":""},null,null,null,null,null,null,null,{"$f":"IF(AND(B13>=(F13-Grenser!$G$4),B13<=(G13+Grenser!$G$4)),B13,IF(B13>(G13+Grenser!$G$4),G13+Grenser!$G$4,F13-Grenser!$G$4))","v":0}]
[null,null,"",null,null,null,null,null,null,null,{"$f":"IF(AND(B14>=(F14-Grenser!$G$4),B14<=(G14+Grenser!$G$4)),B14,IF(B14>(G14+Grenser!$G$4),G14+Grenser!$G$4,F14-Grenser!$G$4))","v":0}]
[null,null,"",null,null,null,null,null,null,null,{"$f":"IF(AND(B15>=(F15-Grenser!$G$4),B15<=(G15+Grenser!$G$4)),B15,IF(B15>(G15+Grenser!$G$4),G15+Grenser!$G$4,F15-Grenser!$G$4))","v":0}]
[null,null,"",null,null,null,null,null,null,null,{"$f":"IF(AND(B16>=(F16-Grenser!$G$4),B16<=(G16+Grenser!$G$4)),B16,IF(B16>(G16+Grenser!$G$4),G16+Grenser!$G$4,F16-Grenser!$G$4))","v":0}]
[null,null,"",null,null,null,null,null,null,null,{"$f":"IF(AND(B17>=(F17-Grenser!$G$4),B17<=(G17+Grenser!$G$4)),B17,IF(B17>(G17+Grenser!$G$4),G17+Grenser!$G$4,F17-Grenser!$G$4))","v":0}]
[null,null,"",null,null,null,null,null,null,null,{"$f":"IF(AND(B18>=(F18-Grenser!$G$4),B18<=(G18+Grenser!$G$4)),B18,IF(B18>(G18+Grenser!$G$4),G18+Grenser!$G$4,F18-Grenser!$G$4))","v":0}]
[null,null,"",null,null,null,null,null,null,null,{"$f":"IF(AND(B19>=(F19-Grenser!$G$4),B19<=(G19+Grenser!$G$4)),B19,IF(B19>(G19+Grenser!$G$4),G19+Grenser!$G$4,F19-Grenser!$G$4))","v":0}]
[null,null,"",null,null,null,null,null,null,null,{"$f":"IF(AND(B20>=(F20-Grenser!$G$4),B20<=(G20+Grenser!$G$4)),B20,IF(B20>(G20+Grenser!$G$4),G20+Grenser!$G$4,F20-Grenser!$G$4))","v":0}]
[null,null,"",null,null,null,null,null,null,null,{"$f":"IF(AND(B21>=(F21-Grenser!$G$4),B21<=(G21+Grenser!$G$4)),B21,IF(B21>(G21+Grenser!$G$4),G21+Grenser!$G$4,F21-Grenser!$G$4))","v":0}]
[null,null,{"$f":"IF(B22<>\"\",(IF(OR(B22<F22,B22>G22),\"STOPP\",\"OK\")),\"\")","v":""},null,null,null,null,null,null,null,{"$f":"IF(AND(B22>=(F22-Grenser!$G$4),B22<=(G22+Grenser!$G$4)),B22,IF(B22>(G22+Grenser!$G$4),G22+Grenser!$G$4,F22-Grenser!$G$4))","v":0}]
[null,null,"",null,null,null,null,null,null,null,{"$f":"IF(AND(B23>=(F23-Grenser!$G$4),B23<=(G23+Grenser!$G$4)),B23,IF(B23>(G23+Grenser!$G$4),G23+Grenser!$G$4,F23-Grenser!$G$4))","v":0}]
[null,null,"",null,null,null,null,null,null,null,{"$f":"IF(AND(B24>=(F24-Grenser!$G$4),B24<=(G24+Grenser!$G$4)),B24,IF(B24>(G24+Grenser!$G$4),G24+Grenser!$G$4,F24-Grenser!$G$4))","v":0}]
[null,null,"",null,null,null,null,null,null,null,{"$f":"IF(AND(B25>=(F25-Grenser!$G$4),B25<=(G25+Grenser!$G$4)),B25,IF(B25>(G25+Grenser!$G$4),G25+Grenser!$G$4,F25-Grenser!$G$4))","v":0}]
[null,null,"",null,null,null,null,null,null,null,{"$f":"IF(AND(B26>=(F26-Grenser!$G$4),B26<=(G26+Grenser!$G$4)),B26,IF(B26>(G26+Grenser!$G$4),G26+Grenser!$G$4,F26-Grenser!$G$4))","v":0}]
[null,null,"",null,null,null,null,null,null,null,{"$f":"IF(AND(B27>=(F27-Grenser!$G$4),B27<=(G27+Grenser!$G$4)),B27,IF(B27>(G27+Grenser!$G$4),G27+Grenser!$G$4,F27-Grenser!$G$4))","v":0}]
[null,null,"",null,null,null,null,null,null,null,{"$f":"IF(AND(B28>=(F28-Grenser!$G$4),B28<=(G28+Grenser!$G$4)),B28,IF(B28>(G28+Grenser!$G$4),G28+Grenser!$G$4,F28-Grenser!$G$4))","v":0}]
[null,null,"",null,null,null,null,null,null,null,{"$f":"IF(AND(B29>=(F29-Grenser!$G$4),B29<=(G29+Grenser!$G$4)),B29,IF(B29>(G29+Grenser!$G$4),G29+Grenser!$G$4,F29-Grenser!$G$4))","v":0}]
[null,null,"",null,null,null,null,null,null,null,{"$f":"IF(AND(B30>=(F30-Grenser!$G$4),B30<=(G30+Grenser!$G$4)),B30,IF(B30>(G30+Grenser!$G$4),G30+Grenser!$G$4,F30-Grenser!$G$4))","v":0}]
[null,null,"",null,null,null,null,null,null,null,{"$f":"IF(AND(B31>=(F31-Grenser!$G$4),B31<=(G31+Grenser!$G$4)),B31,IF(B31>(G31+Grenser!$G$4),G31+Grenser!$G$4,F31-Grenser!$G$4))","v":0}]
[null,null,"",null,null,null,null,null,null,null,{"$f":"IF(AND(B32>=(F32-Grenser!$G$4),B32<=(G32+Grenser!$G$4)),B32,IF(B32>(G32+Grenser!$G$4),G32+Grenser!$G$4,F32-Grenser!$G$4))","v":0}]
[null,null,"",null,null,null,null,null,null,null,{"$f":"IF(AND(B33>=(F33-Grenser!$G$4),B33<=(G33+Grenser!$G$4)),B33,IF(B33>(G33+Grenser!$G$4),G33+Grenser!$G$4,F33-Grenser!$G$4))","v":0}]
[null,null,"",null,null,null,null,null,null,null,{"$f":"IF(AND(B34>=(F34-Grenser!$G$4),B34<=(G34+Grenser!$G$4)),B34,IF(B34>(G34+Grenser!$G$4),G34+Grenser!$G$4,F34-Grenser!$G$4))","v":0}]
[null,null,"",null,null,null,null,null,null,null,{"$f":"IF(AND(B35>=(F35-Grenser!$G$4),B35<=(G35+Grenser!$G$4)),B35,IF(B35>(G35+Grenser!$G$4),G35+Grenser!$G$4,F35-Grenser!$G$4))","v":0}]
[null,null,"",null,null,null,null,null,null,null,{"$f":"IF(AND(B36>=(F36-Grenser!$G$4),B36<=(G36+Grenser!$G$4)),B36,IF(B36>(G36+Grenser!$G$4),G36+Grenser!$G$4,F36-Grenser!$G$4))","v":0}]
[null,null,"",null,null,null,null,null,null,null,{"$f":"IF(AND(B37>=(F37-Grenser!$G$4),B37<=(G37+Grenser!$G$4)),B37,IF(B37>(G37+Grenser!$G$4),G37+Grenser!$G$4,F37-Grenser!$G$4))","v":0}]
[null,null,"",null,null,null,null,null,null,null,{"$f":"IF(AND(B38>=(F38-Grenser!$G$4),B38<=(G38+Grenser!$G$4)),B38,IF(B38>(G38+Grenser!$G$4),G38+Grenser!$G$4,F38-Grenser!$G$4))","v":0}]
[null,null,"",null,null,null,null,null,null,null,{"$f":"IF(AND(B39>=(F39-Grenser!$G$4),B39<=(G39+Grenser!$G$4)),B39,IF(B39>(G39+Grenser!$G$4),G39+Grenser!$G$4,F39-Grenser!$G$4))","v":0}]
[null,null,"",null,null,null,null,null,null,null,{"$f":"IF(AND(B40>=(F40-Grenser!$G$4),B40<=(G40+Grenser!$G$4)),B40,IF(B40>(G40+Grenser!$G$4),G40+Grenser!$G$4,F40-Grenser!$G$4))","v":0}]
[null,null,"",null,null,null,null,null,null,null,{"$f":"IF(AND(B41>=(F41-Grenser!$G$4),B41<=(G41+Grenser!$G$4)),B41,IF(B41>(G41+Grenser!$G$4),G41+Grenser!$G$4,F41-Grenser!$G$4))","v":0}]
[null,null,"",null,null,null,null,null,null,null,{"$f":"IF(AND(B42>=(F42-Grenser!$G$4),B42<=(G42+Grenser!$G$4)),B42,IF(B42>(G42+Grenser!$G$4),G42+Grenser!$G$4,F42-Grenser!$G$4))","v":0}]
[null,null,"",null,null,null,null,null,null,null,{"$f":"IF(AND(B43>=(F43-Grenser!$G$4),B43<=(G43+Grenser!$G$4)),B43,IF(B43>(G43+Grenser!$G$4),G43+Grenser!$G$4,F43-Grenser!$G$4))","v":0}]
[null,null,"",null,null,null,null,null,null,null,{"$f":"IF(AND(B44>=(F44-Grenser!$G$4),B44<=(G44+Grenser!$G$4)),B44,IF(B44>(G44+Grenser!$G$4),G44+Grenser!$G$4,F44-Grenser!$G$4))","v":0}]
[null,null,"",null,null,null,null,null,null,null,{"$f":"IF(AND(B45>=(F45-Grenser!$G$4),B45<=(G45+Grenser!$G$4)),B45,IF(B45>(G45+Grenser!$G$4),G45+Grenser!$G$4,F45-Grenser!$G$4))","v":0}]
[null,null,"",null,null,null,null,null,null,null,{"$f":"IF(AND(B46>=(F46-Grenser!$G$4),B46<=(G46+Grenser!$G$4)),B46,IF(B46>(G46+Grenser!$G$4),G46+Grenser!$G$4,F46-Grenser!$G$4))","v":0}]
[null,null,"",null,null,null,null,null,null,null,{"$f":"IF(AND(B47>=(F47-Grenser!$G$4),B47<=(G47+Grenser!$G$4)),B47,IF(B47>(G47+Grenser!$G$4),G47+Grenser!$G$4,F47-Grenser!$G$4))","v":0}]
[null,null,"",null,null,null,null,null,null,null,{"$f":"IF(AND(B48>=(F48-Grenser!$G$4),B48<=(G48+Grenser!$G$4)),B48,IF(B48>(G48+Grenser!$G$4),G48+Grenser!$G$4,F48-Grenser!$G$4))","v":0}]
[null,null,"",null,null,null,null,null,null,null,{"$f":"IF(AND(B49>=(F49-Grenser!$G$4),B49<=(G49+Grenser!$G$4)),B49,IF(B49>(G49+Grenser!$G$4),G49+Grenser!$G$4,F49-Grenser!$G$4))","v":0}]
[null,null,"",null,null,null,null,null,null,null,{"$f":"IF(AND(B50>=(F50-Grenser!$G$4),B50<=(G50+Grenser!$G$4)),B50,IF(B50>(G50+Grenser!$G$4),G50+Grenser!$G$4,F50-Grenser!$G$4))","v":0}]
[null,null,"",null,null,null,null,null,null,null,{"$f":"IF(AND(B51>=(F51-Grenser!$G$4),B51<=(G51+Grenser!$G$4)),B51,IF(B51>(G51+Grenser!$G$4),G51+Grenser!$G$4,F51-Grenser!$G$4))","v":0}]
[null,null,"",null,null,null,null,null,null,null,{"$f":"IF(AND(B52>=(F52-Grenser!$G$4),B52<=(G52+Grenser!$G$4)),B52,IF(B52>(G52+Grenser!$G$4),G52+Grenser!$G$4,F52-Grenser!$G$4))","v":0}]
[null,null,"",null,null,null,null,null,null,null,{"$f":"IF(AND(B53>=(F53-Grenser!$G$4),B53<=(G53+Grenser!$G$4)),B53,IF(B53>(G53+Grenser!$G$4),G53+Grenser!$G$4,F53-Grenser!$G$4))","v":0}]
[null,null,"",null,null,null,null,null,null,null,{"$f":"IF(AND(B54>=(F54-Grenser!$G$4),B54<=(G54+Grenser!$G$4)),B54,IF(B54>(G54+Grenser!$G$4),G54+Grenser!$G$4,F54-Grenser!$G$4))","v":0}]
[null,null,"",null,null,null,null,null,null,null,{"$f":"IF(AND(B55>=(F55-Grenser!$G$4),B55<=(G55+Grenser!$G$4)),B55,IF(B55>(G55+Grenser!$G$4),G55+Grenser!$G$4,F55-Grenser!$G$4))","v":0}]
[null,null,"",null,null,null,null,null,null,null,{"$f":"IF(AND(B56>=(F56-Grenser!$G$4),B56<=(G56+Grenser!$G$4)),B56,IF(B56>(G56+Grenser!$G$4),G56+Grenser!$G$4,F56-Grenser!$G$4))","v":0}]
[null,null,"",null,null,null,null,null,null,null,{"$f":"IF(AND(B57>=(F57-Grenser!$G$4),B57<=(G57+Grenser!$G$4)),B57,IF(B57>(G57+Grenser!$G$4),G57+Grenser!$G$4,F57-Grenser!$G$4))","v":0}]
[null,null,"",null,null,null,null,null,null,null,{"$f":"IF(AND(B58>=(F58-Grenser!$G$4),B58<=(G58+Grenser!$G$4)),B58,IF(B58>(G58+Grenser!$G$4),G58+Grenser!$G$4,F58-Grenser!$G$4))","v":0}]
[null,null,"",null,null,null,null,null,null,null,{"$f":"IF(AND(B59>=(F59-Grenser!$G$4),B59<=(G59+Grenser!$G$4)),B59,IF(B59>(G59+Grenser!$G$4),G59+Grenser!$G$4,F59-Grenser!$G$4))","v":0}]
[null,null,"",null,null,null,null,null,null,null,{"$f":"IF(AND(B60>=(F60-Grenser!$G$4),B60<=(G60+Grenser!$G$4)),B60,IF(B60>(G60+Grenser!$G$4),G60+Grenser!$G$4,F60-Grenser!$G$4))","v":0}]
[null,null,"",null,null,null,null,null,null,null,{"$f":"IF(AND(B61>=(F61-Grenser!$G$4),B61<=(G61+Grenser!$G$4)),B61,IF(B61>(G61+Grenser!$G$4),G61+Grenser!$G$4,F61-Grenser!$G$4))","v":0}]
[null,null,"",null,null,null,null,null,null,null,{"$f":"IF(AND(B62>=(F62-Grenser!$G$4),B62<=(G62+Grenser!$G$4)),B62,IF(B62>(G62+Grenser!$G$4),G62+Grenser!$G$4,F62-Grenser!$G$4))","v":0}]
[null,null,"",null,null,null,null,null,null,null,{"$f":"IF(AND(B63>=(F63-Grenser!$G$4),B63<=(G63+Grenser!$G$4)),B63,IF(B63>(G63+Grenser!$G$4),G63+Grenser!$G$4,F63-Grenser!$G$4))","v":0}]
[null,null,"",null,null,null,null,null,null,null,{"$f":"IF(AND(B64>=(F64-Grenser!$G$4),B64<=(G64+Grenser!$G$4)),B64,IF(B64>(G64+Grenser!$G$4),G64+Grenser!$G$4,F64-Grenser!$G$4))","v":0}]
[null,null,"",null,null,null,null,null,null,null,{"$f":"IF(AND(B65>=(F65-Grenser!$G$4),B65<=(G65+Grenser!$G$4)),B65,IF(B65>(G65+Grenser!$G$4),G65+Grenser!$G$4,F65-Grenser!$G$4))","v":0}]
[null,null,"",null,null,null,null,null,null,null,{"$f":"IF(AND(B66>=(F66-Grenser!$G$4),B66<=(G66+Grenser!$G$4)),B66,IF(B66>(G66+Grenser!$G$4),G66+Grenser!$G$4,F66-Grenser!$G$4))","v":0}]
[null,null,"",null,null,null,null,null,null,null,{"$f":"IF(AND(B67>=(F67-Grenser!$G$4),B67<=(G67+Grenser!$G$4)),B67,IF(B67>(G67+Grenser!$G$4),G67+Grenser!$G$4,F67-Grenser!$G$4))","v":0}]
[null,null,"",null,null,null,null,null,null,null,{"$f":"IF(AND(B68>=(F68-Grenser!$G$4),B68<=(G68+Grenser!$G$4)),B68,IF(B68>(G68+Grenser!$G$4),G68+Grenser!$G$4,F68-Grenser!$G$4))","v":0}]
[null,null,"",null,null,null,null,null,null,null,{"$f":"IF(AND(B69>=(F69-Grenser!$G$4),B69<=(G69+Grenser!$G$4)),B69,IF(B69>(G69+Grenser!$G$4),G69+Grenser!$G$4,F69-Grenser!$G$4))","v":0}]
[null,null,{"$f":"IF(B70<>\"\",(IF(OR(B70<F70,B70>G70),\"STOPP\",\"OK\")),\"\")","v":""},null,null,null,null,null,null,null,{"$f":"IF(AND(B70>=(F70-Grenser!$G$4),B70<=(G70+Grenser!$G$4)),B70,IF(B70>(G70+Grenser!$G$4),G70+Grenser!$G$4,F70-Grenser!$G$4))","v":0}]
[null,null,"",null,null,null,null,null,null,null,{"$f":"IF(AND(B71>=(F71-Grenser!$G$4),B71<=(G71+Grenser!$G$4)),B71,IF(B71>(G71+Grenser!$G$4),G71+Grenser!$G$4,F71-Grenser!$G$4))","v":0}]
[null,null,"",null,null,null,null,null,null,null,{"$f":"IF(AND(B72>=(F72-Grenser!$G$4),B72<=(G72+Grenser!$G$4)),B72,IF(B72>(G72+Grenser!$G$4),G72+Grenser!$G$4,F72-Grenser!$G$4))","v":0}]
[null,null,"",null,null,null,null,null,null,null,{"$f":"IF(AND(B73>=(F73-Grenser!$G$4),B73<=(G73+Grenser!$G$4)),B73,IF(B73>(G73+Grenser!$G$4),G73+Grenser!$G$4,F73-Grenser!$G$4))","v":0}]
[null,null,"",null,null,null,null,null,null,null,{"$f":"IF(AND(B74>=(F74-Grenser!$G$4),B74<=(G74+Grenser!$G$4)),B74,IF(B74>(G74+Grenser!$G$4),G74+Grenser!$G$4,F74-Grenser!$G$4))","v":0}]
[null,null,"",null,null,null,null,null,null,null,{"$f":"IF(AND(B75>=(F75-Grenser!$G$4),B75<=(G75+Grenser!$G$4)),B75,IF(B75>(G75+Grenser!$G$4),G75+Grenser!$G$4,F75-Grenser!$G$4))","v":0}]
[null,null,"",null,null,null,null,null,null,null,{"$f":"IF(AND(B76>=(F76-Grenser!$G$4),B76<=(G76+Grenser!$G$4)),B76,IF(B76>(G76+Grenser!$G$4),G76+Grenser!$G$4,F76-Grenser!$G$4))","v":0}]
[null,null,"",null,null,null,null,null,null,null,{"$f":"IF(AND(B77>=(F77-Grenser!$G$4),B77<=(G77+Grenser!$G$4)),B77,IF(B77>(G77+Grenser!$G$4),G77+Grenser!$G$4,F77-Grenser!$G$4))","v":0}]
[null,null,"",null,null,null,null,null,null,null,{"$f":"IF(AND(B78>=(F78-Grenser!$G$4),B78<=(G78+Grenser!$G$4)),B78,IF(B78>(G78+Grenser!$G$4),G78+Grenser!$G$4,F78-Grenser!$G$4))","v":0}]
[null,null,"",null,null,null,null,null,null,null,{"$f":"IF(AND(B79>=(F79-Grenser!$G$4),B79<=(G79+Grenser!$G$4)),B79,IF(B79>(G79+Grenser!$G$4),G79+Grenser!$G$4,F79-Grenser!$G$4))","v":0}]
[null,null,"",null,null,null,null,null,null,null,{"$f":"IF(AND(B80>=(F80-Grenser!$G$4),B80<=(G80+Grenser!$G$4)),B80,IF(B80>(G80+Grenser!$G$4),G80+Grenser!$G$4,F80-Grenser!$G$4))","v":0}]
[null,null,"",null,null,null,null,null,null,null,{"$f":"IF(AND(B81>=(F81-Grenser!$G$4),B81<=(G81+Grenser!$G$4)),B81,IF(B81>(G81+Grenser!$G$4),G81+Grenser!$G$4,F81-Grenser!$G$4))","v":0}]
[null,null,"",null,null,null,null,null,null,null,{"$f":"IF(AND(B82>=(F82-Grenser!$G$4),B82<=(G82+Grenser!$G$4)),B82,IF(B82>(G82+Grenser!$G$4),G82+Grenser!$G$4,F82-Grenser!$G$4))","v":0}]
[null,null,"",null,null,null,null,null,null,null,{"$f":"IF(AND(B83>=(F83-Grenser!$G$4),B83<=(G83+Grenser!$G$4)),B83,IF(B83>(G83+Grenser!$G$4),G83+Grenser!$G$4,F83-Grenser!$G$4))","v":0}]
[null,null,"",null,null,null,null,null,null,null,{"$f":"IF(AND(B84>=(F84-Grenser!$G$4),B84<=(G84+Grenser!$G$4)),B84,IF(B84>(G84+Grenser!$G$4),G84+Grenser!$G$4,F84-Grenser!$G$4))","v":0}]
[null,null,"",null,null,null,null,null,null,null,{"$f":"IF(AND(B85>=(F85-Grenser!$G$4),B85<=(G85+Grenser!$G$4)),B85,IF(B85>(G85+Grenser!$G$4),G85+Grenser!$G$4,F85-Grenser!$G$4))","v":0}]
[null,null,"",null,null,null,null,null,null,null,{"$f":"IF(AND(B86>=(F86-Grenser!$G$4),B86<=(G86+Grenser!$G$4)),B86,IF(B86>(G86+Grenser!$G$4),G86+Grenser!$G$4,F86-Grenser!$G$4))","v":0}]
[null,null,"",null,null,null,null,null,null,null,{"$f":"IF(AND(B87>=(F87-Grenser!$G$4),B87<=(G87+Grenser!$G$4)),B87,IF(B87>(G87+Grenser!$G$4),G87+Grenser!$G$4,F87-Grenser!$G$4))","v":0}]
[null,null,"",null,null,null,null,null,null,null,{"$f":"IF(AND(B88>=(F88-Grenser!$G$4),B88<=(G88+Grenser!$G$4)),B88,IF(B88>(G88+Grenser!$G$4),G88+Grenser!$G$4,F88-Grenser!$G$4))","v":0}]
[null,null,"",null,null,null,null,null,null,null,{"$f":"IF(AND(B89>=(F89-Grenser!$G$4),B89<=(G89+Grenser!$G$4)),B89,IF(B89>(G89+Grenser!$G$4),G89+Grenser!$G$4,F89-Grenser!$G$4))","v":0}]
[null,null,"",null,null,null,null,null,null,null,{"$f":"IF(AND(B90>=(F90-Grenser!$G$4),B90<=(G90+Grenser!$G$4)),B90,IF(B90>(G90+Grenser!$G$4),G90+Grenser!$G$4,F90-Grenser!$G$4))","v":0}]
[null,null,"",null,null,null,null,null,null,null,{"$f":"IF(AND(B91>=(F91-Grenser!$G$4),B91<=(G91+Grenser!$G$4)),B91,IF(B91>(G91+Grenser!$G$4),G91+Grenser!$G$4,F91-Grenser!$G$4))","v":0}]
[null,null,"",null,null,null,null,null,null,null,{"$f":"IF(AND(B92>=(F92-Grenser!$G$4),B92<=(G92+Grenser!$G$4)),B92,IF(B92>(G92+Grenser!$G$4),G92+Grenser!$G$4,F92-Grenser!$G$4))","v":0}]
[null,null,"",null,null,null,null,null,null,null,{"$f":"IF(AND(B93>=(F93-Grenser!$G$4),B93<=(G93+Grenser!$G$4)),B93,IF(B93>(G93+Grenser!$G$4),G93+Grenser!$G$4,F93-Grenser!$G$4))","v":0}]
[null,null,"",null,null,null,null,null,null,null,{"$f":"IF(AND(B94>=(F94-Grenser!$G$4),B94<=(G94+Grenser!$G$4)),B94,IF(B94>(G94+Grenser!$G$4),G94+Grenser!$G$4,F94-Grenser!$G$4))","v":0}]
[null,null,"",null,null,null,null,null,null,null,{"$f":"IF(AND(B95>=(F95-Grenser!$G$4),B95<=(G95+Grenser!$G$4)),B95,IF(B95>(G95+Grenser!$G$4),G95+Grenser!$G$4,F95-Grenser!$G$4))","v":0}]
[null,null,"",null,null,null,null,null,null,null,{"$f":"IF(AND(B96>=(F96-Grenser!$G$4),B96<=(G96+Grenser!$G$4)),B96,IF(B96>(G96+Grenser!$G$4),G96+Grenser!$G$4,F96-Grenser!$G$4))","v":0}]
[null,null,"",null,null,null,null,null,null,null,{"$f":"IF(AND(B97>=(F97-Grenser!$G$4),B97<=(G97+Grenser!$G$4)),B97,IF(B97>(G97+Grenser!$G$4),G97+Grenser!$G$4,F97-Grenser!$G$4))","v":0}]
[null,null,"",null,null,null,null,null,null,null,{"$f":"IF(AND(B98>=(F98-Grenser!$G$4),B98<=(G98+Grenser!$G$4)),B98,IF(B98>(G98+Grenser!$G$4),G98+Grenser!$G$4,F98-Grenser!$G$4))","v":0}]
[null,null,"",null,null,null,null,null,null,null,{"$f":"IF(AND(B99>=(F99-Grenser!$G$4),B99<=(G99+Grenser!$G$4)),B99,IF(B99>(G99+Grenser!$G$4),G99+Grenser!$G$4,F99-Grenser!$G$4))","v":0}]
[null,null,"",null,null,null,null,null,null,null,{"$f":"IF(AND(B100>=(F100-Grenser!$G$4),B100<=(G100+Grenser!$G$4)),B100,IF(B100>(G100+Grenser!$G$4),G100+Grenser!$G$4,F100-Grenser!$G$4))","v":0}]
[null,null,"",null,null,null,null,null,null,null,{"$f":"IF(AND(B101>=(F101-Grenser!$G$4),B101<=(G101+Grenser!$G$4)),B101,IF(B101>(G101+Grenser!$G$4),G101+Grenser!$G$4,F101-Grenser!$G$4))","v":0}]
[null,null,"",null,null,null,null,null,null,null,{"$f":"IF(AND(B102>=(F102-Grenser!$G$4),B102<=(G102+Grenser!$G$4)),B102,IF(B102>(G102+Grenser!$G$4),G102+Grenser!$G$4,F102-Grenser!$G$4))","v":0}]
[null,null,"",null,null,null,null,null,null,null,{"$f":"IF(AND(B103>=(F103-Grenser!$G$4),B103<=(G103+Grenser!$G$4)),B103,IF(B103>(G103+Grenser!$G$4),G103+Grenser!$G$4,F103-Grenser!$G$4))","v":0}]
[null,null,"",null,null,null,null,null,null,null,{"$f":"IF(AND(B104>=(F104-Grenser!$G$4),B104<=(G104+Grenser!$G$4)),B104,IF(B104>(G104+Grenser!$G$4),G104+Grenser!$G$4,F104-Grenser!$G$4))","v":0}]
[null,null,"",null,null,null,null,null,null,null,{"$f":"IF(AND(B105>=(F105-Grenser!$G$4),B105<=(G105+Grenser!$G$4)),B105,IF(B105>(G105+Grenser!$G$4),G105+Grenser!$G$4,F105-Grenser!$G$4))","v":0}]
[null,null,"",null,null,null,null,null,null,null,{"$f":"IF(AND(B106>=(F106-Grenser!$G$4),B106<=(G106+Grenser!$G$4)),B106,IF(B106>(G106+Grenser!$G$4),G106+Grenser!$G$4,F106-Grenser!$G$4))","v":0}]
[null,null,"",null,null,null,null,null,null,null,{"$f":"IF(AND(B107>=(F107-Grenser!$G$4),B107<=(G107+Grenser!$G$4)),B107,IF(B107>(G107+Grenser!$G$4),G107+Grenser!$G$4,F107-Grenser!$G$4))","v":0}]
[null,null,"",null,null,null,null,null,null,null,{"$f":"IF(AND(B108>=(F108-Grenser!$G$4),B108<=(G108+Grenser!$G$4)),B108,IF(B108>(G108+Grenser!$G$4),G108+Grenser!$G$4,F108-Grenser!$G$4))","v":0}]
[null,null,"",null,null,null,null,null,null,null,{"$f":"IF(AND(B109>=(F109-Grenser!$G$4),B109<=(G109+Grenser!$G$4)),B109,IF(B109>(G109+Grenser!$G$4),G109+Grenser!$G$4,F109-Grenser!$G$4))","v":0}]
[null,null,"",null,null,null,null,null,null,null,{"$f":"IF(AND(B110>=(F110-Grenser!$G$4),B110<=(G110+Grenser!$G$4)),B110,IF(B110>(G110+Grenser!$G$4),G110+Grenser!$G$4,F110-Grenser!$G$4))","v":0}]
[null,null,"",null,null,null,null,null,null,null,{"$f":"IF(AND(B111>=(F111-Grenser!$G$4),B111<=(G111+Grenser!$G$4)),B111,IF(B111>(G111+Grenser!$G$4),G111+Grenser!$G$4,F111-Grenser!$G$4))","v":0}]
[null,null,"",null,null,null,null,null,null,null,{"$f":"IF(AND(B112>=(F112-Grenser!$G$4),B112<=(G112+Grenser!$G$4)),B112,IF(B112>(G112+Grenser!$G$4),G112+Grenser!$G$4,F112-Grenser!$G$4))","v":0}]
[null,null,"",null,null,null,null,null,null,null,{"$f":"IF(AND(B113>=(F113-Grenser!$G$4),B113<=(G113+Grenser!$G$4)),B113,IF(B113>(G113+Grenser!$G$4),G113+Grenser!$G$4,F113-Grenser!$G$4))","v":0}]
[null,null,"",null,null,null,null,null,null,null,{"$f":"IF(AND(B114>=(F114-Grenser!$G$4),B114<=(G114+Grenser!$G$4)),B114,IF(B114>(G114+Grenser!$G$4),G114+Grenser!$G$4,F114-Grenser!$G$4))","v":0}]
[null,null,"",null,null,null,null,null,null,null,{"$f":"IF(AND(B115>=(F115-Grenser!$G$4),B115<=(G115+Grenser!$G$4)),B115,IF(B115>(G115+Grenser!$G$4),G115+Grenser!$G$4,F115-Grenser!$G$4))","v":0}]
[null,null,"",null,null,null,null,null,null,null,{"$f":"IF(AND(B116>=(F116-Grenser!$G$4),B116<=(G116+Grenser!$G$4)),B116,IF(B116>(G116+Grenser!$G$4),G116+Grenser!$G$4,F116-Grenser!$G$4))","v":0}]
[null,null,"",null,null,null,null,null,null,null,{"$f":"IF(AND(B117>=(F117-Grenser!$G$4),B117<=(G117+Grenser!$G$4)),B117,IF(B117>(G117+Grenser!$G$4),G117+Grenser!$G$4,F117-Grenser!$G$4))","v":0}]
[null,null,"",null,null,null,null,null,null,null,{"$f":"IF(AND(B118>=(F118-Grenser!$G$4),B118<=(G118+Grenser!$G$4)),B118,IF(B118>(G118+Grenser!$G$4),G118+Grenser!$G$4,F118-Grenser!$G$4))","v":0}]
[null,null,"",null,null,null,null,null,null,null,{"$f":"IF(AND(B119>=(F119-Grenser!$G$4),B119<=(G119+Grenser!$G$4)),B119,IF(B119>(G119+Grenser!$G$4),G119+Grenser!$G$4,F119-Grenser!$G$4))","v":0}]
[null,null,"",null,null,null,null,null,null,null,{"$f":"IF(AND(B120>=(F120-Grenser!$G$4),B120<=(G120+Grenser!$G$4)),B120,IF(B120>(G120+Grenser!$G$4),G120+Grenser!$G$4,F120-Grenser!$G$4))","v":0}]
[null,null,"",null,null,null,null,null,null,null,{"$f":"IF(AND(B121>=(F121-Grenser!$G$4),B121<=(G121+Grenser!$G$4)),B121,IF(B121>(G121+Grenser!$G$4),G121+Grenser!$G$4,F121-Grenser!$G$4))","v":0}]
[null,null,"",null,null,null,null,null,null,null,{"$f":"IF(AND(B122>=(F122-Grenser!$G$4),B122<=(G122+Grenser!$G$4)),B122,IF(B122>(G122+Grenser!$G$4),G122+Grenser!$G$4,F122-Grenser!$G$4))","v":0}]
[null,null,"",null,null,null,null,null,null,null,{"$f":"IF(AND(B123>=(F123-Grenser!$G$4),B123<=(G123+Grenser!$G$4)),B123,IF(B123>(G123+Grenser!$G$4),G123+Grenser!$G$4,F123-Grenser!$G$4))","v":0}]
[null,null,"",null,null,null,null,null,null,null,{"$f":"IF(AND(B124>=(F124-Grenser!$G$4),B124<=(G124+Grenser!$G$4)),B124,IF(B124>(G124+Grenser!$G$4),G124+Grenser!$G$4,F124-Grenser!$G$4))","v":0}]
[null,null,"",null,null,null,null,null,null,null,{"$f":"IF(AND(B125>=(F125-Grenser!$G$4),B125<=(G125+Grenser!$G$4)),B125,IF(B125>(G125+Grenser!$G$4),G125+Grenser!$G$4,F125-Grenser!$G$4))","v":0}]
[null,null,"",null,null,null,null,null,null,null,{"$f":"IF(AND(B126>=(F126-Grenser!$G$4),B126<=(G126+Grenser!$G$4)),B126,IF(B126>(G126+Grenser!$G$4),G126+Grenser!$G$4,F126-Grenser!$G$4))","v":0}]
[null,null,"",null,null,null,null,null,null,null,{"$f":"IF(AND(B127>=(F127-Grenser!$G$4),B127<=(G127+Grenser!$G$4)),B127,IF(B127>(G127+Grenser!$G$4),G127+Grenser!$G$4,F127-Grenser!$G$4))","v":0}]
[null,null,"",null,null,null,null,null,null,null,{"$f":"IF(AND(B128>=(F128-Grenser!$G$4),B128<=(G128+Grenser!$G$4)),B128,IF(B128>(G128+Grenser!$G$4),G128+Grenser!$G$4,F128-Grenser!$G$4))","v":0}]
[null,null,"",null,null,null,null,null,null,null,{"$f":"IF(AND(B129>=(F129-Grenser!$G$4),B129<=(G129+Grenser!$G$4)),B129,IF(B129>(G129+Grenser!$G$4),G129+Grenser!$G$4,F129-Grenser!$G$4))","v":0}]
[null,null,"",null,null,null,null,null,null,null,{"$f":"IF(AND(B130>=(F130-Grenser!$G$4),B130<=(G130+Grenser!$G$4)),B130,IF(B130>(G130+Grenser!$G$4),G130+Grenser!$G$4,F130-Grenser!$G$4))","v":0}]
[null,null,"",null,null,null,null,null,null,null,{"$f":"IF(AND(B131>=(F131-Grenser!$G$4),B131<=(G131+Grenser!$G$4)),B131,IF(B131>(G131+Grenser!$G$4),G131+Grenser!$G$4,F131-Grenser!$G$4))","v":0}]
[null,null,"",null,null,null,null,null,null,null,{"$f":"IF(AND(B132>=(F132-Grenser!$G$4),B132<=(G132+Grenser!$G$4)),B132,IF(B132>(G132+Grenser!$G$4),G132+Grenser!$G$4,F132-Grenser!$G$4))","v":0}]
[null,null,"",null,null,null,null,null,null,null,{"$f":"IF(AND(B133>=(F133-Grenser!$G$4),B133<=(G133+Grenser!$G$4)),B133,IF(B133>(G133+Grenser!$G$4),G133+Grenser!$G$4,F133-Grenser!$G$4))","v":0}]
[null,null,{"$f":"IF(B134<>\"\",(IF(OR(B134<F134,B134>G134),\"STOPP\",\"OK\")),\"\")","v":""},null,null,null,null,null,null,null,{"$f":"IF(AND(B134>=(F134-Grenser!$G$4),B134<=(G134+Grenser!$G$4)),B134,IF(B134>(G134+Grenser!$G$4),G134+Grenser!$G$4,F134-Grenser!$G$4))","v":0}]
[null,null,"",null,null,null,null,null,null,null,{"$f":"IF(AND(B135>=(F135-Grenser!$G$4),B135<=(G135+Grenser!$G$4)),B135,IF(B135>(G135+Grenser!$G$4),G135+Grenser!$G$4,F135-Grenser!$G$4))","v":0}]
[null,null,"",null,null,null,null,null,null,null,{"$f":"IF(AND(B136>=(F136-Grenser!$G$4),B136<=(G136+Grenser!$G$4)),B136,IF(B136>(G136+Grenser!$G$4),G136+Grenser!$G$4,F136-Grenser!$G$4))","v":0}]
[null,null,"",null,null,null,null,null,null,null,{"$f":"IF(AND(B137>=(F137-Grenser!$G$4),B137<=(G137+Grenser!$G$4)),B137,IF(B137>(G137+Grenser!$G$4),G137+Grenser!$G$4,F137-Grenser!$G$4))","v":0}]
[null,null,"",null,null,null,null,null,null,null,{"$f":"IF(AND(B138>=(F138-Grenser!$G$4),B138<=(G138+Grenser!$G$4)),B138,IF(B138>(G138+Grenser!$G$4),G138+Grenser!$G$4,F138-Grenser!$G$4))","v":0}]
[null,null,"",null,null,null,null,null,null,null,{"$f":"IF(AND(B139>=(F139-Grenser!$G$4),B139<=(G139+Grenser!$G$4)),B139,IF(B139>(G139+Grenser!$G$4),G139+Grenser!$G$4,F139-Grenser!$G$4))","v":0}]
[null,null,"",null,null,null,null,null,null,null,{"$f":"IF(AND(B140>=(F140-Grenser!$G$4),B140<=(G140+Grenser!$G$4)),B140,IF(B140>(G140+Grenser!$G$4),G140+Grenser!$G$4,F140-Grenser!$G$4))","v":0}]
[null,null,"",null,null,null,null,null,null,null,{"$f":"IF(AND(B141>=(F141-Grenser!$G$4),B141<=(G141+Grenser!$G$4)),B141,IF(B141>(G141+Grenser!$G$4),G141+Grenser!$G$4,F141-Grenser!$G$4))","v":0}]
[null,null,"",null,null,null,null,null,null,null,{"$f":"IF(AND(B142>=(F142-Grenser!$G$4),B142<=(G142+Grenser!$G$4)),B142,IF(B142>(G142+Grenser!$G$4),G142+Grenser!$G$4,F142-Grenser!$G$4))","v":0}]
[null,null,"",null,null,null,null,null,null,null,{"$f":"IF(AND(B143>=(F143-Grenser!$G$4),B143<=(G143+Grenser!$G$4)),B143,IF(B143>(G143+Grenser!$G$4),G143+Grenser!$G$4,F143-Grenser!$G$4))","v":0}]
[null,null,"",null,null,null,null,null,null,null,{"$f":"IF(AND(B144>=(F144-Grenser!$G$4),B144<=(G144+Grenser!$G$4)),B144,IF(B144>(G144+Grenser!$G$4),G144+Grenser!$G$4,F144-Grenser!$G$4))","v":0}]
[null,null,"",null,null,null,null,null,null,null,{"$f":"IF(AND(B145>=(F145-Grenser!$G$4),B145<=(G145+Grenser!$G$4)),B145,IF(B145>(G145+Grenser!$G$4),G145+Grenser!$G$4,F145-Grenser!$G$4))","v":0}]
[null,null,"",null,null,null,null,null,null,null,{"$f":"IF(AND(B146>=(F146-Grenser!$G$4),B146<=(G146+Grenser!$G$4)),B146,IF(B146>(G146+Grenser!$G$4),G146+Grenser!$G$4,F146-Grenser!$G$4))","v":0}]
[null,null,"",null,null,null,null,null,null,null,{"$f":"IF(AND(B147>=(F147-Grenser!$G$4),B147<=(G147+Grenser!$G$4)),B147,IF(B147>(G147+Grenser!$G$4),G147+Grenser!$G$4,F147-Grenser!$G$4))","v":0}]
[null,null,"",null,null,null,null,null,null,null,{"$f":"IF(AND(B148>=(F148-Grenser!$G$4),B148<=(G148+Grenser!$G$4)),B148,IF(B148>(G148+Grenser!$G$4),G148+Grenser!$G$4,F148-Grenser!$G$4))","v":0}]
[null,null,"",null,null,null,null,null,null,null,{"$f":"IF(AND(B149>=(F149-Grenser!$G$4),B149<=(G149+Grenser!$G$4)),B149,IF(B149>(G149+Grenser!$G$4),G149+Grenser!$G$4,F149-Grenser!$G$4))","v":0}]
[null,null,"",null,null,null,null,null,null,null,{"$f":"IF(AND(B150>=(F150-Grenser!$G$4),B150<=(G150+Grenser!$G$4)),B150,IF(B150>(G150+Grenser!$G$4),G150+Grenser!$G$4,F150-Grenser!$G$4))","v":0}]
[null,null,"",null,null,null,null,null,null,null,{"$f":"IF(AND(B151>=(F151-Grenser!$G$4),B151<=(G151+Grenser!$G$4)),B151,IF(B151>(G151+Grenser!$G$4),G151+Grenser!$G$4,F151-Grenser!$G$4))","v":0}]
[null,null,"",null,null,null,null,null,null,null,{"$f":"IF(AND(B152>=(F152-Grenser!$G$4),B152<=(G152+Grenser!$G$4)),B152,IF(B152>(G152+Grenser!$G$4),G152+Grenser!$G$4,F152-Grenser!$G$4))","v":0}]
[null,null,"",null,null,null,null,null,null,null,{"$f":"IF(AND(B153>=(F153-Grenser!$G$4),B153<=(G153+Grenser!$G$4)),B153,IF(B153>(G153+Grenser!$G$4),G153+Grenser!$G$4,F153-Grenser!$G$4))","v":0}]
[null,null,"",null,null,null,null,null,null,null,{"$f":"IF(AND(B154>=(F154-Grenser!$G$4),B154<=(G154+Grenser!$G$4)),B154,IF(B154>(G154+Grenser!$G$4),G154+Grenser!$G$4,F154-Grenser!$G$4))","v":0}]
[null,null,"",null,null,null,null,null,null,null,{"$f":"IF(AND(B155>=(F155-Grenser!$G$4),B155<=(G155+Grenser!$G$4)),B155,IF(B155>(G155+Grenser!$G$4),G155+Grenser!$G$4,F155-Grenser!$G$4))","v":0}]
[null,null,"",null,null,null,null,null,null,null,{"$f":"IF(AND(B156>=(F156-Grenser!$G$4),B156<=(G156+Grenser!$G$4)),B156,IF(B156>(G156+Grenser!$G$4),G156+Grenser!$G$4,F156-Grenser!$G$4))","v":0}]
[null,null,"",null,null,null,null,null,null,null,{"$f":"IF(AND(B157>=(F157-Grenser!$G$4),B157<=(G157+Grenser!$G$4)),B157,IF(B157>(G157+Grenser!$G$4),G157+Grenser!$G$4,F157-Grenser!$G$4))","v":0}]
[null,null,"",null,null,null,null,null,null,null,{"$f":"IF(AND(B158>=(F158-Grenser!$G$4),B158<=(G158+Grenser!$G$4)),B158,IF(B158>(G158+Grenser!$G$4),G158+Grenser!$G$4,F158-Grenser!$G$4))","v":0}]
[null,null,"",null,null,null,null,null,null,null,{"$f":"IF(AND(B159>=(F159-Grenser!$G$4),B159<=(G159+Grenser!$G$4)),B159,IF(B159>(G159+Grenser!$G$4),G159+Grenser!$G$4,F159-Grenser!$G$4))","v":0}]
[null,null,"",null,null,null,null,null,null,null,{"$f":"IF(AND(B160>=(F160-Grenser!$G$4),B160<=(G160+Grenser!$G$4)),B160,IF(B160>(G160+Grenser!$G$4),G160+Grenser!$G$4,F160-Grenser!$G$4))","v":0}]
[null,null,"",null,null,null,null,null,null,null,{"$f":"IF(AND(B161>=(F161-Grenser!$G$4),B161<=(G161+Grenser!$G$4)),B161,IF(B161>(G161+Grenser!$G$4),G161+Grenser!$G$4,F161-Grenser!$G$4))","v":0}]
[null,null,"",null,null,null,null,null,null,null,{"$f":"IF(AND(B162>=(F162-Grenser!$G$4),B162<=(G162+Grenser!$G$4)),B162,IF(B162>(G162+Grenser!$G$4),G162+Grenser!$G$4,F162-Grenser!$G$4))","v":0}]
[null,null,"",null,null,null,null,null,null,null,{"$f":"IF(AND(B163>=(F163-Grenser!$G$4),B163<=(G163+Grenser!$G$4)),B163,IF(B163>(G163+Grenser!$G$4),G163+Grenser!$G$4,F163-Grenser!$G$4))","v":0}]
[null,null,"",null,null,null,null,null,null,null,{"$f":"IF(AND(B164>=(F164-Grenser!$G$4),B164<=(G164+Grenser!$G$4)),B164,IF(B164>(G164+Grenser!$G$4),G164+Grenser!$G$4,F164-Grenser!$G$4))","v":0}]
[null,null,"",null,null,null,null,null,null,null,{"$f":"IF(AND(B165>=(F165-Grenser!$G$4),B165<=(G165+Grenser!$G$4)),B165,IF(B165>(G165+Grenser!$G$4),G165+Grenser!$G$4,F165-Grenser!$G$4))","v":0}]
[null,null,"",null,null,null,null,null,null,null,{"$f":"IF(AND(B166>=(F166-Grenser!$G$4),B166<=(G166+Grenser!$G$4)),B166,IF(B166>(G166+Grenser!$G$4),G166+Grenser!$G$4,F166-Grenser!$G$4))","v":0}]
[null,null,"",null,null,null,null,null,null,null,{"$f":"IF(AND(B167>=(F167-Grenser!$G$4),B167<=(G167+Grenser!$G$4)),B167,IF(B167>(G167+Grenser!$G$4),G167+Grenser!$G$4,F167-Grenser!$G$4))","v":0}]
[null,null,"",null,null,null,null,null,null,null,{"$f":"IF(AND(B168>=(F168-Grenser!$G$4),B168<=(G168+Grenser!$G$4)),B168,IF(B168>(G168+Grenser!$G$4),G168+Grenser!$G$4,F168-Grenser!$G$4))","v":0}]
[null,null,"",null,null,null,null,null,null,null,{"$f":"IF(AND(B169>=(F169-Grenser!$G$4),B169<=(G169+Grenser!$G$4)),B169,IF(B169>(G169+Grenser!$G$4),G169+Grenser!$G$4,F169-Grenser!$G$4))","v":0}]
[null,null,"",null,null,null,null,null,null,null,{"$f":"IF(AND(B170>=(F170-Grenser!$G$4),B170<=(G170+Grenser!$G$4)),B170,IF(B170>(G170+Grenser!$G$4),G170+Grenser!$G$4,F170-Grenser!$G$4))","v":0}]
[null,null,"",null,null,null,null,null,null,null,{"$f":"IF(AND(B171>=(F171-Grenser!$G$4),B171<=(G171+Grenser!$G$4)),B171,IF(B171>(G171+Grenser!$G$4),G171+Grenser!$G$4,F171-Grenser!$G$4))","v":0}]
[null,null,"",null,null,null,null,null,null,null,{"$f":"IF(AND(B172>=(F172-Grenser!$G$4),B172<=(G172+Grenser!$G$4)),B172,IF(B172>(G172+Grenser!$G$4),G172+Grenser!$G$4,F172-Grenser!$G$4))","v":0}]
[null,null,"",null,null,null,null,null,null,null,{"$f":"IF(AND(B173>=(F173-Grenser!$G$4),B173<=(G173+Grenser!$G$4)),B173,IF(B173>(G173+Grenser!$G$4),G173+Grenser!$G$4,F173-Grenser!$G$4))","v":0}]
[null,null,"",null,null,null,null,null,null,null,{"$f":"IF(AND(B174>=(F174-Grenser!$G$4),B174<=(G174+Grenser!$G$4)),B174,IF(B174>(G174+Grenser!$G$4),G174+Grenser!$G$4,F174-Grenser!$G$4))","v":0}]
[null,null,"",null,null,null,null,null,null,null,{"$f":"IF(AND(B175>=(F175-Grenser!$G$4),B175<=(G175+Grenser!$G$4)),B175,IF(B175>(G175+Grenser!$G$4),G175+Grenser!$G$4,F175-Grenser!$G$4))","v":0}]
[null,null,"",null,null,null,null,null,null,null,{"$f":"IF(AND(B176>=(F176-Grenser!$G$4),B176<=(G176+Grenser!$G$4)),B176,IF(B176>(G176+Grenser!$G$4),G176+Grenser!$G$4,F176-Grenser!$G$4))","v":0}]
[null,null,"",null,null,null,null,null,null,null,{"$f":"IF(AND(B177>=(F177-Grenser!$G$4),B177<=(G177+Grenser!$G$4)),B177,IF(B177>(G177+Grenser!$G$4),G177+Grenser!$G$4,F177-Grenser!$G$4))","v":0}]
[null,null,"",null,null,null,null,null,null,null,{"$f":"IF(AND(B178>=(F178-Grenser!$G$4),B178<=(G178+Grenser!$G$4)),B178,IF(B178>(G178+Grenser!$G$4),G178+Grenser!$G$4,F178-Grenser!$G$4))","v":0}]
[null,null,"",null,null,null,null,null,null,null,{"$f":"IF(AND(B179>=(F179-Grenser!$G$4),B179<=(G179+Grenser!$G$4)),B179,IF(B179>(G179+Grenser!$G$4),G179+Grenser!$G$4,F179-Grenser!$G$4))","v":0}]
[null,null,"",null,null,null,null,null,null,null,{"$f":"IF(AND(B180>=(F180-Grenser!$G$4),B180<=(G180+Grenser!$G$4)),B180,IF(B180>(G180+Grenser!$G$4),G180+Grenser!$G$4,F180-Grenser!$G$4))","v":0}]
[null,null,"",null,null,null,null,null,null,null,{"$f":"IF(AND(B181>=(F181-Grenser!$G$4),B181<=(G181+Grenser!$G$4)),B181,IF(B181>(G181+Grenser!$G$4),G181+Grenser!$G$4,F181-Grenser!$G$4))","v":0}]
[null,null,"",null,null,null,null,null,null,null,{"$f":"IF(AND(B182>=(F182-Grenser!$G$4),B182<=(G182+Grenser!$G$4)),B182,IF(B182>(G182+Grenser!$G$4),G182+Grenser!$G$4,F182-Grenser!$G$4))","v":0}]
[null,null,"",null,null,null,null,null,null,null,{"$f":"IF(AND(B183>=(F183-Grenser!$G$4),B183<=(G183+Grenser!$G$4)),B183,IF(B183>(G183+Grenser!$G$4),G183+Grenser!$G$4,F183-Grenser!$G$4))","v":0}]
[null,null,"",null,null,null,null,null,null,null,{"$f":"IF(AND(B184>=(F184-Grenser!$G$4),B184<=(G184+Grenser!$G$4)),B184,IF(B184>(G184+Grenser!$G$4),G184+Grenser!$G$4,F184-Grenser!$G$4))","v":0}]
[null,null,"",null,null,null,null,null,null,null,{"$f":"IF(AND(B185>=(F185-Grenser!$G$4),B185<=(G185+Grenser!$G$4)),B185,IF(B185>(G185+Grenser!$G$4),G185+Grenser!$G$4,F185-Grenser!$G$4))","v":0}]
[null,null,"",null,null,null,null,null,null,null,{"$f":"IF(AND(B186>=(F186-Grenser!$G$4),B186<=(G186+Grenser!$G$4)),B186,IF(B186>(G186+Grenser!$G$4),G186+Grenser!$G$4,F186-Grenser!$G$4))","v":0}]
[null,null,"",null,null,null,null,null,null,null,{"$f":"IF(AND(B187>=(F187-Grenser!$G$4),B187<=(G187+Grenser!$G$4)),B187,IF(B187>(G187+Grenser!$G$4),G187+Grenser!$G$4,F187-Grenser!$G$4))","v":0}]
[null,null,"",null,null,null,null,null,null,null,{"$f":"IF(AND(B188>=(F188-Grenser!$G$4),B188<=(G188+Grenser!$G$4)),B188,IF(B188>(G188+Grenser!$G$4),G188+Grenser!$G$4,F188-Grenser!$G$4))","v":0}]
[null,null,"",null,null,null,null,null,null,null,{"$f":"IF(AND(B189>=(F189-Grenser!$G$4),B189<=(G189+Grenser!$G$4)),B189,IF(B189>(G189+Grenser!$G$4),G189+Grenser!$G$4,F189-Grenser!$G$4))","v":0}]
[null,null,"",null,null,null,null,null,null,null,{"$f":"IF(AND(B190>=(F190-Grenser!$G$4),B190<=(G190+Grenser!$G$4)),B190,IF(B190>(G190+Grenser!$G$4),G190+Grenser!$G$4,F190-Grenser!$G$4))","v":0}]
[null,null,"",null,null,null,null,null,null,null,{"$f":"IF(AND(B191>=(F191-Grenser!$G$4),B191<=(G191+Grenser!$G$4)),B191,IF(B191>(G191+Grenser!$G$4),G191+Grenser!$G$4,F191-Grenser!$G$4))","v":0}]
[null,null,"",null,null,null,null,null,null,null,{"$f":"IF(AND(B192>=(F192-Grenser!$G$4),B192<=(G192+Grenser!$G$4)),B192,IF(B192>(G192+Grenser!$G$4),G192+Grenser!$G$4,F192-Grenser!$G$4))","v":0}]
[null,null,"",null,null,null,null,null,null,null,{"$f":"IF(AND(B193>=(F193-Grenser!$G$4),B193<=(G193+Grenser!$G$4)),B193,IF(B193>(G193+Grenser!$G$4),G193+Grenser!$G$4,F193-Grenser!$G$4))","v":0}]
[null,null,"",null,null,null,null,null,null,null,{"$f":"IF(AND(B194>=(F194-Grenser!$G$4),B194<=(G194+Grenser!$G$4)),B194,IF(B194>(G194+Grenser!$G$4),G194+Grenser!$G$4,F194-Grenser!$G$4))","v":0}]
[null,null,"",null,null,null,null,null,null,null,{"$f":"IF(AND(B195>=(F195-Grenser!$G$4),B195<=(G195+Grenser!$G$4)),B195,IF(B195>(G195+Grenser!$G$4),G195+Grenser!$G$4,F195-Grenser!$G$4))","v":0}]
[null,null,"",null,null,null,null,null,null,null,{"$f":"IF(AND(B196>=(F196-Grenser!$G$4),B196<=(G196+Grenser!$G$4)),B196,IF(B196>(G196+Grenser!$G$4),G196+Grenser!$G$4,F196-Grenser!$G$4))","v":0}]
[null,null,"",null,null,null,null,null,null,null,{"$f":"IF(AND(B197>=(F197-Grenser!$G$4),B197<=(G197+Grenser!$G$4)),B197,IF(B197>(G197+Grenser!$G$4),G197+Grenser!$G$4,F197-Grenser!$G$4))","v":0}]
[null,null,{"$f":"IF(B198<>\"\",(IF(OR(B198<F198,B198>G198),\"STOPP\",\"OK\")),\"\")","v":""},null,null,null,null,null,null,{"$f":"IF(G198<>\"\",IF((OR((G198>$V198),(G198<$U198))),IF(OR((G198>$T198),(G198<$S198)),\"STOPP\",\"Vurder\"),\"Ok\"),\"\")","v":""},{"$f":"IF(AND(B198>=(F198-Grenser!$G$4),B198<=(G198+Grenser!$G$4)),B198,IF(B198>(G198+Grenser!$G$4),G198+Grenser!$G$4,F198-Grenser!$G$4))","v":0}]

{"sheet":"Ikke i bruk 4","index":6,"n_rows":201,"n_cols":11,"rows_kept":201,"cut":false,"hidden":false,"merged":[[0,0,0,9]]}
[{"$f":"Grenser!B7","v":"Ikke i bruk 4"}]
["Antall",{"$f":" COUNT(B7:B201)","v":0}]
["Mean",{"$f":"AVERAGE(B7:B201)","v":{"$error":"#DIV/0!"}}]
["Standardavvik",{"$f":"STDEV(B7:B201)","v":{"$error":"#DIV/0!"}}]
["CV",{"$f":"B4*100/B3","v":{"$error":"#DIV/0!"}}]
["Dato avlest","Avlest sone","Vurdering","Produksjonsdato res.skål","Satt opp sign","Lav grense","Høy grense","Dato Satt opp","Avlest sign","Teller","Avlest sone korrigert"]
[null,null,{"$f":"IF(B7<>\"\",(IF(OR(B7<F7,B7>G7),\"STOPP\",\"OK\")),\"\")","v":""},null,null,null,null,null,null,null,{"$f":"IF(AND(B7>=(F7-Grenser!$G$4),B7<=(G7+Grenser!$G$4)),B7,IF(B7>(G7+Grenser!$G$4),G7+Grenser!$G$4,F7-Grenser!$G$4))","v":0}]
[null,null,"",null,null,null,null,null,null,null,{"$f":"IF(AND(B8>=(F8-Grenser!$G$4),B8<=(G8+Grenser!$G$4)),B8,IF(B8>(G8+Grenser!$G$4),G8+Grenser!$G$4,F8-Grenser!$G$4))","v":0}]
[null,null,"",null,null,null,null,null,null,null,{"$f":"IF(AND(B9>=(F9-Grenser!$G$4),B9<=(G9+Grenser!$G$4)),B9,IF(B9>(G9+Grenser!$G$4),G9+Grenser!$G$4,F9-Grenser!$G$4))","v":0}]
[null,null,"",null,null,null,null,null,null,null,{"$f":"IF(AND(B10>=(F10-Grenser!$G$4),B10<=(G10+Grenser!$G$4)),B10,IF(B10>(G10+Grenser!$G$4),G10+Grenser!$G$4,F10-Grenser!$G$4))","v":0}]
[null,null,"",null,null,null,null,null,null,null,{"$f":"IF(AND(B11>=(F11-Grenser!$G$4),B11<=(G11+Grenser!$G$4)),B11,IF(B11>(G11+Grenser!$G$4),G11+Grenser!$G$4,F11-Grenser!$G$4))","v":0}]
[null,null,"",null,null,null,null,null,null,null,{"$f":"IF(AND(B12>=(F12-Grenser!$G$4),B12<=(G12+Grenser!$G$4)),B12,IF(B12>(G12+Grenser!$G$4),G12+Grenser!$G$4,F12-Grenser!$G$4))","v":0}]
[null,null,"",null,null,null,null,null,null,null,{"$f":"IF(AND(B13>=(F13-Grenser!$G$4),B13<=(G13+Grenser!$G$4)),B13,IF(B13>(G13+Grenser!$G$4),G13+Grenser!$G$4,F13-Grenser!$G$4))","v":0}]
[null,null,"",null,null,null,null,null,null,null,{"$f":"IF(AND(B14>=(F14-Grenser!$G$4),B14<=(G14+Grenser!$G$4)),B14,IF(B14>(G14+Grenser!$G$4),G14+Grenser!$G$4,F14-Grenser!$G$4))","v":0}]
[null,null,"",null,null,null,null,null,null,null,{"$f":"IF(AND(B15>=(F15-Grenser!$G$4),B15<=(G15+Grenser!$G$4)),B15,IF(B15>(G15+Grenser!$G$4),G15+Grenser!$G$4,F15-Grenser!$G$4))","v":0}]
[null,null,"",null,null,null,null,null,null,null,{"$f":"IF(AND(B16>=(F16-Grenser!$G$4),B16<=(G16+Grenser!$G$4)),B16,IF(B16>(G16+Grenser!$G$4),G16+Grenser!$G$4,F16-Grenser!$G$4))","v":0}]
[null,null,"",null,null,null,null,null,null,null,{"$f":"IF(AND(B17>=(F17-Grenser!$G$4),B17<=(G17+Grenser!$G$4)),B17,IF(B17>(G17+Grenser!$G$4),G17+Grenser!$G$4,F17-Grenser!$G$4))","v":0}]
[null,null,"",null,null,null,null,null,null,null,{"$f":"IF(AND(B18>=(F18-Grenser!$G$4),B18<=(G18+Grenser!$G$4)),B18,IF(B18>(G18+Grenser!$G$4),G18+Grenser!$G$4,F18-Grenser!$G$4))","v":0}]
[null,null,"",null,null,null,null,null,null,null,{"$f":"IF(AND(B19>=(F19-Grenser!$G$4),B19<=(G19+Grenser!$G$4)),B19,IF(B19>(G19+Grenser!$G$4),G19+Grenser!$G$4,F19-Grenser!$G$4))","v":0}]
[null,null,"",null,null,null,null,null,null,null,{"$f":"IF(AND(B20>=(F20-Grenser!$G$4),B20<=(G20+Grenser!$G$4)),B20,IF(B20>(G20+Grenser!$G$4),G20+Grenser!$G$4,F20-Grenser!$G$4))","v":0}]
[null,null,"",null,null,null,null,null,null,null,{"$f":"IF(AND(B21>=(F21-Grenser!$G$4),B21<=(G21+Grenser!$G$4)),B21,IF(B21>(G21+Grenser!$G$4),G21+Grenser!$G$4,F21-Grenser!$G$4))","v":0}]
[null,null,"",null,null,null,null,null,null,null,{"$f":"IF(AND(B22>=(F22-Grenser!$G$4),B22<=(G22+Grenser!$G$4)),B22,IF(B22>(G22+Grenser!$G$4),G22+Grenser!$G$4,F22-Grenser!$G$4))","v":0}]
[null,null,"",null,null,null,null,null,null,null,{"$f":"IF(AND(B23>=(F23-Grenser!$G$4),B23<=(G23+Grenser!$G$4)),B23,IF(B23>(G23+Grenser!$G$4),G23+Grenser!$G$4,F23-Grenser!$G$4))","v":0}]
[null,null,"",null,null,null,null,null,null,null,{"$f":"IF(AND(B24>=(F24-Grenser!$G$4),B24<=(G24+Grenser!$G$4)),B24,IF(B24>(G24+Grenser!$G$4),G24+Grenser!$G$4,F24-Grenser!$G$4))","v":0}]
[null,null,"",null,null,null,null,null,null,null,{"$f":"IF(AND(B25>=(F25-Grenser!$G$4),B25<=(G25+Grenser!$G$4)),B25,IF(B25>(G25+Grenser!$G$4),G25+Grenser!$G$4,F25-Grenser!$G$4))","v":0}]
[null,null,"",null,null,null,null,null,null,null,{"$f":"IF(AND(B26>=(F26-Grenser!$G$4),B26<=(G26+Grenser!$G$4)),B26,IF(B26>(G26+Grenser!$G$4),G26+Grenser!$G$4,F26-Grenser!$G$4))","v":0}]
[null,null,"",null,null,null,null,null,null,null,{"$f":"IF(AND(B27>=(F27-Grenser!$G$4),B27<=(G27+Grenser!$G$4)),B27,IF(B27>(G27+Grenser!$G$4),G27+Grenser!$G$4,F27-Grenser!$G$4))","v":0}]
[null,null,"",null,null,null,null,null,null,null,{"$f":"IF(AND(B28>=(F28-Grenser!$G$4),B28<=(G28+Grenser!$G$4)),B28,IF(B28>(G28+Grenser!$G$4),G28+Grenser!$G$4,F28-Grenser!$G$4))","v":0}]
[null,null,"",null,null,null,null,null,null,null,{"$f":"IF(AND(B29>=(F29-Grenser!$G$4),B29<=(G29+Grenser!$G$4)),B29,IF(B29>(G29+Grenser!$G$4),G29+Grenser!$G$4,F29-Grenser!$G$4))","v":0}]
[null,null,"",null,null,null,null,null,null,null,{"$f":"IF(AND(B30>=(F30-Grenser!$G$4),B30<=(G30+Grenser!$G$4)),B30,IF(B30>(G30+Grenser!$G$4),G30+Grenser!$G$4,F30-Grenser!$G$4))","v":0}]
[null,null,"",null,null,null,null,null,null,null,{"$f":"IF(AND(B31>=(F31-Grenser!$G$4),B31<=(G31+Grenser!$G$4)),B31,IF(B31>(G31+Grenser!$G$4),G31+Grenser!$G$4,F31-Grenser!$G$4))","v":0}]
[null,null,"",null,null,null,null,null,null,null,{"$f":"IF(AND(B32>=(F32-Grenser!$G$4),B32<=(G32+Grenser!$G$4)),B32,IF(B32>(G32+Grenser!$G$4),G32+Grenser!$G$4,F32-Grenser!$G$4))","v":0}]
[null,null,"",null,null,null,null,null,null,null,{"$f":"IF(AND(B33>=(F33-Grenser!$G$4),B33<=(G33+Grenser!$G$4)),B33,IF(B33>(G33+Grenser!$G$4),G33+Grenser!$G$4,F33-Grenser!$G$4))","v":0}]
[null,null,"",null,null,null,null,null,null,null,{"$f":"IF(AND(B34>=(F34-Grenser!$G$4),B34<=(G34+Grenser!$G$4)),B34,IF(B34>(G34+Grenser!$G$4),G34+Grenser!$G$4,F34-Grenser!$G$4))","v":0}]
[null,null,"",null,null,null,null,null,null,null,{"$f":"IF(AND(B35>=(F35-Grenser!$G$4),B35<=(G35+Grenser!$G$4)),B35,IF(B35>(G35+Grenser!$G$4),G35+Grenser!$G$4,F35-Grenser!$G$4))","v":0}]
[null,null,"",null,null,null,null,null,null,null,{"$f":"IF(AND(B36>=(F36-Grenser!$G$4),B36<=(G36+Grenser!$G$4)),B36,IF(B36>(G36+Grenser!$G$4),G36+Grenser!$G$4,F36-Grenser!$G$4))","v":0}]
[null,null,"",null,null,null,null,null,null,null,{"$f":"IF(AND(B37>=(F37-Grenser!$G$4),B37<=(G37+Grenser!$G$4)),B37,IF(B37>(G37+Grenser!$G$4),G37+Grenser!$G$4,F37-Grenser!$G$4))","v":0}]
[null,null,"",null,null,null,null,null,null,null,{"$f":"IF(AND(B38>=(F38-Grenser!$G$4),B38<=(G38+Grenser!$G$4)),B38,IF(B38>(G38+Grenser!$G$4),G38+Grenser!$G$4,F38-Grenser!$G$4))","v":0}]
[null,null,"",null,null,null,null,null,null,null,{"$f":"IF(AND(B39>=(F39-Grenser!$G$4),B39<=(G39+Grenser!$G$4)),B39,IF(B39>(G39+Grenser!$G$4),G39+Grenser!$G$4,F39-Grenser!$G$4))","v":0}]
[null,null,"",null,null,null,null,null,null,null,{"$f":"IF(AND(B40>=(F40-Grenser!$G$4),B40<=(G40+Grenser!$G$4)),B40,IF(B40>(G40+Grenser!$G$4),G40+Grenser!$G$4,F40-Grenser!$G$4))","v":0}]
[null,null,"",null,null,null,null,null,null,null,{"$f":"IF(AND(B41>=(F41-Grenser!$G$4),B41<=(G41+Grenser!$G$4)),B41,IF(B41>(G41+Grenser!$G$4),G41+Grenser!$G$4,F41-Grenser!$G$4))","v":0}]
[null,null,"",null,null,null,null,null,null,null,{"$f":"IF(AND(B42>=(F42-Grenser!$G$4),B42<=(G42+Grenser!$G$4)),B42,IF(B42>(G42+Grenser!$G$4),G42+Grenser!$G$4,F42-Grenser!$G$4))","v":0}]
[null,null,"",null,null,null,null,null,null,null,{"$f":"IF(AND(B43>=(F43-Grenser!$G$4),B43<=(G43+Grenser!$G$4)),B43,IF(B43>(G43+Grenser!$G$4),G43+Grenser!$G$4,F43-Grenser!$G$4))","v":0}]
[null,null,"",null,null,null,null,null,null,null,{"$f":"IF(AND(B44>=(F44-Grenser!$G$4),B44<=(G44+Grenser!$G$4)),B44,IF(B44>(G44+Grenser!$G$4),G44+Grenser!$G$4,F44-Grenser!$G$4))","v":0}]
[null,null,"",null,null,null,null,null,null,null,{"$f":"IF(AND(B45>=(F45-Grenser!$G$4),B45<=(G45+Grenser!$G$4)),B45,IF(B45>(G45+Grenser!$G$4),G45+Grenser!$G$4,F45-Grenser!$G$4))","v":0}]
[null,null,"",null,null,null,null,null,null,null,{"$f":"IF(AND(B46>=(F46-Grenser!$G$4),B46<=(G46+Grenser!$G$4)),B46,IF(B46>(G46+Grenser!$G$4),G46+Grenser!$G$4,F46-Grenser!$G$4))","v":0}]
[null,null,"",null,null,null,null,null,null,null,{"$f":"IF(AND(B47>=(F47-Grenser!$G$4),B47<=(G47+Grenser!$G$4)),B47,IF(B47>(G47+Grenser!$G$4),G47+Grenser!$G$4,F47-Grenser!$G$4))","v":0}]
[null,null,"",null,null,null,null,null,null,null,{"$f":"IF(AND(B48>=(F48-Grenser!$G$4),B48<=(G48+Grenser!$G$4)),B48,IF(B48>(G48+Grenser!$G$4),G48+Grenser!$G$4,F48-Grenser!$G$4))","v":0}]
[null,null,"",null,null,null,null,null,null,null,{"$f":"IF(AND(B49>=(F49-Grenser!$G$4),B49<=(G49+Grenser!$G$4)),B49,IF(B49>(G49+Grenser!$G$4),G49+Grenser!$G$4,F49-Grenser!$G$4))","v":0}]
[null,null,"",null,null,null,null,null,null,null,{"$f":"IF(AND(B50>=(F50-Grenser!$G$4),B50<=(G50+Grenser!$G$4)),B50,IF(B50>(G50+Grenser!$G$4),G50+Grenser!$G$4,F50-Grenser!$G$4))","v":0}]
[null,null,"",null,null,null,null,null,null,null,{"$f":"IF(AND(B51>=(F51-Grenser!$G$4),B51<=(G51+Grenser!$G$4)),B51,IF(B51>(G51+Grenser!$G$4),G51+Grenser!$G$4,F51-Grenser!$G$4))","v":0}]
[null,null,"",null,null,null,null,null,null,null,{"$f":"IF(AND(B52>=(F52-Grenser!$G$4),B52<=(G52+Grenser!$G$4)),B52,IF(B52>(G52+Grenser!$G$4),G52+Grenser!$G$4,F52-Grenser!$G$4))","v":0}]
[null,null,"",null,null,null,null,null,null,null,{"$f":"IF(AND(B53>=(F53-Grenser!$G$4),B53<=(G53+Grenser!$G$4)),B53,IF(B53>(G53+Grenser!$G$4),G53+Grenser!$G$4,F53-Grenser!$G$4))","v":0}]
[null,null,"",null,null,null,null,null,null,null,{"$f":"IF(AND(B54>=(F54-Grenser!$G$4),B54<=(G54+Grenser!$G$4)),B54,IF(B54>(G54+Grenser!$G$4),G54+Grenser!$G$4,F54-Grenser!$G$4))","v":0}]
[null,null,"",null,null,null,null,null,null,null,{"$f":"IF(AND(B55>=(F55-Grenser!$G$4),B55<=(G55+Grenser!$G$4)),B55,IF(B55>(G55+Grenser!$G$4),G55+Grenser!$G$4,F55-Grenser!$G$4))","v":0}]
[null,null,"",null,null,null,null,null,null,null,{"$f":"IF(AND(B56>=(F56-Grenser!$G$4),B56<=(G56+Grenser!$G$4)),B56,IF(B56>(G56+Grenser!$G$4),G56+Grenser!$G$4,F56-Grenser!$G$4))","v":0}]
[null,null,"",null,null,null,null,null,null,null,{"$f":"IF(AND(B57>=(F57-Grenser!$G$4),B57<=(G57+Grenser!$G$4)),B57,IF(B57>(G57+Grenser!$G$4),G57+Grenser!$G$4,F57-Grenser!$G$4))","v":0}]
[null,null,"",null,null,null,null,null,null,null,{"$f":"IF(AND(B58>=(F58-Grenser!$G$4),B58<=(G58+Grenser!$G$4)),B58,IF(B58>(G58+Grenser!$G$4),G58+Grenser!$G$4,F58-Grenser!$G$4))","v":0}]
[null,null,"",null,null,null,null,null,null,null,{"$f":"IF(AND(B59>=(F59-Grenser!$G$4),B59<=(G59+Grenser!$G$4)),B59,IF(B59>(G59+Grenser!$G$4),G59+Grenser!$G$4,F59-Grenser!$G$4))","v":0}]
[null,null,"",null,null,null,null,null,null,null,{"$f":"IF(AND(B60>=(F60-Grenser!$G$4),B60<=(G60+Grenser!$G$4)),B60,IF(B60>(G60+Grenser!$G$4),G60+Grenser!$G$4,F60-Grenser!$G$4))","v":0}]
[null,null,"",null,null,null,null,null,null,null,{"$f":"IF(AND(B61>=(F61-Grenser!$G$4),B61<=(G61+Grenser!$G$4)),B61,IF(B61>(G61+Grenser!$G$4),G61+Grenser!$G$4,F61-Grenser!$G$4))","v":0}]
[null,null,"",null,null,null,null,null,null,null,{"$f":"IF(AND(B62>=(F62-Grenser!$G$4),B62<=(G62+Grenser!$G$4)),B62,IF(B62>(G62+Grenser!$G$4),G62+Grenser!$G$4,F62-Grenser!$G$4))","v":0}]
[null,null,"",null,null,null,null,null,null,null,{"$f":"IF(AND(B63>=(F63-Grenser!$G$4),B63<=(G63+Grenser!$G$4)),B63,IF(B63>(G63+Grenser!$G$4),G63+Grenser!$G$4,F63-Grenser!$G$4))","v":0}]
[null,null,"",null,null,null,null,null,null,null,{"$f":"IF(AND(B64>=(F64-Grenser!$G$4),B64<=(G64+Grenser!$G$4)),B64,IF(B64>(G64+Grenser!$G$4),G64+Grenser!$G$4,F64-Grenser!$G$4))","v":0}]
[null,null,"",null,null,null,null,null,null,null,{"$f":"IF(AND(B65>=(F65-Grenser!$G$4),B65<=(G65+Grenser!$G$4)),B65,IF(B65>(G65+Grenser!$G$4),G65+Grenser!$G$4,F65-Grenser!$G$4))","v":0}]
[null,null,"",null,null,null,null,null,null,null,{"$f":"IF(AND(B66>=(F66-Grenser!$G$4),B66<=(G66+Grenser!$G$4)),B66,IF(B66>(G66+Grenser!$G$4),G66+Grenser!$G$4,F66-Grenser!$G$4))","v":0}]
[null,null,"",null,null,null,null,null,null,null,{"$f":"IF(AND(B67>=(F67-Grenser!$G$4),B67<=(G67+Grenser!$G$4)),B67,IF(B67>(G67+Grenser!$G$4),G67+Grenser!$G$4,F67-Grenser!$G$4))","v":0}]
[null,null,"",null,null,null,null,null,null,null,{"$f":"IF(AND(B68>=(F68-Grenser!$G$4),B68<=(G68+Grenser!$G$4)),B68,IF(B68>(G68+Grenser!$G$4),G68+Grenser!$G$4,F68-Grenser!$G$4))","v":0}]
[null,null,"",null,null,null,null,null,null,null,{"$f":"IF(AND(B69>=(F69-Grenser!$G$4),B69<=(G69+Grenser!$G$4)),B69,IF(B69>(G69+Grenser!$G$4),G69+Grenser!$G$4,F69-Grenser!$G$4))","v":0}]
[null,null,"",null,null,null,null,null,null,null,{"$f":"IF(AND(B70>=(F70-Grenser!$G$4),B70<=(G70+Grenser!$G$4)),B70,IF(B70>(G70+Grenser!$G$4),G70+Grenser!$G$4,F70-Grenser!$G$4))","v":0}]
[null,null,{"$f":"IF(B71<>\"\",(IF(OR(B71<F71,B71>G71),\"STOPP\",\"OK\")),\"\")","v":""},null,null,null,null,null,null,null,{"$f":"IF(AND(B71>=(F71-Grenser!$G$4),B71<=(G71+Grenser!$G$4)),B71,IF(B71>(G71+Grenser!$G$4),G71+Grenser!$G$4,F71-Grenser!$G$4))","v":0}]
[null,null,"",null,null,null,null,null,null,null,{"$f":"IF(AND(B72>=(F72-Grenser!$G$4),B72<=(G72+Grenser!$G$4)),B72,IF(B72>(G72+Grenser!$G$4),G72+Grenser!$G$4,F72-Grenser!$G$4))","v":0}]
[null,null,"",null,null,null,null,null,null,null,{"$f":"IF(AND(B73>=(F73-Grenser!$G$4),B73<=(G73+Grenser!$G$4)),B73,IF(B73>(G73+Grenser!$G$4),G73+Grenser!$G$4,F73-Grenser!$G$4))","v":0}]
[null,null,"",null,null,null,null,null,null,null,{"$f":"IF(AND(B74>=(F74-Grenser!$G$4),B74<=(G74+Grenser!$G$4)),B74,IF(B74>(G74+Grenser!$G$4),G74+Grenser!$G$4,F74-Grenser!$G$4))","v":0}]
[null,null,"",null,null,null,null,null,null,null,{"$f":"IF(AND(B75>=(F75-Grenser!$G$4),B75<=(G75+Grenser!$G$4)),B75,IF(B75>(G75+Grenser!$G$4),G75+Grenser!$G$4,F75-Grenser!$G$4))","v":0}]
[null,null,"",null,null,null,null,null,null,null,{"$f":"IF(AND(B76>=(F76-Grenser!$G$4),B76<=(G76+Grenser!$G$4)),B76,IF(B76>(G76+Grenser!$G$4),G76+Grenser!$G$4,F76-Grenser!$G$4))","v":0}]
[null,null,"",null,null,null,null,null,null,null,{"$f":"IF(AND(B77>=(F77-Grenser!$G$4),B77<=(G77+Grenser!$G$4)),B77,IF(B77>(G77+Grenser!$G$4),G77+Grenser!$G$4,F77-Grenser!$G$4))","v":0}]
[null,null,"",null,null,null,null,null,null,null,{"$f":"IF(AND(B78>=(F78-Grenser!$G$4),B78<=(G78+Grenser!$G$4)),B78,IF(B78>(G78+Grenser!$G$4),G78+Grenser!$G$4,F78-Grenser!$G$4))","v":0}]
[null,null,"",null,null,null,null,null,null,null,{"$f":"IF(AND(B79>=(F79-Grenser!$G$4),B79<=(G79+Grenser!$G$4)),B79,IF(B79>(G79+Grenser!$G$4),G79+Grenser!$G$4,F79-Grenser!$G$4))","v":0}]
[null,null,"",null,null,null,null,null,null,null,{"$f":"IF(AND(B80>=(F80-Grenser!$G$4),B80<=(G80+Grenser!$G$4)),B80,IF(B80>(G80+Grenser!$G$4),G80+Grenser!$G$4,F80-Grenser!$G$4))","v":0}]
[null,null,"",null,null,null,null,null,null,null,{"$f":"IF(AND(B81>=(F81-Grenser!$G$4),B81<=(G81+Grenser!$G$4)),B81,IF(B81>(G81+Grenser!$G$4),G81+Grenser!$G$4,F81-Grenser!$G$4))","v":0}]
[null,null,"",null,null,null,null,null,null,null,{"$f":"IF(AND(B82>=(F82-Grenser!$G$4),B82<=(G82+Grenser!$G$4)),B82,IF(B82>(G82+Grenser!$G$4),G82+Grenser!$G$4,F82-Grenser!$G$4))","v":0}]
[null,null,"",null,null,null,null,null,null,null,{"$f":"IF(AND(B83>=(F83-Grenser!$G$4),B83<=(G83+Grenser!$G$4)),B83,IF(B83>(G83+Grenser!$G$4),G83+Grenser!$G$4,F83-Grenser!$G$4))","v":0}]
[null,null,"",null,null,null,null,null,null,null,{"$f":"IF(AND(B84>=(F84-Grenser!$G$4),B84<=(G84+Grenser!$G$4)),B84,IF(B84>(G84+Grenser!$G$4),G84+Grenser!$G$4,F84-Grenser!$G$4))","v":0}]
[null,null,"",null,null,null,null,null,null,null,{"$f":"IF(AND(B85>=(F85-Grenser!$G$4),B85<=(G85+Grenser!$G$4)),B85,IF(B85>(G85+Grenser!$G$4),G85+Grenser!$G$4,F85-Grenser!$G$4))","v":0}]
[null,null,"",null,null,null,null,null,null,null,{"$f":"IF(AND(B86>=(F86-Grenser!$G$4),B86<=(G86+Grenser!$G$4)),B86,IF(B86>(G86+Grenser!$G$4),G86+Grenser!$G$4,F86-Grenser!$G$4))","v":0}]
[null,null,"",null,null,null,null,null,null,null,{"$f":"IF(AND(B87>=(F87-Grenser!$G$4),B87<=(G87+Grenser!$G$4)),B87,IF(B87>(G87+Grenser!$G$4),G87+Grenser!$G$4,F87-Grenser!$G$4))","v":0}]
[null,null,"",null,null,null,null,null,null,null,{"$f":"IF(AND(B88>=(F88-Grenser!$G$4),B88<=(G88+Grenser!$G$4)),B88,IF(B88>(G88+Grenser!$G$4),G88+Grenser!$G$4,F88-Grenser!$G$4))","v":0}]
[null,null,"",null,null,null,null,null,null,null,{"$f":"IF(AND(B89>=(F89-Grenser!$G$4),B89<=(G89+Grenser!$G$4)),B89,IF(B89>(G89+Grenser!$G$4),G89+Grenser!$G$4,F89-Grenser!$G$4))","v":0}]
[null,null,"",null,null,null,null,null,null,null,{"$f":"IF(AND(B90>=(F90-Grenser!$G$4),B90<=(G90+Grenser!$G$4)),B90,IF(B90>(G90+Grenser!$G$4),G90+Grenser!$G$4,F90-Grenser!$G$4))","v":0}]
[null,null,"",null,null,null,null,null,null,null,{"$f":"IF(AND(B91>=(F91-Grenser!$G$4),B91<=(G91+Grenser!$G$4)),B91,IF(B91>(G91+Grenser!$G$4),G91+Grenser!$G$4,F91-Grenser!$G$4))","v":0}]
[null,null,"",null,null,null,null,null,null,null,{"$f":"IF(AND(B92>=(F92-Grenser!$G$4),B92<=(G92+Grenser!$G$4)),B92,IF(B92>(G92+Grenser!$G$4),G92+Grenser!$G$4,F92-Grenser!$G$4))","v":0}]
[null,null,"",null,null,null,null,null,null,null,{"$f":"IF(AND(B93>=(F93-Grenser!$G$4),B93<=(G93+Grenser!$G$4)),B93,IF(B93>(G93+Grenser!$G$4),G93+Grenser!$G$4,F93-Grenser!$G$4))","v":0}]
[null,null,"",null,null,null,null,null,null,null,{"$f":"IF(AND(B94>=(F94-Grenser!$G$4),B94<=(G94+Grenser!$G$4)),B94,IF(B94>(G94+Grenser!$G$4),G94+Grenser!$G$4,F94-Grenser!$G$4))","v":0}]
[null,null,"",null,null,null,null,null,null,null,{"$f":"IF(AND(B95>=(F95-Grenser!$G$4),B95<=(G95+Grenser!$G$4)),B95,IF(B95>(G95+Grenser!$G$4),G95+Grenser!$G$4,F95-Grenser!$G$4))","v":0}]
[null,null,"",null,null,null,null,null,null,null,{"$f":"IF(AND(B96>=(F96-Grenser!$G$4),B96<=(G96+Grenser!$G$4)),B96,IF(B96>(G96+Grenser!$G$4),G96+Grenser!$G$4,F96-Grenser!$G$4))","v":0}]
[null,null,"",null,null,null,null,null,null,null,{"$f":"IF(AND(B97>=(F97-Grenser!$G$4),B97<=(G97+Grenser!$G$4)),B97,IF(B97>(G97+Grenser!$G$4),G97+Grenser!$G$4,F97-Grenser!$G$4))","v":0}]
[null,null,"",null,null,null,null,null,null,null,{"$f":"IF(AND(B98>=(F98-Grenser!$G$4),B98<=(G98+Grenser!$G$4)),B98,IF(B98>(G98+Grenser!$G$4),G98+Grenser!$G$4,F98-Grenser!$G$4))","v":0}]
[null,null,"",null,null,null,null,null,null,null,{"$f":"IF(AND(B99>=(F99-Grenser!$G$4),B99<=(G99+Grenser!$G$4)),B99,IF(B99>(G99+Grenser!$G$4),G99+Grenser!$G$4,F99-Grenser!$G$4))","v":0}]
[null,null,"",null,null,null,null,null,null,null,{"$f":"IF(AND(B100>=(F100-Grenser!$G$4),B100<=(G100+Grenser!$G$4)),B100,IF(B100>(G100+Grenser!$G$4),G100+Grenser!$G$4,F100-Grenser!$G$4))","v":0}]
[null,null,"",null,null,null,null,null,null,null,{"$f":"IF(AND(B101>=(F101-Grenser!$G$4),B101<=(G101+Grenser!$G$4)),B101,IF(B101>(G101+Grenser!$G$4),G101+Grenser!$G$4,F101-Grenser!$G$4))","v":0}]
[null,null,"",null,null,null,null,null,null,null,{"$f":"IF(AND(B102>=(F102-Grenser!$G$4),B102<=(G102+Grenser!$G$4)),B102,IF(B102>(G102+Grenser!$G$4),G102+Grenser!$G$4,F102-Grenser!$G$4))","v":0}]
[null,null,"",null,null,null,null,null,null,null,{"$f":"IF(AND(B103>=(F103-Grenser!$G$4),B103<=(G103+Grenser!$G$4)),B103,IF(B103>(G103+Grenser!$G$4),G103+Grenser!$G$4,F103-Grenser!$G$4))","v":0}]
[null,null,"",null,null,null,null,null,null,null,{"$f":"IF(AND(B104>=(F104-Grenser!$G$4),B104<=(G104+Grenser!$G$4)),B104,IF(B104>(G104+Grenser!$G$4),G104+Grenser!$G$4,F104-Grenser!$G$4))","v":0}]
[null,null,"",null,null,null,null,null,null,null,{"$f":"IF(AND(B105>=(F105-Grenser!$G$4),B105<=(G105+Grenser!$G$4)),B105,IF(B105>(G105+Grenser!$G$4),G105+Grenser!$G$4,F105-Grenser!$G$4))","v":0}]
[null,null,"",null,null,null,null,null,null,null,{"$f":"IF(AND(B106>=(F106-Grenser!$G$4),B106<=(G106+Grenser!$G$4)),B106,IF(B106>(G106+Grenser!$G$4),G106+Grenser!$G$4,F106-Grenser!$G$4))","v":0}]
[null,null,"",null,null,null,null,null,null,null,{"$f":"IF(AND(B107>=(F107-Grenser!$G$4),B107<=(G107+Grenser!$G$4)),B107,IF(B107>(G107+Grenser!$G$4),G107+Grenser!$G$4,F107-Grenser!$G$4))","v":0}]
[null,null,"",null,null,null,null,null,null,null,{"$f":"IF(AND(B108>=(F108-Grenser!$G$4),B108<=(G108+Grenser!$G$4)),B108,IF(B108>(G108+Grenser!$G$4),G108+Grenser!$G$4,F108-Grenser!$G$4))","v":0}]
[null,null,"",null,null,null,null,null,null,null,{"$f":"IF(AND(B109>=(F109-Grenser!$G$4),B109<=(G109+Grenser!$G$4)),B109,IF(B109>(G109+Grenser!$G$4),G109+Grenser!$G$4,F109-Grenser!$G$4))","v":0}]
[null,null,"",null,null,null,null,null,null,null,{"$f":"IF(AND(B110>=(F110-Grenser!$G$4),B110<=(G110+Grenser!$G$4)),B110,IF(B110>(G110+Grenser!$G$4),G110+Grenser!$G$4,F110-Grenser!$G$4))","v":0}]
[null,null,"",null,null,null,null,null,null,null,{"$f":"IF(AND(B111>=(F111-Grenser!$G$4),B111<=(G111+Grenser!$G$4)),B111,IF(B111>(G111+Grenser!$G$4),G111+Grenser!$G$4,F111-Grenser!$G$4))","v":0}]
[null,null,"",null,null,null,null,null,null,null,{"$f":"IF(AND(B112>=(F112-Grenser!$G$4),B112<=(G112+Grenser!$G$4)),B112,IF(B112>(G112+Grenser!$G$4),G112+Grenser!$G$4,F112-Grenser!$G$4))","v":0}]
[null,null,"",null,null,null,null,null,null,null,{"$f":"IF(AND(B113>=(F113-Grenser!$G$4),B113<=(G113+Grenser!$G$4)),B113,IF(B113>(G113+Grenser!$G$4),G113+Grenser!$G$4,F113-Grenser!$G$4))","v":0}]
[null,null,"",null,null,null,null,null,null,null,{"$f":"IF(AND(B114>=(F114-Grenser!$G$4),B114<=(G114+Grenser!$G$4)),B114,IF(B114>(G114+Grenser!$G$4),G114+Grenser!$G$4,F114-Grenser!$G$4))","v":0}]
[null,null,"",null,null,null,null,null,null,null,{"$f":"IF(AND(B115>=(F115-Grenser!$G$4),B115<=(G115+Grenser!$G$4)),B115,IF(B115>(G115+Grenser!$G$4),G115+Grenser!$G$4,F115-Grenser!$G$4))","v":0}]
[null,null,"",null,null,null,null,null,null,null,{"$f":"IF(AND(B116>=(F116-Grenser!$G$4),B116<=(G116+Grenser!$G$4)),B116,IF(B116>(G116+Grenser!$G$4),G116+Grenser!$G$4,F116-Grenser!$G$4))","v":0}]
[null,null,"",null,null,null,null,null,null,null,{"$f":"IF(AND(B117>=(F117-Grenser!$G$4),B117<=(G117+Grenser!$G$4)),B117,IF(B117>(G117+Grenser!$G$4),G117+Grenser!$G$4,F117-Grenser!$G$4))","v":0}]
[null,null,"",null,null,null,null,null,null,null,{"$f":"IF(AND(B118>=(F118-Grenser!$G$4),B118<=(G118+Grenser!$G$4)),B118,IF(B118>(G118+Grenser!$G$4),G118+Grenser!$G$4,F118-Grenser!$G$4))","v":0}]
[null,null,"",null,null,null,null,null,null,null,{"$f":"IF(AND(B119>=(F119-Grenser!$G$4),B119<=(G119+Grenser!$G$4)),B119,IF(B119>(G119+Grenser!$G$4),G119+Grenser!$G$4,F119-Grenser!$G$4))","v":0}]
[null,null,"",null,null,null,null,null,null,null,{"$f":"IF(AND(B120>=(F120-Grenser!$G$4),B120<=(G120+Grenser!$G$4)),B120,IF(B120>(G120+Grenser!$G$4),G120+Grenser!$G$4,F120-Grenser!$G$4))","v":0}]
[null,null,"",null,null,null,null,null,null,null,{"$f":"IF(AND(B121>=(F121-Grenser!$G$4),B121<=(G121+Grenser!$G$4)),B121,IF(B121>(G121+Grenser!$G$4),G121+Grenser!$G$4,F121-Grenser!$G$4))","v":0}]
[null,null,"",null,null,null,null,null,null,null,{"$f":"IF(AND(B122>=(F122-Grenser!$G$4),B122<=(G122+Grenser!$G$4)),B122,IF(B122>(G122+Grenser!$G$4),G122+Grenser!$G$4,F122-Grenser!$G$4))","v":0}]
[null,null,"",null,null,null,null,null,null,null,{"$f":"IF(AND(B123>=(F123-Grenser!$G$4),B123<=(G123+Grenser!$G$4)),B123,IF(B123>(G123+Grenser!$G$4),G123+Grenser!$G$4,F123-Grenser!$G$4))","v":0}]
[null,null,"",null,null,null,null,null,null,null,{"$f":"IF(AND(B124>=(F124-Grenser!$G$4),B124<=(G124+Grenser!$G$4)),B124,IF(B124>(G124+Grenser!$G$4),G124+Grenser!$G$4,F124-Grenser!$G$4))","v":0}]
[null,null,"",null,null,null,null,null,null,null,{"$f":"IF(AND(B125>=(F125-Grenser!$G$4),B125<=(G125+Grenser!$G$4)),B125,IF(B125>(G125+Grenser!$G$4),G125+Grenser!$G$4,F125-Grenser!$G$4))","v":0}]
[null,null,"",null,null,null,null,null,null,null,{"$f":"IF(AND(B126>=(F126-Grenser!$G$4),B126<=(G126+Grenser!$G$4)),B126,IF(B126>(G126+Grenser!$G$4),G126+Grenser!$G$4,F126-Grenser!$G$4))","v":0}]
[null,null,"",null,null,null,null,null,null,null,{"$f":"IF(AND(B127>=(F127-Grenser!$G$4),B127<=(G127+Grenser!$G$4)),B127,IF(B127>(G127+Grenser!$G$4),G127+Grenser!$G$4,F127-Grenser!$G$4))","v":0}]
[null,null,"",null,null,null,null,null,null,null,{"$f":"IF(AND(B128>=(F128-Grenser!$G$4),B128<=(G128+Grenser!$G$4)),B128,IF(B128>(G128+Grenser!$G$4),G128+Grenser!$G$4,F128-Grenser!$G$4))","v":0}]
[null,null,"",null,null,null,null,null,null,null,{"$f":"IF(AND(B129>=(F129-Grenser!$G$4),B129<=(G129+Grenser!$G$4)),B129,IF(B129>(G129+Grenser!$G$4),G129+Grenser!$G$4,F129-Grenser!$G$4))","v":0}]
[null,null,"",null,null,null,null,null,null,null,{"$f":"IF(AND(B130>=(F130-Grenser!$G$4),B130<=(G130+Grenser!$G$4)),B130,IF(B130>(G130+Grenser!$G$4),G130+Grenser!$G$4,F130-Grenser!$G$4))","v":0}]
[null,null,"",null,null,null,null,null,null,null,{"$f":"IF(AND(B131>=(F131-Grenser!$G$4),B131<=(G131+Grenser!$G$4)),B131,IF(B131>(G131+Grenser!$G$4),G131+Grenser!$G$4,F131-Grenser!$G$4))","v":0}]
[null,null,"",null,null,null,null,null,null,null,{"$f":"IF(AND(B132>=(F132-Grenser!$G$4),B132<=(G132+Grenser!$G$4)),B132,IF(B132>(G132+Grenser!$G$4),G132+Grenser!$G$4,F132-Grenser!$G$4))","v":0}]
[null,null,"",null,null,null,null,null,null,null,{"$f":"IF(AND(B133>=(F133-Grenser!$G$4),B133<=(G133+Grenser!$G$4)),B133,IF(B133>(G133+Grenser!$G$4),G133+Grenser!$G$4,F133-Grenser!$G$4))","v":0}]
[null,null,"",null,null,null,null,null,null,null,{"$f":"IF(AND(B134>=(F134-Grenser!$G$4),B134<=(G134+Grenser!$G$4)),B134,IF(B134>(G134+Grenser!$G$4),G134+Grenser!$G$4,F134-Grenser!$G$4))","v":0}]
[null,null,{"$f":"IF(B135<>\"\",(IF(OR(B135<F135,B135>G135),\"STOPP\",\"OK\")),\"\")","v":""},null,null,null,null,null,null,null,{"$f":"IF(AND(B135>=(F135-Grenser!$G$4),B135<=(G135+Grenser!$G$4)),B135,IF(B135>(G135+Grenser!$G$4),G135+Grenser!$G$4,F135-Grenser!$G$4))","v":0}]
[null,null,"",null,null,null,null,null,null,null,{"$f":"IF(AND(B136>=(F136-Grenser!$G$4),B136<=(G136+Grenser!$G$4)),B136,IF(B136>(G136+Grenser!$G$4),G136+Grenser!$G$4,F136-Grenser!$G$4))","v":0}]
[null,null,"",null,null,null,null,null,null,null,{"$f":"IF(AND(B137>=(F137-Grenser!$G$4),B137<=(G137+Grenser!$G$4)),B137,IF(B137>(G137+Grenser!$G$4),G137+Grenser!$G$4,F137-Grenser!$G$4))","v":0}]
[null,null,"",null,null,null,null,null,null,null,{"$f":"IF(AND(B138>=(F138-Grenser!$G$4),B138<=(G138+Grenser!$G$4)),B138,IF(B138>(G138+Grenser!$G$4),G138+Grenser!$G$4,F138-Grenser!$G$4))","v":0}]
[null,null,"",null,null,null,null,null,null,null,{"$f":"IF(AND(B139>=(F139-Grenser!$G$4),B139<=(G139+Grenser!$G$4)),B139,IF(B139>(G139+Grenser!$G$4),G139+Grenser!$G$4,F139-Grenser!$G$4))","v":0}]
[null,null,"",null,null,null,null,null,null,null,{"$f":"IF(AND(B140>=(F140-Grenser!$G$4),B140<=(G140+Grenser!$G$4)),B140,IF(B140>(G140+Grenser!$G$4),G140+Grenser!$G$4,F140-Grenser!$G$4))","v":0}]
[null,null,"",null,null,null,null,null,null,null,{"$f":"IF(AND(B141>=(F141-Grenser!$G$4),B141<=(G141+Grenser!$G$4)),B141,IF(B141>(G141+Grenser!$G$4),G141+Grenser!$G$4,F141-Grenser!$G$4))","v":0}]
[null,null,"",null,null,null,null,null,null,null,{"$f":"IF(AND(B142>=(F142-Grenser!$G$4),B142<=(G142+Grenser!$G$4)),B142,IF(B142>(G142+Grenser!$G$4),G142+Grenser!$G$4,F142-Grenser!$G$4))","v":0}]
[null,null,"",null,null,null,null,null,null,null,{"$f":"IF(AND(B143>=(F143-Grenser!$G$4),B143<=(G143+Grenser!$G$4)),B143,IF(B143>(G143+Grenser!$G$4),G143+Grenser!$G$4,F143-Grenser!$G$4))","v":0}]
[null,null,"",null,null,null,null,null,null,null,{"$f":"IF(AND(B144>=(F144-Grenser!$G$4),B144<=(G144+Grenser!$G$4)),B144,IF(B144>(G144+Grenser!$G$4),G144+Grenser!$G$4,F144-Grenser!$G$4))","v":0}]
[null,null,"",null,null,null,null,null,null,null,{"$f":"IF(AND(B145>=(F145-Grenser!$G$4),B145<=(G145+Grenser!$G$4)),B145,IF(B145>(G145+Grenser!$G$4),G145+Grenser!$G$4,F145-Grenser!$G$4))","v":0}]
[null,null,"",null,null,null,null,null,null,null,{"$f":"IF(AND(B146>=(F146-Grenser!$G$4),B146<=(G146+Grenser!$G$4)),B146,IF(B146>(G146+Grenser!$G$4),G146+Grenser!$G$4,F146-Grenser!$G$4))","v":0}]
[null,null,"",null,null,null,null,null,null,null,{"$f":"IF(AND(B147>=(F147-Grenser!$G$4),B147<=(G147+Grenser!$G$4)),B147,IF(B147>(G147+Grenser!$G$4),G147+Grenser!$G$4,F147-Grenser!$G$4))","v":0}]
[null,null,"",null,null,null,null,null,null,null,{"$f":"IF(AND(B148>=(F148-Grenser!$G$4),B148<=(G148+Grenser!$G$4)),B148,IF(B148>(G148+Grenser!$G$4),G148+Grenser!$G$4,F148-Grenser!$G$4))","v":0}]
[null,null,"",null,null,null,null,null,null,null,{"$f":"IF(AND(B149>=(F149-Grenser!$G$4),B149<=(G149+Grenser!$G$4)),B149,IF(B149>(G149+Grenser!$G$4),G149+Grenser!$G$4,F149-Grenser!$G$4))","v":0}]
[null,null,"",null,null,null,null,null,null,null,{"$f":"IF(AND(B150>=(F150-Grenser!$G$4),B150<=(G150+Grenser!$G$4)),B150,IF(B150>(G150+Grenser!$G$4),G150+Grenser!$G$4,F150-Grenser!$G$4))","v":0}]
[null,null,"",null,null,null,null,null,null,null,{"$f":"IF(AND(B151>=(F151-Grenser!$G$4),B151<=(G151+Grenser!$G$4)),B151,IF(B151>(G151+Grenser!$G$4),G151+Grenser!$G$4,F151-Grenser!$G$4))","v":0}]
[null,null,"",null,null,null,null,null,null,null,{"$f":"IF(AND(B152>=(F152-Grenser!$G$4),B152<=(G152+Grenser!$G$4)),B152,IF(B152>(G152+Grenser!$G$4),G152+Grenser!$G$4,F152-Grenser!$G$4))","v":0}]
[null,null,"",null,null,null,null,null,null,null,{"$f":"IF(AND(B153>=(F153-Grenser!$G$4),B153<=(G153+Grenser!$G$4)),B153,IF(B153>(G153+Grenser!$G$4),G153+Grenser!$G$4,F153-Grenser!$G$4))","v":0}]
[null,null,"",null,null,null,null,null,null,null,{"$f":"IF(AND(B154>=(F154-Grenser!$G$4),B154<=(G154+Grenser!$G$4)),B154,IF(B154>(G154+Grenser!$G$4),G154+Grenser!$G$4,F154-Grenser!$G$4))","v":0}]
[null,null,"",null,null,null,null,null,null,null,{"$f":"IF(AND(B155>=(F155-Grenser!$G$4),B155<=(G155+Grenser!$G$4)),B155,IF(B155>(G155+Grenser!$G$4),G155+Grenser!$G$4,F155-Grenser!$G$4))","v":0}]
[null,null,"",null,null,null,null,null,null,null,{"$f":"IF(AND(B156>=(F156-Grenser!$G$4),B156<=(G156+Grenser!$G$4)),B156,IF(B156>(G156+Grenser!$G$4),G156+Grenser!$G$4,F156-Grenser!$G$4))","v":0}]
[null,null,"",null,null,null,null,null,null,null,{"$f":"IF(AND(B157>=(F157-Grenser!$G$4),B157<=(G157+Grenser!$G$4)),B157,IF(B157>(G157+Grenser!$G$4),G157+Grenser!$G$4,F157-Grenser!$G$4))","v":0}]
[null,null,"",null,null,null,null,null,null,null,{"$f":"IF(AND(B158>=(F158-Grenser!$G$4),B158<=(G158+Grenser!$G$4)),B158,IF(B158>(G158+Grenser!$G$4),G158+Grenser!$G$4,F158-Grenser!$G$4))","v":0}]
[null,null,"",null,null,null,null,null,null,null,{"$f":"IF(AND(B159>=(F159-Grenser!$G$4),B159<=(G159+Grenser!$G$4)),B159,IF(B159>(G159+Grenser!$G$4),G159+Grenser!$G$4,F159-Grenser!$G$4))","v":0}]
[null,null,"",null,null,null,null,null,null,null,{"$f":"IF(AND(B160>=(F160-Grenser!$G$4),B160<=(G160+Grenser!$G$4)),B160,IF(B160>(G160+Grenser!$G$4),G160+Grenser!$G$4,F160-Grenser!$G$4))","v":0}]
[null,null,"",null,null,null,null,null,null,null,{"$f":"IF(AND(B161>=(F161-Grenser!$G$4),B161<=(G161+Grenser!$G$4)),B161,IF(B161>(G161+Grenser!$G$4),G161+Grenser!$G$4,F161-Grenser!$G$4))","v":0}]
[null,null,"",null,null,null,null,null,null,null,{"$f":"IF(AND(B162>=(F162-Grenser!$G$4),B162<=(G162+Grenser!$G$4)),B162,IF(B162>(G162+Grenser!$G$4),G162+Grenser!$G$4,F162-Grenser!$G$4))","v":0}]
[null,null,"",null,null,null,null,null,null,null,{"$f":"IF(AND(B163>=(F163-Grenser!$G$4),B163<=(G163+Grenser!$G$4)),B163,IF(B163>(G163+Grenser!$G$4),G163+Grenser!$G$4,F163-Grenser!$G$4))","v":0}]
[null,null,"",null,null,null,null,null,null,null,{"$f":"IF(AND(B164>=(F164-Grenser!$G$4),B164<=(G164+Grenser!$G$4)),B164,IF(B164>(G164+Grenser!$G$4),G164+Grenser!$G$4,F164-Grenser!$G$4))","v":0}]
[null,null,"",null,null,null,null,null,null,null,{"$f":"IF(AND(B165>=(F165-Grenser!$G$4),B165<=(G165+Grenser!$G$4)),B165,IF(B165>(G165+Grenser!$G$4),G165+Grenser!$G$4,F165-Grenser!$G$4))","v":0}]
[null,null,"",null,null,null,null,null,null,null,{"$f":"IF(AND(B166>=(F166-Grenser!$G$4),B166<=(G166+Grenser!$G$4)),B166,IF(B166>(G166+Grenser!$G$4),G166+Grenser!$G$4,F166-Grenser!$G$4))","v":0}]
[null,null,"",null,null,null,null,null,null,null,{"$f":"IF(AND(B167>=(F167-Grenser!$G$4),B167<=(G167+Grenser!$G$4)),B167,IF(B167>(G167+Grenser!$G$4),G167+Grenser!$G$4,F167-Grenser!$G$4))","v":0}]
[null,null,"",null,null,null,null,null,null,null,{"$f":"IF(AND(B168>=(F168-Grenser!$G$4),B168<=(G168+Grenser!$G$4)),B168,IF(B168>(G168+Grenser!$G$4),G168+Grenser!$G$4,F168-Grenser!$G$4))","v":0}]
[null,null,"",null,null,null,null,null,null,null,{"$f":"IF(AND(B169>=(F169-Grenser!$G$4),B169<=(G169+Grenser!$G$4)),B169,IF(B169>(G169+Grenser!$G$4),G169+Grenser!$G$4,F169-Grenser!$G$4))","v":0}]
[null,null,"",null,null,null,null,null,null,null,{"$f":"IF(AND(B170>=(F170-Grenser!$G$4),B170<=(G170+Grenser!$G$4)),B170,IF(B170>(G170+Grenser!$G$4),G170+Grenser!$G$4,F170-Grenser!$G$4))","v":0}]
[null,null,"",null,null,null,null,null,null,null,{"$f":"IF(AND(B171>=(F171-Grenser!$G$4),B171<=(G171+Grenser!$G$4)),B171,IF(B171>(G171+Grenser!$G$4),G171+Grenser!$G$4,F171-Grenser!$G$4))","v":0}]
[null,null,"",null,null,null,null,null,null,null,{"$f":"IF(AND(B172>=(F172-Grenser!$G$4),B172<=(G172+Grenser!$G$4)),B172,IF(B172>(G172+Grenser!$G$4),G172+Grenser!$G$4,F172-Grenser!$G$4))","v":0}]
[null,null,"",null,null,null,null,null,null,null,{"$f":"IF(AND(B173>=(F173-Grenser!$G$4),B173<=(G173+Grenser!$G$4)),B173,IF(B173>(G173+Grenser!$G$4),G173+Grenser!$G$4,F173-Grenser!$G$4))","v":0}]
[null,null,"",null,null,null,null,null,null,null,{"$f":"IF(AND(B174>=(F174-Grenser!$G$4),B174<=(G174+Grenser!$G$4)),B174,IF(B174>(G174+Grenser!$G$4),G174+Grenser!$G$4,F174-Grenser!$G$4))","v":0}]
[null,null,"",null,null,null,null,null,null,null,{"$f":"IF(AND(B175>=(F175-Grenser!$G$4),B175<=(G175+Grenser!$G$4)),B175,IF(B175>(G175+Grenser!$G$4),G175+Grenser!$G$4,F175-Grenser!$G$4))","v":0}]
[null,null,"",null,null,null,null,null,null,null,{"$f":"IF(AND(B176>=(F176-Grenser!$G$4),B176<=(G176+Grenser!$G$4)),B176,IF(B176>(G176+Grenser!$G$4),G176+Grenser!$G$4,F176-Grenser!$G$4))","v":0}]
[null,null,"",null,null,null,null,null,null,null,{"$f":"IF(AND(B177>=(F177-Grenser!$G$4),B177<=(G177+Grenser!$G$4)),B177,IF(B177>(G177+Grenser!$G$4),G177+Grenser!$G$4,F177-Grenser!$G$4))","v":0}]
[null,null,"",null,null,null,null,null,null,null,{"$f":"IF(AND(B178>=(F178-Grenser!$G$4),B178<=(G178+Grenser!$G$4)),B178,IF(B178>(G178+Grenser!$G$4),G178+Grenser!$G$4,F178-Grenser!$G$4))","v":0}]
[null,null,"",null,null,null,null,null,null,null,{"$f":"IF(AND(B179>=(F179-Grenser!$G$4),B179<=(G179+Grenser!$G$4)),B179,IF(B179>(G179+Grenser!$G$4),G179+Grenser!$G$4,F179-Grenser!$G$4))","v":0}]
[null,null,"",null,null,null,null,null,null,null,{"$f":"IF(AND(B180>=(F180-Grenser!$G$4),B180<=(G180+Grenser!$G$4)),B180,IF(B180>(G180+Grenser!$G$4),G180+Grenser!$G$4,F180-Grenser!$G$4))","v":0}]
[null,null,"",null,null,null,null,null,null,null,{"$f":"IF(AND(B181>=(F181-Grenser!$G$4),B181<=(G181+Grenser!$G$4)),B181,IF(B181>(G181+Grenser!$G$4),G181+Grenser!$G$4,F181-Grenser!$G$4))","v":0}]
[null,null,"",null,null,null,null,null,null,null,{"$f":"IF(AND(B182>=(F182-Grenser!$G$4),B182<=(G182+Grenser!$G$4)),B182,IF(B182>(G182+Grenser!$G$4),G182+Grenser!$G$4,F182-Grenser!$G$4))","v":0}]
[null,null,"",null,null,null,null,null,null,null,{"$f":"IF(AND(B183>=(F183-Grenser!$G$4),B183<=(G183+Grenser!$G$4)),B183,IF(B183>(G183+Grenser!$G$4),G183+Grenser!$G$4,F183-Grenser!$G$4))","v":0}]
[null,null,"",null,null,null,null,null,null,null,{"$f":"IF(AND(B184>=(F184-Grenser!$G$4),B184<=(G184+Grenser!$G$4)),B184,IF(B184>(G184+Grenser!$G$4),G184+Grenser!$G$4,F184-Grenser!$G$4))","v":0}]
[null,null,"",null,null,null,null,null,null,null,{"$f":"IF(AND(B185>=(F185-Grenser!$G$4),B185<=(G185+Grenser!$G$4)),B185,IF(B185>(G185+Grenser!$G$4),G185+Grenser!$G$4,F185-Grenser!$G$4))","v":0}]
[null,null,"",null,null,null,null,null,null,null,{"$f":"IF(AND(B186>=(F186-Grenser!$G$4),B186<=(G186+Grenser!$G$4)),B186,IF(B186>(G186+Grenser!$G$4),G186+Grenser!$G$4,F186-Grenser!$G$4))","v":0}]
[null,null,"",null,null,null,null,null,null,null,{"$f":"IF(AND(B187>=(F187-Grenser!$G$4),B187<=(G187+Grenser!$G$4)),B187,IF(B187>(G187+Grenser!$G$4),G187+Grenser!$G$4,F187-Grenser!$G$4))","v":0}]
[null,null,"",null,null,null,null,null,null,null,{"$f":"IF(AND(B188>=(F188-Grenser!$G$4),B188<=(G188+Grenser!$G$4)),B188,IF(B188>(G188+Grenser!$G$4),G188+Grenser!$G$4,F188-Grenser!$G$4))","v":0}]
[null,null,"",null,null,null,null,null,null,null,{"$f":"IF(AND(B189>=(F189-Grenser!$G$4),B189<=(G189+Grenser!$G$4)),B189,IF(B189>(G189+Grenser!$G$4),G189+Grenser!$G$4,F189-Grenser!$G$4))","v":0}]
[null,null,"",null,null,null,null,null,null,null,{"$f":"IF(AND(B190>=(F190-Grenser!$G$4),B190<=(G190+Grenser!$G$4)),B190,IF(B190>(G190+Grenser!$G$4),G190+Grenser!$G$4,F190-Grenser!$G$4))","v":0}]
[null,null,"",null,null,null,null,null,null,null,{"$f":"IF(AND(B191>=(F191-Grenser!$G$4),B191<=(G191+Grenser!$G$4)),B191,IF(B191>(G191+Grenser!$G$4),G191+Grenser!$G$4,F191-Grenser!$G$4))","v":0}]
[null,null,"",null,null,null,null,null,null,null,{"$f":"IF(AND(B192>=(F192-Grenser!$G$4),B192<=(G192+Grenser!$G$4)),B192,IF(B192>(G192+Grenser!$G$4),G192+Grenser!$G$4,F192-Grenser!$G$4))","v":0}]
[null,null,"",null,null,null,null,null,null,null,{"$f":"IF(AND(B193>=(F193-Grenser!$G$4),B193<=(G193+Grenser!$G$4)),B193,IF(B193>(G193+Grenser!$G$4),G193+Grenser!$G$4,F193-Grenser!$G$4))","v":0}]
[null,null,"",null,null,null,null,null,null,null,{"$f":"IF(AND(B194>=(F194-Grenser!$G$4),B194<=(G194+Grenser!$G$4)),B194,IF(B194>(G194+Grenser!$G$4),G194+Grenser!$G$4,F194-Grenser!$G$4))","v":0}]
[null,null,"",null,null,null,null,null,null,null,{"$f":"IF(AND(B195>=(F195-Grenser!$G$4),B195<=(G195+Grenser!$G$4)),B195,IF(B195>(G195+Grenser!$G$4),G195+Grenser!$G$4,F195-Grenser!$G$4))","v":0}]
[null,null,"",null,null,null,null,null,null,null,{"$f":"IF(AND(B196>=(F196-Grenser!$G$4),B196<=(G196+Grenser!$G$4)),B196,IF(B196>(G196+Grenser!$G$4),G196+Grenser!$G$4,F196-Grenser!$G$4))","v":0}]
[null,null,"",null,null,null,null,null,null,null,{"$f":"IF(AND(B197>=(F197-Grenser!$G$4),B197<=(G197+Grenser!$G$4)),B197,IF(B197>(G197+Grenser!$G$4),G197+Grenser!$G$4,F197-Grenser!$G$4))","v":0}]
[null,null,"",null,null,null,null,null,null,null,{"$f":"IF(AND(B198>=(F198-Grenser!$G$4),B198<=(G198+Grenser!$G$4)),B198,IF(B198>(G198+Grenser!$G$4),G198+Grenser!$G$4,F198-Grenser!$G$4))","v":0}]
[null,null,{"$f":"IF(B199<>\"\",(IF(OR(B199<F199,B199>G199),\"STOPP\",\"OK\")),\"\")","v":""},null,null,null,null,null,null,null,{"$f":"IF(AND(B199>=(F199-Grenser!$G$4),B199<=(G199+Grenser!$G$4)),B199,IF(B199>(G199+Grenser!$G$4),G199+Grenser!$G$4,F199-Grenser!$G$4))","v":0}]
[null,null,{"$f":"IF(B200<>\"\",(IF(OR(B200<F200,B200>G200),\"STOPP\",\"OK\")),\"\")","v":""},null,null,null,null,null,null,{"$f":"IF(G200<>\"\",IF((OR((G200>$V200),(G200<$U200))),IF(OR((G200>$T200),(G200<$S200)),\"STOPP\",\"Vurder\"),\"Ok\"),\"\")","v":""},{"$f":"IF(AND(B200>=(F200-Grenser!$G$4),B200<=(G200+Grenser!$G$4)),B200,IF(B200>(G200+Grenser!$G$4),G200+Grenser!$G$4,F200-Grenser!$G$4))","v":0}]
[null,null,{"$f":"IF(B201<>\"\",(IF(OR(B201<F201,B201>G201),\"STOPP\",\"OK\")),\"\")","v":""},null,null,null,null,null,null,"",{"$f":"IF(AND(B201>=(F201-Grenser!$G$4),B201<=(G201+Grenser!$G$4)),B201,IF(B201>(G201+Grenser!$G$4),G201+Grenser!$G$4,F201-Grenser!$G$4))","v":0}]

{"sheet":"Ikke i bruk 5","index":7,"n_rows":201,"n_cols":11,"rows_kept":201,"cut":false,"hidden":false,"merged":[[0,0,0,9]]}
[{"$f":"Grenser!B8","v":"Ikke i bruk 5"}]
["Antall",{"$f":" COUNT(B7:B201)","v":0}]
["Mean",{"$f":"AVERAGE(B7:B201)","v":{"$error":"#DIV/0!"}}]
["Standardavvik",{"$f":"STDEV(B7:B201)","v":{"$error":"#DIV/0!"}}]
["CV",{"$f":"B4*100/B3","v":{"$error":"#DIV/0!"}}]
["Dato avlest","Avlest sone","Vurdering","Produksjonsdato res.skål","Satt opp sign","Lav grense","Høy grense","Dato Satt opp","Avlest sign","Teller","Avlest sone korrigert"]
[null,null,{"$f":"IF(B7<>\"\",(IF(OR(B7<F7,B7>G7),\"STOPP\",\"OK\")),\"\")","v":""},null,null,null,null,null,null,null,{"$f":"IF(AND(B7>=(F7-Grenser!$G$4),B7<=(G7+Grenser!$G$4)),B7,IF(B7>(G7+Grenser!$G$4),G7+Grenser!$G$4,F7-Grenser!$G$4))","v":0}]
[null,null,"",null,null,null,null,null,null,null,{"$f":"IF(AND(B8>=(F8-Grenser!$G$4),B8<=(G8+Grenser!$G$4)),B8,IF(B8>(G8+Grenser!$G$4),G8+Grenser!$G$4,F8-Grenser!$G$4))","v":0}]
[null,null,"",null,null,null,null,null,null,null,{"$f":"IF(AND(B9>=(F9-Grenser!$G$4),B9<=(G9+Grenser!$G$4)),B9,IF(B9>(G9+Grenser!$G$4),G9+Grenser!$G$4,F9-Grenser!$G$4))","v":0}]
[null,null,"",null,null,null,null,null,null,null,{"$f":"IF(AND(B10>=(F10-Grenser!$G$4),B10<=(G10+Grenser!$G$4)),B10,IF(B10>(G10+Grenser!$G$4),G10+Grenser!$G$4,F10-Grenser!$G$4))","v":0}]
[null,null,"",null,null,null,null,null,null,null,{"$f":"IF(AND(B11>=(F11-Grenser!$G$4),B11<=(G11+Grenser!$G$4)),B11,IF(B11>(G11+Grenser!$G$4),G11+Grenser!$G$4,F11-Grenser!$G$4))","v":0}]
[null,null,"",null,null,null,null,null,null,null,{"$f":"IF(AND(B12>=(F12-Grenser!$G$4),B12<=(G12+Grenser!$G$4)),B12,IF(B12>(G12+Grenser!$G$4),G12+Grenser!$G$4,F12-Grenser!$G$4))","v":0}]
[null,null,"",null,null,null,null,null,null,null,{"$f":"IF(AND(B13>=(F13-Grenser!$G$4),B13<=(G13+Grenser!$G$4)),B13,IF(B13>(G13+Grenser!$G$4),G13+Grenser!$G$4,F13-Grenser!$G$4))","v":0}]
[null,null,"",null,null,null,null,null,null,null,{"$f":"IF(AND(B14>=(F14-Grenser!$G$4),B14<=(G14+Grenser!$G$4)),B14,IF(B14>(G14+Grenser!$G$4),G14+Grenser!$G$4,F14-Grenser!$G$4))","v":0}]
[null,null,"",null,null,null,null,null,null,null,{"$f":"IF(AND(B15>=(F15-Grenser!$G$4),B15<=(G15+Grenser!$G$4)),B15,IF(B15>(G15+Grenser!$G$4),G15+Grenser!$G$4,F15-Grenser!$G$4))","v":0}]
[null,null,"",null,null,null,null,null,null,null,{"$f":"IF(AND(B16>=(F16-Grenser!$G$4),B16<=(G16+Grenser!$G$4)),B16,IF(B16>(G16+Grenser!$G$4),G16+Grenser!$G$4,F16-Grenser!$G$4))","v":0}]
[null,null,"",null,null,null,null,null,null,null,{"$f":"IF(AND(B17>=(F17-Grenser!$G$4),B17<=(G17+Grenser!$G$4)),B17,IF(B17>(G17+Grenser!$G$4),G17+Grenser!$G$4,F17-Grenser!$G$4))","v":0}]
[null,null,"",null,null,null,null,null,null,null,{"$f":"IF(AND(B18>=(F18-Grenser!$G$4),B18<=(G18+Grenser!$G$4)),B18,IF(B18>(G18+Grenser!$G$4),G18+Grenser!$G$4,F18-Grenser!$G$4))","v":0}]
[null,null,"",null,null,null,null,null,null,null,{"$f":"IF(AND(B19>=(F19-Grenser!$G$4),B19<=(G19+Grenser!$G$4)),B19,IF(B19>(G19+Grenser!$G$4),G19+Grenser!$G$4,F19-Grenser!$G$4))","v":0}]
[null,null,"",null,null,null,null,null,null,null,{"$f":"IF(AND(B20>=(F20-Grenser!$G$4),B20<=(G20+Grenser!$G$4)),B20,IF(B20>(G20+Grenser!$G$4),G20+Grenser!$G$4,F20-Grenser!$G$4))","v":0}]
[null,null,"",null,null,null,null,null,null,null,{"$f":"IF(AND(B21>=(F21-Grenser!$G$4),B21<=(G21+Grenser!$G$4)),B21,IF(B21>(G21+Grenser!$G$4),G21+Grenser!$G$4,F21-Grenser!$G$4))","v":0}]
[null,null,"",null,null,null,null,null,null,null,{"$f":"IF(AND(B22>=(F22-Grenser!$G$4),B22<=(G22+Grenser!$G$4)),B22,IF(B22>(G22+Grenser!$G$4),G22+Grenser!$G$4,F22-Grenser!$G$4))","v":0}]
[null,null,"",null,null,null,null,null,null,null,{"$f":"IF(AND(B23>=(F23-Grenser!$G$4),B23<=(G23+Grenser!$G$4)),B23,IF(B23>(G23+Grenser!$G$4),G23+Grenser!$G$4,F23-Grenser!$G$4))","v":0}]
[null,null,"",null,null,null,null,null,null,null,{"$f":"IF(AND(B24>=(F24-Grenser!$G$4),B24<=(G24+Grenser!$G$4)),B24,IF(B24>(G24+Grenser!$G$4),G24+Grenser!$G$4,F24-Grenser!$G$4))","v":0}]
[null,null,"",null,null,null,null,null,null,null,{"$f":"IF(AND(B25>=(F25-Grenser!$G$4),B25<=(G25+Grenser!$G$4)),B25,IF(B25>(G25+Grenser!$G$4),G25+Grenser!$G$4,F25-Grenser!$G$4))","v":0}]
[null,null,"",null,null,null,null,null,null,null,{"$f":"IF(AND(B26>=(F26-Grenser!$G$4),B26<=(G26+Grenser!$G$4)),B26,IF(B26>(G26+Grenser!$G$4),G26+Grenser!$G$4,F26-Grenser!$G$4))","v":0}]
[null,null,"",null,null,null,null,null,null,null,{"$f":"IF(AND(B27>=(F27-Grenser!$G$4),B27<=(G27+Grenser!$G$4)),B27,IF(B27>(G27+Grenser!$G$4),G27+Grenser!$G$4,F27-Grenser!$G$4))","v":0}]
[null,null,"",null,null,null,null,null,null,null,{"$f":"IF(AND(B28>=(F28-Grenser!$G$4),B28<=(G28+Grenser!$G$4)),B28,IF(B28>(G28+Grenser!$G$4),G28+Grenser!$G$4,F28-Grenser!$G$4))","v":0}]
[null,null,"",null,null,null,null,null,null,null,{"$f":"IF(AND(B29>=(F29-Grenser!$G$4),B29<=(G29+Grenser!$G$4)),B29,IF(B29>(G29+Grenser!$G$4),G29+Grenser!$G$4,F29-Grenser!$G$4))","v":0}]
[null,null,"",null,null,null,null,null,null,null,{"$f":"IF(AND(B30>=(F30-Grenser!$G$4),B30<=(G30+Grenser!$G$4)),B30,IF(B30>(G30+Grenser!$G$4),G30+Grenser!$G$4,F30-Grenser!$G$4))","v":0}]
[null,null,"",null,null,null,null,null,null,null,{"$f":"IF(AND(B31>=(F31-Grenser!$G$4),B31<=(G31+Grenser!$G$4)),B31,IF(B31>(G31+Grenser!$G$4),G31+Grenser!$G$4,F31-Grenser!$G$4))","v":0}]
[null,null,"",null,null,null,null,null,null,null,{"$f":"IF(AND(B32>=(F32-Grenser!$G$4),B32<=(G32+Grenser!$G$4)),B32,IF(B32>(G32+Grenser!$G$4),G32+Grenser!$G$4,F32-Grenser!$G$4))","v":0}]
[null,null,"",null,null,null,null,null,null,null,{"$f":"IF(AND(B33>=(F33-Grenser!$G$4),B33<=(G33+Grenser!$G$4)),B33,IF(B33>(G33+Grenser!$G$4),G33+Grenser!$G$4,F33-Grenser!$G$4))","v":0}]
[null,null,"",null,null,null,null,null,null,null,{"$f":"IF(AND(B34>=(F34-Grenser!$G$4),B34<=(G34+Grenser!$G$4)),B34,IF(B34>(G34+Grenser!$G$4),G34+Grenser!$G$4,F34-Grenser!$G$4))","v":0}]
[null,null,"",null,null,null,null,null,null,null,{"$f":"IF(AND(B35>=(F35-Grenser!$G$4),B35<=(G35+Grenser!$G$4)),B35,IF(B35>(G35+Grenser!$G$4),G35+Grenser!$G$4,F35-Grenser!$G$4))","v":0}]
[null,null,"",null,null,null,null,null,null,null,{"$f":"IF(AND(B36>=(F36-Grenser!$G$4),B36<=(G36+Grenser!$G$4)),B36,IF(B36>(G36+Grenser!$G$4),G36+Grenser!$G$4,F36-Grenser!$G$4))","v":0}]
[null,null,"",null,null,null,null,null,null,null,{"$f":"IF(AND(B37>=(F37-Grenser!$G$4),B37<=(G37+Grenser!$G$4)),B37,IF(B37>(G37+Grenser!$G$4),G37+Grenser!$G$4,F37-Grenser!$G$4))","v":0}]
[null,null,"",null,null,null,null,null,null,null,{"$f":"IF(AND(B38>=(F38-Grenser!$G$4),B38<=(G38+Grenser!$G$4)),B38,IF(B38>(G38+Grenser!$G$4),G38+Grenser!$G$4,F38-Grenser!$G$4))","v":0}]
[null,null,"",null,null,null,null,null,null,null,{"$f":"IF(AND(B39>=(F39-Grenser!$G$4),B39<=(G39+Grenser!$G$4)),B39,IF(B39>(G39+Grenser!$G$4),G39+Grenser!$G$4,F39-Grenser!$G$4))","v":0}]
[null,null,"",null,null,null,null,null,null,null,{"$f":"IF(AND(B40>=(F40-Grenser!$G$4),B40<=(G40+Grenser!$G$4)),B40,IF(B40>(G40+Grenser!$G$4),G40+Grenser!$G$4,F40-Grenser!$G$4))","v":0}]
[null,null,"",null,null,null,null,null,null,null,{"$f":"IF(AND(B41>=(F41-Grenser!$G$4),B41<=(G41+Grenser!$G$4)),B41,IF(B41>(G41+Grenser!$G$4),G41+Grenser!$G$4,F41-Grenser!$G$4))","v":0}]
[null,null,"",null,null,null,null,null,null,null,{"$f":"IF(AND(B42>=(F42-Grenser!$G$4),B42<=(G42+Grenser!$G$4)),B42,IF(B42>(G42+Grenser!$G$4),G42+Grenser!$G$4,F42-Grenser!$G$4))","v":0}]
[null,null,"",null,null,null,null,null,null,null,{"$f":"IF(AND(B43>=(F43-Grenser!$G$4),B43<=(G43+Grenser!$G$4)),B43,IF(B43>(G43+Grenser!$G$4),G43+Grenser!$G$4,F43-Grenser!$G$4))","v":0}]
[null,null,"",null,null,null,null,null,null,null,{"$f":"IF(AND(B44>=(F44-Grenser!$G$4),B44<=(G44+Grenser!$G$4)),B44,IF(B44>(G44+Grenser!$G$4),G44+Grenser!$G$4,F44-Grenser!$G$4))","v":0}]
[null,null,"",null,null,null,null,null,null,null,{"$f":"IF(AND(B45>=(F45-Grenser!$G$4),B45<=(G45+Grenser!$G$4)),B45,IF(B45>(G45+Grenser!$G$4),G45+Grenser!$G$4,F45-Grenser!$G$4))","v":0}]
[null,null,"",null,null,null,null,null,null,null,{"$f":"IF(AND(B46>=(F46-Grenser!$G$4),B46<=(G46+Grenser!$G$4)),B46,IF(B46>(G46+Grenser!$G$4),G46+Grenser!$G$4,F46-Grenser!$G$4))","v":0}]
[null,null,"",null,null,null,null,null,null,null,{"$f":"IF(AND(B47>=(F47-Grenser!$G$4),B47<=(G47+Grenser!$G$4)),B47,IF(B47>(G47+Grenser!$G$4),G47+Grenser!$G$4,F47-Grenser!$G$4))","v":0}]
[null,null,"",null,null,null,null,null,null,null,{"$f":"IF(AND(B48>=(F48-Grenser!$G$4),B48<=(G48+Grenser!$G$4)),B48,IF(B48>(G48+Grenser!$G$4),G48+Grenser!$G$4,F48-Grenser!$G$4))","v":0}]
[null,null,"",null,null,null,null,null,null,null,{"$f":"IF(AND(B49>=(F49-Grenser!$G$4),B49<=(G49+Grenser!$G$4)),B49,IF(B49>(G49+Grenser!$G$4),G49+Grenser!$G$4,F49-Grenser!$G$4))","v":0}]
[null,null,"",null,null,null,null,null,null,null,{"$f":"IF(AND(B50>=(F50-Grenser!$G$4),B50<=(G50+Grenser!$G$4)),B50,IF(B50>(G50+Grenser!$G$4),G50+Grenser!$G$4,F50-Grenser!$G$4))","v":0}]
[null,null,"",null,null,null,null,null,null,null,{"$f":"IF(AND(B51>=(F51-Grenser!$G$4),B51<=(G51+Grenser!$G$4)),B51,IF(B51>(G51+Grenser!$G$4),G51+Grenser!$G$4,F51-Grenser!$G$4))","v":0}]
[null,null,"",null,null,null,null,null,null,null,{"$f":"IF(AND(B52>=(F52-Grenser!$G$4),B52<=(G52+Grenser!$G$4)),B52,IF(B52>(G52+Grenser!$G$4),G52+Grenser!$G$4,F52-Grenser!$G$4))","v":0}]
[null,null,"",null,null,null,null,null,null,null,{"$f":"IF(AND(B53>=(F53-Grenser!$G$4),B53<=(G53+Grenser!$G$4)),B53,IF(B53>(G53+Grenser!$G$4),G53+Grenser!$G$4,F53-Grenser!$G$4))","v":0}]
[null,null,"",null,null,null,null,null,null,null,{"$f":"IF(AND(B54>=(F54-Grenser!$G$4),B54<=(G54+Grenser!$G$4)),B54,IF(B54>(G54+Grenser!$G$4),G54+Grenser!$G$4,F54-Grenser!$G$4))","v":0}]
[null,null,"",null,null,null,null,null,null,null,{"$f":"IF(AND(B55>=(F55-Grenser!$G$4),B55<=(G55+Grenser!$G$4)),B55,IF(B55>(G55+Grenser!$G$4),G55+Grenser!$G$4,F55-Grenser!$G$4))","v":0}]
[null,null,"",null,null,null,null,null,null,null,{"$f":"IF(AND(B56>=(F56-Grenser!$G$4),B56<=(G56+Grenser!$G$4)),B56,IF(B56>(G56+Grenser!$G$4),G56+Grenser!$G$4,F56-Grenser!$G$4))","v":0}]
[null,null,"",null,null,null,null,null,null,null,{"$f":"IF(AND(B57>=(F57-Grenser!$G$4),B57<=(G57+Grenser!$G$4)),B57,IF(B57>(G57+Grenser!$G$4),G57+Grenser!$G$4,F57-Grenser!$G$4))","v":0}]
[null,null,"",null,null,null,null,null,null,null,{"$f":"IF(AND(B58>=(F58-Grenser!$G$4),B58<=(G58+Grenser!$G$4)),B58,IF(B58>(G58+Grenser!$G$4),G58+Grenser!$G$4,F58-Grenser!$G$4))","v":0}]
[null,null,"",null,null,null,null,null,null,null,{"$f":"IF(AND(B59>=(F59-Grenser!$G$4),B59<=(G59+Grenser!$G$4)),B59,IF(B59>(G59+Grenser!$G$4),G59+Grenser!$G$4,F59-Grenser!$G$4))","v":0}]
[null,null,"",null,null,null,null,null,null,null,{"$f":"IF(AND(B60>=(F60-Grenser!$G$4),B60<=(G60+Grenser!$G$4)),B60,IF(B60>(G60+Grenser!$G$4),G60+Grenser!$G$4,F60-Grenser!$G$4))","v":0}]
[null,null,"",null,null,null,null,null,null,null,{"$f":"IF(AND(B61>=(F61-Grenser!$G$4),B61<=(G61+Grenser!$G$4)),B61,IF(B61>(G61+Grenser!$G$4),G61+Grenser!$G$4,F61-Grenser!$G$4))","v":0}]
[null,null,"",null,null,null,null,null,null,null,{"$f":"IF(AND(B62>=(F62-Grenser!$G$4),B62<=(G62+Grenser!$G$4)),B62,IF(B62>(G62+Grenser!$G$4),G62+Grenser!$G$4,F62-Grenser!$G$4))","v":0}]
[null,null,"",null,null,null,null,null,null,null,{"$f":"IF(AND(B63>=(F63-Grenser!$G$4),B63<=(G63+Grenser!$G$4)),B63,IF(B63>(G63+Grenser!$G$4),G63+Grenser!$G$4,F63-Grenser!$G$4))","v":0}]
[null,null,"",null,null,null,null,null,null,null,{"$f":"IF(AND(B64>=(F64-Grenser!$G$4),B64<=(G64+Grenser!$G$4)),B64,IF(B64>(G64+Grenser!$G$4),G64+Grenser!$G$4,F64-Grenser!$G$4))","v":0}]
[null,null,"",null,null,null,null,null,null,null,{"$f":"IF(AND(B65>=(F65-Grenser!$G$4),B65<=(G65+Grenser!$G$4)),B65,IF(B65>(G65+Grenser!$G$4),G65+Grenser!$G$4,F65-Grenser!$G$4))","v":0}]
[null,null,"",null,null,null,null,null,null,null,{"$f":"IF(AND(B66>=(F66-Grenser!$G$4),B66<=(G66+Grenser!$G$4)),B66,IF(B66>(G66+Grenser!$G$4),G66+Grenser!$G$4,F66-Grenser!$G$4))","v":0}]
[null,null,"",null,null,null,null,null,null,null,{"$f":"IF(AND(B67>=(F67-Grenser!$G$4),B67<=(G67+Grenser!$G$4)),B67,IF(B67>(G67+Grenser!$G$4),G67+Grenser!$G$4,F67-Grenser!$G$4))","v":0}]
[null,null,"",null,null,null,null,null,null,null,{"$f":"IF(AND(B68>=(F68-Grenser!$G$4),B68<=(G68+Grenser!$G$4)),B68,IF(B68>(G68+Grenser!$G$4),G68+Grenser!$G$4,F68-Grenser!$G$4))","v":0}]
[null,null,"",null,null,null,null,null,null,null,{"$f":"IF(AND(B69>=(F69-Grenser!$G$4),B69<=(G69+Grenser!$G$4)),B69,IF(B69>(G69+Grenser!$G$4),G69+Grenser!$G$4,F69-Grenser!$G$4))","v":0}]
[null,null,"",null,null,null,null,null,null,null,{"$f":"IF(AND(B70>=(F70-Grenser!$G$4),B70<=(G70+Grenser!$G$4)),B70,IF(B70>(G70+Grenser!$G$4),G70+Grenser!$G$4,F70-Grenser!$G$4))","v":0}]
[null,null,{"$f":"IF(B71<>\"\",(IF(OR(B71<F71,B71>G71),\"STOPP\",\"OK\")),\"\")","v":""},null,null,null,null,null,null,null,{"$f":"IF(AND(B71>=(F71-Grenser!$G$4),B71<=(G71+Grenser!$G$4)),B71,IF(B71>(G71+Grenser!$G$4),G71+Grenser!$G$4,F71-Grenser!$G$4))","v":0}]
[null,null,"",null,null,null,null,null,null,null,{"$f":"IF(AND(B72>=(F72-Grenser!$G$4),B72<=(G72+Grenser!$G$4)),B72,IF(B72>(G72+Grenser!$G$4),G72+Grenser!$G$4,F72-Grenser!$G$4))","v":0}]
[null,null,"",null,null,null,null,null,null,null,{"$f":"IF(AND(B73>=(F73-Grenser!$G$4),B73<=(G73+Grenser!$G$4)),B73,IF(B73>(G73+Grenser!$G$4),G73+Grenser!$G$4,F73-Grenser!$G$4))","v":0}]
[null,null,"",null,null,null,null,null,null,null,{"$f":"IF(AND(B74>=(F74-Grenser!$G$4),B74<=(G74+Grenser!$G$4)),B74,IF(B74>(G74+Grenser!$G$4),G74+Grenser!$G$4,F74-Grenser!$G$4))","v":0}]
[null,null,"",null,null,null,null,null,null,null,{"$f":"IF(AND(B75>=(F75-Grenser!$G$4),B75<=(G75+Grenser!$G$4)),B75,IF(B75>(G75+Grenser!$G$4),G75+Grenser!$G$4,F75-Grenser!$G$4))","v":0}]
[null,null,"",null,null,null,null,null,null,null,{"$f":"IF(AND(B76>=(F76-Grenser!$G$4),B76<=(G76+Grenser!$G$4)),B76,IF(B76>(G76+Grenser!$G$4),G76+Grenser!$G$4,F76-Grenser!$G$4))","v":0}]
[null,null,"",null,null,null,null,null,null,null,{"$f":"IF(AND(B77>=(F77-Grenser!$G$4),B77<=(G77+Grenser!$G$4)),B77,IF(B77>(G77+Grenser!$G$4),G77+Grenser!$G$4,F77-Grenser!$G$4))","v":0}]
[null,null,"",null,null,null,null,null,null,null,{"$f":"IF(AND(B78>=(F78-Grenser!$G$4),B78<=(G78+Grenser!$G$4)),B78,IF(B78>(G78+Grenser!$G$4),G78+Grenser!$G$4,F78-Grenser!$G$4))","v":0}]
[null,null,"",null,null,null,null,null,null,null,{"$f":"IF(AND(B79>=(F79-Grenser!$G$4),B79<=(G79+Grenser!$G$4)),B79,IF(B79>(G79+Grenser!$G$4),G79+Grenser!$G$4,F79-Grenser!$G$4))","v":0}]
[null,null,"",null,null,null,null,null,null,null,{"$f":"IF(AND(B80>=(F80-Grenser!$G$4),B80<=(G80+Grenser!$G$4)),B80,IF(B80>(G80+Grenser!$G$4),G80+Grenser!$G$4,F80-Grenser!$G$4))","v":0}]
[null,null,"",null,null,null,null,null,null,null,{"$f":"IF(AND(B81>=(F81-Grenser!$G$4),B81<=(G81+Grenser!$G$4)),B81,IF(B81>(G81+Grenser!$G$4),G81+Grenser!$G$4,F81-Grenser!$G$4))","v":0}]
[null,null,"",null,null,null,null,null,null,null,{"$f":"IF(AND(B82>=(F82-Grenser!$G$4),B82<=(G82+Grenser!$G$4)),B82,IF(B82>(G82+Grenser!$G$4),G82+Grenser!$G$4,F82-Grenser!$G$4))","v":0}]
[null,null,"",null,null,null,null,null,null,null,{"$f":"IF(AND(B83>=(F83-Grenser!$G$4),B83<=(G83+Grenser!$G$4)),B83,IF(B83>(G83+Grenser!$G$4),G83+Grenser!$G$4,F83-Grenser!$G$4))","v":0}]
[null,null,"",null,null,null,null,null,null,null,{"$f":"IF(AND(B84>=(F84-Grenser!$G$4),B84<=(G84+Grenser!$G$4)),B84,IF(B84>(G84+Grenser!$G$4),G84+Grenser!$G$4,F84-Grenser!$G$4))","v":0}]
[null,null,"",null,null,null,null,null,null,null,{"$f":"IF(AND(B85>=(F85-Grenser!$G$4),B85<=(G85+Grenser!$G$4)),B85,IF(B85>(G85+Grenser!$G$4),G85+Grenser!$G$4,F85-Grenser!$G$4))","v":0}]
[null,null,"",null,null,null,null,null,null,null,{"$f":"IF(AND(B86>=(F86-Grenser!$G$4),B86<=(G86+Grenser!$G$4)),B86,IF(B86>(G86+Grenser!$G$4),G86+Grenser!$G$4,F86-Grenser!$G$4))","v":0}]
[null,null,"",null,null,null,null,null,null,null,{"$f":"IF(AND(B87>=(F87-Grenser!$G$4),B87<=(G87+Grenser!$G$4)),B87,IF(B87>(G87+Grenser!$G$4),G87+Grenser!$G$4,F87-Grenser!$G$4))","v":0}]
[null,null,"",null,null,null,null,null,null,null,{"$f":"IF(AND(B88>=(F88-Grenser!$G$4),B88<=(G88+Grenser!$G$4)),B88,IF(B88>(G88+Grenser!$G$4),G88+Grenser!$G$4,F88-Grenser!$G$4))","v":0}]
[null,null,"",null,null,null,null,null,null,null,{"$f":"IF(AND(B89>=(F89-Grenser!$G$4),B89<=(G89+Grenser!$G$4)),B89,IF(B89>(G89+Grenser!$G$4),G89+Grenser!$G$4,F89-Grenser!$G$4))","v":0}]
[null,null,"",null,null,null,null,null,null,null,{"$f":"IF(AND(B90>=(F90-Grenser!$G$4),B90<=(G90+Grenser!$G$4)),B90,IF(B90>(G90+Grenser!$G$4),G90+Grenser!$G$4,F90-Grenser!$G$4))","v":0}]
[null,null,"",null,null,null,null,null,null,null,{"$f":"IF(AND(B91>=(F91-Grenser!$G$4),B91<=(G91+Grenser!$G$4)),B91,IF(B91>(G91+Grenser!$G$4),G91+Grenser!$G$4,F91-Grenser!$G$4))","v":0}]
[null,null,"",null,null,null,null,null,null,null,{"$f":"IF(AND(B92>=(F92-Grenser!$G$4),B92<=(G92+Grenser!$G$4)),B92,IF(B92>(G92+Grenser!$G$4),G92+Grenser!$G$4,F92-Grenser!$G$4))","v":0}]
[null,null,"",null,null,null,null,null,null,null,{"$f":"IF(AND(B93>=(F93-Grenser!$G$4),B93<=(G93+Grenser!$G$4)),B93,IF(B93>(G93+Grenser!$G$4),G93+Grenser!$G$4,F93-Grenser!$G$4))","v":0}]
[null,null,"",null,null,null,null,null,null,null,{"$f":"IF(AND(B94>=(F94-Grenser!$G$4),B94<=(G94+Grenser!$G$4)),B94,IF(B94>(G94+Grenser!$G$4),G94+Grenser!$G$4,F94-Grenser!$G$4))","v":0}]
[null,null,"",null,null,null,null,null,null,null,{"$f":"IF(AND(B95>=(F95-Grenser!$G$4),B95<=(G95+Grenser!$G$4)),B95,IF(B95>(G95+Grenser!$G$4),G95+Grenser!$G$4,F95-Grenser!$G$4))","v":0}]
[null,null,"",null,null,null,null,null,null,null,{"$f":"IF(AND(B96>=(F96-Grenser!$G$4),B96<=(G96+Grenser!$G$4)),B96,IF(B96>(G96+Grenser!$G$4),G96+Grenser!$G$4,F96-Grenser!$G$4))","v":0}]
[null,null,"",null,null,null,null,null,null,null,{"$f":"IF(AND(B97>=(F97-Grenser!$G$4),B97<=(G97+Grenser!$G$4)),B97,IF(B97>(G97+Grenser!$G$4),G97+Grenser!$G$4,F97-Grenser!$G$4))","v":0}]
[null,null,"",null,null,null,null,null,null,null,{"$f":"IF(AND(B98>=(F98-Grenser!$G$4),B98<=(G98+Grenser!$G$4)),B98,IF(B98>(G98+Grenser!$G$4),G98+Grenser!$G$4,F98-Grenser!$G$4))","v":0}]
[null,null,"",null,null,null,null,null,null,null,{"$f":"IF(AND(B99>=(F99-Grenser!$G$4),B99<=(G99+Grenser!$G$4)),B99,IF(B99>(G99+Grenser!$G$4),G99+Grenser!$G$4,F99-Grenser!$G$4))","v":0}]
[null,null,"",null,null,null,null,null,null,null,{"$f":"IF(AND(B100>=(F100-Grenser!$G$4),B100<=(G100+Grenser!$G$4)),B100,IF(B100>(G100+Grenser!$G$4),G100+Grenser!$G$4,F100-Grenser!$G$4))","v":0}]
[null,null,"",null,null,null,null,null,null,null,{"$f":"IF(AND(B101>=(F101-Grenser!$G$4),B101<=(G101+Grenser!$G$4)),B101,IF(B101>(G101+Grenser!$G$4),G101+Grenser!$G$4,F101-Grenser!$G$4))","v":0}]
[null,null,"",null,null,null,null,null,null,null,{"$f":"IF(AND(B102>=(F102-Grenser!$G$4),B102<=(G102+Grenser!$G$4)),B102,IF(B102>(G102+Grenser!$G$4),G102+Grenser!$G$4,F102-Grenser!$G$4))","v":0}]
[null,null,"",null,null,null,null,null,null,null,{"$f":"IF(AND(B103>=(F103-Grenser!$G$4),B103<=(G103+Grenser!$G$4)),B103,IF(B103>(G103+Grenser!$G$4),G103+Grenser!$G$4,F103-Grenser!$G$4))","v":0}]
[null,null,"",null,null,null,null,null,null,null,{"$f":"IF(AND(B104>=(F104-Grenser!$G$4),B104<=(G104+Grenser!$G$4)),B104,IF(B104>(G104+Grenser!$G$4),G104+Grenser!$G$4,F104-Grenser!$G$4))","v":0}]
[null,null,"",null,null,null,null,null,null,null,{"$f":"IF(AND(B105>=(F105-Grenser!$G$4),B105<=(G105+Grenser!$G$4)),B105,IF(B105>(G105+Grenser!$G$4),G105+Grenser!$G$4,F105-Grenser!$G$4))","v":0}]
[null,null,"",null,null,null,null,null,null,null,{"$f":"IF(AND(B106>=(F106-Grenser!$G$4),B106<=(G106+Grenser!$G$4)),B106,IF(B106>(G106+Grenser!$G$4),G106+Grenser!$G$4,F106-Grenser!$G$4))","v":0}]
[null,null,"",null,null,null,null,null,null,null,{"$f":"IF(AND(B107>=(F107-Grenser!$G$4),B107<=(G107+Grenser!$G$4)),B107,IF(B107>(G107+Grenser!$G$4),G107+Grenser!$G$4,F107-Grenser!$G$4))","v":0}]
[null,null,"",null,null,null,null,null,null,null,{"$f":"IF(AND(B108>=(F108-Grenser!$G$4),B108<=(G108+Grenser!$G$4)),B108,IF(B108>(G108+Grenser!$G$4),G108+Grenser!$G$4,F108-Grenser!$G$4))","v":0}]
[null,null,"",null,null,null,null,null,null,null,{"$f":"IF(AND(B109>=(F109-Grenser!$G$4),B109<=(G109+Grenser!$G$4)),B109,IF(B109>(G109+Grenser!$G$4),G109+Grenser!$G$4,F109-Grenser!$G$4))","v":0}]
[null,null,"",null,null,null,null,null,null,null,{"$f":"IF(AND(B110>=(F110-Grenser!$G$4),B110<=(G110+Grenser!$G$4)),B110,IF(B110>(G110+Grenser!$G$4),G110+Grenser!$G$4,F110-Grenser!$G$4))","v":0}]
[null,null,"",null,null,null,null,null,null,null,{"$f":"IF(AND(B111>=(F111-Grenser!$G$4),B111<=(G111+Grenser!$G$4)),B111,IF(B111>(G111+Grenser!$G$4),G111+Grenser!$G$4,F111-Grenser!$G$4))","v":0}]
[null,null,"",null,null,null,null,null,null,null,{"$f":"IF(AND(B112>=(F112-Grenser!$G$4),B112<=(G112+Grenser!$G$4)),B112,IF(B112>(G112+Grenser!$G$4),G112+Grenser!$G$4,F112-Grenser!$G$4))","v":0}]
[null,null,"",null,null,null,null,null,null,null,{"$f":"IF(AND(B113>=(F113-Grenser!$G$4),B113<=(G113+Grenser!$G$4)),B113,IF(B113>(G113+Grenser!$G$4),G113+Grenser!$G$4,F113-Grenser!$G$4))","v":0}]
[null,null,"",null,null,null,null,null,null,null,{"$f":"IF(AND(B114>=(F114-Grenser!$G$4),B114<=(G114+Grenser!$G$4)),B114,IF(B114>(G114+Grenser!$G$4),G114+Grenser!$G$4,F114-Grenser!$G$4))","v":0}]
[null,null,"",null,null,null,null,null,null,null,{"$f":"IF(AND(B115>=(F115-Grenser!$G$4),B115<=(G115+Grenser!$G$4)),B115,IF(B115>(G115+Grenser!$G$4),G115+Grenser!$G$4,F115-Grenser!$G$4))","v":0}]
[null,null,"",null,null,null,null,null,null,null,{"$f":"IF(AND(B116>=(F116-Grenser!$G$4),B116<=(G116+Grenser!$G$4)),B116,IF(B116>(G116+Grenser!$G$4),G116+Grenser!$G$4,F116-Grenser!$G$4))","v":0}]
[null,null,"",null,null,null,null,null,null,null,{"$f":"IF(AND(B117>=(F117-Grenser!$G$4),B117<=(G117+Grenser!$G$4)),B117,IF(B117>(G117+Grenser!$G$4),G117+Grenser!$G$4,F117-Grenser!$G$4))","v":0}]
[null,null,"",null,null,null,null,null,null,null,{"$f":"IF(AND(B118>=(F118-Grenser!$G$4),B118<=(G118+Grenser!$G$4)),B118,IF(B118>(G118+Grenser!$G$4),G118+Grenser!$G$4,F118-Grenser!$G$4))","v":0}]
[null,null,"",null,null,null,null,null,null,null,{"$f":"IF(AND(B119>=(F119-Grenser!$G$4),B119<=(G119+Grenser!$G$4)),B119,IF(B119>(G119+Grenser!$G$4),G119+Grenser!$G$4,F119-Grenser!$G$4))","v":0}]
[null,null,"",null,null,null,null,null,null,null,{"$f":"IF(AND(B120>=(F120-Grenser!$G$4),B120<=(G120+Grenser!$G$4)),B120,IF(B120>(G120+Grenser!$G$4),G120+Grenser!$G$4,F120-Grenser!$G$4))","v":0}]
[null,null,"",null,null,null,null,null,null,null,{"$f":"IF(AND(B121>=(F121-Grenser!$G$4),B121<=(G121+Grenser!$G$4)),B121,IF(B121>(G121+Grenser!$G$4),G121+Grenser!$G$4,F121-Grenser!$G$4))","v":0}]
[null,null,"",null,null,null,null,null,null,null,{"$f":"IF(AND(B122>=(F122-Grenser!$G$4),B122<=(G122+Grenser!$G$4)),B122,IF(B122>(G122+Grenser!$G$4),G122+Grenser!$G$4,F122-Grenser!$G$4))","v":0}]
[null,null,"",null,null,null,null,null,null,null,{"$f":"IF(AND(B123>=(F123-Grenser!$G$4),B123<=(G123+Grenser!$G$4)),B123,IF(B123>(G123+Grenser!$G$4),G123+Grenser!$G$4,F123-Grenser!$G$4))","v":0}]
[null,null,"",null,null,null,null,null,null,null,{"$f":"IF(AND(B124>=(F124-Grenser!$G$4),B124<=(G124+Grenser!$G$4)),B124,IF(B124>(G124+Grenser!$G$4),G124+Grenser!$G$4,F124-Grenser!$G$4))","v":0}]
[null,null,"",null,null,null,null,null,null,null,{"$f":"IF(AND(B125>=(F125-Grenser!$G$4),B125<=(G125+Grenser!$G$4)),B125,IF(B125>(G125+Grenser!$G$4),G125+Grenser!$G$4,F125-Grenser!$G$4))","v":0}]
[null,null,"",null,null,null,null,null,null,null,{"$f":"IF(AND(B126>=(F126-Grenser!$G$4),B126<=(G126+Grenser!$G$4)),B126,IF(B126>(G126+Grenser!$G$4),G126+Grenser!$G$4,F126-Grenser!$G$4))","v":0}]
[null,null,"",null,null,null,null,null,null,null,{"$f":"IF(AND(B127>=(F127-Grenser!$G$4),B127<=(G127+Grenser!$G$4)),B127,IF(B127>(G127+Grenser!$G$4),G127+Grenser!$G$4,F127-Grenser!$G$4))","v":0}]
[null,null,"",null,null,null,null,null,null,null,{"$f":"IF(AND(B128>=(F128-Grenser!$G$4),B128<=(G128+Grenser!$G$4)),B128,IF(B128>(G128+Grenser!$G$4),G128+Grenser!$G$4,F128-Grenser!$G$4))","v":0}]
[null,null,"",null,null,null,null,null,null,null,{"$f":"IF(AND(B129>=(F129-Grenser!$G$4),B129<=(G129+Grenser!$G$4)),B129,IF(B129>(G129+Grenser!$G$4),G129+Grenser!$G$4,F129-Grenser!$G$4))","v":0}]
[null,null,"",null,null,null,null,null,null,null,{"$f":"IF(AND(B130>=(F130-Grenser!$G$4),B130<=(G130+Grenser!$G$4)),B130,IF(B130>(G130+Grenser!$G$4),G130+Grenser!$G$4,F130-Grenser!$G$4))","v":0}]
[null,null,"",null,null,null,null,null,null,null,{"$f":"IF(AND(B131>=(F131-Grenser!$G$4),B131<=(G131+Grenser!$G$4)),B131,IF(B131>(G131+Grenser!$G$4),G131+Grenser!$G$4,F131-Grenser!$G$4))","v":0}]
[null,null,"",null,null,null,null,null,null,null,{"$f":"IF(AND(B132>=(F132-Grenser!$G$4),B132<=(G132+Grenser!$G$4)),B132,IF(B132>(G132+Grenser!$G$4),G132+Grenser!$G$4,F132-Grenser!$G$4))","v":0}]
[null,null,"",null,null,null,null,null,null,null,{"$f":"IF(AND(B133>=(F133-Grenser!$G$4),B133<=(G133+Grenser!$G$4)),B133,IF(B133>(G133+Grenser!$G$4),G133+Grenser!$G$4,F133-Grenser!$G$4))","v":0}]
[null,null,"",null,null,null,null,null,null,null,{"$f":"IF(AND(B134>=(F134-Grenser!$G$4),B134<=(G134+Grenser!$G$4)),B134,IF(B134>(G134+Grenser!$G$4),G134+Grenser!$G$4,F134-Grenser!$G$4))","v":0}]
[null,null,{"$f":"IF(B135<>\"\",(IF(OR(B135<F135,B135>G135),\"STOPP\",\"OK\")),\"\")","v":""},null,null,null,null,null,null,null,{"$f":"IF(AND(B135>=(F135-Grenser!$G$4),B135<=(G135+Grenser!$G$4)),B135,IF(B135>(G135+Grenser!$G$4),G135+Grenser!$G$4,F135-Grenser!$G$4))","v":0}]
[null,null,"",null,null,null,null,null,null,null,{"$f":"IF(AND(B136>=(F136-Grenser!$G$4),B136<=(G136+Grenser!$G$4)),B136,IF(B136>(G136+Grenser!$G$4),G136+Grenser!$G$4,F136-Grenser!$G$4))","v":0}]
[null,null,"",null,null,null,null,null,null,null,{"$f":"IF(AND(B137>=(F137-Grenser!$G$4),B137<=(G137+Grenser!$G$4)),B137,IF(B137>(G137+Grenser!$G$4),G137+Grenser!$G$4,F137-Grenser!$G$4))","v":0}]
[null,null,"",null,null,null,null,null,null,null,{"$f":"IF(AND(B138>=(F138-Grenser!$G$4),B138<=(G138+Grenser!$G$4)),B138,IF(B138>(G138+Grenser!$G$4),G138+Grenser!$G$4,F138-Grenser!$G$4))","v":0}]
[null,null,"",null,null,null,null,null,null,null,{"$f":"IF(AND(B139>=(F139-Grenser!$G$4),B139<=(G139+Grenser!$G$4)),B139,IF(B139>(G139+Grenser!$G$4),G139+Grenser!$G$4,F139-Grenser!$G$4))","v":0}]
[null,null,"",null,null,null,null,null,null,null,{"$f":"IF(AND(B140>=(F140-Grenser!$G$4),B140<=(G140+Grenser!$G$4)),B140,IF(B140>(G140+Grenser!$G$4),G140+Grenser!$G$4,F140-Grenser!$G$4))","v":0}]
[null,null,"",null,null,null,null,null,null,null,{"$f":"IF(AND(B141>=(F141-Grenser!$G$4),B141<=(G141+Grenser!$G$4)),B141,IF(B141>(G141+Grenser!$G$4),G141+Grenser!$G$4,F141-Grenser!$G$4))","v":0}]
[null,null,"",null,null,null,null,null,null,null,{"$f":"IF(AND(B142>=(F142-Grenser!$G$4),B142<=(G142+Grenser!$G$4)),B142,IF(B142>(G142+Grenser!$G$4),G142+Grenser!$G$4,F142-Grenser!$G$4))","v":0}]
[null,null,"",null,null,null,null,null,null,null,{"$f":"IF(AND(B143>=(F143-Grenser!$G$4),B143<=(G143+Grenser!$G$4)),B143,IF(B143>(G143+Grenser!$G$4),G143+Grenser!$G$4,F143-Grenser!$G$4))","v":0}]
[null,null,"",null,null,null,null,null,null,null,{"$f":"IF(AND(B144>=(F144-Grenser!$G$4),B144<=(G144+Grenser!$G$4)),B144,IF(B144>(G144+Grenser!$G$4),G144+Grenser!$G$4,F144-Grenser!$G$4))","v":0}]
[null,null,"",null,null,null,null,null,null,null,{"$f":"IF(AND(B145>=(F145-Grenser!$G$4),B145<=(G145+Grenser!$G$4)),B145,IF(B145>(G145+Grenser!$G$4),G145+Grenser!$G$4,F145-Grenser!$G$4))","v":0}]
[null,null,"",null,null,null,null,null,null,null,{"$f":"IF(AND(B146>=(F146-Grenser!$G$4),B146<=(G146+Grenser!$G$4)),B146,IF(B146>(G146+Grenser!$G$4),G146+Grenser!$G$4,F146-Grenser!$G$4))","v":0}]
[null,null,"",null,null,null,null,null,null,null,{"$f":"IF(AND(B147>=(F147-Grenser!$G$4),B147<=(G147+Grenser!$G$4)),B147,IF(B147>(G147+Grenser!$G$4),G147+Grenser!$G$4,F147-Grenser!$G$4))","v":0}]
[null,null,"",null,null,null,null,null,null,null,{"$f":"IF(AND(B148>=(F148-Grenser!$G$4),B148<=(G148+Grenser!$G$4)),B148,IF(B148>(G148+Grenser!$G$4),G148+Grenser!$G$4,F148-Grenser!$G$4))","v":0}]
[null,null,"",null,null,null,null,null,null,null,{"$f":"IF(AND(B149>=(F149-Grenser!$G$4),B149<=(G149+Grenser!$G$4)),B149,IF(B149>(G149+Grenser!$G$4),G149+Grenser!$G$4,F149-Grenser!$G$4))","v":0}]
[null,null,"",null,null,null,null,null,null,null,{"$f":"IF(AND(B150>=(F150-Grenser!$G$4),B150<=(G150+Grenser!$G$4)),B150,IF(B150>(G150+Grenser!$G$4),G150+Grenser!$G$4,F150-Grenser!$G$4))","v":0}]
[null,null,"",null,null,null,null,null,null,null,{"$f":"IF(AND(B151>=(F151-Grenser!$G$4),B151<=(G151+Grenser!$G$4)),B151,IF(B151>(G151+Grenser!$G$4),G151+Grenser!$G$4,F151-Grenser!$G$4))","v":0}]
[null,null,"",null,null,null,null,null,null,null,{"$f":"IF(AND(B152>=(F152-Grenser!$G$4),B152<=(G152+Grenser!$G$4)),B152,IF(B152>(G152+Grenser!$G$4),G152+Grenser!$G$4,F152-Grenser!$G$4))","v":0}]
[null,null,"",null,null,null,null,null,null,null,{"$f":"IF(AND(B153>=(F153-Grenser!$G$4),B153<=(G153+Grenser!$G$4)),B153,IF(B153>(G153+Grenser!$G$4),G153+Grenser!$G$4,F153-Grenser!$G$4))","v":0}]
[null,null,"",null,null,null,null,null,null,null,{"$f":"IF(AND(B154>=(F154-Grenser!$G$4),B154<=(G154+Grenser!$G$4)),B154,IF(B154>(G154+Grenser!$G$4),G154+Grenser!$G$4,F154-Grenser!$G$4))","v":0}]
[null,null,"",null,null,null,null,null,null,null,{"$f":"IF(AND(B155>=(F155-Grenser!$G$4),B155<=(G155+Grenser!$G$4)),B155,IF(B155>(G155+Grenser!$G$4),G155+Grenser!$G$4,F155-Grenser!$G$4))","v":0}]
[null,null,"",null,null,null,null,null,null,null,{"$f":"IF(AND(B156>=(F156-Grenser!$G$4),B156<=(G156+Grenser!$G$4)),B156,IF(B156>(G156+Grenser!$G$4),G156+Grenser!$G$4,F156-Grenser!$G$4))","v":0}]
[null,null,"",null,null,null,null,null,null,null,{"$f":"IF(AND(B157>=(F157-Grenser!$G$4),B157<=(G157+Grenser!$G$4)),B157,IF(B157>(G157+Grenser!$G$4),G157+Grenser!$G$4,F157-Grenser!$G$4))","v":0}]
[null,null,"",null,null,null,null,null,null,null,{"$f":"IF(AND(B158>=(F158-Grenser!$G$4),B158<=(G158+Grenser!$G$4)),B158,IF(B158>(G158+Grenser!$G$4),G158+Grenser!$G$4,F158-Grenser!$G$4))","v":0}]
[null,null,"",null,null,null,null,null,null,null,{"$f":"IF(AND(B159>=(F159-Grenser!$G$4),B159<=(G159+Grenser!$G$4)),B159,IF(B159>(G159+Grenser!$G$4),G159+Grenser!$G$4,F159-Grenser!$G$4))","v":0}]
[null,null,"",null,null,null,null,null,null,null,{"$f":"IF(AND(B160>=(F160-Grenser!$G$4),B160<=(G160+Grenser!$G$4)),B160,IF(B160>(G160+Grenser!$G$4),G160+Grenser!$G$4,F160-Grenser!$G$4))","v":0}]
[null,null,"",null,null,null,null,null,null,null,{"$f":"IF(AND(B161>=(F161-Grenser!$G$4),B161<=(G161+Grenser!$G$4)),B161,IF(B161>(G161+Grenser!$G$4),G161+Grenser!$G$4,F161-Grenser!$G$4))","v":0}]
[null,null,"",null,null,null,null,null,null,null,{"$f":"IF(AND(B162>=(F162-Grenser!$G$4),B162<=(G162+Grenser!$G$4)),B162,IF(B162>(G162+Grenser!$G$4),G162+Grenser!$G$4,F162-Grenser!$G$4))","v":0}]
[null,null,"",null,null,null,null,null,null,null,{"$f":"IF(AND(B163>=(F163-Grenser!$G$4),B163<=(G163+Grenser!$G$4)),B163,IF(B163>(G163+Grenser!$G$4),G163+Grenser!$G$4,F163-Grenser!$G$4))","v":0}]
[null,null,"",null,null,null,null,null,null,null,{"$f":"IF(AND(B164>=(F164-Grenser!$G$4),B164<=(G164+Grenser!$G$4)),B164,IF(B164>(G164+Grenser!$G$4),G164+Grenser!$G$4,F164-Grenser!$G$4))","v":0}]
[null,null,"",null,null,null,null,null,null,null,{"$f":"IF(AND(B165>=(F165-Grenser!$G$4),B165<=(G165+Grenser!$G$4)),B165,IF(B165>(G165+Grenser!$G$4),G165+Grenser!$G$4,F165-Grenser!$G$4))","v":0}]
[null,null,"",null,null,null,null,null,null,null,{"$f":"IF(AND(B166>=(F166-Grenser!$G$4),B166<=(G166+Grenser!$G$4)),B166,IF(B166>(G166+Grenser!$G$4),G166+Grenser!$G$4,F166-Grenser!$G$4))","v":0}]
[null,null,"",null,null,null,null,null,null,null,{"$f":"IF(AND(B167>=(F167-Grenser!$G$4),B167<=(G167+Grenser!$G$4)),B167,IF(B167>(G167+Grenser!$G$4),G167+Grenser!$G$4,F167-Grenser!$G$4))","v":0}]
[null,null,"",null,null,null,null,null,null,null,{"$f":"IF(AND(B168>=(F168-Grenser!$G$4),B168<=(G168+Grenser!$G$4)),B168,IF(B168>(G168+Grenser!$G$4),G168+Grenser!$G$4,F168-Grenser!$G$4))","v":0}]
[null,null,"",null,null,null,null,null,null,null,{"$f":"IF(AND(B169>=(F169-Grenser!$G$4),B169<=(G169+Grenser!$G$4)),B169,IF(B169>(G169+Grenser!$G$4),G169+Grenser!$G$4,F169-Grenser!$G$4))","v":0}]
[null,null,"",null,null,null,null,null,null,null,{"$f":"IF(AND(B170>=(F170-Grenser!$G$4),B170<=(G170+Grenser!$G$4)),B170,IF(B170>(G170+Grenser!$G$4),G170+Grenser!$G$4,F170-Grenser!$G$4))","v":0}]
[null,null,"",null,null,null,null,null,null,null,{"$f":"IF(AND(B171>=(F171-Grenser!$G$4),B171<=(G171+Grenser!$G$4)),B171,IF(B171>(G171+Grenser!$G$4),G171+Grenser!$G$4,F171-Grenser!$G$4))","v":0}]
[null,null,"",null,null,null,null,null,null,null,{"$f":"IF(AND(B172>=(F172-Grenser!$G$4),B172<=(G172+Grenser!$G$4)),B172,IF(B172>(G172+Grenser!$G$4),G172+Grenser!$G$4,F172-Grenser!$G$4))","v":0}]
[null,null,"",null,null,null,null,null,null,null,{"$f":"IF(AND(B173>=(F173-Grenser!$G$4),B173<=(G173+Grenser!$G$4)),B173,IF(B173>(G173+Grenser!$G$4),G173+Grenser!$G$4,F173-Grenser!$G$4))","v":0}]
[null,null,"",null,null,null,null,null,null,null,{"$f":"IF(AND(B174>=(F174-Grenser!$G$4),B174<=(G174+Grenser!$G$4)),B174,IF(B174>(G174+Grenser!$G$4),G174+Grenser!$G$4,F174-Grenser!$G$4))","v":0}]
[null,null,"",null,null,null,null,null,null,null,{"$f":"IF(AND(B175>=(F175-Grenser!$G$4),B175<=(G175+Grenser!$G$4)),B175,IF(B175>(G175+Grenser!$G$4),G175+Grenser!$G$4,F175-Grenser!$G$4))","v":0}]
[null,null,"",null,null,null,null,null,null,null,{"$f":"IF(AND(B176>=(F176-Grenser!$G$4),B176<=(G176+Grenser!$G$4)),B176,IF(B176>(G176+Grenser!$G$4),G176+Grenser!$G$4,F176-Grenser!$G$4))","v":0}]
[null,null,"",null,null,null,null,null,null,null,{"$f":"IF(AND(B177>=(F177-Grenser!$G$4),B177<=(G177+Grenser!$G$4)),B177,IF(B177>(G177+Grenser!$G$4),G177+Grenser!$G$4,F177-Grenser!$G$4))","v":0}]
[null,null,"",null,null,null,null,null,null,null,{"$f":"IF(AND(B178>=(F178-Grenser!$G$4),B178<=(G178+Grenser!$G$4)),B178,IF(B178>(G178+Grenser!$G$4),G178+Grenser!$G$4,F178-Grenser!$G$4))","v":0}]
[null,null,"",null,null,null,null,null,null,null,{"$f":"IF(AND(B179>=(F179-Grenser!$G$4),B179<=(G179+Grenser!$G$4)),B179,IF(B179>(G179+Grenser!$G$4),G179+Grenser!$G$4,F179-Grenser!$G$4))","v":0}]
[null,null,"",null,null,null,null,null,null,null,{"$f":"IF(AND(B180>=(F180-Grenser!$G$4),B180<=(G180+Grenser!$G$4)),B180,IF(B180>(G180+Grenser!$G$4),G180+Grenser!$G$4,F180-Grenser!$G$4))","v":0}]
[null,null,"",null,null,null,null,null,null,null,{"$f":"IF(AND(B181>=(F181-Grenser!$G$4),B181<=(G181+Grenser!$G$4)),B181,IF(B181>(G181+Grenser!$G$4),G181+Grenser!$G$4,F181-Grenser!$G$4))","v":0}]
[null,null,"",null,null,null,null,null,null,null,{"$f":"IF(AND(B182>=(F182-Grenser!$G$4),B182<=(G182+Grenser!$G$4)),B182,IF(B182>(G182+Grenser!$G$4),G182+Grenser!$G$4,F182-Grenser!$G$4))","v":0}]
[null,null,"",null,null,null,null,null,null,null,{"$f":"IF(AND(B183>=(F183-Grenser!$G$4),B183<=(G183+Grenser!$G$4)),B183,IF(B183>(G183+Grenser!$G$4),G183+Grenser!$G$4,F183-Grenser!$G$4))","v":0}]
[null,null,"",null,null,null,null,null,null,null,{"$f":"IF(AND(B184>=(F184-Grenser!$G$4),B184<=(G184+Grenser!$G$4)),B184,IF(B184>(G184+Grenser!$G$4),G184+Grenser!$G$4,F184-Grenser!$G$4))","v":0}]
[null,null,"",null,null,null,null,null,null,null,{"$f":"IF(AND(B185>=(F185-Grenser!$G$4),B185<=(G185+Grenser!$G$4)),B185,IF(B185>(G185+Grenser!$G$4),G185+Grenser!$G$4,F185-Grenser!$G$4))","v":0}]
[null,null,"",null,null,null,null,null,null,null,{"$f":"IF(AND(B186>=(F186-Grenser!$G$4),B186<=(G186+Grenser!$G$4)),B186,IF(B186>(G186+Grenser!$G$4),G186+Grenser!$G$4,F186-Grenser!$G$4))","v":0}]
[null,null,"",null,null,null,null,null,null,null,{"$f":"IF(AND(B187>=(F187-Grenser!$G$4),B187<=(G187+Grenser!$G$4)),B187,IF(B187>(G187+Grenser!$G$4),G187+Grenser!$G$4,F187-Grenser!$G$4))","v":0}]
[null,null,"",null,null,null,null,null,null,null,{"$f":"IF(AND(B188>=(F188-Grenser!$G$4),B188<=(G188+Grenser!$G$4)),B188,IF(B188>(G188+Grenser!$G$4),G188+Grenser!$G$4,F188-Grenser!$G$4))","v":0}]
[null,null,"",null,null,null,null,null,null,null,{"$f":"IF(AND(B189>=(F189-Grenser!$G$4),B189<=(G189+Grenser!$G$4)),B189,IF(B189>(G189+Grenser!$G$4),G189+Grenser!$G$4,F189-Grenser!$G$4))","v":0}]
[null,null,"",null,null,null,null,null,null,null,{"$f":"IF(AND(B190>=(F190-Grenser!$G$4),B190<=(G190+Grenser!$G$4)),B190,IF(B190>(G190+Grenser!$G$4),G190+Grenser!$G$4,F190-Grenser!$G$4))","v":0}]
[null,null,"",null,null,null,null,null,null,null,{"$f":"IF(AND(B191>=(F191-Grenser!$G$4),B191<=(G191+Grenser!$G$4)),B191,IF(B191>(G191+Grenser!$G$4),G191+Grenser!$G$4,F191-Grenser!$G$4))","v":0}]
[null,null,"",null,null,null,null,null,null,null,{"$f":"IF(AND(B192>=(F192-Grenser!$G$4),B192<=(G192+Grenser!$G$4)),B192,IF(B192>(G192+Grenser!$G$4),G192+Grenser!$G$4,F192-Grenser!$G$4))","v":0}]
[null,null,"",null,null,null,null,null,null,null,{"$f":"IF(AND(B193>=(F193-Grenser!$G$4),B193<=(G193+Grenser!$G$4)),B193,IF(B193>(G193+Grenser!$G$4),G193+Grenser!$G$4,F193-Grenser!$G$4))","v":0}]
[null,null,"",null,null,null,null,null,null,null,{"$f":"IF(AND(B194>=(F194-Grenser!$G$4),B194<=(G194+Grenser!$G$4)),B194,IF(B194>(G194+Grenser!$G$4),G194+Grenser!$G$4,F194-Grenser!$G$4))","v":0}]
[null,null,"",null,null,null,null,null,null,null,{"$f":"IF(AND(B195>=(F195-Grenser!$G$4),B195<=(G195+Grenser!$G$4)),B195,IF(B195>(G195+Grenser!$G$4),G195+Grenser!$G$4,F195-Grenser!$G$4))","v":0}]
[null,null,"",null,null,null,null,null,null,null,{"$f":"IF(AND(B196>=(F196-Grenser!$G$4),B196<=(G196+Grenser!$G$4)),B196,IF(B196>(G196+Grenser!$G$4),G196+Grenser!$G$4,F196-Grenser!$G$4))","v":0}]
[null,null,"",null,null,null,null,null,null,null,{"$f":"IF(AND(B197>=(F197-Grenser!$G$4),B197<=(G197+Grenser!$G$4)),B197,IF(B197>(G197+Grenser!$G$4),G197+Grenser!$G$4,F197-Grenser!$G$4))","v":0}]
[null,null,"",null,null,null,null,null,null,null,{"$f":"IF(AND(B198>=(F198-Grenser!$G$4),B198<=(G198+Grenser!$G$4)),B198,IF(B198>(G198+Grenser!$G$4),G198+Grenser!$G$4,F198-Grenser!$G$4))","v":0}]
[null,null,{"$f":"IF(B199<>\"\",(IF(OR(B199<F199,B199>G199),\"STOPP\",\"OK\")),\"\")","v":""},null,null,null,null,null,null,null,{"$f":"IF(AND(B199>=(F199-Grenser!$G$4),B199<=(G199+Grenser!$G$4)),B199,IF(B199>(G199+Grenser!$G$4),G199+Grenser!$G$4,F199-Grenser!$G$4))","v":0}]
[null,null,{"$f":"IF(B200<>\"\",(IF(OR(B200<F200,B200>G200),\"STOPP\",\"OK\")),\"\")","v":""},null,null,null,null,null,null,{"$f":"IF(G200<>\"\",IF((OR((G200>$V200),(G200<$U200))),IF(OR((G200>$T200),(G200<$S200)),\"STOPP\",\"Vurder\"),\"Ok\"),\"\")","v":""},{"$f":"IF(AND(B200>=(F200-Grenser!$G$4),B200<=(G200+Grenser!$G$4)),B200,IF(B200>(G200+Grenser!$G$4),G200+Grenser!$G$4,F200-Grenser!$G$4))","v":0}]
[null,null,{"$f":"IF(B201<>\"\",(IF(OR(B201<F201,B201>G201),\"STOPP\",\"OK\")),\"\")","v":""},null,null,null,null,null,null,"",{"$f":"IF(AND(B201>=(F201-Grenser!$G$4),B201<=(G201+Grenser!$G$4)),B201,IF(B201>(G201+Grenser!$G$4),G201+Grenser!$G$4,F201-Grenser!$G$4))","v":0}]

{"sheet":"Ikke i bruk 6","index":8,"n_rows":201,"n_cols":11,"rows_kept":201,"cut":false,"hidden":false,"merged":[[0,0,0,9]]}
[{"$f":"Grenser!B9","v":"Ikke i bruk 6"}]
["Antall",{"$f":" COUNT(B7:B201)","v":0}]
["Mean",{"$f":"AVERAGE(B7:B201)","v":{"$error":"#DIV/0!"}}]
["Standardavvik",{"$f":"STDEV(B7:B201)","v":{"$error":"#DIV/0!"}}]
["CV",{"$f":"B4*100/B3","v":{"$error":"#DIV/0!"}}]
["Dato avlest","Avlest sone","Vurdering","Produksjonsdato res.skål","Satt opp sign","Lav grense","Høy grense","Dato Satt opp","Avlest sign","Teller","Avlest sone korrigert"]
[null,null,{"$f":"IF(B7<>\"\",(IF(OR(B7<F7,B7>G7),\"STOPP\",\"OK\")),\"\")","v":""},null,null,null,null,null,null,null,{"$f":"IF(AND(B7>=(F7-Grenser!$G$4),B7<=(G7+Grenser!$G$4)),B7,IF(B7>(G7+Grenser!$G$4),G7+Grenser!$G$4,F7-Grenser!$G$4))","v":0}]
[null,null,"",null,null,null,null,null,null,null,{"$f":"IF(AND(B8>=(F8-Grenser!$G$4),B8<=(G8+Grenser!$G$4)),B8,IF(B8>(G8+Grenser!$G$4),G8+Grenser!$G$4,F8-Grenser!$G$4))","v":0}]
[null,null,"",null,null,null,null,null,null,null,{"$f":"IF(AND(B9>=(F9-Grenser!$G$4),B9<=(G9+Grenser!$G$4)),B9,IF(B9>(G9+Grenser!$G$4),G9+Grenser!$G$4,F9-Grenser!$G$4))","v":0}]
[null,null,"",null,null,null,null,null,null,null,{"$f":"IF(AND(B10>=(F10-Grenser!$G$4),B10<=(G10+Grenser!$G$4)),B10,IF(B10>(G10+Grenser!$G$4),G10+Grenser!$G$4,F10-Grenser!$G$4))","v":0}]
[null,null,"",null,null,null,null,null,null,null,{"$f":"IF(AND(B11>=(F11-Grenser!$G$4),B11<=(G11+Grenser!$G$4)),B11,IF(B11>(G11+Grenser!$G$4),G11+Grenser!$G$4,F11-Grenser!$G$4))","v":0}]
[null,null,"",null,null,null,null,null,null,null,{"$f":"IF(AND(B12>=(F12-Grenser!$G$4),B12<=(G12+Grenser!$G$4)),B12,IF(B12>(G12+Grenser!$G$4),G12+Grenser!$G$4,F12-Grenser!$G$4))","v":0}]
[null,null,"",null,null,null,null,null,null,null,{"$f":"IF(AND(B13>=(F13-Grenser!$G$4),B13<=(G13+Grenser!$G$4)),B13,IF(B13>(G13+Grenser!$G$4),G13+Grenser!$G$4,F13-Grenser!$G$4))","v":0}]
[null,null,"",null,null,null,null,null,null,null,{"$f":"IF(AND(B14>=(F14-Grenser!$G$4),B14<=(G14+Grenser!$G$4)),B14,IF(B14>(G14+Grenser!$G$4),G14+Grenser!$G$4,F14-Grenser!$G$4))","v":0}]
[null,null,"",null,null,null,null,null,null,null,{"$f":"IF(AND(B15>=(F15-Grenser!$G$4),B15<=(G15+Grenser!$G$4)),B15,IF(B15>(G15+Grenser!$G$4),G15+Grenser!$G$4,F15-Grenser!$G$4))","v":0}]
[null,null,"",null,null,null,null,null,null,null,{"$f":"IF(AND(B16>=(F16-Grenser!$G$4),B16<=(G16+Grenser!$G$4)),B16,IF(B16>(G16+Grenser!$G$4),G16+Grenser!$G$4,F16-Grenser!$G$4))","v":0}]
[null,null,"",null,null,null,null,null,null,null,{"$f":"IF(AND(B17>=(F17-Grenser!$G$4),B17<=(G17+Grenser!$G$4)),B17,IF(B17>(G17+Grenser!$G$4),G17+Grenser!$G$4,F17-Grenser!$G$4))","v":0}]
[null,null,"",null,null,null,null,null,null,null,{"$f":"IF(AND(B18>=(F18-Grenser!$G$4),B18<=(G18+Grenser!$G$4)),B18,IF(B18>(G18+Grenser!$G$4),G18+Grenser!$G$4,F18-Grenser!$G$4))","v":0}]
[null,null,"",null,null,null,null,null,null,null,{"$f":"IF(AND(B19>=(F19-Grenser!$G$4),B19<=(G19+Grenser!$G$4)),B19,IF(B19>(G19+Grenser!$G$4),G19+Grenser!$G$4,F19-Grenser!$G$4))","v":0}]
[null,null,"",null,null,null,null,null,null,null,{"$f":"IF(AND(B20>=(F20-Grenser!$G$4),B20<=(G20+Grenser!$G$4)),B20,IF(B20>(G20+Grenser!$G$4),G20+Grenser!$G$4,F20-Grenser!$G$4))","v":0}]
[null,null,"",null,null,null,null,null,null,null,{"$f":"IF(AND(B21>=(F21-Grenser!$G$4),B21<=(G21+Grenser!$G$4)),B21,IF(B21>(G21+Grenser!$G$4),G21+Grenser!$G$4,F21-Grenser!$G$4))","v":0}]
[null,null,"",null,null,null,null,null,null,null,{"$f":"IF(AND(B22>=(F22-Grenser!$G$4),B22<=(G22+Grenser!$G$4)),B22,IF(B22>(G22+Grenser!$G$4),G22+Grenser!$G$4,F22-Grenser!$G$4))","v":0}]
[null,null,"",null,null,null,null,null,null,null,{"$f":"IF(AND(B23>=(F23-Grenser!$G$4),B23<=(G23+Grenser!$G$4)),B23,IF(B23>(G23+Grenser!$G$4),G23+Grenser!$G$4,F23-Grenser!$G$4))","v":0}]
[null,null,"",null,null,null,null,null,null,null,{"$f":"IF(AND(B24>=(F24-Grenser!$G$4),B24<=(G24+Grenser!$G$4)),B24,IF(B24>(G24+Grenser!$G$4),G24+Grenser!$G$4,F24-Grenser!$G$4))","v":0}]
[null,null,"",null,null,null,null,null,null,null,{"$f":"IF(AND(B25>=(F25-Grenser!$G$4),B25<=(G25+Grenser!$G$4)),B25,IF(B25>(G25+Grenser!$G$4),G25+Grenser!$G$4,F25-Grenser!$G$4))","v":0}]
[null,null,"",null,null,null,null,null,null,null,{"$f":"IF(AND(B26>=(F26-Grenser!$G$4),B26<=(G26+Grenser!$G$4)),B26,IF(B26>(G26+Grenser!$G$4),G26+Grenser!$G$4,F26-Grenser!$G$4))","v":0}]
[null,null,"",null,null,null,null,null,null,null,{"$f":"IF(AND(B27>=(F27-Grenser!$G$4),B27<=(G27+Grenser!$G$4)),B27,IF(B27>(G27+Grenser!$G$4),G27+Grenser!$G$4,F27-Grenser!$G$4))","v":0}]
[null,null,"",null,null,null,null,null,null,null,{"$f":"IF(AND(B28>=(F28-Grenser!$G$4),B28<=(G28+Grenser!$G$4)),B28,IF(B28>(G28+Grenser!$G$4),G28+Grenser!$G$4,F28-Grenser!$G$4))","v":0}]
[null,null,"",null,null,null,null,null,null,null,{"$f":"IF(AND(B29>=(F29-Grenser!$G$4),B29<=(G29+Grenser!$G$4)),B29,IF(B29>(G29+Grenser!$G$4),G29+Grenser!$G$4,F29-Grenser!$G$4))","v":0}]
[null,null,"",null,null,null,null,null,null,null,{"$f":"IF(AND(B30>=(F30-Grenser!$G$4),B30<=(G30+Grenser!$G$4)),B30,IF(B30>(G30+Grenser!$G$4),G30+Grenser!$G$4,F30-Grenser!$G$4))","v":0}]
[null,null,"",null,null,null,null,null,null,null,{"$f":"IF(AND(B31>=(F31-Grenser!$G$4),B31<=(G31+Grenser!$G$4)),B31,IF(B31>(G31+Grenser!$G$4),G31+Grenser!$G$4,F31-Grenser!$G$4))","v":0}]
[null,null,"",null,null,null,null,null,null,null,{"$f":"IF(AND(B32>=(F32-Grenser!$G$4),B32<=(G32+Grenser!$G$4)),B32,IF(B32>(G32+Grenser!$G$4),G32+Grenser!$G$4,F32-Grenser!$G$4))","v":0}]
[null,null,"",null,null,null,null,null,null,null,{"$f":"IF(AND(B33>=(F33-Grenser!$G$4),B33<=(G33+Grenser!$G$4)),B33,IF(B33>(G33+Grenser!$G$4),G33+Grenser!$G$4,F33-Grenser!$G$4))","v":0}]
[null,null,"",null,null,null,null,null,null,null,{"$f":"IF(AND(B34>=(F34-Grenser!$G$4),B34<=(G34+Grenser!$G$4)),B34,IF(B34>(G34+Grenser!$G$4),G34+Grenser!$G$4,F34-Grenser!$G$4))","v":0}]
[null,null,"",null,null,null,null,null,null,null,{"$f":"IF(AND(B35>=(F35-Grenser!$G$4),B35<=(G35+Grenser!$G$4)),B35,IF(B35>(G35+Grenser!$G$4),G35+Grenser!$G$4,F35-Grenser!$G$4))","v":0}]
[null,null,"",null,null,null,null,null,null,null,{"$f":"IF(AND(B36>=(F36-Grenser!$G$4),B36<=(G36+Grenser!$G$4)),B36,IF(B36>(G36+Grenser!$G$4),G36+Grenser!$G$4,F36-Grenser!$G$4))","v":0}]
[null,null,"",null,null,null,null,null,null,null,{"$f":"IF(AND(B37>=(F37-Grenser!$G$4),B37<=(G37+Grenser!$G$4)),B37,IF(B37>(G37+Grenser!$G$4),G37+Grenser!$G$4,F37-Grenser!$G$4))","v":0}]
[null,null,"",null,null,null,null,null,null,null,{"$f":"IF(AND(B38>=(F38-Grenser!$G$4),B38<=(G38+Grenser!$G$4)),B38,IF(B38>(G38+Grenser!$G$4),G38+Grenser!$G$4,F38-Grenser!$G$4))","v":0}]
[null,null,"",null,null,null,null,null,null,null,{"$f":"IF(AND(B39>=(F39-Grenser!$G$4),B39<=(G39+Grenser!$G$4)),B39,IF(B39>(G39+Grenser!$G$4),G39+Grenser!$G$4,F39-Grenser!$G$4))","v":0}]
[null,null,"",null,null,null,null,null,null,null,{"$f":"IF(AND(B40>=(F40-Grenser!$G$4),B40<=(G40+Grenser!$G$4)),B40,IF(B40>(G40+Grenser!$G$4),G40+Grenser!$G$4,F40-Grenser!$G$4))","v":0}]
[null,null,"",null,null,null,null,null,null,null,{"$f":"IF(AND(B41>=(F41-Grenser!$G$4),B41<=(G41+Grenser!$G$4)),B41,IF(B41>(G41+Grenser!$G$4),G41+Grenser!$G$4,F41-Grenser!$G$4))","v":0}]
[null,null,"",null,null,null,null,null,null,null,{"$f":"IF(AND(B42>=(F42-Grenser!$G$4),B42<=(G42+Grenser!$G$4)),B42,IF(B42>(G42+Grenser!$G$4),G42+Grenser!$G$4,F42-Grenser!$G$4))","v":0}]
[null,null,"",null,null,null,null,null,null,null,{"$f":"IF(AND(B43>=(F43-Grenser!$G$4),B43<=(G43+Grenser!$G$4)),B43,IF(B43>(G43+Grenser!$G$4),G43+Grenser!$G$4,F43-Grenser!$G$4))","v":0}]
[null,null,"",null,null,null,null,null,null,null,{"$f":"IF(AND(B44>=(F44-Grenser!$G$4),B44<=(G44+Grenser!$G$4)),B44,IF(B44>(G44+Grenser!$G$4),G44+Grenser!$G$4,F44-Grenser!$G$4))","v":0}]
[null,null,"",null,null,null,null,null,null,null,{"$f":"IF(AND(B45>=(F45-Grenser!$G$4),B45<=(G45+Grenser!$G$4)),B45,IF(B45>(G45+Grenser!$G$4),G45+Grenser!$G$4,F45-Grenser!$G$4))","v":0}]
[null,null,"",null,null,null,null,null,null,null,{"$f":"IF(AND(B46>=(F46-Grenser!$G$4),B46<=(G46+Grenser!$G$4)),B46,IF(B46>(G46+Grenser!$G$4),G46+Grenser!$G$4,F46-Grenser!$G$4))","v":0}]
[null,null,"",null,null,null,null,null,null,null,{"$f":"IF(AND(B47>=(F47-Grenser!$G$4),B47<=(G47+Grenser!$G$4)),B47,IF(B47>(G47+Grenser!$G$4),G47+Grenser!$G$4,F47-Grenser!$G$4))","v":0}]
[null,null,"",null,null,null,null,null,null,null,{"$f":"IF(AND(B48>=(F48-Grenser!$G$4),B48<=(G48+Grenser!$G$4)),B48,IF(B48>(G48+Grenser!$G$4),G48+Grenser!$G$4,F48-Grenser!$G$4))","v":0}]
[null,null,"",null,null,null,null,null,null,null,{"$f":"IF(AND(B49>=(F49-Grenser!$G$4),B49<=(G49+Grenser!$G$4)),B49,IF(B49>(G49+Grenser!$G$4),G49+Grenser!$G$4,F49-Grenser!$G$4))","v":0}]
[null,null,"",null,null,null,null,null,null,null,{"$f":"IF(AND(B50>=(F50-Grenser!$G$4),B50<=(G50+Grenser!$G$4)),B50,IF(B50>(G50+Grenser!$G$4),G50+Grenser!$G$4,F50-Grenser!$G$4))","v":0}]
[null,null,"",null,null,null,null,null,null,null,{"$f":"IF(AND(B51>=(F51-Grenser!$G$4),B51<=(G51+Grenser!$G$4)),B51,IF(B51>(G51+Grenser!$G$4),G51+Grenser!$G$4,F51-Grenser!$G$4))","v":0}]
[null,null,"",null,null,null,null,null,null,null,{"$f":"IF(AND(B52>=(F52-Grenser!$G$4),B52<=(G52+Grenser!$G$4)),B52,IF(B52>(G52+Grenser!$G$4),G52+Grenser!$G$4,F52-Grenser!$G$4))","v":0}]
[null,null,"",null,null,null,null,null,null,null,{"$f":"IF(AND(B53>=(F53-Grenser!$G$4),B53<=(G53+Grenser!$G$4)),B53,IF(B53>(G53+Grenser!$G$4),G53+Grenser!$G$4,F53-Grenser!$G$4))","v":0}]
[null,null,"",null,null,null,null,null,null,null,{"$f":"IF(AND(B54>=(F54-Grenser!$G$4),B54<=(G54+Grenser!$G$4)),B54,IF(B54>(G54+Grenser!$G$4),G54+Grenser!$G$4,F54-Grenser!$G$4))","v":0}]
[null,null,"",null,null,null,null,null,null,null,{"$f":"IF(AND(B55>=(F55-Grenser!$G$4),B55<=(G55+Grenser!$G$4)),B55,IF(B55>(G55+Grenser!$G$4),G55+Grenser!$G$4,F55-Grenser!$G$4))","v":0}]
[null,null,"",null,null,null,null,null,null,null,{"$f":"IF(AND(B56>=(F56-Grenser!$G$4),B56<=(G56+Grenser!$G$4)),B56,IF(B56>(G56+Grenser!$G$4),G56+Grenser!$G$4,F56-Grenser!$G$4))","v":0}]
[null,null,"",null,null,null,null,null,null,null,{"$f":"IF(AND(B57>=(F57-Grenser!$G$4),B57<=(G57+Grenser!$G$4)),B57,IF(B57>(G57+Grenser!$G$4),G57+Grenser!$G$4,F57-Grenser!$G$4))","v":0}]
[null,null,"",null,null,null,null,null,null,null,{"$f":"IF(AND(B58>=(F58-Grenser!$G$4),B58<=(G58+Grenser!$G$4)),B58,IF(B58>(G58+Grenser!$G$4),G58+Grenser!$G$4,F58-Grenser!$G$4))","v":0}]
[null,null,"",null,null,null,null,null,null,null,{"$f":"IF(AND(B59>=(F59-Grenser!$G$4),B59<=(G59+Grenser!$G$4)),B59,IF(B59>(G59+Grenser!$G$4),G59+Grenser!$G$4,F59-Grenser!$G$4))","v":0}]
[null,null,"",null,null,null,null,null,null,null,{"$f":"IF(AND(B60>=(F60-Grenser!$G$4),B60<=(G60+Grenser!$G$4)),B60,IF(B60>(G60+Grenser!$G$4),G60+Grenser!$G$4,F60-Grenser!$G$4))","v":0}]
[null,null,"",null,null,null,null,null,null,null,{"$f":"IF(AND(B61>=(F61-Grenser!$G$4),B61<=(G61+Grenser!$G$4)),B61,IF(B61>(G61+Grenser!$G$4),G61+Grenser!$G$4,F61-Grenser!$G$4))","v":0}]
[null,null,"",null,null,null,null,null,null,null,{"$f":"IF(AND(B62>=(F62-Grenser!$G$4),B62<=(G62+Grenser!$G$4)),B62,IF(B62>(G62+Grenser!$G$4),G62+Grenser!$G$4,F62-Grenser!$G$4))","v":0}]
[null,null,"",null,null,null,null,null,null,null,{"$f":"IF(AND(B63>=(F63-Grenser!$G$4),B63<=(G63+Grenser!$G$4)),B63,IF(B63>(G63+Grenser!$G$4),G63+Grenser!$G$4,F63-Grenser!$G$4))","v":0}]
[null,null,"",null,null,null,null,null,null,null,{"$f":"IF(AND(B64>=(F64-Grenser!$G$4),B64<=(G64+Grenser!$G$4)),B64,IF(B64>(G64+Grenser!$G$4),G64+Grenser!$G$4,F64-Grenser!$G$4))","v":0}]
[null,null,"",null,null,null,null,null,null,null,{"$f":"IF(AND(B65>=(F65-Grenser!$G$4),B65<=(G65+Grenser!$G$4)),B65,IF(B65>(G65+Grenser!$G$4),G65+Grenser!$G$4,F65-Grenser!$G$4))","v":0}]
[null,null,"",null,null,null,null,null,null,null,{"$f":"IF(AND(B66>=(F66-Grenser!$G$4),B66<=(G66+Grenser!$G$4)),B66,IF(B66>(G66+Grenser!$G$4),G66+Grenser!$G$4,F66-Grenser!$G$4))","v":0}]
[null,null,"",null,null,null,null,null,null,null,{"$f":"IF(AND(B67>=(F67-Grenser!$G$4),B67<=(G67+Grenser!$G$4)),B67,IF(B67>(G67+Grenser!$G$4),G67+Grenser!$G$4,F67-Grenser!$G$4))","v":0}]
[null,null,"",null,null,null,null,null,null,null,{"$f":"IF(AND(B68>=(F68-Grenser!$G$4),B68<=(G68+Grenser!$G$4)),B68,IF(B68>(G68+Grenser!$G$4),G68+Grenser!$G$4,F68-Grenser!$G$4))","v":0}]
[null,null,"",null,null,null,null,null,null,null,{"$f":"IF(AND(B69>=(F69-Grenser!$G$4),B69<=(G69+Grenser!$G$4)),B69,IF(B69>(G69+Grenser!$G$4),G69+Grenser!$G$4,F69-Grenser!$G$4))","v":0}]
[null,null,"",null,null,null,null,null,null,null,{"$f":"IF(AND(B70>=(F70-Grenser!$G$4),B70<=(G70+Grenser!$G$4)),B70,IF(B70>(G70+Grenser!$G$4),G70+Grenser!$G$4,F70-Grenser!$G$4))","v":0}]
[null,null,{"$f":"IF(B71<>\"\",(IF(OR(B71<F71,B71>G71),\"STOPP\",\"OK\")),\"\")","v":""},null,null,null,null,null,null,null,{"$f":"IF(AND(B71>=(F71-Grenser!$G$4),B71<=(G71+Grenser!$G$4)),B71,IF(B71>(G71+Grenser!$G$4),G71+Grenser!$G$4,F71-Grenser!$G$4))","v":0}]
[null,null,"",null,null,null,null,null,null,null,{"$f":"IF(AND(B72>=(F72-Grenser!$G$4),B72<=(G72+Grenser!$G$4)),B72,IF(B72>(G72+Grenser!$G$4),G72+Grenser!$G$4,F72-Grenser!$G$4))","v":0}]
[null,null,"",null,null,null,null,null,null,null,{"$f":"IF(AND(B73>=(F73-Grenser!$G$4),B73<=(G73+Grenser!$G$4)),B73,IF(B73>(G73+Grenser!$G$4),G73+Grenser!$G$4,F73-Grenser!$G$4))","v":0}]
[null,null,"",null,null,null,null,null,null,null,{"$f":"IF(AND(B74>=(F74-Grenser!$G$4),B74<=(G74+Grenser!$G$4)),B74,IF(B74>(G74+Grenser!$G$4),G74+Grenser!$G$4,F74-Grenser!$G$4))","v":0}]
[null,null,"",null,null,null,null,null,null,null,{"$f":"IF(AND(B75>=(F75-Grenser!$G$4),B75<=(G75+Grenser!$G$4)),B75,IF(B75>(G75+Grenser!$G$4),G75+Grenser!$G$4,F75-Grenser!$G$4))","v":0}]
[null,null,"",null,null,null,null,null,null,null,{"$f":"IF(AND(B76>=(F76-Grenser!$G$4),B76<=(G76+Grenser!$G$4)),B76,IF(B76>(G76+Grenser!$G$4),G76+Grenser!$G$4,F76-Grenser!$G$4))","v":0}]
[null,null,"",null,null,null,null,null,null,null,{"$f":"IF(AND(B77>=(F77-Grenser!$G$4),B77<=(G77+Grenser!$G$4)),B77,IF(B77>(G77+Grenser!$G$4),G77+Grenser!$G$4,F77-Grenser!$G$4))","v":0}]
[null,null,"",null,null,null,null,null,null,null,{"$f":"IF(AND(B78>=(F78-Grenser!$G$4),B78<=(G78+Grenser!$G$4)),B78,IF(B78>(G78+Grenser!$G$4),G78+Grenser!$G$4,F78-Grenser!$G$4))","v":0}]
[null,null,"",null,null,null,null,null,null,null,{"$f":"IF(AND(B79>=(F79-Grenser!$G$4),B79<=(G79+Grenser!$G$4)),B79,IF(B79>(G79+Grenser!$G$4),G79+Grenser!$G$4,F79-Grenser!$G$4))","v":0}]
[null,null,"",null,null,null,null,null,null,null,{"$f":"IF(AND(B80>=(F80-Grenser!$G$4),B80<=(G80+Grenser!$G$4)),B80,IF(B80>(G80+Grenser!$G$4),G80+Grenser!$G$4,F80-Grenser!$G$4))","v":0}]
[null,null,"",null,null,null,null,null,null,null,{"$f":"IF(AND(B81>=(F81-Grenser!$G$4),B81<=(G81+Grenser!$G$4)),B81,IF(B81>(G81+Grenser!$G$4),G81+Grenser!$G$4,F81-Grenser!$G$4))","v":0}]
[null,null,"",null,null,null,null,null,null,null,{"$f":"IF(AND(B82>=(F82-Grenser!$G$4),B82<=(G82+Grenser!$G$4)),B82,IF(B82>(G82+Grenser!$G$4),G82+Grenser!$G$4,F82-Grenser!$G$4))","v":0}]
[null,null,"",null,null,null,null,null,null,null,{"$f":"IF(AND(B83>=(F83-Grenser!$G$4),B83<=(G83+Grenser!$G$4)),B83,IF(B83>(G83+Grenser!$G$4),G83+Grenser!$G$4,F83-Grenser!$G$4))","v":0}]
[null,null,"",null,null,null,null,null,null,null,{"$f":"IF(AND(B84>=(F84-Grenser!$G$4),B84<=(G84+Grenser!$G$4)),B84,IF(B84>(G84+Grenser!$G$4),G84+Grenser!$G$4,F84-Grenser!$G$4))","v":0}]
[null,null,"",null,null,null,null,null,null,null,{"$f":"IF(AND(B85>=(F85-Grenser!$G$4),B85<=(G85+Grenser!$G$4)),B85,IF(B85>(G85+Grenser!$G$4),G85+Grenser!$G$4,F85-Grenser!$G$4))","v":0}]
[null,null,"",null,null,null,null,null,null,null,{"$f":"IF(AND(B86>=(F86-Grenser!$G$4),B86<=(G86+Grenser!$G$4)),B86,IF(B86>(G86+Grenser!$G$4),G86+Grenser!$G$4,F86-Grenser!$G$4))","v":0}]
[null,null,"",null,null,null,null,null,null,null,{"$f":"IF(AND(B87>=(F87-Grenser!$G$4),B87<=(G87+Grenser!$G$4)),B87,IF(B87>(G87+Grenser!$G$4),G87+Grenser!$G$4,F87-Grenser!$G$4))","v":0}]
[null,null,"",null,null,null,null,null,null,null,{"$f":"IF(AND(B88>=(F88-Grenser!$G$4),B88<=(G88+Grenser!$G$4)),B88,IF(B88>(G88+Grenser!$G$4),G88+Grenser!$G$4,F88-Grenser!$G$4))","v":0}]
[null,null,"",null,null,null,null,null,null,null,{"$f":"IF(AND(B89>=(F89-Grenser!$G$4),B89<=(G89+Grenser!$G$4)),B89,IF(B89>(G89+Grenser!$G$4),G89+Grenser!$G$4,F89-Grenser!$G$4))","v":0}]
[null,null,"",null,null,null,null,null,null,null,{"$f":"IF(AND(B90>=(F90-Grenser!$G$4),B90<=(G90+Grenser!$G$4)),B90,IF(B90>(G90+Grenser!$G$4),G90+Grenser!$G$4,F90-Grenser!$G$4))","v":0}]
[null,null,"",null,null,null,null,null,null,null,{"$f":"IF(AND(B91>=(F91-Grenser!$G$4),B91<=(G91+Grenser!$G$4)),B91,IF(B91>(G91+Grenser!$G$4),G91+Grenser!$G$4,F91-Grenser!$G$4))","v":0}]
[null,null,"",null,null,null,null,null,null,null,{"$f":"IF(AND(B92>=(F92-Grenser!$G$4),B92<=(G92+Grenser!$G$4)),B92,IF(B92>(G92+Grenser!$G$4),G92+Grenser!$G$4,F92-Grenser!$G$4))","v":0}]
[null,null,"",null,null,null,null,null,null,null,{"$f":"IF(AND(B93>=(F93-Grenser!$G$4),B93<=(G93+Grenser!$G$4)),B93,IF(B93>(G93+Grenser!$G$4),G93+Grenser!$G$4,F93-Grenser!$G$4))","v":0}]
[null,null,"",null,null,null,null,null,null,null,{"$f":"IF(AND(B94>=(F94-Grenser!$G$4),B94<=(G94+Grenser!$G$4)),B94,IF(B94>(G94+Grenser!$G$4),G94+Grenser!$G$4,F94-Grenser!$G$4))","v":0}]
[null,null,"",null,null,null,null,null,null,null,{"$f":"IF(AND(B95>=(F95-Grenser!$G$4),B95<=(G95+Grenser!$G$4)),B95,IF(B95>(G95+Grenser!$G$4),G95+Grenser!$G$4,F95-Grenser!$G$4))","v":0}]
[null,null,"",null,null,null,null,null,null,null,{"$f":"IF(AND(B96>=(F96-Grenser!$G$4),B96<=(G96+Grenser!$G$4)),B96,IF(B96>(G96+Grenser!$G$4),G96+Grenser!$G$4,F96-Grenser!$G$4))","v":0}]
[null,null,"",null,null,null,null,null,null,null,{"$f":"IF(AND(B97>=(F97-Grenser!$G$4),B97<=(G97+Grenser!$G$4)),B97,IF(B97>(G97+Grenser!$G$4),G97+Grenser!$G$4,F97-Grenser!$G$4))","v":0}]
[null,null,"",null,null,null,null,null,null,null,{"$f":"IF(AND(B98>=(F98-Grenser!$G$4),B98<=(G98+Grenser!$G$4)),B98,IF(B98>(G98+Grenser!$G$4),G98+Grenser!$G$4,F98-Grenser!$G$4))","v":0}]
[null,null,"",null,null,null,null,null,null,null,{"$f":"IF(AND(B99>=(F99-Grenser!$G$4),B99<=(G99+Grenser!$G$4)),B99,IF(B99>(G99+Grenser!$G$4),G99+Grenser!$G$4,F99-Grenser!$G$4))","v":0}]
[null,null,"",null,null,null,null,null,null,null,{"$f":"IF(AND(B100>=(F100-Grenser!$G$4),B100<=(G100+Grenser!$G$4)),B100,IF(B100>(G100+Grenser!$G$4),G100+Grenser!$G$4,F100-Grenser!$G$4))","v":0}]
[null,null,"",null,null,null,null,null,null,null,{"$f":"IF(AND(B101>=(F101-Grenser!$G$4),B101<=(G101+Grenser!$G$4)),B101,IF(B101>(G101+Grenser!$G$4),G101+Grenser!$G$4,F101-Grenser!$G$4))","v":0}]
[null,null,"",null,null,null,null,null,null,null,{"$f":"IF(AND(B102>=(F102-Grenser!$G$4),B102<=(G102+Grenser!$G$4)),B102,IF(B102>(G102+Grenser!$G$4),G102+Grenser!$G$4,F102-Grenser!$G$4))","v":0}]
[null,null,"",null,null,null,null,null,null,null,{"$f":"IF(AND(B103>=(F103-Grenser!$G$4),B103<=(G103+Grenser!$G$4)),B103,IF(B103>(G103+Grenser!$G$4),G103+Grenser!$G$4,F103-Grenser!$G$4))","v":0}]
[null,null,"",null,null,null,null,null,null,null,{"$f":"IF(AND(B104>=(F104-Grenser!$G$4),B104<=(G104+Grenser!$G$4)),B104,IF(B104>(G104+Grenser!$G$4),G104+Grenser!$G$4,F104-Grenser!$G$4))","v":0}]
[null,null,"",null,null,null,null,null,null,null,{"$f":"IF(AND(B105>=(F105-Grenser!$G$4),B105<=(G105+Grenser!$G$4)),B105,IF(B105>(G105+Grenser!$G$4),G105+Grenser!$G$4,F105-Grenser!$G$4))","v":0}]
[null,null,"",null,null,null,null,null,null,null,{"$f":"IF(AND(B106>=(F106-Grenser!$G$4),B106<=(G106+Grenser!$G$4)),B106,IF(B106>(G106+Grenser!$G$4),G106+Grenser!$G$4,F106-Grenser!$G$4))","v":0}]
[null,null,"",null,null,null,null,null,null,null,{"$f":"IF(AND(B107>=(F107-Grenser!$G$4),B107<=(G107+Grenser!$G$4)),B107,IF(B107>(G107+Grenser!$G$4),G107+Grenser!$G$4,F107-Grenser!$G$4))","v":0}]
[null,null,"",null,null,null,null,null,null,null,{"$f":"IF(AND(B108>=(F108-Grenser!$G$4),B108<=(G108+Grenser!$G$4)),B108,IF(B108>(G108+Grenser!$G$4),G108+Grenser!$G$4,F108-Grenser!$G$4))","v":0}]
[null,null,"",null,null,null,null,null,null,null,{"$f":"IF(AND(B109>=(F109-Grenser!$G$4),B109<=(G109+Grenser!$G$4)),B109,IF(B109>(G109+Grenser!$G$4),G109+Grenser!$G$4,F109-Grenser!$G$4))","v":0}]
[null,null,"",null,null,null,null,null,null,null,{"$f":"IF(AND(B110>=(F110-Grenser!$G$4),B110<=(G110+Grenser!$G$4)),B110,IF(B110>(G110+Grenser!$G$4),G110+Grenser!$G$4,F110-Grenser!$G$4))","v":0}]
[null,null,"",null,null,null,null,null,null,null,{"$f":"IF(AND(B111>=(F111-Grenser!$G$4),B111<=(G111+Grenser!$G$4)),B111,IF(B111>(G111+Grenser!$G$4),G111+Grenser!$G$4,F111-Grenser!$G$4))","v":0}]
[null,null,"",null,null,null,null,null,null,null,{"$f":"IF(AND(B112>=(F112-Grenser!$G$4),B112<=(G112+Grenser!$G$4)),B112,IF(B112>(G112+Grenser!$G$4),G112+Grenser!$G$4,F112-Grenser!$G$4))","v":0}]
[null,null,"",null,null,null,null,null,null,null,{"$f":"IF(AND(B113>=(F113-Grenser!$G$4),B113<=(G113+Grenser!$G$4)),B113,IF(B113>(G113+Grenser!$G$4),G113+Grenser!$G$4,F113-Grenser!$G$4))","v":0}]
[null,null,"",null,null,null,null,null,null,null,{"$f":"IF(AND(B114>=(F114-Grenser!$G$4),B114<=(G114+Grenser!$G$4)),B114,IF(B114>(G114+Grenser!$G$4),G114+Grenser!$G$4,F114-Grenser!$G$4))","v":0}]
[null,null,"",null,null,null,null,null,null,null,{"$f":"IF(AND(B115>=(F115-Grenser!$G$4),B115<=(G115+Grenser!$G$4)),B115,IF(B115>(G115+Grenser!$G$4),G115+Grenser!$G$4,F115-Grenser!$G$4))","v":0}]
[null,null,"",null,null,null,null,null,null,null,{"$f":"IF(AND(B116>=(F116-Grenser!$G$4),B116<=(G116+Grenser!$G$4)),B116,IF(B116>(G116+Grenser!$G$4),G116+Grenser!$G$4,F116-Grenser!$G$4))","v":0}]
[null,null,"",null,null,null,null,null,null,null,{"$f":"IF(AND(B117>=(F117-Grenser!$G$4),B117<=(G117+Grenser!$G$4)),B117,IF(B117>(G117+Grenser!$G$4),G117+Grenser!$G$4,F117-Grenser!$G$4))","v":0}]
[null,null,"",null,null,null,null,null,null,null,{"$f":"IF(AND(B118>=(F118-Grenser!$G$4),B118<=(G118+Grenser!$G$4)),B118,IF(B118>(G118+Grenser!$G$4),G118+Grenser!$G$4,F118-Grenser!$G$4))","v":0}]
[null,null,"",null,null,null,null,null,null,null,{"$f":"IF(AND(B119>=(F119-Grenser!$G$4),B119<=(G119+Grenser!$G$4)),B119,IF(B119>(G119+Grenser!$G$4),G119+Grenser!$G$4,F119-Grenser!$G$4))","v":0}]
[null,null,"",null,null,null,null,null,null,null,{"$f":"IF(AND(B120>=(F120-Grenser!$G$4),B120<=(G120+Grenser!$G$4)),B120,IF(B120>(G120+Grenser!$G$4),G120+Grenser!$G$4,F120-Grenser!$G$4))","v":0}]
[null,null,"",null,null,null,null,null,null,null,{"$f":"IF(AND(B121>=(F121-Grenser!$G$4),B121<=(G121+Grenser!$G$4)),B121,IF(B121>(G121+Grenser!$G$4),G121+Grenser!$G$4,F121-Grenser!$G$4))","v":0}]
[null,null,"",null,null,null,null,null,null,null,{"$f":"IF(AND(B122>=(F122-Grenser!$G$4),B122<=(G122+Grenser!$G$4)),B122,IF(B122>(G122+Grenser!$G$4),G122+Grenser!$G$4,F122-Grenser!$G$4))","v":0}]
[null,null,"",null,null,null,null,null,null,null,{"$f":"IF(AND(B123>=(F123-Grenser!$G$4),B123<=(G123+Grenser!$G$4)),B123,IF(B123>(G123+Grenser!$G$4),G123+Grenser!$G$4,F123-Grenser!$G$4))","v":0}]
[null,null,"",null,null,null,null,null,null,null,{"$f":"IF(AND(B124>=(F124-Grenser!$G$4),B124<=(G124+Grenser!$G$4)),B124,IF(B124>(G124+Grenser!$G$4),G124+Grenser!$G$4,F124-Grenser!$G$4))","v":0}]
[null,null,"",null,null,null,null,null,null,null,{"$f":"IF(AND(B125>=(F125-Grenser!$G$4),B125<=(G125+Grenser!$G$4)),B125,IF(B125>(G125+Grenser!$G$4),G125+Grenser!$G$4,F125-Grenser!$G$4))","v":0}]
[null,null,"",null,null,null,null,null,null,null,{"$f":"IF(AND(B126>=(F126-Grenser!$G$4),B126<=(G126+Grenser!$G$4)),B126,IF(B126>(G126+Grenser!$G$4),G126+Grenser!$G$4,F126-Grenser!$G$4))","v":0}]
[null,null,"",null,null,null,null,null,null,null,{"$f":"IF(AND(B127>=(F127-Grenser!$G$4),B127<=(G127+Grenser!$G$4)),B127,IF(B127>(G127+Grenser!$G$4),G127+Grenser!$G$4,F127-Grenser!$G$4))","v":0}]
[null,null,"",null,null,null,null,null,null,null,{"$f":"IF(AND(B128>=(F128-Grenser!$G$4),B128<=(G128+Grenser!$G$4)),B128,IF(B128>(G128+Grenser!$G$4),G128+Grenser!$G$4,F128-Grenser!$G$4))","v":0}]
[null,null,"",null,null,null,null,null,null,null,{"$f":"IF(AND(B129>=(F129-Grenser!$G$4),B129<=(G129+Grenser!$G$4)),B129,IF(B129>(G129+Grenser!$G$4),G129+Grenser!$G$4,F129-Grenser!$G$4))","v":0}]
[null,null,"",null,null,null,null,null,null,null,{"$f":"IF(AND(B130>=(F130-Grenser!$G$4),B130<=(G130+Grenser!$G$4)),B130,IF(B130>(G130+Grenser!$G$4),G130+Grenser!$G$4,F130-Grenser!$G$4))","v":0}]
[null,null,"",null,null,null,null,null,null,null,{"$f":"IF(AND(B131>=(F131-Grenser!$G$4),B131<=(G131+Grenser!$G$4)),B131,IF(B131>(G131+Grenser!$G$4),G131+Grenser!$G$4,F131-Grenser!$G$4))","v":0}]
[null,null,"",null,null,null,null,null,null,null,{"$f":"IF(AND(B132>=(F132-Grenser!$G$4),B132<=(G132+Grenser!$G$4)),B132,IF(B132>(G132+Grenser!$G$4),G132+Grenser!$G$4,F132-Grenser!$G$4))","v":0}]
[null,null,"",null,null,null,null,null,null,null,{"$f":"IF(AND(B133>=(F133-Grenser!$G$4),B133<=(G133+Grenser!$G$4)),B133,IF(B133>(G133+Grenser!$G$4),G133+Grenser!$G$4,F133-Grenser!$G$4))","v":0}]
[null,null,"",null,null,null,null,null,null,null,{"$f":"IF(AND(B134>=(F134-Grenser!$G$4),B134<=(G134+Grenser!$G$4)),B134,IF(B134>(G134+Grenser!$G$4),G134+Grenser!$G$4,F134-Grenser!$G$4))","v":0}]
[null,null,{"$f":"IF(B135<>\"\",(IF(OR(B135<F135,B135>G135),\"STOPP\",\"OK\")),\"\")","v":""},null,null,null,null,null,null,null,{"$f":"IF(AND(B135>=(F135-Grenser!$G$4),B135<=(G135+Grenser!$G$4)),B135,IF(B135>(G135+Grenser!$G$4),G135+Grenser!$G$4,F135-Grenser!$G$4))","v":0}]
[null,null,"",null,null,null,null,null,null,null,{"$f":"IF(AND(B136>=(F136-Grenser!$G$4),B136<=(G136+Grenser!$G$4)),B136,IF(B136>(G136+Grenser!$G$4),G136+Grenser!$G$4,F136-Grenser!$G$4))","v":0}]
[null,null,"",null,null,null,null,null,null,null,{"$f":"IF(AND(B137>=(F137-Grenser!$G$4),B137<=(G137+Grenser!$G$4)),B137,IF(B137>(G137+Grenser!$G$4),G137+Grenser!$G$4,F137-Grenser!$G$4))","v":0}]
[null,null,"",null,null,null,null,null,null,null,{"$f":"IF(AND(B138>=(F138-Grenser!$G$4),B138<=(G138+Grenser!$G$4)),B138,IF(B138>(G138+Grenser!$G$4),G138+Grenser!$G$4,F138-Grenser!$G$4))","v":0}]
[null,null,"",null,null,null,null,null,null,null,{"$f":"IF(AND(B139>=(F139-Grenser!$G$4),B139<=(G139+Grenser!$G$4)),B139,IF(B139>(G139+Grenser!$G$4),G139+Grenser!$G$4,F139-Grenser!$G$4))","v":0}]
[null,null,"",null,null,null,null,null,null,null,{"$f":"IF(AND(B140>=(F140-Grenser!$G$4),B140<=(G140+Grenser!$G$4)),B140,IF(B140>(G140+Grenser!$G$4),G140+Grenser!$G$4,F140-Grenser!$G$4))","v":0}]
[null,null,"",null,null,null,null,null,null,null,{"$f":"IF(AND(B141>=(F141-Grenser!$G$4),B141<=(G141+Grenser!$G$4)),B141,IF(B141>(G141+Grenser!$G$4),G141+Grenser!$G$4,F141-Grenser!$G$4))","v":0}]
[null,null,"",null,null,null,null,null,null,null,{"$f":"IF(AND(B142>=(F142-Grenser!$G$4),B142<=(G142+Grenser!$G$4)),B142,IF(B142>(G142+Grenser!$G$4),G142+Grenser!$G$4,F142-Grenser!$G$4))","v":0}]
[null,null,"",null,null,null,null,null,null,null,{"$f":"IF(AND(B143>=(F143-Grenser!$G$4),B143<=(G143+Grenser!$G$4)),B143,IF(B143>(G143+Grenser!$G$4),G143+Grenser!$G$4,F143-Grenser!$G$4))","v":0}]
[null,null,"",null,null,null,null,null,null,null,{"$f":"IF(AND(B144>=(F144-Grenser!$G$4),B144<=(G144+Grenser!$G$4)),B144,IF(B144>(G144+Grenser!$G$4),G144+Grenser!$G$4,F144-Grenser!$G$4))","v":0}]
[null,null,"",null,null,null,null,null,null,null,{"$f":"IF(AND(B145>=(F145-Grenser!$G$4),B145<=(G145+Grenser!$G$4)),B145,IF(B145>(G145+Grenser!$G$4),G145+Grenser!$G$4,F145-Grenser!$G$4))","v":0}]
[null,null,"",null,null,null,null,null,null,null,{"$f":"IF(AND(B146>=(F146-Grenser!$G$4),B146<=(G146+Grenser!$G$4)),B146,IF(B146>(G146+Grenser!$G$4),G146+Grenser!$G$4,F146-Grenser!$G$4))","v":0}]
[null,null,"",null,null,null,null,null,null,null,{"$f":"IF(AND(B147>=(F147-Grenser!$G$4),B147<=(G147+Grenser!$G$4)),B147,IF(B147>(G147+Grenser!$G$4),G147+Grenser!$G$4,F147-Grenser!$G$4))","v":0}]
[null,null,"",null,null,null,null,null,null,null,{"$f":"IF(AND(B148>=(F148-Grenser!$G$4),B148<=(G148+Grenser!$G$4)),B148,IF(B148>(G148+Grenser!$G$4),G148+Grenser!$G$4,F148-Grenser!$G$4))","v":0}]
[null,null,"",null,null,null,null,null,null,null,{"$f":"IF(AND(B149>=(F149-Grenser!$G$4),B149<=(G149+Grenser!$G$4)),B149,IF(B149>(G149+Grenser!$G$4),G149+Grenser!$G$4,F149-Grenser!$G$4))","v":0}]
[null,null,"",null,null,null,null,null,null,null,{"$f":"IF(AND(B150>=(F150-Grenser!$G$4),B150<=(G150+Grenser!$G$4)),B150,IF(B150>(G150+Grenser!$G$4),G150+Grenser!$G$4,F150-Grenser!$G$4))","v":0}]
[null,null,"",null,null,null,null,null,null,null,{"$f":"IF(AND(B151>=(F151-Grenser!$G$4),B151<=(G151+Grenser!$G$4)),B151,IF(B151>(G151+Grenser!$G$4),G151+Grenser!$G$4,F151-Grenser!$G$4))","v":0}]
[null,null,"",null,null,null,null,null,null,null,{"$f":"IF(AND(B152>=(F152-Grenser!$G$4),B152<=(G152+Grenser!$G$4)),B152,IF(B152>(G152+Grenser!$G$4),G152+Grenser!$G$4,F152-Grenser!$G$4))","v":0}]
[null,null,"",null,null,null,null,null,null,null,{"$f":"IF(AND(B153>=(F153-Grenser!$G$4),B153<=(G153+Grenser!$G$4)),B153,IF(B153>(G153+Grenser!$G$4),G153+Grenser!$G$4,F153-Grenser!$G$4))","v":0}]
[null,null,"",null,null,null,null,null,null,null,{"$f":"IF(AND(B154>=(F154-Grenser!$G$4),B154<=(G154+Grenser!$G$4)),B154,IF(B154>(G154+Grenser!$G$4),G154+Grenser!$G$4,F154-Grenser!$G$4))","v":0}]
[null,null,"",null,null,null,null,null,null,null,{"$f":"IF(AND(B155>=(F155-Grenser!$G$4),B155<=(G155+Grenser!$G$4)),B155,IF(B155>(G155+Grenser!$G$4),G155+Grenser!$G$4,F155-Grenser!$G$4))","v":0}]
[null,null,"",null,null,null,null,null,null,null,{"$f":"IF(AND(B156>=(F156-Grenser!$G$4),B156<=(G156+Grenser!$G$4)),B156,IF(B156>(G156+Grenser!$G$4),G156+Grenser!$G$4,F156-Grenser!$G$4))","v":0}]
[null,null,"",null,null,null,null,null,null,null,{"$f":"IF(AND(B157>=(F157-Grenser!$G$4),B157<=(G157+Grenser!$G$4)),B157,IF(B157>(G157+Grenser!$G$4),G157+Grenser!$G$4,F157-Grenser!$G$4))","v":0}]
[null,null,"",null,null,null,null,null,null,null,{"$f":"IF(AND(B158>=(F158-Grenser!$G$4),B158<=(G158+Grenser!$G$4)),B158,IF(B158>(G158+Grenser!$G$4),G158+Grenser!$G$4,F158-Grenser!$G$4))","v":0}]
[null,null,"",null,null,null,null,null,null,null,{"$f":"IF(AND(B159>=(F159-Grenser!$G$4),B159<=(G159+Grenser!$G$4)),B159,IF(B159>(G159+Grenser!$G$4),G159+Grenser!$G$4,F159-Grenser!$G$4))","v":0}]
[null,null,"",null,null,null,null,null,null,null,{"$f":"IF(AND(B160>=(F160-Grenser!$G$4),B160<=(G160+Grenser!$G$4)),B160,IF(B160>(G160+Grenser!$G$4),G160+Grenser!$G$4,F160-Grenser!$G$4))","v":0}]
[null,null,"",null,null,null,null,null,null,null,{"$f":"IF(AND(B161>=(F161-Grenser!$G$4),B161<=(G161+Grenser!$G$4)),B161,IF(B161>(G161+Grenser!$G$4),G161+Grenser!$G$4,F161-Grenser!$G$4))","v":0}]
[null,null,"",null,null,null,null,null,null,null,{"$f":"IF(AND(B162>=(F162-Grenser!$G$4),B162<=(G162+Grenser!$G$4)),B162,IF(B162>(G162+Grenser!$G$4),G162+Grenser!$G$4,F162-Grenser!$G$4))","v":0}]
[null,null,"",null,null,null,null,null,null,null,{"$f":"IF(AND(B163>=(F163-Grenser!$G$4),B163<=(G163+Grenser!$G$4)),B163,IF(B163>(G163+Grenser!$G$4),G163+Grenser!$G$4,F163-Grenser!$G$4))","v":0}]
[null,null,"",null,null,null,null,null,null,null,{"$f":"IF(AND(B164>=(F164-Grenser!$G$4),B164<=(G164+Grenser!$G$4)),B164,IF(B164>(G164+Grenser!$G$4),G164+Grenser!$G$4,F164-Grenser!$G$4))","v":0}]
[null,null,"",null,null,null,null,null,null,null,{"$f":"IF(AND(B165>=(F165-Grenser!$G$4),B165<=(G165+Grenser!$G$4)),B165,IF(B165>(G165+Grenser!$G$4),G165+Grenser!$G$4,F165-Grenser!$G$4))","v":0}]
[null,null,"",null,null,null,null,null,null,null,{"$f":"IF(AND(B166>=(F166-Grenser!$G$4),B166<=(G166+Grenser!$G$4)),B166,IF(B166>(G166+Grenser!$G$4),G166+Grenser!$G$4,F166-Grenser!$G$4))","v":0}]
[null,null,"",null,null,null,null,null,null,null,{"$f":"IF(AND(B167>=(F167-Grenser!$G$4),B167<=(G167+Grenser!$G$4)),B167,IF(B167>(G167+Grenser!$G$4),G167+Grenser!$G$4,F167-Grenser!$G$4))","v":0}]
[null,null,"",null,null,null,null,null,null,null,{"$f":"IF(AND(B168>=(F168-Grenser!$G$4),B168<=(G168+Grenser!$G$4)),B168,IF(B168>(G168+Grenser!$G$4),G168+Grenser!$G$4,F168-Grenser!$G$4))","v":0}]
[null,null,"",null,null,null,null,null,null,null,{"$f":"IF(AND(B169>=(F169-Grenser!$G$4),B169<=(G169+Grenser!$G$4)),B169,IF(B169>(G169+Grenser!$G$4),G169+Grenser!$G$4,F169-Grenser!$G$4))","v":0}]
[null,null,"",null,null,null,null,null,null,null,{"$f":"IF(AND(B170>=(F170-Grenser!$G$4),B170<=(G170+Grenser!$G$4)),B170,IF(B170>(G170+Grenser!$G$4),G170+Grenser!$G$4,F170-Grenser!$G$4))","v":0}]
[null,null,"",null,null,null,null,null,null,null,{"$f":"IF(AND(B171>=(F171-Grenser!$G$4),B171<=(G171+Grenser!$G$4)),B171,IF(B171>(G171+Grenser!$G$4),G171+Grenser!$G$4,F171-Grenser!$G$4))","v":0}]
[null,null,"",null,null,null,null,null,null,null,{"$f":"IF(AND(B172>=(F172-Grenser!$G$4),B172<=(G172+Grenser!$G$4)),B172,IF(B172>(G172+Grenser!$G$4),G172+Grenser!$G$4,F172-Grenser!$G$4))","v":0}]
[null,null,"",null,null,null,null,null,null,null,{"$f":"IF(AND(B173>=(F173-Grenser!$G$4),B173<=(G173+Grenser!$G$4)),B173,IF(B173>(G173+Grenser!$G$4),G173+Grenser!$G$4,F173-Grenser!$G$4))","v":0}]
[null,null,"",null,null,null,null,null,null,null,{"$f":"IF(AND(B174>=(F174-Grenser!$G$4),B174<=(G174+Grenser!$G$4)),B174,IF(B174>(G174+Grenser!$G$4),G174+Grenser!$G$4,F174-Grenser!$G$4))","v":0}]
[null,null,"",null,null,null,null,null,null,null,{"$f":"IF(AND(B175>=(F175-Grenser!$G$4),B175<=(G175+Grenser!$G$4)),B175,IF(B175>(G175+Grenser!$G$4),G175+Grenser!$G$4,F175-Grenser!$G$4))","v":0}]
[null,null,"",null,null,null,null,null,null,null,{"$f":"IF(AND(B176>=(F176-Grenser!$G$4),B176<=(G176+Grenser!$G$4)),B176,IF(B176>(G176+Grenser!$G$4),G176+Grenser!$G$4,F176-Grenser!$G$4))","v":0}]
[null,null,"",null,null,null,null,null,null,null,{"$f":"IF(AND(B177>=(F177-Grenser!$G$4),B177<=(G177+Grenser!$G$4)),B177,IF(B177>(G177+Grenser!$G$4),G177+Grenser!$G$4,F177-Grenser!$G$4))","v":0}]
[null,null,"",null,null,null,null,null,null,null,{"$f":"IF(AND(B178>=(F178-Grenser!$G$4),B178<=(G178+Grenser!$G$4)),B178,IF(B178>(G178+Grenser!$G$4),G178+Grenser!$G$4,F178-Grenser!$G$4))","v":0}]
[null,null,"",null,null,null,null,null,null,null,{"$f":"IF(AND(B179>=(F179-Grenser!$G$4),B179<=(G179+Grenser!$G$4)),B179,IF(B179>(G179+Grenser!$G$4),G179+Grenser!$G$4,F179-Grenser!$G$4))","v":0}]
[null,null,"",null,null,null,null,null,null,null,{"$f":"IF(AND(B180>=(F180-Grenser!$G$4),B180<=(G180+Grenser!$G$4)),B180,IF(B180>(G180+Grenser!$G$4),G180+Grenser!$G$4,F180-Grenser!$G$4))","v":0}]
[null,null,"",null,null,null,null,null,null,null,{"$f":"IF(AND(B181>=(F181-Grenser!$G$4),B181<=(G181+Grenser!$G$4)),B181,IF(B181>(G181+Grenser!$G$4),G181+Grenser!$G$4,F181-Grenser!$G$4))","v":0}]
[null,null,"",null,null,null,null,null,null,null,{"$f":"IF(AND(B182>=(F182-Grenser!$G$4),B182<=(G182+Grenser!$G$4)),B182,IF(B182>(G182+Grenser!$G$4),G182+Grenser!$G$4,F182-Grenser!$G$4))","v":0}]
[null,null,"",null,null,null,null,null,null,null,{"$f":"IF(AND(B183>=(F183-Grenser!$G$4),B183<=(G183+Grenser!$G$4)),B183,IF(B183>(G183+Grenser!$G$4),G183+Grenser!$G$4,F183-Grenser!$G$4))","v":0}]
[null,null,"",null,null,null,null,null,null,null,{"$f":"IF(AND(B184>=(F184-Grenser!$G$4),B184<=(G184+Grenser!$G$4)),B184,IF(B184>(G184+Grenser!$G$4),G184+Grenser!$G$4,F184-Grenser!$G$4))","v":0}]
[null,null,"",null,null,null,null,null,null,null,{"$f":"IF(AND(B185>=(F185-Grenser!$G$4),B185<=(G185+Grenser!$G$4)),B185,IF(B185>(G185+Grenser!$G$4),G185+Grenser!$G$4,F185-Grenser!$G$4))","v":0}]
[null,null,"",null,null,null,null,null,null,null,{"$f":"IF(AND(B186>=(F186-Grenser!$G$4),B186<=(G186+Grenser!$G$4)),B186,IF(B186>(G186+Grenser!$G$4),G186+Grenser!$G$4,F186-Grenser!$G$4))","v":0}]
[null,null,"",null,null,null,null,null,null,null,{"$f":"IF(AND(B187>=(F187-Grenser!$G$4),B187<=(G187+Grenser!$G$4)),B187,IF(B187>(G187+Grenser!$G$4),G187+Grenser!$G$4,F187-Grenser!$G$4))","v":0}]
[null,null,"",null,null,null,null,null,null,null,{"$f":"IF(AND(B188>=(F188-Grenser!$G$4),B188<=(G188+Grenser!$G$4)),B188,IF(B188>(G188+Grenser!$G$4),G188+Grenser!$G$4,F188-Grenser!$G$4))","v":0}]
[null,null,"",null,null,null,null,null,null,null,{"$f":"IF(AND(B189>=(F189-Grenser!$G$4),B189<=(G189+Grenser!$G$4)),B189,IF(B189>(G189+Grenser!$G$4),G189+Grenser!$G$4,F189-Grenser!$G$4))","v":0}]
[null,null,"",null,null,null,null,null,null,null,{"$f":"IF(AND(B190>=(F190-Grenser!$G$4),B190<=(G190+Grenser!$G$4)),B190,IF(B190>(G190+Grenser!$G$4),G190+Grenser!$G$4,F190-Grenser!$G$4))","v":0}]
[null,null,"",null,null,null,null,null,null,null,{"$f":"IF(AND(B191>=(F191-Grenser!$G$4),B191<=(G191+Grenser!$G$4)),B191,IF(B191>(G191+Grenser!$G$4),G191+Grenser!$G$4,F191-Grenser!$G$4))","v":0}]
[null,null,"",null,null,null,null,null,null,null,{"$f":"IF(AND(B192>=(F192-Grenser!$G$4),B192<=(G192+Grenser!$G$4)),B192,IF(B192>(G192+Grenser!$G$4),G192+Grenser!$G$4,F192-Grenser!$G$4))","v":0}]
[null,null,"",null,null,null,null,null,null,null,{"$f":"IF(AND(B193>=(F193-Grenser!$G$4),B193<=(G193+Grenser!$G$4)),B193,IF(B193>(G193+Grenser!$G$4),G193+Grenser!$G$4,F193-Grenser!$G$4))","v":0}]
[null,null,"",null,null,null,null,null,null,null,{"$f":"IF(AND(B194>=(F194-Grenser!$G$4),B194<=(G194+Grenser!$G$4)),B194,IF(B194>(G194+Grenser!$G$4),G194+Grenser!$G$4,F194-Grenser!$G$4))","v":0}]
[null,null,"",null,null,null,null,null,null,null,{"$f":"IF(AND(B195>=(F195-Grenser!$G$4),B195<=(G195+Grenser!$G$4)),B195,IF(B195>(G195+Grenser!$G$4),G195+Grenser!$G$4,F195-Grenser!$G$4))","v":0}]
[null,null,"",null,null,null,null,null,null,null,{"$f":"IF(AND(B196>=(F196-Grenser!$G$4),B196<=(G196+Grenser!$G$4)),B196,IF(B196>(G196+Grenser!$G$4),G196+Grenser!$G$4,F196-Grenser!$G$4))","v":0}]
[null,null,"",null,null,null,null,null,null,null,{"$f":"IF(AND(B197>=(F197-Grenser!$G$4),B197<=(G197+Grenser!$G$4)),B197,IF(B197>(G197+Grenser!$G$4),G197+Grenser!$G$4,F197-Grenser!$G$4))","v":0}]
[null,null,"",null,null,null,null,null,null,null,{"$f":"IF(AND(B198>=(F198-Grenser!$G$4),B198<=(G198+Grenser!$G$4)),B198,IF(B198>(G198+Grenser!$G$4),G198+Grenser!$G$4,F198-Grenser!$G$4))","v":0}]
[null,null,{"$f":"IF(B199<>\"\",(IF(OR(B199<F199,B199>G199),\"STOPP\",\"OK\")),\"\")","v":""},null,null,null,null,null,null,null,{"$f":"IF(AND(B199>=(F199-Grenser!$G$4),B199<=(G199+Grenser!$G$4)),B199,IF(B199>(G199+Grenser!$G$4),G199+Grenser!$G$4,F199-Grenser!$G$4))","v":0}]
[null,null,{"$f":"IF(B200<>\"\",(IF(OR(B200<F200,B200>G200),\"STOPP\",\"OK\")),\"\")","v":""},null,null,null,null,null,null,{"$f":"IF(G200<>\"\",IF((OR((G200>$V200),(G200<$U200))),IF(OR((G200>$T200),(G200<$S200)),\"STOPP\",\"Vurder\"),\"Ok\"),\"\")","v":""},{"$f":"IF(AND(B200>=(F200-Grenser!$G$4),B200<=(G200+Grenser!$G$4)),B200,IF(B200>(G200+Grenser!$G$4),G200+Grenser!$G$4,F200-Grenser!$G$4))","v":0}]
[null,null,{"$f":"IF(B201<>\"\",(IF(OR(B201<F201,B201>G201),\"STOPP\",\"OK\")),\"\")","v":""},null,null,null,null,null,null,"",{"$f":"IF(AND(B201>=(F201-Grenser!$G$4),B201<=(G201+Grenser!$G$4)),B201,IF(B201>(G201+Grenser!$G$4),G201+Grenser!$G$4,F201-Grenser!$G$4))","v":0}]

{"sheet":"Ikke i bruk 7","index":9,"n_rows":201,"n_cols":11,"rows_kept":201,"cut":false,"hidden":false,"merged":[[0,0,0,9]]}
[{"$f":"Grenser!B10","v":"Ikke i bruk 7"}]
["Antall",{"$f":" COUNT(B7:B201)","v":0}]
["Mean",{"$f":"AVERAGE(B7:B201)","v":{"$error":"#DIV/0!"}}]
["Standardavvik",{"$f":"STDEV(B7:B201)","v":{"$error":"#DIV/0!"}}]
["CV",{"$f":"B4*100/B3","v":{"$error":"#DIV/0!"}}]
["Dato avlest","Avlest sone","Vurdering","Produksjonsdato res.skål","Satt opp sign","Lav grense","Høy grense","Dato Satt opp","Avlest sign","Teller","Avlest sone korrigert"]
[null,null,{"$f":"IF(B7<>\"\",(IF(OR(B7<F7,B7>G7),\"STOPP\",\"OK\")),\"\")","v":""},null,null,null,null,null,null,null,{"$f":"IF(AND(B7>=(F7-Grenser!$G$4),B7<=(G7+Grenser!$G$4)),B7,IF(B7>(G7+Grenser!$G$4),G7+Grenser!$G$4,F7-Grenser!$G$4))","v":0}]
[null,null,"",null,null,null,null,null,null,null,{"$f":"IF(AND(B8>=(F8-Grenser!$G$4),B8<=(G8+Grenser!$G$4)),B8,IF(B8>(G8+Grenser!$G$4),G8+Grenser!$G$4,F8-Grenser!$G$4))","v":0}]
[null,null,"",null,null,null,null,null,null,null,{"$f":"IF(AND(B9>=(F9-Grenser!$G$4),B9<=(G9+Grenser!$G$4)),B9,IF(B9>(G9+Grenser!$G$4),G9+Grenser!$G$4,F9-Grenser!$G$4))","v":0}]
[null,null,"",null,null,null,null,null,null,null,{"$f":"IF(AND(B10>=(F10-Grenser!$G$4),B10<=(G10+Grenser!$G$4)),B10,IF(B10>(G10+Grenser!$G$4),G10+Grenser!$G$4,F10-Grenser!$G$4))","v":0}]
[null,null,"",null,null,null,null,null,null,null,{"$f":"IF(AND(B11>=(F11-Grenser!$G$4),B11<=(G11+Grenser!$G$4)),B11,IF(B11>(G11+Grenser!$G$4),G11+Grenser!$G$4,F11-Grenser!$G$4))","v":0}]
[null,null,"",null,null,null,null,null,null,null,{"$f":"IF(AND(B12>=(F12-Grenser!$G$4),B12<=(G12+Grenser!$G$4)),B12,IF(B12>(G12+Grenser!$G$4),G12+Grenser!$G$4,F12-Grenser!$G$4))","v":0}]
[null,null,"",null,null,null,null,null,null,null,{"$f":"IF(AND(B13>=(F13-Grenser!$G$4),B13<=(G13+Grenser!$G$4)),B13,IF(B13>(G13+Grenser!$G$4),G13+Grenser!$G$4,F13-Grenser!$G$4))","v":0}]
[null,null,"",null,null,null,null,null,null,null,{"$f":"IF(AND(B14>=(F14-Grenser!$G$4),B14<=(G14+Grenser!$G$4)),B14,IF(B14>(G14+Grenser!$G$4),G14+Grenser!$G$4,F14-Grenser!$G$4))","v":0}]
[null,null,"",null,null,null,null,null,null,null,{"$f":"IF(AND(B15>=(F15-Grenser!$G$4),B15<=(G15+Grenser!$G$4)),B15,IF(B15>(G15+Grenser!$G$4),G15+Grenser!$G$4,F15-Grenser!$G$4))","v":0}]
[null,null,"",null,null,null,null,null,null,null,{"$f":"IF(AND(B16>=(F16-Grenser!$G$4),B16<=(G16+Grenser!$G$4)),B16,IF(B16>(G16+Grenser!$G$4),G16+Grenser!$G$4,F16-Grenser!$G$4))","v":0}]
[null,null,"",null,null,null,null,null,null,null,{"$f":"IF(AND(B17>=(F17-Grenser!$G$4),B17<=(G17+Grenser!$G$4)),B17,IF(B17>(G17+Grenser!$G$4),G17+Grenser!$G$4,F17-Grenser!$G$4))","v":0}]
[null,null,"",null,null,null,null,null,null,null,{"$f":"IF(AND(B18>=(F18-Grenser!$G$4),B18<=(G18+Grenser!$G$4)),B18,IF(B18>(G18+Grenser!$G$4),G18+Grenser!$G$4,F18-Grenser!$G$4))","v":0}]
[null,null,"",null,null,null,null,null,null,null,{"$f":"IF(AND(B19>=(F19-Grenser!$G$4),B19<=(G19+Grenser!$G$4)),B19,IF(B19>(G19+Grenser!$G$4),G19+Grenser!$G$4,F19-Grenser!$G$4))","v":0}]
[null,null,"",null,null,null,null,null,null,null,{"$f":"IF(AND(B20>=(F20-Grenser!$G$4),B20<=(G20+Grenser!$G$4)),B20,IF(B20>(G20+Grenser!$G$4),G20+Grenser!$G$4,F20-Grenser!$G$4))","v":0}]
[null,null,"",null,null,null,null,null,null,null,{"$f":"IF(AND(B21>=(F21-Grenser!$G$4),B21<=(G21+Grenser!$G$4)),B21,IF(B21>(G21+Grenser!$G$4),G21+Grenser!$G$4,F21-Grenser!$G$4))","v":0}]
[null,null,"",null,null,null,null,null,null,null,{"$f":"IF(AND(B22>=(F22-Grenser!$G$4),B22<=(G22+Grenser!$G$4)),B22,IF(B22>(G22+Grenser!$G$4),G22+Grenser!$G$4,F22-Grenser!$G$4))","v":0}]
[null,null,"",null,null,null,null,null,null,null,{"$f":"IF(AND(B23>=(F23-Grenser!$G$4),B23<=(G23+Grenser!$G$4)),B23,IF(B23>(G23+Grenser!$G$4),G23+Grenser!$G$4,F23-Grenser!$G$4))","v":0}]
[null,null,"",null,null,null,null,null,null,null,{"$f":"IF(AND(B24>=(F24-Grenser!$G$4),B24<=(G24+Grenser!$G$4)),B24,IF(B24>(G24+Grenser!$G$4),G24+Grenser!$G$4,F24-Grenser!$G$4))","v":0}]
[null,null,"",null,null,null,null,null,null,null,{"$f":"IF(AND(B25>=(F25-Grenser!$G$4),B25<=(G25+Grenser!$G$4)),B25,IF(B25>(G25+Grenser!$G$4),G25+Grenser!$G$4,F25-Grenser!$G$4))","v":0}]
[null,null,"",null,null,null,null,null,null,null,{"$f":"IF(AND(B26>=(F26-Grenser!$G$4),B26<=(G26+Grenser!$G$4)),B26,IF(B26>(G26+Grenser!$G$4),G26+Grenser!$G$4,F26-Grenser!$G$4))","v":0}]
[null,null,"",null,null,null,null,null,null,null,{"$f":"IF(AND(B27>=(F27-Grenser!$G$4),B27<=(G27+Grenser!$G$4)),B27,IF(B27>(G27+Grenser!$G$4),G27+Grenser!$G$4,F27-Grenser!$G$4))","v":0}]
[null,null,"",null,null,null,null,null,null,null,{"$f":"IF(AND(B28>=(F28-Grenser!$G$4),B28<=(G28+Grenser!$G$4)),B28,IF(B28>(G28+Grenser!$G$4),G28+Grenser!$G$4,F28-Grenser!$G$4))","v":0}]
[null,null,"",null,null,null,null,null,null,null,{"$f":"IF(AND(B29>=(F29-Grenser!$G$4),B29<=(G29+Grenser!$G$4)),B29,IF(B29>(G29+Grenser!$G$4),G29+Grenser!$G$4,F29-Grenser!$G$4))","v":0}]
[null,null,"",null,null,null,null,null,null,null,{"$f":"IF(AND(B30>=(F30-Grenser!$G$4),B30<=(G30+Grenser!$G$4)),B30,IF(B30>(G30+Grenser!$G$4),G30+Grenser!$G$4,F30-Grenser!$G$4))","v":0}]
[null,null,"",null,null,null,null,null,null,null,{"$f":"IF(AND(B31>=(F31-Grenser!$G$4),B31<=(G31+Grenser!$G$4)),B31,IF(B31>(G31+Grenser!$G$4),G31+Grenser!$G$4,F31-Grenser!$G$4))","v":0}]
[null,null,"",null,null,null,null,null,null,null,{"$f":"IF(AND(B32>=(F32-Grenser!$G$4),B32<=(G32+Grenser!$G$4)),B32,IF(B32>(G32+Grenser!$G$4),G32+Grenser!$G$4,F32-Grenser!$G$4))","v":0}]
[null,null,"",null,null,null,null,null,null,null,{"$f":"IF(AND(B33>=(F33-Grenser!$G$4),B33<=(G33+Grenser!$G$4)),B33,IF(B33>(G33+Grenser!$G$4),G33+Grenser!$G$4,F33-Grenser!$G$4))","v":0}]
[null,null,"",null,null,null,null,null,null,null,{"$f":"IF(AND(B34>=(F34-Grenser!$G$4),B34<=(G34+Grenser!$G$4)),B34,IF(B34>(G34+Grenser!$G$4),G34+Grenser!$G$4,F34-Grenser!$G$4))","v":0}]
[null,null,"",null,null,null,null,null,null,null,{"$f":"IF(AND(B35>=(F35-Grenser!$G$4),B35<=(G35+Grenser!$G$4)),B35,IF(B35>(G35+Grenser!$G$4),G35+Grenser!$G$4,F35-Grenser!$G$4))","v":0}]
[null,null,"",null,null,null,null,null,null,null,{"$f":"IF(AND(B36>=(F36-Grenser!$G$4),B36<=(G36+Grenser!$G$4)),B36,IF(B36>(G36+Grenser!$G$4),G36+Grenser!$G$4,F36-Grenser!$G$4))","v":0}]
[null,null,"",null,null,null,null,null,null,null,{"$f":"IF(AND(B37>=(F37-Grenser!$G$4),B37<=(G37+Grenser!$G$4)),B37,IF(B37>(G37+Grenser!$G$4),G37+Grenser!$G$4,F37-Grenser!$G$4))","v":0}]
[null,null,"",null,null,null,null,null,null,null,{"$f":"IF(AND(B38>=(F38-Grenser!$G$4),B38<=(G38+Grenser!$G$4)),B38,IF(B38>(G38+Grenser!$G$4),G38+Grenser!$G$4,F38-Grenser!$G$4))","v":0}]
[null,null,"",null,null,null,null,null,null,null,{"$f":"IF(AND(B39>=(F39-Grenser!$G$4),B39<=(G39+Grenser!$G$4)),B39,IF(B39>(G39+Grenser!$G$4),G39+Grenser!$G$4,F39-Grenser!$G$4))","v":0}]
[null,null,"",null,null,null,null,null,null,null,{"$f":"IF(AND(B40>=(F40-Grenser!$G$4),B40<=(G40+Grenser!$G$4)),B40,IF(B40>(G40+Grenser!$G$4),G40+Grenser!$G$4,F40-Grenser!$G$4))","v":0}]
[null,null,"",null,null,null,null,null,null,null,{"$f":"IF(AND(B41>=(F41-Grenser!$G$4),B41<=(G41+Grenser!$G$4)),B41,IF(B41>(G41+Grenser!$G$4),G41+Grenser!$G$4,F41-Grenser!$G$4))","v":0}]
[null,null,"",null,null,null,null,null,null,null,{"$f":"IF(AND(B42>=(F42-Grenser!$G$4),B42<=(G42+Grenser!$G$4)),B42,IF(B42>(G42+Grenser!$G$4),G42+Grenser!$G$4,F42-Grenser!$G$4))","v":0}]
[null,null,"",null,null,null,null,null,null,null,{"$f":"IF(AND(B43>=(F43-Grenser!$G$4),B43<=(G43+Grenser!$G$4)),B43,IF(B43>(G43+Grenser!$G$4),G43+Grenser!$G$4,F43-Grenser!$G$4))","v":0}]
[null,null,"",null,null,null,null,null,null,null,{"$f":"IF(AND(B44>=(F44-Grenser!$G$4),B44<=(G44+Grenser!$G$4)),B44,IF(B44>(G44+Grenser!$G$4),G44+Grenser!$G$4,F44-Grenser!$G$4))","v":0}]
[null,null,"",null,null,null,null,null,null,null,{"$f":"IF(AND(B45>=(F45-Grenser!$G$4),B45<=(G45+Grenser!$G$4)),B45,IF(B45>(G45+Grenser!$G$4),G45+Grenser!$G$4,F45-Grenser!$G$4))","v":0}]
[null,null,"",null,null,null,null,null,null,null,{"$f":"IF(AND(B46>=(F46-Grenser!$G$4),B46<=(G46+Grenser!$G$4)),B46,IF(B46>(G46+Grenser!$G$4),G46+Grenser!$G$4,F46-Grenser!$G$4))","v":0}]
[null,null,"",null,null,null,null,null,null,null,{"$f":"IF(AND(B47>=(F47-Grenser!$G$4),B47<=(G47+Grenser!$G$4)),B47,IF(B47>(G47+Grenser!$G$4),G47+Grenser!$G$4,F47-Grenser!$G$4))","v":0}]
[null,null,"",null,null,null,null,null,null,null,{"$f":"IF(AND(B48>=(F48-Grenser!$G$4),B48<=(G48+Grenser!$G$4)),B48,IF(B48>(G48+Grenser!$G$4),G48+Grenser!$G$4,F48-Grenser!$G$4))","v":0}]
[null,null,"",null,null,null,null,null,null,null,{"$f":"IF(AND(B49>=(F49-Grenser!$G$4),B49<=(G49+Grenser!$G$4)),B49,IF(B49>(G49+Grenser!$G$4),G49+Grenser!$G$4,F49-Grenser!$G$4))","v":0}]
[null,null,"",null,null,null,null,null,null,null,{"$f":"IF(AND(B50>=(F50-Grenser!$G$4),B50<=(G50+Grenser!$G$4)),B50,IF(B50>(G50+Grenser!$G$4),G50+Grenser!$G$4,F50-Grenser!$G$4))","v":0}]
[null,null,"",null,null,null,null,null,null,null,{"$f":"IF(AND(B51>=(F51-Grenser!$G$4),B51<=(G51+Grenser!$G$4)),B51,IF(B51>(G51+Grenser!$G$4),G51+Grenser!$G$4,F51-Grenser!$G$4))","v":0}]
[null,null,"",null,null,null,null,null,null,null,{"$f":"IF(AND(B52>=(F52-Grenser!$G$4),B52<=(G52+Grenser!$G$4)),B52,IF(B52>(G52+Grenser!$G$4),G52+Grenser!$G$4,F52-Grenser!$G$4))","v":0}]
[null,null,"",null,null,null,null,null,null,null,{"$f":"IF(AND(B53>=(F53-Grenser!$G$4),B53<=(G53+Grenser!$G$4)),B53,IF(B53>(G53+Grenser!$G$4),G53+Grenser!$G$4,F53-Grenser!$G$4))","v":0}]
[null,null,"",null,null,null,null,null,null,null,{"$f":"IF(AND(B54>=(F54-Grenser!$G$4),B54<=(G54+Grenser!$G$4)),B54,IF(B54>(G54+Grenser!$G$4),G54+Grenser!$G$4,F54-Grenser!$G$4))","v":0}]
[null,null,"",null,null,null,null,null,null,null,{"$f":"IF(AND(B55>=(F55-Grenser!$G$4),B55<=(G55+Grenser!$G$4)),B55,IF(B55>(G55+Grenser!$G$4),G55+Grenser!$G$4,F55-Grenser!$G$4))","v":0}]
[null,null,"",null,null,null,null,null,null,null,{"$f":"IF(AND(B56>=(F56-Grenser!$G$4),B56<=(G56+Grenser!$G$4)),B56,IF(B56>(G56+Grenser!$G$4),G56+Grenser!$G$4,F56-Grenser!$G$4))","v":0}]
[null,null,"",null,null,null,null,null,null,null,{"$f":"IF(AND(B57>=(F57-Grenser!$G$4),B57<=(G57+Grenser!$G$4)),B57,IF(B57>(G57+Grenser!$G$4),G57+Grenser!$G$4,F57-Grenser!$G$4))","v":0}]
[null,null,"",null,null,null,null,null,null,null,{"$f":"IF(AND(B58>=(F58-Grenser!$G$4),B58<=(G58+Grenser!$G$4)),B58,IF(B58>(G58+Grenser!$G$4),G58+Grenser!$G$4,F58-Grenser!$G$4))","v":0}]
[null,null,"",null,null,null,null,null,null,null,{"$f":"IF(AND(B59>=(F59-Grenser!$G$4),B59<=(G59+Grenser!$G$4)),B59,IF(B59>(G59+Grenser!$G$4),G59+Grenser!$G$4,F59-Grenser!$G$4))","v":0}]
[null,null,"",null,null,null,null,null,null,null,{"$f":"IF(AND(B60>=(F60-Grenser!$G$4),B60<=(G60+Grenser!$G$4)),B60,IF(B60>(G60+Grenser!$G$4),G60+Grenser!$G$4,F60-Grenser!$G$4))","v":0}]
[null,null,"",null,null,null,null,null,null,null,{"$f":"IF(AND(B61>=(F61-Grenser!$G$4),B61<=(G61+Grenser!$G$4)),B61,IF(B61>(G61+Grenser!$G$4),G61+Grenser!$G$4,F61-Grenser!$G$4))","v":0}]
[null,null,"",null,null,null,null,null,null,null,{"$f":"IF(AND(B62>=(F62-Grenser!$G$4),B62<=(G62+Grenser!$G$4)),B62,IF(B62>(G62+Grenser!$G$4),G62+Grenser!$G$4,F62-Grenser!$G$4))","v":0}]
[null,null,"",null,null,null,null,null,null,null,{"$f":"IF(AND(B63>=(F63-Grenser!$G$4),B63<=(G63+Grenser!$G$4)),B63,IF(B63>(G63+Grenser!$G$4),G63+Grenser!$G$4,F63-Grenser!$G$4))","v":0}]
[null,null,"",null,null,null,null,null,null,null,{"$f":"IF(AND(B64>=(F64-Grenser!$G$4),B64<=(G64+Grenser!$G$4)),B64,IF(B64>(G64+Grenser!$G$4),G64+Grenser!$G$4,F64-Grenser!$G$4))","v":0}]
[null,null,"",null,null,null,null,null,null,null,{"$f":"IF(AND(B65>=(F65-Grenser!$G$4),B65<=(G65+Grenser!$G$4)),B65,IF(B65>(G65+Grenser!$G$4),G65+Grenser!$G$4,F65-Grenser!$G$4))","v":0}]
[null,null,"",null,null,null,null,null,null,null,{"$f":"IF(AND(B66>=(F66-Grenser!$G$4),B66<=(G66+Grenser!$G$4)),B66,IF(B66>(G66+Grenser!$G$4),G66+Grenser!$G$4,F66-Grenser!$G$4))","v":0}]
[null,null,"",null,null,null,null,null,null,null,{"$f":"IF(AND(B67>=(F67-Grenser!$G$4),B67<=(G67+Grenser!$G$4)),B67,IF(B67>(G67+Grenser!$G$4),G67+Grenser!$G$4,F67-Grenser!$G$4))","v":0}]
[null,null,"",null,null,null,null,null,null,null,{"$f":"IF(AND(B68>=(F68-Grenser!$G$4),B68<=(G68+Grenser!$G$4)),B68,IF(B68>(G68+Grenser!$G$4),G68+Grenser!$G$4,F68-Grenser!$G$4))","v":0}]
[null,null,"",null,null,null,null,null,null,null,{"$f":"IF(AND(B69>=(F69-Grenser!$G$4),B69<=(G69+Grenser!$G$4)),B69,IF(B69>(G69+Grenser!$G$4),G69+Grenser!$G$4,F69-Grenser!$G$4))","v":0}]
[null,null,"",null,null,null,null,null,null,null,{"$f":"IF(AND(B70>=(F70-Grenser!$G$4),B70<=(G70+Grenser!$G$4)),B70,IF(B70>(G70+Grenser!$G$4),G70+Grenser!$G$4,F70-Grenser!$G$4))","v":0}]
[null,null,{"$f":"IF(B71<>\"\",(IF(OR(B71<F71,B71>G71),\"STOPP\",\"OK\")),\"\")","v":""},null,null,null,null,null,null,null,{"$f":"IF(AND(B71>=(F71-Grenser!$G$4),B71<=(G71+Grenser!$G$4)),B71,IF(B71>(G71+Grenser!$G$4),G71+Grenser!$G$4,F71-Grenser!$G$4))","v":0}]
[null,null,"",null,null,null,null,null,null,null,{"$f":"IF(AND(B72>=(F72-Grenser!$G$4),B72<=(G72+Grenser!$G$4)),B72,IF(B72>(G72+Grenser!$G$4),G72+Grenser!$G$4,F72-Grenser!$G$4))","v":0}]
[null,null,"",null,null,null,null,null,null,null,{"$f":"IF(AND(B73>=(F73-Grenser!$G$4),B73<=(G73+Grenser!$G$4)),B73,IF(B73>(G73+Grenser!$G$4),G73+Grenser!$G$4,F73-Grenser!$G$4))","v":0}]
[null,null,"",null,null,null,null,null,null,null,{"$f":"IF(AND(B74>=(F74-Grenser!$G$4),B74<=(G74+Grenser!$G$4)),B74,IF(B74>(G74+Grenser!$G$4),G74+Grenser!$G$4,F74-Grenser!$G$4))","v":0}]
[null,null,"",null,null,null,null,null,null,null,{"$f":"IF(AND(B75>=(F75-Grenser!$G$4),B75<=(G75+Grenser!$G$4)),B75,IF(B75>(G75+Grenser!$G$4),G75+Grenser!$G$4,F75-Grenser!$G$4))","v":0}]
[null,null,"",null,null,null,null,null,null,null,{"$f":"IF(AND(B76>=(F76-Grenser!$G$4),B76<=(G76+Grenser!$G$4)),B76,IF(B76>(G76+Grenser!$G$4),G76+Grenser!$G$4,F76-Grenser!$G$4))","v":0}]
[null,null,"",null,null,null,null,null,null,null,{"$f":"IF(AND(B77>=(F77-Grenser!$G$4),B77<=(G77+Grenser!$G$4)),B77,IF(B77>(G77+Grenser!$G$4),G77+Grenser!$G$4,F77-Grenser!$G$4))","v":0}]
[null,null,"",null,null,null,null,null,null,null,{"$f":"IF(AND(B78>=(F78-Grenser!$G$4),B78<=(G78+Grenser!$G$4)),B78,IF(B78>(G78+Grenser!$G$4),G78+Grenser!$G$4,F78-Grenser!$G$4))","v":0}]
[null,null,"",null,null,null,null,null,null,null,{"$f":"IF(AND(B79>=(F79-Grenser!$G$4),B79<=(G79+Grenser!$G$4)),B79,IF(B79>(G79+Grenser!$G$4),G79+Grenser!$G$4,F79-Grenser!$G$4))","v":0}]
[null,null,"",null,null,null,null,null,null,null,{"$f":"IF(AND(B80>=(F80-Grenser!$G$4),B80<=(G80+Grenser!$G$4)),B80,IF(B80>(G80+Grenser!$G$4),G80+Grenser!$G$4,F80-Grenser!$G$4))","v":0}]
[null,null,"",null,null,null,null,null,null,null,{"$f":"IF(AND(B81>=(F81-Grenser!$G$4),B81<=(G81+Grenser!$G$4)),B81,IF(B81>(G81+Grenser!$G$4),G81+Grenser!$G$4,F81-Grenser!$G$4))","v":0}]
[null,null,"",null,null,null,null,null,null,null,{"$f":"IF(AND(B82>=(F82-Grenser!$G$4),B82<=(G82+Grenser!$G$4)),B82,IF(B82>(G82+Grenser!$G$4),G82+Grenser!$G$4,F82-Grenser!$G$4))","v":0}]
[null,null,"",null,null,null,null,null,null,null,{"$f":"IF(AND(B83>=(F83-Grenser!$G$4),B83<=(G83+Grenser!$G$4)),B83,IF(B83>(G83+Grenser!$G$4),G83+Grenser!$G$4,F83-Grenser!$G$4))","v":0}]
[null,null,"",null,null,null,null,null,null,null,{"$f":"IF(AND(B84>=(F84-Grenser!$G$4),B84<=(G84+Grenser!$G$4)),B84,IF(B84>(G84+Grenser!$G$4),G84+Grenser!$G$4,F84-Grenser!$G$4))","v":0}]
[null,null,"",null,null,null,null,null,null,null,{"$f":"IF(AND(B85>=(F85-Grenser!$G$4),B85<=(G85+Grenser!$G$4)),B85,IF(B85>(G85+Grenser!$G$4),G85+Grenser!$G$4,F85-Grenser!$G$4))","v":0}]
[null,null,"",null,null,null,null,null,null,null,{"$f":"IF(AND(B86>=(F86-Grenser!$G$4),B86<=(G86+Grenser!$G$4)),B86,IF(B86>(G86+Grenser!$G$4),G86+Grenser!$G$4,F86-Grenser!$G$4))","v":0}]
[null,null,"",null,null,null,null,null,null,null,{"$f":"IF(AND(B87>=(F87-Grenser!$G$4),B87<=(G87+Grenser!$G$4)),B87,IF(B87>(G87+Grenser!$G$4),G87+Grenser!$G$4,F87-Grenser!$G$4))","v":0}]
[null,null,"",null,null,null,null,null,null,null,{"$f":"IF(AND(B88>=(F88-Grenser!$G$4),B88<=(G88+Grenser!$G$4)),B88,IF(B88>(G88+Grenser!$G$4),G88+Grenser!$G$4,F88-Grenser!$G$4))","v":0}]
[null,null,"",null,null,null,null,null,null,null,{"$f":"IF(AND(B89>=(F89-Grenser!$G$4),B89<=(G89+Grenser!$G$4)),B89,IF(B89>(G89+Grenser!$G$4),G89+Grenser!$G$4,F89-Grenser!$G$4))","v":0}]
[null,null,"",null,null,null,null,null,null,null,{"$f":"IF(AND(B90>=(F90-Grenser!$G$4),B90<=(G90+Grenser!$G$4)),B90,IF(B90>(G90+Grenser!$G$4),G90+Grenser!$G$4,F90-Grenser!$G$4))","v":0}]
[null,null,"",null,null,null,null,null,null,null,{"$f":"IF(AND(B91>=(F91-Grenser!$G$4),B91<=(G91+Grenser!$G$4)),B91,IF(B91>(G91+Grenser!$G$4),G91+Grenser!$G$4,F91-Grenser!$G$4))","v":0}]
[null,null,"",null,null,null,null,null,null,null,{"$f":"IF(AND(B92>=(F92-Grenser!$G$4),B92<=(G92+Grenser!$G$4)),B92,IF(B92>(G92+Grenser!$G$4),G92+Grenser!$G$4,F92-Grenser!$G$4))","v":0}]
[null,null,"",null,null,null,null,null,null,null,{"$f":"IF(AND(B93>=(F93-Grenser!$G$4),B93<=(G93+Grenser!$G$4)),B93,IF(B93>(G93+Grenser!$G$4),G93+Grenser!$G$4,F93-Grenser!$G$4))","v":0}]
[null,null,"",null,null,null,null,null,null,null,{"$f":"IF(AND(B94>=(F94-Grenser!$G$4),B94<=(G94+Grenser!$G$4)),B94,IF(B94>(G94+Grenser!$G$4),G94+Grenser!$G$4,F94-Grenser!$G$4))","v":0}]
[null,null,"",null,null,null,null,null,null,null,{"$f":"IF(AND(B95>=(F95-Grenser!$G$4),B95<=(G95+Grenser!$G$4)),B95,IF(B95>(G95+Grenser!$G$4),G95+Grenser!$G$4,F95-Grenser!$G$4))","v":0}]
[null,null,"",null,null,null,null,null,null,null,{"$f":"IF(AND(B96>=(F96-Grenser!$G$4),B96<=(G96+Grenser!$G$4)),B96,IF(B96>(G96+Grenser!$G$4),G96+Grenser!$G$4,F96-Grenser!$G$4))","v":0}]
[null,null,"",null,null,null,null,null,null,null,{"$f":"IF(AND(B97>=(F97-Grenser!$G$4),B97<=(G97+Grenser!$G$4)),B97,IF(B97>(G97+Grenser!$G$4),G97+Grenser!$G$4,F97-Grenser!$G$4))","v":0}]
[null,null,"",null,null,null,null,null,null,null,{"$f":"IF(AND(B98>=(F98-Grenser!$G$4),B98<=(G98+Grenser!$G$4)),B98,IF(B98>(G98+Grenser!$G$4),G98+Grenser!$G$4,F98-Grenser!$G$4))","v":0}]
[null,null,"",null,null,null,null,null,null,null,{"$f":"IF(AND(B99>=(F99-Grenser!$G$4),B99<=(G99+Grenser!$G$4)),B99,IF(B99>(G99+Grenser!$G$4),G99+Grenser!$G$4,F99-Grenser!$G$4))","v":0}]
[null,null,"",null,null,null,null,null,null,null,{"$f":"IF(AND(B100>=(F100-Grenser!$G$4),B100<=(G100+Grenser!$G$4)),B100,IF(B100>(G100+Grenser!$G$4),G100+Grenser!$G$4,F100-Grenser!$G$4))","v":0}]
[null,null,"",null,null,null,null,null,null,null,{"$f":"IF(AND(B101>=(F101-Grenser!$G$4),B101<=(G101+Grenser!$G$4)),B101,IF(B101>(G101+Grenser!$G$4),G101+Grenser!$G$4,F101-Grenser!$G$4))","v":0}]
[null,null,"",null,null,null,null,null,null,null,{"$f":"IF(AND(B102>=(F102-Grenser!$G$4),B102<=(G102+Grenser!$G$4)),B102,IF(B102>(G102+Grenser!$G$4),G102+Grenser!$G$4,F102-Grenser!$G$4))","v":0}]
[null,null,"",null,null,null,null,null,null,null,{"$f":"IF(AND(B103>=(F103-Grenser!$G$4),B103<=(G103+Grenser!$G$4)),B103,IF(B103>(G103+Grenser!$G$4),G103+Grenser!$G$4,F103-Grenser!$G$4))","v":0}]
[null,null,"",null,null,null,null,null,null,null,{"$f":"IF(AND(B104>=(F104-Grenser!$G$4),B104<=(G104+Grenser!$G$4)),B104,IF(B104>(G104+Grenser!$G$4),G104+Grenser!$G$4,F104-Grenser!$G$4))","v":0}]
[null,null,"",null,null,null,null,null,null,null,{"$f":"IF(AND(B105>=(F105-Grenser!$G$4),B105<=(G105+Grenser!$G$4)),B105,IF(B105>(G105+Grenser!$G$4),G105+Grenser!$G$4,F105-Grenser!$G$4))","v":0}]
[null,null,"",null,null,null,null,null,null,null,{"$f":"IF(AND(B106>=(F106-Grenser!$G$4),B106<=(G106+Grenser!$G$4)),B106,IF(B106>(G106+Grenser!$G$4),G106+Grenser!$G$4,F106-Grenser!$G$4))","v":0}]
[null,null,"",null,null,null,null,null,null,null,{"$f":"IF(AND(B107>=(F107-Grenser!$G$4),B107<=(G107+Grenser!$G$4)),B107,IF(B107>(G107+Grenser!$G$4),G107+Grenser!$G$4,F107-Grenser!$G$4))","v":0}]
[null,null,"",null,null,null,null,null,null,null,{"$f":"IF(AND(B108>=(F108-Grenser!$G$4),B108<=(G108+Grenser!$G$4)),B108,IF(B108>(G108+Grenser!$G$4),G108+Grenser!$G$4,F108-Grenser!$G$4))","v":0}]
[null,null,"",null,null,null,null,null,null,null,{"$f":"IF(AND(B109>=(F109-Grenser!$G$4),B109<=(G109+Grenser!$G$4)),B109,IF(B109>(G109+Grenser!$G$4),G109+Grenser!$G$4,F109-Grenser!$G$4))","v":0}]
[null,null,"",null,null,null,null,null,null,null,{"$f":"IF(AND(B110>=(F110-Grenser!$G$4),B110<=(G110+Grenser!$G$4)),B110,IF(B110>(G110+Grenser!$G$4),G110+Grenser!$G$4,F110-Grenser!$G$4))","v":0}]
[null,null,"",null,null,null,null,null,null,null,{"$f":"IF(AND(B111>=(F111-Grenser!$G$4),B111<=(G111+Grenser!$G$4)),B111,IF(B111>(G111+Grenser!$G$4),G111+Grenser!$G$4,F111-Grenser!$G$4))","v":0}]
[null,null,"",null,null,null,null,null,null,null,{"$f":"IF(AND(B112>=(F112-Grenser!$G$4),B112<=(G112+Grenser!$G$4)),B112,IF(B112>(G112+Grenser!$G$4),G112+Grenser!$G$4,F112-Grenser!$G$4))","v":0}]
[null,null,"",null,null,null,null,null,null,null,{"$f":"IF(AND(B113>=(F113-Grenser!$G$4),B113<=(G113+Grenser!$G$4)),B113,IF(B113>(G113+Grenser!$G$4),G113+Grenser!$G$4,F113-Grenser!$G$4))","v":0}]
[null,null,"",null,null,null,null,null,null,null,{"$f":"IF(AND(B114>=(F114-Grenser!$G$4),B114<=(G114+Grenser!$G$4)),B114,IF(B114>(G114+Grenser!$G$4),G114+Grenser!$G$4,F114-Grenser!$G$4))","v":0}]
[null,null,"",null,null,null,null,null,null,null,{"$f":"IF(AND(B115>=(F115-Grenser!$G$4),B115<=(G115+Grenser!$G$4)),B115,IF(B115>(G115+Grenser!$G$4),G115+Grenser!$G$4,F115-Grenser!$G$4))","v":0}]
[null,null,"",null,null,null,null,null,null,null,{"$f":"IF(AND(B116>=(F116-Grenser!$G$4),B116<=(G116+Grenser!$G$4)),B116,IF(B116>(G116+Grenser!$G$4),G116+Grenser!$G$4,F116-Grenser!$G$4))","v":0}]
[null,null,"",null,null,null,null,null,null,null,{"$f":"IF(AND(B117>=(F117-Grenser!$G$4),B117<=(G117+Grenser!$G$4)),B117,IF(B117>(G117+Grenser!$G$4),G117+Grenser!$G$4,F117-Grenser!$G$4))","v":0}]
[null,null,"",null,null,null,null,null,null,null,{"$f":"IF(AND(B118>=(F118-Grenser!$G$4),B118<=(G118+Grenser!$G$4)),B118,IF(B118>(G118+Grenser!$G$4),G118+Grenser!$G$4,F118-Grenser!$G$4))","v":0}]
[null,null,"",null,null,null,null,null,null,null,{"$f":"IF(AND(B119>=(F119-Grenser!$G$4),B119<=(G119+Grenser!$G$4)),B119,IF(B119>(G119+Grenser!$G$4),G119+Grenser!$G$4,F119-Grenser!$G$4))","v":0}]
[null,null,"",null,null,null,null,null,null,null,{"$f":"IF(AND(B120>=(F120-Grenser!$G$4),B120<=(G120+Grenser!$G$4)),B120,IF(B120>(G120+Grenser!$G$4),G120+Grenser!$G$4,F120-Grenser!$G$4))","v":0}]
[null,null,"",null,null,null,null,null,null,null,{"$f":"IF(AND(B121>=(F121-Grenser!$G$4),B121<=(G121+Grenser!$G$4)),B121,IF(B121>(G121+Grenser!$G$4),G121+Grenser!$G$4,F121-Grenser!$G$4))","v":0}]
[null,null,"",null,null,null,null,null,null,null,{"$f":"IF(AND(B122>=(F122-Grenser!$G$4),B122<=(G122+Grenser!$G$4)),B122,IF(B122>(G122+Grenser!$G$4),G122+Grenser!$G$4,F122-Grenser!$G$4))","v":0}]
[null,null,"",null,null,null,null,null,null,null,{"$f":"IF(AND(B123>=(F123-Grenser!$G$4),B123<=(G123+Grenser!$G$4)),B123,IF(B123>(G123+Grenser!$G$4),G123+Grenser!$G$4,F123-Grenser!$G$4))","v":0}]
[null,null,"",null,null,null,null,null,null,null,{"$f":"IF(AND(B124>=(F124-Grenser!$G$4),B124<=(G124+Grenser!$G$4)),B124,IF(B124>(G124+Grenser!$G$4),G124+Grenser!$G$4,F124-Grenser!$G$4))","v":0}]
[null,null,"",null,null,null,null,null,null,null,{"$f":"IF(AND(B125>=(F125-Grenser!$G$4),B125<=(G125+Grenser!$G$4)),B125,IF(B125>(G125+Grenser!$G$4),G125+Grenser!$G$4,F125-Grenser!$G$4))","v":0}]
[null,null,"",null,null,null,null,null,null,null,{"$f":"IF(AND(B126>=(F126-Grenser!$G$4),B126<=(G126+Grenser!$G$4)),B126,IF(B126>(G126+Grenser!$G$4),G126+Grenser!$G$4,F126-Grenser!$G$4))","v":0}]
[null,null,"",null,null,null,null,null,null,null,{"$f":"IF(AND(B127>=(F127-Grenser!$G$4),B127<=(G127+Grenser!$G$4)),B127,IF(B127>(G127+Grenser!$G$4),G127+Grenser!$G$4,F127-Grenser!$G$4))","v":0}]
[null,null,"",null,null,null,null,null,null,null,{"$f":"IF(AND(B128>=(F128-Grenser!$G$4),B128<=(G128+Grenser!$G$4)),B128,IF(B128>(G128+Grenser!$G$4),G128+Grenser!$G$4,F128-Grenser!$G$4))","v":0}]
[null,null,"",null,null,null,null,null,null,null,{"$f":"IF(AND(B129>=(F129-Grenser!$G$4),B129<=(G129+Grenser!$G$4)),B129,IF(B129>(G129+Grenser!$G$4),G129+Grenser!$G$4,F129-Grenser!$G$4))","v":0}]
[null,null,"",null,null,null,null,null,null,null,{"$f":"IF(AND(B130>=(F130-Grenser!$G$4),B130<=(G130+Grenser!$G$4)),B130,IF(B130>(G130+Grenser!$G$4),G130+Grenser!$G$4,F130-Grenser!$G$4))","v":0}]
[null,null,"",null,null,null,null,null,null,null,{"$f":"IF(AND(B131>=(F131-Grenser!$G$4),B131<=(G131+Grenser!$G$4)),B131,IF(B131>(G131+Grenser!$G$4),G131+Grenser!$G$4,F131-Grenser!$G$4))","v":0}]
[null,null,"",null,null,null,null,null,null,null,{"$f":"IF(AND(B132>=(F132-Grenser!$G$4),B132<=(G132+Grenser!$G$4)),B132,IF(B132>(G132+Grenser!$G$4),G132+Grenser!$G$4,F132-Grenser!$G$4))","v":0}]
[null,null,"",null,null,null,null,null,null,null,{"$f":"IF(AND(B133>=(F133-Grenser!$G$4),B133<=(G133+Grenser!$G$4)),B133,IF(B133>(G133+Grenser!$G$4),G133+Grenser!$G$4,F133-Grenser!$G$4))","v":0}]
[null,null,"",null,null,null,null,null,null,null,{"$f":"IF(AND(B134>=(F134-Grenser!$G$4),B134<=(G134+Grenser!$G$4)),B134,IF(B134>(G134+Grenser!$G$4),G134+Grenser!$G$4,F134-Grenser!$G$4))","v":0}]
[null,null,{"$f":"IF(B135<>\"\",(IF(OR(B135<F135,B135>G135),\"STOPP\",\"OK\")),\"\")","v":""},null,null,null,null,null,null,null,{"$f":"IF(AND(B135>=(F135-Grenser!$G$4),B135<=(G135+Grenser!$G$4)),B135,IF(B135>(G135+Grenser!$G$4),G135+Grenser!$G$4,F135-Grenser!$G$4))","v":0}]
[null,null,"",null,null,null,null,null,null,null,{"$f":"IF(AND(B136>=(F136-Grenser!$G$4),B136<=(G136+Grenser!$G$4)),B136,IF(B136>(G136+Grenser!$G$4),G136+Grenser!$G$4,F136-Grenser!$G$4))","v":0}]
[null,null,"",null,null,null,null,null,null,null,{"$f":"IF(AND(B137>=(F137-Grenser!$G$4),B137<=(G137+Grenser!$G$4)),B137,IF(B137>(G137+Grenser!$G$4),G137+Grenser!$G$4,F137-Grenser!$G$4))","v":0}]
[null,null,"",null,null,null,null,null,null,null,{"$f":"IF(AND(B138>=(F138-Grenser!$G$4),B138<=(G138+Grenser!$G$4)),B138,IF(B138>(G138+Grenser!$G$4),G138+Grenser!$G$4,F138-Grenser!$G$4))","v":0}]
[null,null,"",null,null,null,null,null,null,null,{"$f":"IF(AND(B139>=(F139-Grenser!$G$4),B139<=(G139+Grenser!$G$4)),B139,IF(B139>(G139+Grenser!$G$4),G139+Grenser!$G$4,F139-Grenser!$G$4))","v":0}]
[null,null,"",null,null,null,null,null,null,null,{"$f":"IF(AND(B140>=(F140-Grenser!$G$4),B140<=(G140+Grenser!$G$4)),B140,IF(B140>(G140+Grenser!$G$4),G140+Grenser!$G$4,F140-Grenser!$G$4))","v":0}]
[null,null,"",null,null,null,null,null,null,null,{"$f":"IF(AND(B141>=(F141-Grenser!$G$4),B141<=(G141+Grenser!$G$4)),B141,IF(B141>(G141+Grenser!$G$4),G141+Grenser!$G$4,F141-Grenser!$G$4))","v":0}]
[null,null,"",null,null,null,null,null,null,null,{"$f":"IF(AND(B142>=(F142-Grenser!$G$4),B142<=(G142+Grenser!$G$4)),B142,IF(B142>(G142+Grenser!$G$4),G142+Grenser!$G$4,F142-Grenser!$G$4))","v":0}]
[null,null,"",null,null,null,null,null,null,null,{"$f":"IF(AND(B143>=(F143-Grenser!$G$4),B143<=(G143+Grenser!$G$4)),B143,IF(B143>(G143+Grenser!$G$4),G143+Grenser!$G$4,F143-Grenser!$G$4))","v":0}]
[null,null,"",null,null,null,null,null,null,null,{"$f":"IF(AND(B144>=(F144-Grenser!$G$4),B144<=(G144+Grenser!$G$4)),B144,IF(B144>(G144+Grenser!$G$4),G144+Grenser!$G$4,F144-Grenser!$G$4))","v":0}]
[null,null,"",null,null,null,null,null,null,null,{"$f":"IF(AND(B145>=(F145-Grenser!$G$4),B145<=(G145+Grenser!$G$4)),B145,IF(B145>(G145+Grenser!$G$4),G145+Grenser!$G$4,F145-Grenser!$G$4))","v":0}]
[null,null,"",null,null,null,null,null,null,null,{"$f":"IF(AND(B146>=(F146-Grenser!$G$4),B146<=(G146+Grenser!$G$4)),B146,IF(B146>(G146+Grenser!$G$4),G146+Grenser!$G$4,F146-Grenser!$G$4))","v":0}]
[null,null,"",null,null,null,null,null,null,null,{"$f":"IF(AND(B147>=(F147-Grenser!$G$4),B147<=(G147+Grenser!$G$4)),B147,IF(B147>(G147+Grenser!$G$4),G147+Grenser!$G$4,F147-Grenser!$G$4))","v":0}]
[null,null,"",null,null,null,null,null,null,null,{"$f":"IF(AND(B148>=(F148-Grenser!$G$4),B148<=(G148+Grenser!$G$4)),B148,IF(B148>(G148+Grenser!$G$4),G148+Grenser!$G$4,F148-Grenser!$G$4))","v":0}]
[null,null,"",null,null,null,null,null,null,null,{"$f":"IF(AND(B149>=(F149-Grenser!$G$4),B149<=(G149+Grenser!$G$4)),B149,IF(B149>(G149+Grenser!$G$4),G149+Grenser!$G$4,F149-Grenser!$G$4))","v":0}]
[null,null,"",null,null,null,null,null,null,null,{"$f":"IF(AND(B150>=(F150-Grenser!$G$4),B150<=(G150+Grenser!$G$4)),B150,IF(B150>(G150+Grenser!$G$4),G150+Grenser!$G$4,F150-Grenser!$G$4))","v":0}]
[null,null,"",null,null,null,null,null,null,null,{"$f":"IF(AND(B151>=(F151-Grenser!$G$4),B151<=(G151+Grenser!$G$4)),B151,IF(B151>(G151+Grenser!$G$4),G151+Grenser!$G$4,F151-Grenser!$G$4))","v":0}]
[null,null,"",null,null,null,null,null,null,null,{"$f":"IF(AND(B152>=(F152-Grenser!$G$4),B152<=(G152+Grenser!$G$4)),B152,IF(B152>(G152+Grenser!$G$4),G152+Grenser!$G$4,F152-Grenser!$G$4))","v":0}]
[null,null,"",null,null,null,null,null,null,null,{"$f":"IF(AND(B153>=(F153-Grenser!$G$4),B153<=(G153+Grenser!$G$4)),B153,IF(B153>(G153+Grenser!$G$4),G153+Grenser!$G$4,F153-Grenser!$G$4))","v":0}]
[null,null,"",null,null,null,null,null,null,null,{"$f":"IF(AND(B154>=(F154-Grenser!$G$4),B154<=(G154+Grenser!$G$4)),B154,IF(B154>(G154+Grenser!$G$4),G154+Grenser!$G$4,F154-Grenser!$G$4))","v":0}]
[null,null,"",null,null,null,null,null,null,null,{"$f":"IF(AND(B155>=(F155-Grenser!$G$4),B155<=(G155+Grenser!$G$4)),B155,IF(B155>(G155+Grenser!$G$4),G155+Grenser!$G$4,F155-Grenser!$G$4))","v":0}]
[null,null,"",null,null,null,null,null,null,null,{"$f":"IF(AND(B156>=(F156-Grenser!$G$4),B156<=(G156+Grenser!$G$4)),B156,IF(B156>(G156+Grenser!$G$4),G156+Grenser!$G$4,F156-Grenser!$G$4))","v":0}]
[null,null,"",null,null,null,null,null,null,null,{"$f":"IF(AND(B157>=(F157-Grenser!$G$4),B157<=(G157+Grenser!$G$4)),B157,IF(B157>(G157+Grenser!$G$4),G157+Grenser!$G$4,F157-Grenser!$G$4))","v":0}]
[null,null,"",null,null,null,null,null,null,null,{"$f":"IF(AND(B158>=(F158-Grenser!$G$4),B158<=(G158+Grenser!$G$4)),B158,IF(B158>(G158+Grenser!$G$4),G158+Grenser!$G$4,F158-Grenser!$G$4))","v":0}]
[null,null,"",null,null,null,null,null,null,null,{"$f":"IF(AND(B159>=(F159-Grenser!$G$4),B159<=(G159+Grenser!$G$4)),B159,IF(B159>(G159+Grenser!$G$4),G159+Grenser!$G$4,F159-Grenser!$G$4))","v":0}]
[null,null,"",null,null,null,null,null,null,null,{"$f":"IF(AND(B160>=(F160-Grenser!$G$4),B160<=(G160+Grenser!$G$4)),B160,IF(B160>(G160+Grenser!$G$4),G160+Grenser!$G$4,F160-Grenser!$G$4))","v":0}]
[null,null,"",null,null,null,null,null,null,null,{"$f":"IF(AND(B161>=(F161-Grenser!$G$4),B161<=(G161+Grenser!$G$4)),B161,IF(B161>(G161+Grenser!$G$4),G161+Grenser!$G$4,F161-Grenser!$G$4))","v":0}]
[null,null,"",null,null,null,null,null,null,null,{"$f":"IF(AND(B162>=(F162-Grenser!$G$4),B162<=(G162+Grenser!$G$4)),B162,IF(B162>(G162+Grenser!$G$4),G162+Grenser!$G$4,F162-Grenser!$G$4))","v":0}]
[null,null,"",null,null,null,null,null,null,null,{"$f":"IF(AND(B163>=(F163-Grenser!$G$4),B163<=(G163+Grenser!$G$4)),B163,IF(B163>(G163+Grenser!$G$4),G163+Grenser!$G$4,F163-Grenser!$G$4))","v":0}]
[null,null,"",null,null,null,null,null,null,null,{"$f":"IF(AND(B164>=(F164-Grenser!$G$4),B164<=(G164+Grenser!$G$4)),B164,IF(B164>(G164+Grenser!$G$4),G164+Grenser!$G$4,F164-Grenser!$G$4))","v":0}]
[null,null,"",null,null,null,null,null,null,null,{"$f":"IF(AND(B165>=(F165-Grenser!$G$4),B165<=(G165+Grenser!$G$4)),B165,IF(B165>(G165+Grenser!$G$4),G165+Grenser!$G$4,F165-Grenser!$G$4))","v":0}]
[null,null,"",null,null,null,null,null,null,null,{"$f":"IF(AND(B166>=(F166-Grenser!$G$4),B166<=(G166+Grenser!$G$4)),B166,IF(B166>(G166+Grenser!$G$4),G166+Grenser!$G$4,F166-Grenser!$G$4))","v":0}]
[null,null,"",null,null,null,null,null,null,null,{"$f":"IF(AND(B167>=(F167-Grenser!$G$4),B167<=(G167+Grenser!$G$4)),B167,IF(B167>(G167+Grenser!$G$4),G167+Grenser!$G$4,F167-Grenser!$G$4))","v":0}]
[null,null,"",null,null,null,null,null,null,null,{"$f":"IF(AND(B168>=(F168-Grenser!$G$4),B168<=(G168+Grenser!$G$4)),B168,IF(B168>(G168+Grenser!$G$4),G168+Grenser!$G$4,F168-Grenser!$G$4))","v":0}]
[null,null,"",null,null,null,null,null,null,null,{"$f":"IF(AND(B169>=(F169-Grenser!$G$4),B169<=(G169+Grenser!$G$4)),B169,IF(B169>(G169+Grenser!$G$4),G169+Grenser!$G$4,F169-Grenser!$G$4))","v":0}]
[null,null,"",null,null,null,null,null,null,null,{"$f":"IF(AND(B170>=(F170-Grenser!$G$4),B170<=(G170+Grenser!$G$4)),B170,IF(B170>(G170+Grenser!$G$4),G170+Grenser!$G$4,F170-Grenser!$G$4))","v":0}]
[null,null,"",null,null,null,null,null,null,null,{"$f":"IF(AND(B171>=(F171-Grenser!$G$4),B171<=(G171+Grenser!$G$4)),B171,IF(B171>(G171+Grenser!$G$4),G171+Grenser!$G$4,F171-Grenser!$G$4))","v":0}]
[null,null,"",null,null,null,null,null,null,null,{"$f":"IF(AND(B172>=(F172-Grenser!$G$4),B172<=(G172+Grenser!$G$4)),B172,IF(B172>(G172+Grenser!$G$4),G172+Grenser!$G$4,F172-Grenser!$G$4))","v":0}]
[null,null,"",null,null,null,null,null,null,null,{"$f":"IF(AND(B173>=(F173-Grenser!$G$4),B173<=(G173+Grenser!$G$4)),B173,IF(B173>(G173+Grenser!$G$4),G173+Grenser!$G$4,F173-Grenser!$G$4))","v":0}]
[null,null,"",null,null,null,null,null,null,null,{"$f":"IF(AND(B174>=(F174-Grenser!$G$4),B174<=(G174+Grenser!$G$4)),B174,IF(B174>(G174+Grenser!$G$4),G174+Grenser!$G$4,F174-Grenser!$G$4))","v":0}]
[null,null,"",null,null,null,null,null,null,null,{"$f":"IF(AND(B175>=(F175-Grenser!$G$4),B175<=(G175+Grenser!$G$4)),B175,IF(B175>(G175+Grenser!$G$4),G175+Grenser!$G$4,F175-Grenser!$G$4))","v":0}]
[null,null,"",null,null,null,null,null,null,null,{"$f":"IF(AND(B176>=(F176-Grenser!$G$4),B176<=(G176+Grenser!$G$4)),B176,IF(B176>(G176+Grenser!$G$4),G176+Grenser!$G$4,F176-Grenser!$G$4))","v":0}]
[null,null,"",null,null,null,null,null,null,null,{"$f":"IF(AND(B177>=(F177-Grenser!$G$4),B177<=(G177+Grenser!$G$4)),B177,IF(B177>(G177+Grenser!$G$4),G177+Grenser!$G$4,F177-Grenser!$G$4))","v":0}]
[null,null,"",null,null,null,null,null,null,null,{"$f":"IF(AND(B178>=(F178-Grenser!$G$4),B178<=(G178+Grenser!$G$4)),B178,IF(B178>(G178+Grenser!$G$4),G178+Grenser!$G$4,F178-Grenser!$G$4))","v":0}]
[null,null,"",null,null,null,null,null,null,null,{"$f":"IF(AND(B179>=(F179-Grenser!$G$4),B179<=(G179+Grenser!$G$4)),B179,IF(B179>(G179+Grenser!$G$4),G179+Grenser!$G$4,F179-Grenser!$G$4))","v":0}]
[null,null,"",null,null,null,null,null,null,null,{"$f":"IF(AND(B180>=(F180-Grenser!$G$4),B180<=(G180+Grenser!$G$4)),B180,IF(B180>(G180+Grenser!$G$4),G180+Grenser!$G$4,F180-Grenser!$G$4))","v":0}]
[null,null,"",null,null,null,null,null,null,null,{"$f":"IF(AND(B181>=(F181-Grenser!$G$4),B181<=(G181+Grenser!$G$4)),B181,IF(B181>(G181+Grenser!$G$4),G181+Grenser!$G$4,F181-Grenser!$G$4))","v":0}]
[null,null,"",null,null,null,null,null,null,null,{"$f":"IF(AND(B182>=(F182-Grenser!$G$4),B182<=(G182+Grenser!$G$4)),B182,IF(B182>(G182+Grenser!$G$4),G182+Grenser!$G$4,F182-Grenser!$G$4))","v":0}]
[null,null,"",null,null,null,null,null,null,null,{"$f":"IF(AND(B183>=(F183-Grenser!$G$4),B183<=(G183+Grenser!$G$4)),B183,IF(B183>(G183+Grenser!$G$4),G183+Grenser!$G$4,F183-Grenser!$G$4))","v":0}]
[null,null,"",null,null,null,null,null,null,null,{"$f":"IF(AND(B184>=(F184-Grenser!$G$4),B184<=(G184+Grenser!$G$4)),B184,IF(B184>(G184+Grenser!$G$4),G184+Grenser!$G$4,F184-Grenser!$G$4))","v":0}]
[null,null,"",null,null,null,null,null,null,null,{"$f":"IF(AND(B185>=(F185-Grenser!$G$4),B185<=(G185+Grenser!$G$4)),B185,IF(B185>(G185+Grenser!$G$4),G185+Grenser!$G$4,F185-Grenser!$G$4))","v":0}]
[null,null,"",null,null,null,null,null,null,null,{"$f":"IF(AND(B186>=(F186-Grenser!$G$4),B186<=(G186+Grenser!$G$4)),B186,IF(B186>(G186+Grenser!$G$4),G186+Grenser!$G$4,F186-Grenser!$G$4))","v":0}]
[null,null,"",null,null,null,null,null,null,null,{"$f":"IF(AND(B187>=(F187-Grenser!$G$4),B187<=(G187+Grenser!$G$4)),B187,IF(B187>(G187+Grenser!$G$4),G187+Grenser!$G$4,F187-Grenser!$G$4))","v":0}]
[null,null,"",null,null,null,null,null,null,null,{"$f":"IF(AND(B188>=(F188-Grenser!$G$4),B188<=(G188+Grenser!$G$4)),B188,IF(B188>(G188+Grenser!$G$4),G188+Grenser!$G$4,F188-Grenser!$G$4))","v":0}]
[null,null,"",null,null,null,null,null,null,null,{"$f":"IF(AND(B189>=(F189-Grenser!$G$4),B189<=(G189+Grenser!$G$4)),B189,IF(B189>(G189+Grenser!$G$4),G189+Grenser!$G$4,F189-Grenser!$G$4))","v":0}]
[null,null,"",null,null,null,null,null,null,null,{"$f":"IF(AND(B190>=(F190-Grenser!$G$4),B190<=(G190+Grenser!$G$4)),B190,IF(B190>(G190+Grenser!$G$4),G190+Grenser!$G$4,F190-Grenser!$G$4))","v":0}]
[null,null,"",null,null,null,null,null,null,null,{"$f":"IF(AND(B191>=(F191-Grenser!$G$4),B191<=(G191+Grenser!$G$4)),B191,IF(B191>(G191+Grenser!$G$4),G191+Grenser!$G$4,F191-Grenser!$G$4))","v":0}]
[null,null,"",null,null,null,null,null,null,null,{"$f":"IF(AND(B192>=(F192-Grenser!$G$4),B192<=(G192+Grenser!$G$4)),B192,IF(B192>(G192+Grenser!$G$4),G192+Grenser!$G$4,F192-Grenser!$G$4))","v":0}]
[null,null,"",null,null,null,null,null,null,null,{"$f":"IF(AND(B193>=(F193-Grenser!$G$4),B193<=(G193+Grenser!$G$4)),B193,IF(B193>(G193+Grenser!$G$4),G193+Grenser!$G$4,F193-Grenser!$G$4))","v":0}]
[null,null,"",null,null,null,null,null,null,null,{"$f":"IF(AND(B194>=(F194-Grenser!$G$4),B194<=(G194+Grenser!$G$4)),B194,IF(B194>(G194+Grenser!$G$4),G194+Grenser!$G$4,F194-Grenser!$G$4))","v":0}]
[null,null,"",null,null,null,null,null,null,null,{"$f":"IF(AND(B195>=(F195-Grenser!$G$4),B195<=(G195+Grenser!$G$4)),B195,IF(B195>(G195+Grenser!$G$4),G195+Grenser!$G$4,F195-Grenser!$G$4))","v":0}]
[null,null,"",null,null,null,null,null,null,null,{"$f":"IF(AND(B196>=(F196-Grenser!$G$4),B196<=(G196+Grenser!$G$4)),B196,IF(B196>(G196+Grenser!$G$4),G196+Grenser!$G$4,F196-Grenser!$G$4))","v":0}]
[null,null,"",null,null,null,null,null,null,null,{"$f":"IF(AND(B197>=(F197-Grenser!$G$4),B197<=(G197+Grenser!$G$4)),B197,IF(B197>(G197+Grenser!$G$4),G197+Grenser!$G$4,F197-Grenser!$G$4))","v":0}]
[null,null,"",null,null,null,null,null,null,null,{"$f":"IF(AND(B198>=(F198-Grenser!$G$4),B198<=(G198+Grenser!$G$4)),B198,IF(B198>(G198+Grenser!$G$4),G198+Grenser!$G$4,F198-Grenser!$G$4))","v":0}]
[null,null,{"$f":"IF(B199<>\"\",(IF(OR(B199<F199,B199>G199),\"STOPP\",\"OK\")),\"\")","v":""},null,null,null,null,null,null,null,{"$f":"IF(AND(B199>=(F199-Grenser!$G$4),B199<=(G199+Grenser!$G$4)),B199,IF(B199>(G199+Grenser!$G$4),G199+Grenser!$G$4,F199-Grenser!$G$4))","v":0}]
[null,null,{"$f":"IF(B200<>\"\",(IF(OR(B200<F200,B200>G200),\"STOPP\",\"OK\")),\"\")","v":""},null,null,null,null,null,null,{"$f":"IF(G200<>\"\",IF((OR((G200>$V200),(G200<$U200))),IF(OR((G200>$T200),(G200<$S200)),\"STOPP\",\"Vurder\"),\"Ok\"),\"\")","v":""},{"$f":"IF(AND(B200>=(F200-Grenser!$G$4),B200<=(G200+Grenser!$G$4)),B200,IF(B200>(G200+Grenser!$G$4),G200+Grenser!$G$4,F200-Grenser!$G$4))","v":0}]
[null,null,{"$f":"IF(B201<>\"\",(IF(OR(B201<F201,B201>G201),\"STOPP\",\"OK\")),\"\")","v":""},null,null,null,null,null,null,"",{"$f":"IF(AND(B201>=(F201-Grenser!$G$4),B201<=(G201+Grenser!$G$4)),B201,IF(B201>(G201+Grenser!$G$4),G201+Grenser!$G$4,F201-Grenser!$G$4))","v":0}]

{"sheet":"Ikke i bruk 8","index":10,"n_rows":201,"n_cols":11,"rows_kept":201,"cut":false,"hidden":false,"merged":[[0,0,0,9]]}
[{"$f":"Grenser!B11","v":"Ikke i bruk 8"}]
["Antall",{"$f":" COUNT(B7:B201)","v":0}]
["Mean",{"$f":"AVERAGE(B7:B201)","v":{"$error":"#DIV/0!"}}]
["Standardavvik",{"$f":"STDEV(B7:B201)","v":{"$error":"#DIV/0!"}}]
["CV",{"$f":"B4*100/B3","v":{"$error":"#DIV/0!"}}]
["Dato avlest","Avlest sone","Vurdering","Produksjonsdato res.skål","Satt opp sign","Lav grense","Høy grense","Dato Satt opp","Avlest sign","Teller","Avlest sone korrigert"]
[null,null,{"$f":"IF(B7<>\"\",(IF(OR(B7<F7,B7>G7),\"STOPP\",\"OK\")),\"\")","v":""},null,null,null,null,null,null,null,{"$f":"IF(AND(B7>=(F7-Grenser!$G$4),B7<=(G7+Grenser!$G$4)),B7,IF(B7>(G7+Grenser!$G$4),G7+Grenser!$G$4,F7-Grenser!$G$4))","v":0}]
[null,null,"",null,null,null,null,null,null,null,{"$f":"IF(AND(B8>=(F8-Grenser!$G$4),B8<=(G8+Grenser!$G$4)),B8,IF(B8>(G8+Grenser!$G$4),G8+Grenser!$G$4,F8-Grenser!$G$4))","v":0}]
[null,null,"",null,null,null,null,null,null,null,{"$f":"IF(AND(B9>=(F9-Grenser!$G$4),B9<=(G9+Grenser!$G$4)),B9,IF(B9>(G9+Grenser!$G$4),G9+Grenser!$G$4,F9-Grenser!$G$4))","v":0}]
[null,null,"",null,null,null,null,null,null,null,{"$f":"IF(AND(B10>=(F10-Grenser!$G$4),B10<=(G10+Grenser!$G$4)),B10,IF(B10>(G10+Grenser!$G$4),G10+Grenser!$G$4,F10-Grenser!$G$4))","v":0}]
[null,null,"",null,null,null,null,null,null,null,{"$f":"IF(AND(B11>=(F11-Grenser!$G$4),B11<=(G11+Grenser!$G$4)),B11,IF(B11>(G11+Grenser!$G$4),G11+Grenser!$G$4,F11-Grenser!$G$4))","v":0}]
[null,null,"",null,null,null,null,null,null,null,{"$f":"IF(AND(B12>=(F12-Grenser!$G$4),B12<=(G12+Grenser!$G$4)),B12,IF(B12>(G12+Grenser!$G$4),G12+Grenser!$G$4,F12-Grenser!$G$4))","v":0}]
[null,null,"",null,null,null,null,null,null,null,{"$f":"IF(AND(B13>=(F13-Grenser!$G$4),B13<=(G13+Grenser!$G$4)),B13,IF(B13>(G13+Grenser!$G$4),G13+Grenser!$G$4,F13-Grenser!$G$4))","v":0}]
[null,null,"",null,null,null,null,null,null,null,{"$f":"IF(AND(B14>=(F14-Grenser!$G$4),B14<=(G14+Grenser!$G$4)),B14,IF(B14>(G14+Grenser!$G$4),G14+Grenser!$G$4,F14-Grenser!$G$4))","v":0}]
[null,null,"",null,null,null,null,null,null,null,{"$f":"IF(AND(B15>=(F15-Grenser!$G$4),B15<=(G15+Grenser!$G$4)),B15,IF(B15>(G15+Grenser!$G$4),G15+Grenser!$G$4,F15-Grenser!$G$4))","v":0}]
[null,null,"",null,null,null,null,null,null,null,{"$f":"IF(AND(B16>=(F16-Grenser!$G$4),B16<=(G16+Grenser!$G$4)),B16,IF(B16>(G16+Grenser!$G$4),G16+Grenser!$G$4,F16-Grenser!$G$4))","v":0}]
[null,null,"",null,null,null,null,null,null,null,{"$f":"IF(AND(B17>=(F17-Grenser!$G$4),B17<=(G17+Grenser!$G$4)),B17,IF(B17>(G17+Grenser!$G$4),G17+Grenser!$G$4,F17-Grenser!$G$4))","v":0}]
[null,null,"",null,null,null,null,null,null,null,{"$f":"IF(AND(B18>=(F18-Grenser!$G$4),B18<=(G18+Grenser!$G$4)),B18,IF(B18>(G18+Grenser!$G$4),G18+Grenser!$G$4,F18-Grenser!$G$4))","v":0}]
[null,null,"",null,null,null,null,null,null,null,{"$f":"IF(AND(B19>=(F19-Grenser!$G$4),B19<=(G19+Grenser!$G$4)),B19,IF(B19>(G19+Grenser!$G$4),G19+Grenser!$G$4,F19-Grenser!$G$4))","v":0}]
[null,null,"",null,null,null,null,null,null,null,{"$f":"IF(AND(B20>=(F20-Grenser!$G$4),B20<=(G20+Grenser!$G$4)),B20,IF(B20>(G20+Grenser!$G$4),G20+Grenser!$G$4,F20-Grenser!$G$4))","v":0}]
[null,null,"",null,null,null,null,null,null,null,{"$f":"IF(AND(B21>=(F21-Grenser!$G$4),B21<=(G21+Grenser!$G$4)),B21,IF(B21>(G21+Grenser!$G$4),G21+Grenser!$G$4,F21-Grenser!$G$4))","v":0}]
[null,null,"",null,null,null,null,null,null,null,{"$f":"IF(AND(B22>=(F22-Grenser!$G$4),B22<=(G22+Grenser!$G$4)),B22,IF(B22>(G22+Grenser!$G$4),G22+Grenser!$G$4,F22-Grenser!$G$4))","v":0}]
[null,null,"",null,null,null,null,null,null,null,{"$f":"IF(AND(B23>=(F23-Grenser!$G$4),B23<=(G23+Grenser!$G$4)),B23,IF(B23>(G23+Grenser!$G$4),G23+Grenser!$G$4,F23-Grenser!$G$4))","v":0}]
[null,null,"",null,null,null,null,null,null,null,{"$f":"IF(AND(B24>=(F24-Grenser!$G$4),B24<=(G24+Grenser!$G$4)),B24,IF(B24>(G24+Grenser!$G$4),G24+Grenser!$G$4,F24-Grenser!$G$4))","v":0}]
[null,null,"",null,null,null,null,null,null,null,{"$f":"IF(AND(B25>=(F25-Grenser!$G$4),B25<=(G25+Grenser!$G$4)),B25,IF(B25>(G25+Grenser!$G$4),G25+Grenser!$G$4,F25-Grenser!$G$4))","v":0}]
[null,null,"",null,null,null,null,null,null,null,{"$f":"IF(AND(B26>=(F26-Grenser!$G$4),B26<=(G26+Grenser!$G$4)),B26,IF(B26>(G26+Grenser!$G$4),G26+Grenser!$G$4,F26-Grenser!$G$4))","v":0}]
[null,null,"",null,null,null,null,null,null,null,{"$f":"IF(AND(B27>=(F27-Grenser!$G$4),B27<=(G27+Grenser!$G$4)),B27,IF(B27>(G27+Grenser!$G$4),G27+Grenser!$G$4,F27-Grenser!$G$4))","v":0}]
[null,null,"",null,null,null,null,null,null,null,{"$f":"IF(AND(B28>=(F28-Grenser!$G$4),B28<=(G28+Grenser!$G$4)),B28,IF(B28>(G28+Grenser!$G$4),G28+Grenser!$G$4,F28-Grenser!$G$4))","v":0}]
[null,null,"",null,null,null,null,null,null,null,{"$f":"IF(AND(B29>=(F29-Grenser!$G$4),B29<=(G29+Grenser!$G$4)),B29,IF(B29>(G29+Grenser!$G$4),G29+Grenser!$G$4,F29-Grenser!$G$4))","v":0}]
[null,null,"",null,null,null,null,null,null,null,{"$f":"IF(AND(B30>=(F30-Grenser!$G$4),B30<=(G30+Grenser!$G$4)),B30,IF(B30>(G30+Grenser!$G$4),G30+Grenser!$G$4,F30-Grenser!$G$4))","v":0}]
[null,null,"",null,null,null,null,null,null,null,{"$f":"IF(AND(B31>=(F31-Grenser!$G$4),B31<=(G31+Grenser!$G$4)),B31,IF(B31>(G31+Grenser!$G$4),G31+Grenser!$G$4,F31-Grenser!$G$4))","v":0}]
[null,null,"",null,null,null,null,null,null,null,{"$f":"IF(AND(B32>=(F32-Grenser!$G$4),B32<=(G32+Grenser!$G$4)),B32,IF(B32>(G32+Grenser!$G$4),G32+Grenser!$G$4,F32-Grenser!$G$4))","v":0}]
[null,null,"",null,null,null,null,null,null,null,{"$f":"IF(AND(B33>=(F33-Grenser!$G$4),B33<=(G33+Grenser!$G$4)),B33,IF(B33>(G33+Grenser!$G$4),G33+Grenser!$G$4,F33-Grenser!$G$4))","v":0}]
[null,null,"",null,null,null,null,null,null,null,{"$f":"IF(AND(B34>=(F34-Grenser!$G$4),B34<=(G34+Grenser!$G$4)),B34,IF(B34>(G34+Grenser!$G$4),G34+Grenser!$G$4,F34-Grenser!$G$4))","v":0}]
[null,null,"",null,null,null,null,null,null,null,{"$f":"IF(AND(B35>=(F35-Grenser!$G$4),B35<=(G35+Grenser!$G$4)),B35,IF(B35>(G35+Grenser!$G$4),G35+Grenser!$G$4,F35-Grenser!$G$4))","v":0}]
[null,null,"",null,null,null,null,null,null,null,{"$f":"IF(AND(B36>=(F36-Grenser!$G$4),B36<=(G36+Grenser!$G$4)),B36,IF(B36>(G36+Grenser!$G$4),G36+Grenser!$G$4,F36-Grenser!$G$4))","v":0}]
[null,null,"",null,null,null,null,null,null,null,{"$f":"IF(AND(B37>=(F37-Grenser!$G$4),B37<=(G37+Grenser!$G$4)),B37,IF(B37>(G37+Grenser!$G$4),G37+Grenser!$G$4,F37-Grenser!$G$4))","v":0}]
[null,null,"",null,null,null,null,null,null,null,{"$f":"IF(AND(B38>=(F38-Grenser!$G$4),B38<=(G38+Grenser!$G$4)),B38,IF(B38>(G38+Grenser!$G$4),G38+Grenser!$G$4,F38-Grenser!$G$4))","v":0}]
[null,null,"",null,null,null,null,null,null,null,{"$f":"IF(AND(B39>=(F39-Grenser!$G$4),B39<=(G39+Grenser!$G$4)),B39,IF(B39>(G39+Grenser!$G$4),G39+Grenser!$G$4,F39-Grenser!$G$4))","v":0}]
[null,null,"",null,null,null,null,null,null,null,{"$f":"IF(AND(B40>=(F40-Grenser!$G$4),B40<=(G40+Grenser!$G$4)),B40,IF(B40>(G40+Grenser!$G$4),G40+Grenser!$G$4,F40-Grenser!$G$4))","v":0}]
[null,null,"",null,null,null,null,null,null,null,{"$f":"IF(AND(B41>=(F41-Grenser!$G$4),B41<=(G41+Grenser!$G$4)),B41,IF(B41>(G41+Grenser!$G$4),G41+Grenser!$G$4,F41-Grenser!$G$4))","v":0}]
[null,null,"",null,null,null,null,null,null,null,{"$f":"IF(AND(B42>=(F42-Grenser!$G$4),B42<=(G42+Grenser!$G$4)),B42,IF(B42>(G42+Grenser!$G$4),G42+Grenser!$G$4,F42-Grenser!$G$4))","v":0}]
[null,null,"",null,null,null,null,null,null,null,{"$f":"IF(AND(B43>=(F43-Grenser!$G$4),B43<=(G43+Grenser!$G$4)),B43,IF(B43>(G43+Grenser!$G$4),G43+Grenser!$G$4,F43-Grenser!$G$4))","v":0}]
[null,null,"",null,null,null,null,null,null,null,{"$f":"IF(AND(B44>=(F44-Grenser!$G$4),B44<=(G44+Grenser!$G$4)),B44,IF(B44>(G44+Grenser!$G$4),G44+Grenser!$G$4,F44-Grenser!$G$4))","v":0}]
[null,null,"",null,null,null,null,null,null,null,{"$f":"IF(AND(B45>=(F45-Grenser!$G$4),B45<=(G45+Grenser!$G$4)),B45,IF(B45>(G45+Grenser!$G$4),G45+Grenser!$G$4,F45-Grenser!$G$4))","v":0}]
[null,null,"",null,null,null,null,null,null,null,{"$f":"IF(AND(B46>=(F46-Grenser!$G$4),B46<=(G46+Grenser!$G$4)),B46,IF(B46>(G46+Grenser!$G$4),G46+Grenser!$G$4,F46-Grenser!$G$4))","v":0}]
[null,null,"",null,null,null,null,null,null,null,{"$f":"IF(AND(B47>=(F47-Grenser!$G$4),B47<=(G47+Grenser!$G$4)),B47,IF(B47>(G47+Grenser!$G$4),G47+Grenser!$G$4,F47-Grenser!$G$4))","v":0}]
[null,null,"",null,null,null,null,null,null,null,{"$f":"IF(AND(B48>=(F48-Grenser!$G$4),B48<=(G48+Grenser!$G$4)),B48,IF(B48>(G48+Grenser!$G$4),G48+Grenser!$G$4,F48-Grenser!$G$4))","v":0}]
[null,null,"",null,null,null,null,null,null,null,{"$f":"IF(AND(B49>=(F49-Grenser!$G$4),B49<=(G49+Grenser!$G$4)),B49,IF(B49>(G49+Grenser!$G$4),G49+Grenser!$G$4,F49-Grenser!$G$4))","v":0}]
[null,null,"",null,null,null,null,null,null,null,{"$f":"IF(AND(B50>=(F50-Grenser!$G$4),B50<=(G50+Grenser!$G$4)),B50,IF(B50>(G50+Grenser!$G$4),G50+Grenser!$G$4,F50-Grenser!$G$4))","v":0}]
[null,null,"",null,null,null,null,null,null,null,{"$f":"IF(AND(B51>=(F51-Grenser!$G$4),B51<=(G51+Grenser!$G$4)),B51,IF(B51>(G51+Grenser!$G$4),G51+Grenser!$G$4,F51-Grenser!$G$4))","v":0}]
[null,null,"",null,null,null,null,null,null,null,{"$f":"IF(AND(B52>=(F52-Grenser!$G$4),B52<=(G52+Grenser!$G$4)),B52,IF(B52>(G52+Grenser!$G$4),G52+Grenser!$G$4,F52-Grenser!$G$4))","v":0}]
[null,null,"",null,null,null,null,null,null,null,{"$f":"IF(AND(B53>=(F53-Grenser!$G$4),B53<=(G53+Grenser!$G$4)),B53,IF(B53>(G53+Grenser!$G$4),G53+Grenser!$G$4,F53-Grenser!$G$4))","v":0}]
[null,null,"",null,null,null,null,null,null,null,{"$f":"IF(AND(B54>=(F54-Grenser!$G$4),B54<=(G54+Grenser!$G$4)),B54,IF(B54>(G54+Grenser!$G$4),G54+Grenser!$G$4,F54-Grenser!$G$4))","v":0}]
[null,null,"",null,null,null,null,null,null,null,{"$f":"IF(AND(B55>=(F55-Grenser!$G$4),B55<=(G55+Grenser!$G$4)),B55,IF(B55>(G55+Grenser!$G$4),G55+Grenser!$G$4,F55-Grenser!$G$4))","v":0}]
[null,null,"",null,null,null,null,null,null,null,{"$f":"IF(AND(B56>=(F56-Grenser!$G$4),B56<=(G56+Grenser!$G$4)),B56,IF(B56>(G56+Grenser!$G$4),G56+Grenser!$G$4,F56-Grenser!$G$4))","v":0}]
[null,null,"",null,null,null,null,null,null,null,{"$f":"IF(AND(B57>=(F57-Grenser!$G$4),B57<=(G57+Grenser!$G$4)),B57,IF(B57>(G57+Grenser!$G$4),G57+Grenser!$G$4,F57-Grenser!$G$4))","v":0}]
[null,null,"",null,null,null,null,null,null,null,{"$f":"IF(AND(B58>=(F58-Grenser!$G$4),B58<=(G58+Grenser!$G$4)),B58,IF(B58>(G58+Grenser!$G$4),G58+Grenser!$G$4,F58-Grenser!$G$4))","v":0}]
[null,null,"",null,null,null,null,null,null,null,{"$f":"IF(AND(B59>=(F59-Grenser!$G$4),B59<=(G59+Grenser!$G$4)),B59,IF(B59>(G59+Grenser!$G$4),G59+Grenser!$G$4,F59-Grenser!$G$4))","v":0}]
[null,null,"",null,null,null,null,null,null,null,{"$f":"IF(AND(B60>=(F60-Grenser!$G$4),B60<=(G60+Grenser!$G$4)),B60,IF(B60>(G60+Grenser!$G$4),G60+Grenser!$G$4,F60-Grenser!$G$4))","v":0}]
[null,null,"",null,null,null,null,null,null,null,{"$f":"IF(AND(B61>=(F61-Grenser!$G$4),B61<=(G61+Grenser!$G$4)),B61,IF(B61>(G61+Grenser!$G$4),G61+Grenser!$G$4,F61-Grenser!$G$4))","v":0}]
[null,null,"",null,null,null,null,null,null,null,{"$f":"IF(AND(B62>=(F62-Grenser!$G$4),B62<=(G62+Grenser!$G$4)),B62,IF(B62>(G62+Grenser!$G$4),G62+Grenser!$G$4,F62-Grenser!$G$4))","v":0}]
[null,null,"",null,null,null,null,null,null,null,{"$f":"IF(AND(B63>=(F63-Grenser!$G$4),B63<=(G63+Grenser!$G$4)),B63,IF(B63>(G63+Grenser!$G$4),G63+Grenser!$G$4,F63-Grenser!$G$4))","v":0}]
[null,null,"",null,null,null,null,null,null,null,{"$f":"IF(AND(B64>=(F64-Grenser!$G$4),B64<=(G64+Grenser!$G$4)),B64,IF(B64>(G64+Grenser!$G$4),G64+Grenser!$G$4,F64-Grenser!$G$4))","v":0}]
[null,null,"",null,null,null,null,null,null,null,{"$f":"IF(AND(B65>=(F65-Grenser!$G$4),B65<=(G65+Grenser!$G$4)),B65,IF(B65>(G65+Grenser!$G$4),G65+Grenser!$G$4,F65-Grenser!$G$4))","v":0}]
[null,null,"",null,null,null,null,null,null,null,{"$f":"IF(AND(B66>=(F66-Grenser!$G$4),B66<=(G66+Grenser!$G$4)),B66,IF(B66>(G66+Grenser!$G$4),G66+Grenser!$G$4,F66-Grenser!$G$4))","v":0}]
[null,null,"",null,null,null,null,null,null,null,{"$f":"IF(AND(B67>=(F67-Grenser!$G$4),B67<=(G67+Grenser!$G$4)),B67,IF(B67>(G67+Grenser!$G$4),G67+Grenser!$G$4,F67-Grenser!$G$4))","v":0}]
[null,null,"",null,null,null,null,null,null,null,{"$f":"IF(AND(B68>=(F68-Grenser!$G$4),B68<=(G68+Grenser!$G$4)),B68,IF(B68>(G68+Grenser!$G$4),G68+Grenser!$G$4,F68-Grenser!$G$4))","v":0}]
[null,null,"",null,null,null,null,null,null,null,{"$f":"IF(AND(B69>=(F69-Grenser!$G$4),B69<=(G69+Grenser!$G$4)),B69,IF(B69>(G69+Grenser!$G$4),G69+Grenser!$G$4,F69-Grenser!$G$4))","v":0}]
[null,null,"",null,null,null,null,null,null,null,{"$f":"IF(AND(B70>=(F70-Grenser!$G$4),B70<=(G70+Grenser!$G$4)),B70,IF(B70>(G70+Grenser!$G$4),G70+Grenser!$G$4,F70-Grenser!$G$4))","v":0}]
[null,null,{"$f":"IF(B71<>\"\",(IF(OR(B71<F71,B71>G71),\"STOPP\",\"OK\")),\"\")","v":""},null,null,null,null,null,null,null,{"$f":"IF(AND(B71>=(F71-Grenser!$G$4),B71<=(G71+Grenser!$G$4)),B71,IF(B71>(G71+Grenser!$G$4),G71+Grenser!$G$4,F71-Grenser!$G$4))","v":0}]
[null,null,"",null,null,null,null,null,null,null,{"$f":"IF(AND(B72>=(F72-Grenser!$G$4),B72<=(G72+Grenser!$G$4)),B72,IF(B72>(G72+Grenser!$G$4),G72+Grenser!$G$4,F72-Grenser!$G$4))","v":0}]
[null,null,"",null,null,null,null,null,null,null,{"$f":"IF(AND(B73>=(F73-Grenser!$G$4),B73<=(G73+Grenser!$G$4)),B73,IF(B73>(G73+Grenser!$G$4),G73+Grenser!$G$4,F73-Grenser!$G$4))","v":0}]
[null,null,"",null,null,null,null,null,null,null,{"$f":"IF(AND(B74>=(F74-Grenser!$G$4),B74<=(G74+Grenser!$G$4)),B74,IF(B74>(G74+Grenser!$G$4),G74+Grenser!$G$4,F74-Grenser!$G$4))","v":0}]
[null,null,"",null,null,null,null,null,null,null,{"$f":"IF(AND(B75>=(F75-Grenser!$G$4),B75<=(G75+Grenser!$G$4)),B75,IF(B75>(G75+Grenser!$G$4),G75+Grenser!$G$4,F75-Grenser!$G$4))","v":0}]
[null,null,"",null,null,null,null,null,null,null,{"$f":"IF(AND(B76>=(F76-Grenser!$G$4),B76<=(G76+Grenser!$G$4)),B76,IF(B76>(G76+Grenser!$G$4),G76+Grenser!$G$4,F76-Grenser!$G$4))","v":0}]
[null,null,"",null,null,null,null,null,null,null,{"$f":"IF(AND(B77>=(F77-Grenser!$G$4),B77<=(G77+Grenser!$G$4)),B77,IF(B77>(G77+Grenser!$G$4),G77+Grenser!$G$4,F77-Grenser!$G$4))","v":0}]
[null,null,"",null,null,null,null,null,null,null,{"$f":"IF(AND(B78>=(F78-Grenser!$G$4),B78<=(G78+Grenser!$G$4)),B78,IF(B78>(G78+Grenser!$G$4),G78+Grenser!$G$4,F78-Grenser!$G$4))","v":0}]
[null,null,"",null,null,null,null,null,null,null,{"$f":"IF(AND(B79>=(F79-Grenser!$G$4),B79<=(G79+Grenser!$G$4)),B79,IF(B79>(G79+Grenser!$G$4),G79+Grenser!$G$4,F79-Grenser!$G$4))","v":0}]
[null,null,"",null,null,null,null,null,null,null,{"$f":"IF(AND(B80>=(F80-Grenser!$G$4),B80<=(G80+Grenser!$G$4)),B80,IF(B80>(G80+Grenser!$G$4),G80+Grenser!$G$4,F80-Grenser!$G$4))","v":0}]
[null,null,"",null,null,null,null,null,null,null,{"$f":"IF(AND(B81>=(F81-Grenser!$G$4),B81<=(G81+Grenser!$G$4)),B81,IF(B81>(G81+Grenser!$G$4),G81+Grenser!$G$4,F81-Grenser!$G$4))","v":0}]
[null,null,"",null,null,null,null,null,null,null,{"$f":"IF(AND(B82>=(F82-Grenser!$G$4),B82<=(G82+Grenser!$G$4)),B82,IF(B82>(G82+Grenser!$G$4),G82+Grenser!$G$4,F82-Grenser!$G$4))","v":0}]
[null,null,"",null,null,null,null,null,null,null,{"$f":"IF(AND(B83>=(F83-Grenser!$G$4),B83<=(G83+Grenser!$G$4)),B83,IF(B83>(G83+Grenser!$G$4),G83+Grenser!$G$4,F83-Grenser!$G$4))","v":0}]
[null,null,"",null,null,null,null,null,null,null,{"$f":"IF(AND(B84>=(F84-Grenser!$G$4),B84<=(G84+Grenser!$G$4)),B84,IF(B84>(G84+Grenser!$G$4),G84+Grenser!$G$4,F84-Grenser!$G$4))","v":0}]
[null,null,"",null,null,null,null,null,null,null,{"$f":"IF(AND(B85>=(F85-Grenser!$G$4),B85<=(G85+Grenser!$G$4)),B85,IF(B85>(G85+Grenser!$G$4),G85+Grenser!$G$4,F85-Grenser!$G$4))","v":0}]
[null,null,"",null,null,null,null,null,null,null,{"$f":"IF(AND(B86>=(F86-Grenser!$G$4),B86<=(G86+Grenser!$G$4)),B86,IF(B86>(G86+Grenser!$G$4),G86+Grenser!$G$4,F86-Grenser!$G$4))","v":0}]
[null,null,"",null,null,null,null,null,null,null,{"$f":"IF(AND(B87>=(F87-Grenser!$G$4),B87<=(G87+Grenser!$G$4)),B87,IF(B87>(G87+Grenser!$G$4),G87+Grenser!$G$4,F87-Grenser!$G$4))","v":0}]
[null,null,"",null,null,null,null,null,null,null,{"$f":"IF(AND(B88>=(F88-Grenser!$G$4),B88<=(G88+Grenser!$G$4)),B88,IF(B88>(G88+Grenser!$G$4),G88+Grenser!$G$4,F88-Grenser!$G$4))","v":0}]
[null,null,"",null,null,null,null,null,null,null,{"$f":"IF(AND(B89>=(F89-Grenser!$G$4),B89<=(G89+Grenser!$G$4)),B89,IF(B89>(G89+Grenser!$G$4),G89+Grenser!$G$4,F89-Grenser!$G$4))","v":0}]
[null,null,"",null,null,null,null,null,null,null,{"$f":"IF(AND(B90>=(F90-Grenser!$G$4),B90<=(G90+Grenser!$G$4)),B90,IF(B90>(G90+Grenser!$G$4),G90+Grenser!$G$4,F90-Grenser!$G$4))","v":0}]
[null,null,"",null,null,null,null,null,null,null,{"$f":"IF(AND(B91>=(F91-Grenser!$G$4),B91<=(G91+Grenser!$G$4)),B91,IF(B91>(G91+Grenser!$G$4),G91+Grenser!$G$4,F91-Grenser!$G$4))","v":0}]
[null,null,"",null,null,null,null,null,null,null,{"$f":"IF(AND(B92>=(F92-Grenser!$G$4),B92<=(G92+Grenser!$G$4)),B92,IF(B92>(G92+Grenser!$G$4),G92+Grenser!$G$4,F92-Grenser!$G$4))","v":0}]
[null,null,"",null,null,null,null,null,null,null,{"$f":"IF(AND(B93>=(F93-Grenser!$G$4),B93<=(G93+Grenser!$G$4)),B93,IF(B93>(G93+Grenser!$G$4),G93+Grenser!$G$4,F93-Grenser!$G$4))","v":0}]
[null,null,"",null,null,null,null,null,null,null,{"$f":"IF(AND(B94>=(F94-Grenser!$G$4),B94<=(G94+Grenser!$G$4)),B94,IF(B94>(G94+Grenser!$G$4),G94+Grenser!$G$4,F94-Grenser!$G$4))","v":0}]
[null,null,"",null,null,null,null,null,null,null,{"$f":"IF(AND(B95>=(F95-Grenser!$G$4),B95<=(G95+Grenser!$G$4)),B95,IF(B95>(G95+Grenser!$G$4),G95+Grenser!$G$4,F95-Grenser!$G$4))","v":0}]
[null,null,"",null,null,null,null,null,null,null,{"$f":"IF(AND(B96>=(F96-Grenser!$G$4),B96<=(G96+Grenser!$G$4)),B96,IF(B96>(G96+Grenser!$G$4),G96+Grenser!$G$4,F96-Grenser!$G$4))","v":0}]
[null,null,"",null,null,null,null,null,null,null,{"$f":"IF(AND(B97>=(F97-Grenser!$G$4),B97<=(G97+Grenser!$G$4)),B97,IF(B97>(G97+Grenser!$G$4),G97+Grenser!$G$4,F97-Grenser!$G$4))","v":0}]
[null,null,"",null,null,null,null,null,null,null,{"$f":"IF(AND(B98>=(F98-Grenser!$G$4),B98<=(G98+Grenser!$G$4)),B98,IF(B98>(G98+Grenser!$G$4),G98+Grenser!$G$4,F98-Grenser!$G$4))","v":0}]
[null,null,"",null,null,null,null,null,null,null,{"$f":"IF(AND(B99>=(F99-Grenser!$G$4),B99<=(G99+Grenser!$G$4)),B99,IF(B99>(G99+Grenser!$G$4),G99+Grenser!$G$4,F99-Grenser!$G$4))","v":0}]
[null,null,"",null,null,null,null,null,null,null,{"$f":"IF(AND(B100>=(F100-Grenser!$G$4),B100<=(G100+Grenser!$G$4)),B100,IF(B100>(G100+Grenser!$G$4),G100+Grenser!$G$4,F100-Grenser!$G$4))","v":0}]
[null,null,"",null,null,null,null,null,null,null,{"$f":"IF(AND(B101>=(F101-Grenser!$G$4),B101<=(G101+Grenser!$G$4)),B101,IF(B101>(G101+Grenser!$G$4),G101+Grenser!$G$4,F101-Grenser!$G$4))","v":0}]
[null,null,"",null,null,null,null,null,null,null,{"$f":"IF(AND(B102>=(F102-Grenser!$G$4),B102<=(G102+Grenser!$G$4)),B102,IF(B102>(G102+Grenser!$G$4),G102+Grenser!$G$4,F102-Grenser!$G$4))","v":0}]
[null,null,"",null,null,null,null,null,null,null,{"$f":"IF(AND(B103>=(F103-Grenser!$G$4),B103<=(G103+Grenser!$G$4)),B103,IF(B103>(G103+Grenser!$G$4),G103+Grenser!$G$4,F103-Grenser!$G$4))","v":0}]
[null,null,"",null,null,null,null,null,null,null,{"$f":"IF(AND(B104>=(F104-Grenser!$G$4),B104<=(G104+Grenser!$G$4)),B104,IF(B104>(G104+Grenser!$G$4),G104+Grenser!$G$4,F104-Grenser!$G$4))","v":0}]
[null,null,"",null,null,null,null,null,null,null,{"$f":"IF(AND(B105>=(F105-Grenser!$G$4),B105<=(G105+Grenser!$G$4)),B105,IF(B105>(G105+Grenser!$G$4),G105+Grenser!$G$4,F105-Grenser!$G$4))","v":0}]
[null,null,"",null,null,null,null,null,null,null,{"$f":"IF(AND(B106>=(F106-Grenser!$G$4),B106<=(G106+Grenser!$G$4)),B106,IF(B106>(G106+Grenser!$G$4),G106+Grenser!$G$4,F106-Grenser!$G$4))","v":0}]
[null,null,"",null,null,null,null,null,null,null,{"$f":"IF(AND(B107>=(F107-Grenser!$G$4),B107<=(G107+Grenser!$G$4)),B107,IF(B107>(G107+Grenser!$G$4),G107+Grenser!$G$4,F107-Grenser!$G$4))","v":0}]
[null,null,"",null,null,null,null,null,null,null,{"$f":"IF(AND(B108>=(F108-Grenser!$G$4),B108<=(G108+Grenser!$G$4)),B108,IF(B108>(G108+Grenser!$G$4),G108+Grenser!$G$4,F108-Grenser!$G$4))","v":0}]
[null,null,"",null,null,null,null,null,null,null,{"$f":"IF(AND(B109>=(F109-Grenser!$G$4),B109<=(G109+Grenser!$G$4)),B109,IF(B109>(G109+Grenser!$G$4),G109+Grenser!$G$4,F109-Grenser!$G$4))","v":0}]
[null,null,"",null,null,null,null,null,null,null,{"$f":"IF(AND(B110>=(F110-Grenser!$G$4),B110<=(G110+Grenser!$G$4)),B110,IF(B110>(G110+Grenser!$G$4),G110+Grenser!$G$4,F110-Grenser!$G$4))","v":0}]
[null,null,"",null,null,null,null,null,null,null,{"$f":"IF(AND(B111>=(F111-Grenser!$G$4),B111<=(G111+Grenser!$G$4)),B111,IF(B111>(G111+Grenser!$G$4),G111+Grenser!$G$4,F111-Grenser!$G$4))","v":0}]
[null,null,"",null,null,null,null,null,null,null,{"$f":"IF(AND(B112>=(F112-Grenser!$G$4),B112<=(G112+Grenser!$G$4)),B112,IF(B112>(G112+Grenser!$G$4),G112+Grenser!$G$4,F112-Grenser!$G$4))","v":0}]
[null,null,"",null,null,null,null,null,null,null,{"$f":"IF(AND(B113>=(F113-Grenser!$G$4),B113<=(G113+Grenser!$G$4)),B113,IF(B113>(G113+Grenser!$G$4),G113+Grenser!$G$4,F113-Grenser!$G$4))","v":0}]
[null,null,"",null,null,null,null,null,null,null,{"$f":"IF(AND(B114>=(F114-Grenser!$G$4),B114<=(G114+Grenser!$G$4)),B114,IF(B114>(G114+Grenser!$G$4),G114+Grenser!$G$4,F114-Grenser!$G$4))","v":0}]
[null,null,"",null,null,null,null,null,null,null,{"$f":"IF(AND(B115>=(F115-Grenser!$G$4),B115<=(G115+Grenser!$G$4)),B115,IF(B115>(G115+Grenser!$G$4),G115+Grenser!$G$4,F115-Grenser!$G$4))","v":0}]
[null,null,"",null,null,null,null,null,null,null,{"$f":"IF(AND(B116>=(F116-Grenser!$G$4),B116<=(G116+Grenser!$G$4)),B116,IF(B116>(G116+Grenser!$G$4),G116+Grenser!$G$4,F116-Grenser!$G$4))","v":0}]
[null,null,"",null,null,null,null,null,null,null,{"$f":"IF(AND(B117>=(F117-Grenser!$G$4),B117<=(G117+Grenser!$G$4)),B117,IF(B117>(G117+Grenser!$G$4),G117+Grenser!$G$4,F117-Grenser!$G$4))","v":0}]
[null,null,"",null,null,null,null,null,null,null,{"$f":"IF(AND(B118>=(F118-Grenser!$G$4),B118<=(G118+Grenser!$G$4)),B118,IF(B118>(G118+Grenser!$G$4),G118+Grenser!$G$4,F118-Grenser!$G$4))","v":0}]
[null,null,"",null,null,null,null,null,null,null,{"$f":"IF(AND(B119>=(F119-Grenser!$G$4),B119<=(G119+Grenser!$G$4)),B119,IF(B119>(G119+Grenser!$G$4),G119+Grenser!$G$4,F119-Grenser!$G$4))","v":0}]
[null,null,"",null,null,null,null,null,null,null,{"$f":"IF(AND(B120>=(F120-Grenser!$G$4),B120<=(G120+Grenser!$G$4)),B120,IF(B120>(G120+Grenser!$G$4),G120+Grenser!$G$4,F120-Grenser!$G$4))","v":0}]
[null,null,"",null,null,null,null,null,null,null,{"$f":"IF(AND(B121>=(F121-Grenser!$G$4),B121<=(G121+Grenser!$G$4)),B121,IF(B121>(G121+Grenser!$G$4),G121+Grenser!$G$4,F121-Grenser!$G$4))","v":0}]
[null,null,"",null,null,null,null,null,null,null,{"$f":"IF(AND(B122>=(F122-Grenser!$G$4),B122<=(G122+Grenser!$G$4)),B122,IF(B122>(G122+Grenser!$G$4),G122+Grenser!$G$4,F122-Grenser!$G$4))","v":0}]
[null,null,"",null,null,null,null,null,null,null,{"$f":"IF(AND(B123>=(F123-Grenser!$G$4),B123<=(G123+Grenser!$G$4)),B123,IF(B123>(G123+Grenser!$G$4),G123+Grenser!$G$4,F123-Grenser!$G$4))","v":0}]
[null,null,"",null,null,null,null,null,null,null,{"$f":"IF(AND(B124>=(F124-Grenser!$G$4),B124<=(G124+Grenser!$G$4)),B124,IF(B124>(G124+Grenser!$G$4),G124+Grenser!$G$4,F124-Grenser!$G$4))","v":0}]
[null,null,"",null,null,null,null,null,null,null,{"$f":"IF(AND(B125>=(F125-Grenser!$G$4),B125<=(G125+Grenser!$G$4)),B125,IF(B125>(G125+Grenser!$G$4),G125+Grenser!$G$4,F125-Grenser!$G$4))","v":0}]
[null,null,"",null,null,null,null,null,null,null,{"$f":"IF(AND(B126>=(F126-Grenser!$G$4),B126<=(G126+Grenser!$G$4)),B126,IF(B126>(G126+Grenser!$G$4),G126+Grenser!$G$4,F126-Grenser!$G$4))","v":0}]
[null,null,"",null,null,null,null,null,null,null,{"$f":"IF(AND(B127>=(F127-Grenser!$G$4),B127<=(G127+Grenser!$G$4)),B127,IF(B127>(G127+Grenser!$G$4),G127+Grenser!$G$4,F127-Grenser!$G$4))","v":0}]
[null,null,"",null,null,null,null,null,null,null,{"$f":"IF(AND(B128>=(F128-Grenser!$G$4),B128<=(G128+Grenser!$G$4)),B128,IF(B128>(G128+Grenser!$G$4),G128+Grenser!$G$4,F128-Grenser!$G$4))","v":0}]
[null,null,"",null,null,null,null,null,null,null,{"$f":"IF(AND(B129>=(F129-Grenser!$G$4),B129<=(G129+Grenser!$G$4)),B129,IF(B129>(G129+Grenser!$G$4),G129+Grenser!$G$4,F129-Grenser!$G$4))","v":0}]
[null,null,"",null,null,null,null,null,null,null,{"$f":"IF(AND(B130>=(F130-Grenser!$G$4),B130<=(G130+Grenser!$G$4)),B130,IF(B130>(G130+Grenser!$G$4),G130+Grenser!$G$4,F130-Grenser!$G$4))","v":0}]
[null,null,"",null,null,null,null,null,null,null,{"$f":"IF(AND(B131>=(F131-Grenser!$G$4),B131<=(G131+Grenser!$G$4)),B131,IF(B131>(G131+Grenser!$G$4),G131+Grenser!$G$4,F131-Grenser!$G$4))","v":0}]
[null,null,"",null,null,null,null,null,null,null,{"$f":"IF(AND(B132>=(F132-Grenser!$G$4),B132<=(G132+Grenser!$G$4)),B132,IF(B132>(G132+Grenser!$G$4),G132+Grenser!$G$4,F132-Grenser!$G$4))","v":0}]
[null,null,"",null,null,null,null,null,null,null,{"$f":"IF(AND(B133>=(F133-Grenser!$G$4),B133<=(G133+Grenser!$G$4)),B133,IF(B133>(G133+Grenser!$G$4),G133+Grenser!$G$4,F133-Grenser!$G$4))","v":0}]
[null,null,"",null,null,null,null,null,null,null,{"$f":"IF(AND(B134>=(F134-Grenser!$G$4),B134<=(G134+Grenser!$G$4)),B134,IF(B134>(G134+Grenser!$G$4),G134+Grenser!$G$4,F134-Grenser!$G$4))","v":0}]
[null,null,{"$f":"IF(B135<>\"\",(IF(OR(B135<F135,B135>G135),\"STOPP\",\"OK\")),\"\")","v":""},null,null,null,null,null,null,null,{"$f":"IF(AND(B135>=(F135-Grenser!$G$4),B135<=(G135+Grenser!$G$4)),B135,IF(B135>(G135+Grenser!$G$4),G135+Grenser!$G$4,F135-Grenser!$G$4))","v":0}]
[null,null,"",null,null,null,null,null,null,null,{"$f":"IF(AND(B136>=(F136-Grenser!$G$4),B136<=(G136+Grenser!$G$4)),B136,IF(B136>(G136+Grenser!$G$4),G136+Grenser!$G$4,F136-Grenser!$G$4))","v":0}]
[null,null,"",null,null,null,null,null,null,null,{"$f":"IF(AND(B137>=(F137-Grenser!$G$4),B137<=(G137+Grenser!$G$4)),B137,IF(B137>(G137+Grenser!$G$4),G137+Grenser!$G$4,F137-Grenser!$G$4))","v":0}]
[null,null,"",null,null,null,null,null,null,null,{"$f":"IF(AND(B138>=(F138-Grenser!$G$4),B138<=(G138+Grenser!$G$4)),B138,IF(B138>(G138+Grenser!$G$4),G138+Grenser!$G$4,F138-Grenser!$G$4))","v":0}]
[null,null,"",null,null,null,null,null,null,null,{"$f":"IF(AND(B139>=(F139-Grenser!$G$4),B139<=(G139+Grenser!$G$4)),B139,IF(B139>(G139+Grenser!$G$4),G139+Grenser!$G$4,F139-Grenser!$G$4))","v":0}]
[null,null,"",null,null,null,null,null,null,null,{"$f":"IF(AND(B140>=(F140-Grenser!$G$4),B140<=(G140+Grenser!$G$4)),B140,IF(B140>(G140+Grenser!$G$4),G140+Grenser!$G$4,F140-Grenser!$G$4))","v":0}]
[null,null,"",null,null,null,null,null,null,null,{"$f":"IF(AND(B141>=(F141-Grenser!$G$4),B141<=(G141+Grenser!$G$4)),B141,IF(B141>(G141+Grenser!$G$4),G141+Grenser!$G$4,F141-Grenser!$G$4))","v":0}]
[null,null,"",null,null,null,null,null,null,null,{"$f":"IF(AND(B142>=(F142-Grenser!$G$4),B142<=(G142+Grenser!$G$4)),B142,IF(B142>(G142+Grenser!$G$4),G142+Grenser!$G$4,F142-Grenser!$G$4))","v":0}]
[null,null,"",null,null,null,null,null,null,null,{"$f":"IF(AND(B143>=(F143-Grenser!$G$4),B143<=(G143+Grenser!$G$4)),B143,IF(B143>(G143+Grenser!$G$4),G143+Grenser!$G$4,F143-Grenser!$G$4))","v":0}]
[null,null,"",null,null,null,null,null,null,null,{"$f":"IF(AND(B144>=(F144-Grenser!$G$4),B144<=(G144+Grenser!$G$4)),B144,IF(B144>(G144+Grenser!$G$4),G144+Grenser!$G$4,F144-Grenser!$G$4))","v":0}]
[null,null,"",null,null,null,null,null,null,null,{"$f":"IF(AND(B145>=(F145-Grenser!$G$4),B145<=(G145+Grenser!$G$4)),B145,IF(B145>(G145+Grenser!$G$4),G145+Grenser!$G$4,F145-Grenser!$G$4))","v":0}]
[null,null,"",null,null,null,null,null,null,null,{"$f":"IF(AND(B146>=(F146-Grenser!$G$4),B146<=(G146+Grenser!$G$4)),B146,IF(B146>(G146+Grenser!$G$4),G146+Grenser!$G$4,F146-Grenser!$G$4))","v":0}]
[null,null,"",null,null,null,null,null,null,null,{"$f":"IF(AND(B147>=(F147-Grenser!$G$4),B147<=(G147+Grenser!$G$4)),B147,IF(B147>(G147+Grenser!$G$4),G147+Grenser!$G$4,F147-Grenser!$G$4))","v":0}]
[null,null,"",null,null,null,null,null,null,null,{"$f":"IF(AND(B148>=(F148-Grenser!$G$4),B148<=(G148+Grenser!$G$4)),B148,IF(B148>(G148+Grenser!$G$4),G148+Grenser!$G$4,F148-Grenser!$G$4))","v":0}]
[null,null,"",null,null,null,null,null,null,null,{"$f":"IF(AND(B149>=(F149-Grenser!$G$4),B149<=(G149+Grenser!$G$4)),B149,IF(B149>(G149+Grenser!$G$4),G149+Grenser!$G$4,F149-Grenser!$G$4))","v":0}]
[null,null,"",null,null,null,null,null,null,null,{"$f":"IF(AND(B150>=(F150-Grenser!$G$4),B150<=(G150+Grenser!$G$4)),B150,IF(B150>(G150+Grenser!$G$4),G150+Grenser!$G$4,F150-Grenser!$G$4))","v":0}]
[null,null,"",null,null,null,null,null,null,null,{"$f":"IF(AND(B151>=(F151-Grenser!$G$4),B151<=(G151+Grenser!$G$4)),B151,IF(B151>(G151+Grenser!$G$4),G151+Grenser!$G$4,F151-Grenser!$G$4))","v":0}]
[null,null,"",null,null,null,null,null,null,null,{"$f":"IF(AND(B152>=(F152-Grenser!$G$4),B152<=(G152+Grenser!$G$4)),B152,IF(B152>(G152+Grenser!$G$4),G152+Grenser!$G$4,F152-Grenser!$G$4))","v":0}]
[null,null,"",null,null,null,null,null,null,null,{"$f":"IF(AND(B153>=(F153-Grenser!$G$4),B153<=(G153+Grenser!$G$4)),B153,IF(B153>(G153+Grenser!$G$4),G153+Grenser!$G$4,F153-Grenser!$G$4))","v":0}]
[null,null,"",null,null,null,null,null,null,null,{"$f":"IF(AND(B154>=(F154-Grenser!$G$4),B154<=(G154+Grenser!$G$4)),B154,IF(B154>(G154+Grenser!$G$4),G154+Grenser!$G$4,F154-Grenser!$G$4))","v":0}]
[null,null,"",null,null,null,null,null,null,null,{"$f":"IF(AND(B155>=(F155-Grenser!$G$4),B155<=(G155+Grenser!$G$4)),B155,IF(B155>(G155+Grenser!$G$4),G155+Grenser!$G$4,F155-Grenser!$G$4))","v":0}]
[null,null,"",null,null,null,null,null,null,null,{"$f":"IF(AND(B156>=(F156-Grenser!$G$4),B156<=(G156+Grenser!$G$4)),B156,IF(B156>(G156+Grenser!$G$4),G156+Grenser!$G$4,F156-Grenser!$G$4))","v":0}]
[null,null,"",null,null,null,null,null,null,null,{"$f":"IF(AND(B157>=(F157-Grenser!$G$4),B157<=(G157+Grenser!$G$4)),B157,IF(B157>(G157+Grenser!$G$4),G157+Grenser!$G$4,F157-Grenser!$G$4))","v":0}]
[null,null,"",null,null,null,null,null,null,null,{"$f":"IF(AND(B158>=(F158-Grenser!$G$4),B158<=(G158+Grenser!$G$4)),B158,IF(B158>(G158+Grenser!$G$4),G158+Grenser!$G$4,F158-Grenser!$G$4))","v":0}]
[null,null,"",null,null,null,null,null,null,null,{"$f":"IF(AND(B159>=(F159-Grenser!$G$4),B159<=(G159+Grenser!$G$4)),B159,IF(B159>(G159+Grenser!$G$4),G159+Grenser!$G$4,F159-Grenser!$G$4))","v":0}]
[null,null,"",null,null,null,null,null,null,null,{"$f":"IF(AND(B160>=(F160-Grenser!$G$4),B160<=(G160+Grenser!$G$4)),B160,IF(B160>(G160+Grenser!$G$4),G160+Grenser!$G$4,F160-Grenser!$G$4))","v":0}]
[null,null,"",null,null,null,null,null,null,null,{"$f":"IF(AND(B161>=(F161-Grenser!$G$4),B161<=(G161+Grenser!$G$4)),B161,IF(B161>(G161+Grenser!$G$4),G161+Grenser!$G$4,F161-Grenser!$G$4))","v":0}]
[null,null,"",null,null,null,null,null,null,null,{"$f":"IF(AND(B162>=(F162-Grenser!$G$4),B162<=(G162+Grenser!$G$4)),B162,IF(B162>(G162+Grenser!$G$4),G162+Grenser!$G$4,F162-Grenser!$G$4))","v":0}]
[null,null,"",null,null,null,null,null,null,null,{"$f":"IF(AND(B163>=(F163-Grenser!$G$4),B163<=(G163+Grenser!$G$4)),B163,IF(B163>(G163+Grenser!$G$4),G163+Grenser!$G$4,F163-Grenser!$G$4))","v":0}]
[null,null,"",null,null,null,null,null,null,null,{"$f":"IF(AND(B164>=(F164-Grenser!$G$4),B164<=(G164+Grenser!$G$4)),B164,IF(B164>(G164+Grenser!$G$4),G164+Grenser!$G$4,F164-Grenser!$G$4))","v":0}]
[null,null,"",null,null,null,null,null,null,null,{"$f":"IF(AND(B165>=(F165-Grenser!$G$4),B165<=(G165+Grenser!$G$4)),B165,IF(B165>(G165+Grenser!$G$4),G165+Grenser!$G$4,F165-Grenser!$G$4))","v":0}]
[null,null,"",null,null,null,null,null,null,null,{"$f":"IF(AND(B166>=(F166-Grenser!$G$4),B166<=(G166+Grenser!$G$4)),B166,IF(B166>(G166+Grenser!$G$4),G166+Grenser!$G$4,F166-Grenser!$G$4))","v":0}]
[null,null,"",null,null,null,null,null,null,null,{"$f":"IF(AND(B167>=(F167-Grenser!$G$4),B167<=(G167+Grenser!$G$4)),B167,IF(B167>(G167+Grenser!$G$4),G167+Grenser!$G$4,F167-Grenser!$G$4))","v":0}]
[null,null,"",null,null,null,null,null,null,null,{"$f":"IF(AND(B168>=(F168-Grenser!$G$4),B168<=(G168+Grenser!$G$4)),B168,IF(B168>(G168+Grenser!$G$4),G168+Grenser!$G$4,F168-Grenser!$G$4))","v":0}]
[null,null,"",null,null,null,null,null,null,null,{"$f":"IF(AND(B169>=(F169-Grenser!$G$4),B169<=(G169+Grenser!$G$4)),B169,IF(B169>(G169+Grenser!$G$4),G169+Grenser!$G$4,F169-Grenser!$G$4))","v":0}]
[null,null,"",null,null,null,null,null,null,null,{"$f":"IF(AND(B170>=(F170-Grenser!$G$4),B170<=(G170+Grenser!$G$4)),B170,IF(B170>(G170+Grenser!$G$4),G170+Grenser!$G$4,F170-Grenser!$G$4))","v":0}]
[null,null,"",null,null,null,null,null,null,null,{"$f":"IF(AND(B171>=(F171-Grenser!$G$4),B171<=(G171+Grenser!$G$4)),B171,IF(B171>(G171+Grenser!$G$4),G171+Grenser!$G$4,F171-Grenser!$G$4))","v":0}]
[null,null,"",null,null,null,null,null,null,null,{"$f":"IF(AND(B172>=(F172-Grenser!$G$4),B172<=(G172+Grenser!$G$4)),B172,IF(B172>(G172+Grenser!$G$4),G172+Grenser!$G$4,F172-Grenser!$G$4))","v":0}]
[null,null,"",null,null,null,null,null,null,null,{"$f":"IF(AND(B173>=(F173-Grenser!$G$4),B173<=(G173+Grenser!$G$4)),B173,IF(B173>(G173+Grenser!$G$4),G173+Grenser!$G$4,F173-Grenser!$G$4))","v":0}]
[null,null,"",null,null,null,null,null,null,null,{"$f":"IF(AND(B174>=(F174-Grenser!$G$4),B174<=(G174+Grenser!$G$4)),B174,IF(B174>(G174+Grenser!$G$4),G174+Grenser!$G$4,F174-Grenser!$G$4))","v":0}]
[null,null,"",null,null,null,null,null,null,null,{"$f":"IF(AND(B175>=(F175-Grenser!$G$4),B175<=(G175+Grenser!$G$4)),B175,IF(B175>(G175+Grenser!$G$4),G175+Grenser!$G$4,F175-Grenser!$G$4))","v":0}]
[null,null,"",null,null,null,null,null,null,null,{"$f":"IF(AND(B176>=(F176-Grenser!$G$4),B176<=(G176+Grenser!$G$4)),B176,IF(B176>(G176+Grenser!$G$4),G176+Grenser!$G$4,F176-Grenser!$G$4))","v":0}]
[null,null,"",null,null,null,null,null,null,null,{"$f":"IF(AND(B177>=(F177-Grenser!$G$4),B177<=(G177+Grenser!$G$4)),B177,IF(B177>(G177+Grenser!$G$4),G177+Grenser!$G$4,F177-Grenser!$G$4))","v":0}]
[null,null,"",null,null,null,null,null,null,null,{"$f":"IF(AND(B178>=(F178-Grenser!$G$4),B178<=(G178+Grenser!$G$4)),B178,IF(B178>(G178+Grenser!$G$4),G178+Grenser!$G$4,F178-Grenser!$G$4))","v":0}]
[null,null,"",null,null,null,null,null,null,null,{"$f":"IF(AND(B179>=(F179-Grenser!$G$4),B179<=(G179+Grenser!$G$4)),B179,IF(B179>(G179+Grenser!$G$4),G179+Grenser!$G$4,F179-Grenser!$G$4))","v":0}]
[null,null,"",null,null,null,null,null,null,null,{"$f":"IF(AND(B180>=(F180-Grenser!$G$4),B180<=(G180+Grenser!$G$4)),B180,IF(B180>(G180+Grenser!$G$4),G180+Grenser!$G$4,F180-Grenser!$G$4))","v":0}]
[null,null,"",null,null,null,null,null,null,null,{"$f":"IF(AND(B181>=(F181-Grenser!$G$4),B181<=(G181+Grenser!$G$4)),B181,IF(B181>(G181+Grenser!$G$4),G181+Grenser!$G$4,F181-Grenser!$G$4))","v":0}]
[null,null,"",null,null,null,null,null,null,null,{"$f":"IF(AND(B182>=(F182-Grenser!$G$4),B182<=(G182+Grenser!$G$4)),B182,IF(B182>(G182+Grenser!$G$4),G182+Grenser!$G$4,F182-Grenser!$G$4))","v":0}]
[null,null,"",null,null,null,null,null,null,null,{"$f":"IF(AND(B183>=(F183-Grenser!$G$4),B183<=(G183+Grenser!$G$4)),B183,IF(B183>(G183+Grenser!$G$4),G183+Grenser!$G$4,F183-Grenser!$G$4))","v":0}]
[null,null,"",null,null,null,null,null,null,null,{"$f":"IF(AND(B184>=(F184-Grenser!$G$4),B184<=(G184+Grenser!$G$4)),B184,IF(B184>(G184+Grenser!$G$4),G184+Grenser!$G$4,F184-Grenser!$G$4))","v":0}]
[null,null,"",null,null,null,null,null,null,null,{"$f":"IF(AND(B185>=(F185-Grenser!$G$4),B185<=(G185+Grenser!$G$4)),B185,IF(B185>(G185+Grenser!$G$4),G185+Grenser!$G$4,F185-Grenser!$G$4))","v":0}]
[null,null,"",null,null,null,null,null,null,null,{"$f":"IF(AND(B186>=(F186-Grenser!$G$4),B186<=(G186+Grenser!$G$4)),B186,IF(B186>(G186+Grenser!$G$4),G186+Grenser!$G$4,F186-Grenser!$G$4))","v":0}]
[null,null,"",null,null,null,null,null,null,null,{"$f":"IF(AND(B187>=(F187-Grenser!$G$4),B187<=(G187+Grenser!$G$4)),B187,IF(B187>(G187+Grenser!$G$4),G187+Grenser!$G$4,F187-Grenser!$G$4))","v":0}]
[null,null,"",null,null,null,null,null,null,null,{"$f":"IF(AND(B188>=(F188-Grenser!$G$4),B188<=(G188+Grenser!$G$4)),B188,IF(B188>(G188+Grenser!$G$4),G188+Grenser!$G$4,F188-Grenser!$G$4))","v":0}]
[null,null,"",null,null,null,null,null,null,null,{"$f":"IF(AND(B189>=(F189-Grenser!$G$4),B189<=(G189+Grenser!$G$4)),B189,IF(B189>(G189+Grenser!$G$4),G189+Grenser!$G$4,F189-Grenser!$G$4))","v":0}]
[null,null,"",null,null,null,null,null,null,null,{"$f":"IF(AND(B190>=(F190-Grenser!$G$4),B190<=(G190+Grenser!$G$4)),B190,IF(B190>(G190+Grenser!$G$4),G190+Grenser!$G$4,F190-Grenser!$G$4))","v":0}]
[null,null,"",null,null,null,null,null,null,null,{"$f":"IF(AND(B191>=(F191-Grenser!$G$4),B191<=(G191+Grenser!$G$4)),B191,IF(B191>(G191+Grenser!$G$4),G191+Grenser!$G$4,F191-Grenser!$G$4))","v":0}]
[null,null,"",null,null,null,null,null,null,null,{"$f":"IF(AND(B192>=(F192-Grenser!$G$4),B192<=(G192+Grenser!$G$4)),B192,IF(B192>(G192+Grenser!$G$4),G192+Grenser!$G$4,F192-Grenser!$G$4))","v":0}]
[null,null,"",null,null,null,null,null,null,null,{"$f":"IF(AND(B193>=(F193-Grenser!$G$4),B193<=(G193+Grenser!$G$4)),B193,IF(B193>(G193+Grenser!$G$4),G193+Grenser!$G$4,F193-Grenser!$G$4))","v":0}]
[null,null,"",null,null,null,null,null,null,null,{"$f":"IF(AND(B194>=(F194-Grenser!$G$4),B194<=(G194+Grenser!$G$4)),B194,IF(B194>(G194+Grenser!$G$4),G194+Grenser!$G$4,F194-Grenser!$G$4))","v":0}]
[null,null,"",null,null,null,null,null,null,null,{"$f":"IF(AND(B195>=(F195-Grenser!$G$4),B195<=(G195+Grenser!$G$4)),B195,IF(B195>(G195+Grenser!$G$4),G195+Grenser!$G$4,F195-Grenser!$G$4))","v":0}]
[null,null,"",null,null,null,null,null,null,null,{"$f":"IF(AND(B196>=(F196-Grenser!$G$4),B196<=(G196+Grenser!$G$4)),B196,IF(B196>(G196+Grenser!$G$4),G196+Grenser!$G$4,F196-Grenser!$G$4))","v":0}]
[null,null,"",null,null,null,null,null,null,null,{"$f":"IF(AND(B197>=(F197-Grenser!$G$4),B197<=(G197+Grenser!$G$4)),B197,IF(B197>(G197+Grenser!$G$4),G197+Grenser!$G$4,F197-Grenser!$G$4))","v":0}]
[null,null,"",null,null,null,null,null,null,null,{"$f":"IF(AND(B198>=(F198-Grenser!$G$4),B198<=(G198+Grenser!$G$4)),B198,IF(B198>(G198+Grenser!$G$4),G198+Grenser!$G$4,F198-Grenser!$G$4))","v":0}]
[null,null,{"$f":"IF(B199<>\"\",(IF(OR(B199<F199,B199>G199),\"STOPP\",\"OK\")),\"\")","v":""},null,null,null,null,null,null,null,{"$f":"IF(AND(B199>=(F199-Grenser!$G$4),B199<=(G199+Grenser!$G$4)),B199,IF(B199>(G199+Grenser!$G$4),G199+Grenser!$G$4,F199-Grenser!$G$4))","v":0}]
[null,null,{"$f":"IF(B200<>\"\",(IF(OR(B200<F200,B200>G200),\"STOPP\",\"OK\")),\"\")","v":""},null,null,null,null,null,null,{"$f":"IF(G200<>\"\",IF((OR((G200>$V200),(G200<$U200))),IF(OR((G200>$T200),(G200<$S200)),\"STOPP\",\"Vurder\"),\"Ok\"),\"\")","v":""},{"$f":"IF(AND(B200>=(F200-Grenser!$G$4),B200<=(G200+Grenser!$G$4)),B200,IF(B200>(G200+Grenser!$G$4),G200+Grenser!$G$4,F200-Grenser!$G$4))","v":0}]
[null,null,{"$f":"IF(B201<>\"\",(IF(OR(B201<F201,B201>G201),\"STOPP\",\"OK\")),\"\")","v":""},null,null,null,null,null,null,"",{"$f":"IF(AND(B201>=(F201-Grenser!$G$4),B201<=(G201+Grenser!$G$4)),B201,IF(B201>(G201+Grenser!$G$4),G201+Grenser!$G$4,F201-Grenser!$G$4))","v":0}]

{"sheet":"Ikke i bruk 9","index":11,"n_rows":201,"n_cols":11,"rows_kept":201,"cut":false,"hidden":false,"merged":[[0,0,0,9]]}
[{"$f":"Grenser!B12","v":"Ikke i bruk 9"}]
["Antall",{"$f":" COUNT(B7:B201)","v":0}]
["Mean",{"$f":"AVERAGE(B7:B201)","v":{"$error":"#DIV/0!"}}]
["Standardavvik",{"$f":"STDEV(B7:B201)","v":{"$error":"#DIV/0!"}}]
["CV",{"$f":"B4*100/B3","v":{"$error":"#DIV/0!"}}]
["Dato avlest","Avlest sone","Vurdering","Produksjonsdato res.skål","Satt opp sign","Lav grense","Høy grense","Dato Satt opp","Avlest sign","Teller","Avlest sone korrigert"]
[null,null,{"$f":"IF(B7<>\"\",(IF(OR(B7<F7,B7>G7),\"STOPP\",\"OK\")),\"\")","v":""},null,null,null,null,null,null,null,{"$f":"IF(AND(B7>=(F7-Grenser!$G$4),B7<=(G7+Grenser!$G$4)),B7,IF(B7>(G7+Grenser!$G$4),G7+Grenser!$G$4,F7-Grenser!$G$4))","v":0}]
[null,null,"",null,null,null,null,null,null,null,{"$f":"IF(AND(B8>=(F8-Grenser!$G$4),B8<=(G8+Grenser!$G$4)),B8,IF(B8>(G8+Grenser!$G$4),G8+Grenser!$G$4,F8-Grenser!$G$4))","v":0}]
[null,null,"",null,null,null,null,null,null,null,{"$f":"IF(AND(B9>=(F9-Grenser!$G$4),B9<=(G9+Grenser!$G$4)),B9,IF(B9>(G9+Grenser!$G$4),G9+Grenser!$G$4,F9-Grenser!$G$4))","v":0}]
[null,null,"",null,null,null,null,null,null,null,{"$f":"IF(AND(B10>=(F10-Grenser!$G$4),B10<=(G10+Grenser!$G$4)),B10,IF(B10>(G10+Grenser!$G$4),G10+Grenser!$G$4,F10-Grenser!$G$4))","v":0}]
[null,null,"",null,null,null,null,null,null,null,{"$f":"IF(AND(B11>=(F11-Grenser!$G$4),B11<=(G11+Grenser!$G$4)),B11,IF(B11>(G11+Grenser!$G$4),G11+Grenser!$G$4,F11-Grenser!$G$4))","v":0}]
[null,null,"",null,null,null,null,null,null,null,{"$f":"IF(AND(B12>=(F12-Grenser!$G$4),B12<=(G12+Grenser!$G$4)),B12,IF(B12>(G12+Grenser!$G$4),G12+Grenser!$G$4,F12-Grenser!$G$4))","v":0}]
[null,null,"",null,null,null,null,null,null,null,{"$f":"IF(AND(B13>=(F13-Grenser!$G$4),B13<=(G13+Grenser!$G$4)),B13,IF(B13>(G13+Grenser!$G$4),G13+Grenser!$G$4,F13-Grenser!$G$4))","v":0}]
[null,null,"",null,null,null,null,null,null,null,{"$f":"IF(AND(B14>=(F14-Grenser!$G$4),B14<=(G14+Grenser!$G$4)),B14,IF(B14>(G14+Grenser!$G$4),G14+Grenser!$G$4,F14-Grenser!$G$4))","v":0}]
[null,null,"",null,null,null,null,null,null,null,{"$f":"IF(AND(B15>=(F15-Grenser!$G$4),B15<=(G15+Grenser!$G$4)),B15,IF(B15>(G15+Grenser!$G$4),G15+Grenser!$G$4,F15-Grenser!$G$4))","v":0}]
[null,null,"",null,null,null,null,null,null,null,{"$f":"IF(AND(B16>=(F16-Grenser!$G$4),B16<=(G16+Grenser!$G$4)),B16,IF(B16>(G16+Grenser!$G$4),G16+Grenser!$G$4,F16-Grenser!$G$4))","v":0}]
[null,null,"",null,null,null,null,null,null,null,{"$f":"IF(AND(B17>=(F17-Grenser!$G$4),B17<=(G17+Grenser!$G$4)),B17,IF(B17>(G17+Grenser!$G$4),G17+Grenser!$G$4,F17-Grenser!$G$4))","v":0}]
[null,null,"",null,null,null,null,null,null,null,{"$f":"IF(AND(B18>=(F18-Grenser!$G$4),B18<=(G18+Grenser!$G$4)),B18,IF(B18>(G18+Grenser!$G$4),G18+Grenser!$G$4,F18-Grenser!$G$4))","v":0}]
[null,null,"",null,null,null,null,null,null,null,{"$f":"IF(AND(B19>=(F19-Grenser!$G$4),B19<=(G19+Grenser!$G$4)),B19,IF(B19>(G19+Grenser!$G$4),G19+Grenser!$G$4,F19-Grenser!$G$4))","v":0}]
[null,null,"",null,null,null,null,null,null,null,{"$f":"IF(AND(B20>=(F20-Grenser!$G$4),B20<=(G20+Grenser!$G$4)),B20,IF(B20>(G20+Grenser!$G$4),G20+Grenser!$G$4,F20-Grenser!$G$4))","v":0}]
[null,null,{"$f":"IF(B21<>\"\",(IF(OR(B21<F21,B21>G21),\"STOPP\",\"OK\")),\"\")","v":""},null,null,null,null,null,null,null,{"$f":"IF(AND(B21>=(F21-Grenser!$G$4),B21<=(G21+Grenser!$G$4)),B21,IF(B21>(G21+Grenser!$G$4),G21+Grenser!$G$4,F21-Grenser!$G$4))","v":0}]
[null,null,{"$f":"IF(B22<>\"\",(IF(OR(B22<F22,B22>G22),\"STOPP\",\"OK\")),\"\")","v":""},null,null,null,null,null,null,null,{"$f":"IF(AND(B22>=(F22-Grenser!$G$4),B22<=(G22+Grenser!$G$4)),B22,IF(B22>(G22+Grenser!$G$4),G22+Grenser!$G$4,F22-Grenser!$G$4))","v":0}]
[null,null,{"$f":"IF(B23<>\"\",(IF(OR(B23<F23,B23>G23),\"STOPP\",\"OK\")),\"\")","v":""},null,null,null,null,null,null,null,{"$f":"IF(AND(B23>=(F23-Grenser!$G$4),B23<=(G23+Grenser!$G$4)),B23,IF(B23>(G23+Grenser!$G$4),G23+Grenser!$G$4,F23-Grenser!$G$4))","v":0}]
[null,null,{"$f":"IF(B24<>\"\",(IF(OR(B24<F24,B24>G24),\"STOPP\",\"OK\")),\"\")","v":""},null,null,null,null,null,null,null,{"$f":"IF(AND(B24>=(F24-Grenser!$G$4),B24<=(G24+Grenser!$G$4)),B24,IF(B24>(G24+Grenser!$G$4),G24+Grenser!$G$4,F24-Grenser!$G$4))","v":0}]
[null,null,{"$f":"IF(B25<>\"\",(IF(OR(B25<F25,B25>G25),\"STOPP\",\"OK\")),\"\")","v":""},null,null,null,null,null,null,null,{"$f":"IF(AND(B25>=(F25-Grenser!$G$4),B25<=(G25+Grenser!$G$4)),B25,IF(B25>(G25+Grenser!$G$4),G25+Grenser!$G$4,F25-Grenser!$G$4))","v":0}]
[null,null,"",null,null,null,null,null,null,null,{"$f":"IF(AND(B26>=(F26-Grenser!$G$4),B26<=(G26+Grenser!$G$4)),B26,IF(B26>(G26+Grenser!$G$4),G26+Grenser!$G$4,F26-Grenser!$G$4))","v":0}]
[null,null,"",null,null,null,null,null,null,null,{"$f":"IF(AND(B27>=(F27-Grenser!$G$4),B27<=(G27+Grenser!$G$4)),B27,IF(B27>(G27+Grenser!$G$4),G27+Grenser!$G$4,F27-Grenser!$G$4))","v":0}]
[null,null,"",null,null,null,null,null,null,null,{"$f":"IF(AND(B28>=(F28-Grenser!$G$4),B28<=(G28+Grenser!$G$4)),B28,IF(B28>(G28+Grenser!$G$4),G28+Grenser!$G$4,F28-Grenser!$G$4))","v":0}]
[null,null,"",null,null,null,null,null,null,null,{"$f":"IF(AND(B29>=(F29-Grenser!$G$4),B29<=(G29+Grenser!$G$4)),B29,IF(B29>(G29+Grenser!$G$4),G29+Grenser!$G$4,F29-Grenser!$G$4))","v":0}]
[null,null,"",null,null,null,null,null,null,null,{"$f":"IF(AND(B30>=(F30-Grenser!$G$4),B30<=(G30+Grenser!$G$4)),B30,IF(B30>(G30+Grenser!$G$4),G30+Grenser!$G$4,F30-Grenser!$G$4))","v":0}]
[null,null,"",null,null,null,null,null,null,null,{"$f":"IF(AND(B31>=(F31-Grenser!$G$4),B31<=(G31+Grenser!$G$4)),B31,IF(B31>(G31+Grenser!$G$4),G31+Grenser!$G$4,F31-Grenser!$G$4))","v":0}]
[null,null,"",null,null,null,null,null,null,null,{"$f":"IF(AND(B32>=(F32-Grenser!$G$4),B32<=(G32+Grenser!$G$4)),B32,IF(B32>(G32+Grenser!$G$4),G32+Grenser!$G$4,F32-Grenser!$G$4))","v":0}]
[null,null,"",null,null,null,null,null,null,null,{"$f":"IF(AND(B33>=(F33-Grenser!$G$4),B33<=(G33+Grenser!$G$4)),B33,IF(B33>(G33+Grenser!$G$4),G33+Grenser!$G$4,F33-Grenser!$G$4))","v":0}]
[null,null,"",null,null,null,null,null,null,null,{"$f":"IF(AND(B34>=(F34-Grenser!$G$4),B34<=(G34+Grenser!$G$4)),B34,IF(B34>(G34+Grenser!$G$4),G34+Grenser!$G$4,F34-Grenser!$G$4))","v":0}]
[null,null,"",null,null,null,null,null,null,null,{"$f":"IF(AND(B35>=(F35-Grenser!$G$4),B35<=(G35+Grenser!$G$4)),B35,IF(B35>(G35+Grenser!$G$4),G35+Grenser!$G$4,F35-Grenser!$G$4))","v":0}]
[null,null,"",null,null,null,null,null,null,null,{"$f":"IF(AND(B36>=(F36-Grenser!$G$4),B36<=(G36+Grenser!$G$4)),B36,IF(B36>(G36+Grenser!$G$4),G36+Grenser!$G$4,F36-Grenser!$G$4))","v":0}]
[null,null,"",null,null,null,null,null,null,null,{"$f":"IF(AND(B37>=(F37-Grenser!$G$4),B37<=(G37+Grenser!$G$4)),B37,IF(B37>(G37+Grenser!$G$4),G37+Grenser!$G$4,F37-Grenser!$G$4))","v":0}]
[null,null,"",null,null,null,null,null,null,null,{"$f":"IF(AND(B38>=(F38-Grenser!$G$4),B38<=(G38+Grenser!$G$4)),B38,IF(B38>(G38+Grenser!$G$4),G38+Grenser!$G$4,F38-Grenser!$G$4))","v":0}]
[null,null,"",null,null,null,null,null,null,null,{"$f":"IF(AND(B39>=(F39-Grenser!$G$4),B39<=(G39+Grenser!$G$4)),B39,IF(B39>(G39+Grenser!$G$4),G39+Grenser!$G$4,F39-Grenser!$G$4))","v":0}]
[null,null,"",null,null,null,null,null,null,null,{"$f":"IF(AND(B40>=(F40-Grenser!$G$4),B40<=(G40+Grenser!$G$4)),B40,IF(B40>(G40+Grenser!$G$4),G40+Grenser!$G$4,F40-Grenser!$G$4))","v":0}]
[null,null,"",null,null,null,null,null,null,null,{"$f":"IF(AND(B41>=(F41-Grenser!$G$4),B41<=(G41+Grenser!$G$4)),B41,IF(B41>(G41+Grenser!$G$4),G41+Grenser!$G$4,F41-Grenser!$G$4))","v":0}]
[null,null,"",null,null,null,null,null,null,null,{"$f":"IF(AND(B42>=(F42-Grenser!$G$4),B42<=(G42+Grenser!$G$4)),B42,IF(B42>(G42+Grenser!$G$4),G42+Grenser!$G$4,F42-Grenser!$G$4))","v":0}]
[null,null,"",null,null,null,null,null,null,null,{"$f":"IF(AND(B43>=(F43-Grenser!$G$4),B43<=(G43+Grenser!$G$4)),B43,IF(B43>(G43+Grenser!$G$4),G43+Grenser!$G$4,F43-Grenser!$G$4))","v":0}]
[null,null,"",null,null,null,null,null,null,null,{"$f":"IF(AND(B44>=(F44-Grenser!$G$4),B44<=(G44+Grenser!$G$4)),B44,IF(B44>(G44+Grenser!$G$4),G44+Grenser!$G$4,F44-Grenser!$G$4))","v":0}]
[null,null,"",null,null,null,null,null,null,null,{"$f":"IF(AND(B45>=(F45-Grenser!$G$4),B45<=(G45+Grenser!$G$4)),B45,IF(B45>(G45+Grenser!$G$4),G45+Grenser!$G$4,F45-Grenser!$G$4))","v":0}]
[null,null,"",null,null,null,null,null,null,null,{"$f":"IF(AND(B46>=(F46-Grenser!$G$4),B46<=(G46+Grenser!$G$4)),B46,IF(B46>(G46+Grenser!$G$4),G46+Grenser!$G$4,F46-Grenser!$G$4))","v":0}]
[null,null,"",null,null,null,null,null,null,null,{"$f":"IF(AND(B47>=(F47-Grenser!$G$4),B47<=(G47+Grenser!$G$4)),B47,IF(B47>(G47+Grenser!$G$4),G47+Grenser!$G$4,F47-Grenser!$G$4))","v":0}]
[null,null,"",null,null,null,null,null,null,null,{"$f":"IF(AND(B48>=(F48-Grenser!$G$4),B48<=(G48+Grenser!$G$4)),B48,IF(B48>(G48+Grenser!$G$4),G48+Grenser!$G$4,F48-Grenser!$G$4))","v":0}]
[null,null,"",null,null,null,null,null,null,null,{"$f":"IF(AND(B49>=(F49-Grenser!$G$4),B49<=(G49+Grenser!$G$4)),B49,IF(B49>(G49+Grenser!$G$4),G49+Grenser!$G$4,F49-Grenser!$G$4))","v":0}]
[null,null,"",null,null,null,null,null,null,null,{"$f":"IF(AND(B50>=(F50-Grenser!$G$4),B50<=(G50+Grenser!$G$4)),B50,IF(B50>(G50+Grenser!$G$4),G50+Grenser!$G$4,F50-Grenser!$G$4))","v":0}]
[null,null,"",null,null,null,null,null,null,null,{"$f":"IF(AND(B51>=(F51-Grenser!$G$4),B51<=(G51+Grenser!$G$4)),B51,IF(B51>(G51+Grenser!$G$4),G51+Grenser!$G$4,F51-Grenser!$G$4))","v":0}]
[null,null,"",null,null,null,null,null,null,null,{"$f":"IF(AND(B52>=(F52-Grenser!$G$4),B52<=(G52+Grenser!$G$4)),B52,IF(B52>(G52+Grenser!$G$4),G52+Grenser!$G$4,F52-Grenser!$G$4))","v":0}]
[null,null,"",null,null,null,null,null,null,null,{"$f":"IF(AND(B53>=(F53-Grenser!$G$4),B53<=(G53+Grenser!$G$4)),B53,IF(B53>(G53+Grenser!$G$4),G53+Grenser!$G$4,F53-Grenser!$G$4))","v":0}]
[null,null,"",null,null,null,null,null,null,null,{"$f":"IF(AND(B54>=(F54-Grenser!$G$4),B54<=(G54+Grenser!$G$4)),B54,IF(B54>(G54+Grenser!$G$4),G54+Grenser!$G$4,F54-Grenser!$G$4))","v":0}]
[null,null,"",null,null,null,null,null,null,null,{"$f":"IF(AND(B55>=(F55-Grenser!$G$4),B55<=(G55+Grenser!$G$4)),B55,IF(B55>(G55+Grenser!$G$4),G55+Grenser!$G$4,F55-Grenser!$G$4))","v":0}]
[null,null,"",null,null,null,null,null,null,null,{"$f":"IF(AND(B56>=(F56-Grenser!$G$4),B56<=(G56+Grenser!$G$4)),B56,IF(B56>(G56+Grenser!$G$4),G56+Grenser!$G$4,F56-Grenser!$G$4))","v":0}]
[null,null,"",null,null,null,null,null,null,null,{"$f":"IF(AND(B57>=(F57-Grenser!$G$4),B57<=(G57+Grenser!$G$4)),B57,IF(B57>(G57+Grenser!$G$4),G57+Grenser!$G$4,F57-Grenser!$G$4))","v":0}]
[null,null,"",null,null,null,null,null,null,null,{"$f":"IF(AND(B58>=(F58-Grenser!$G$4),B58<=(G58+Grenser!$G$4)),B58,IF(B58>(G58+Grenser!$G$4),G58+Grenser!$G$4,F58-Grenser!$G$4))","v":0}]
[null,null,"",null,null,null,null,null,null,null,{"$f":"IF(AND(B59>=(F59-Grenser!$G$4),B59<=(G59+Grenser!$G$4)),B59,IF(B59>(G59+Grenser!$G$4),G59+Grenser!$G$4,F59-Grenser!$G$4))","v":0}]
[null,null,"",null,null,null,null,null,null,null,{"$f":"IF(AND(B60>=(F60-Grenser!$G$4),B60<=(G60+Grenser!$G$4)),B60,IF(B60>(G60+Grenser!$G$4),G60+Grenser!$G$4,F60-Grenser!$G$4))","v":0}]
[null,null,"",null,null,null,null,null,null,null,{"$f":"IF(AND(B61>=(F61-Grenser!$G$4),B61<=(G61+Grenser!$G$4)),B61,IF(B61>(G61+Grenser!$G$4),G61+Grenser!$G$4,F61-Grenser!$G$4))","v":0}]
[null,null,"",null,null,null,null,null,null,null,{"$f":"IF(AND(B62>=(F62-Grenser!$G$4),B62<=(G62+Grenser!$G$4)),B62,IF(B62>(G62+Grenser!$G$4),G62+Grenser!$G$4,F62-Grenser!$G$4))","v":0}]
[null,null,"",null,null,null,null,null,null,null,{"$f":"IF(AND(B63>=(F63-Grenser!$G$4),B63<=(G63+Grenser!$G$4)),B63,IF(B63>(G63+Grenser!$G$4),G63+Grenser!$G$4,F63-Grenser!$G$4))","v":0}]
[null,null,"",null,null,null,null,null,null,null,{"$f":"IF(AND(B64>=(F64-Grenser!$G$4),B64<=(G64+Grenser!$G$4)),B64,IF(B64>(G64+Grenser!$G$4),G64+Grenser!$G$4,F64-Grenser!$G$4))","v":0}]
[null,null,"",null,null,null,null,null,null,null,{"$f":"IF(AND(B65>=(F65-Grenser!$G$4),B65<=(G65+Grenser!$G$4)),B65,IF(B65>(G65+Grenser!$G$4),G65+Grenser!$G$4,F65-Grenser!$G$4))","v":0}]
[null,null,"",null,null,null,null,null,null,null,{"$f":"IF(AND(B66>=(F66-Grenser!$G$4),B66<=(G66+Grenser!$G$4)),B66,IF(B66>(G66+Grenser!$G$4),G66+Grenser!$G$4,F66-Grenser!$G$4))","v":0}]
[null,null,"",null,null,null,null,null,null,null,{"$f":"IF(AND(B67>=(F67-Grenser!$G$4),B67<=(G67+Grenser!$G$4)),B67,IF(B67>(G67+Grenser!$G$4),G67+Grenser!$G$4,F67-Grenser!$G$4))","v":0}]
[null,null,"",null,null,null,null,null,null,null,{"$f":"IF(AND(B68>=(F68-Grenser!$G$4),B68<=(G68+Grenser!$G$4)),B68,IF(B68>(G68+Grenser!$G$4),G68+Grenser!$G$4,F68-Grenser!$G$4))","v":0}]
[null,null,"",null,null,null,null,null,null,null,{"$f":"IF(AND(B69>=(F69-Grenser!$G$4),B69<=(G69+Grenser!$G$4)),B69,IF(B69>(G69+Grenser!$G$4),G69+Grenser!$G$4,F69-Grenser!$G$4))","v":0}]
[null,null,"",null,null,null,null,null,null,null,{"$f":"IF(AND(B70>=(F70-Grenser!$G$4),B70<=(G70+Grenser!$G$4)),B70,IF(B70>(G70+Grenser!$G$4),G70+Grenser!$G$4,F70-Grenser!$G$4))","v":0}]
[null,null,{"$f":"IF(B71<>\"\",(IF(OR(B71<F71,B71>G71),\"STOPP\",\"OK\")),\"\")","v":""},null,null,null,null,null,null,null,{"$f":"IF(AND(B71>=(F71-Grenser!$G$4),B71<=(G71+Grenser!$G$4)),B71,IF(B71>(G71+Grenser!$G$4),G71+Grenser!$G$4,F71-Grenser!$G$4))","v":0}]
[null,null,"",null,null,null,null,null,null,null,{"$f":"IF(AND(B72>=(F72-Grenser!$G$4),B72<=(G72+Grenser!$G$4)),B72,IF(B72>(G72+Grenser!$G$4),G72+Grenser!$G$4,F72-Grenser!$G$4))","v":0}]
[null,null,"",null,null,null,null,null,null,null,{"$f":"IF(AND(B73>=(F73-Grenser!$G$4),B73<=(G73+Grenser!$G$4)),B73,IF(B73>(G73+Grenser!$G$4),G73+Grenser!$G$4,F73-Grenser!$G$4))","v":0}]
[null,null,"",null,null,null,null,null,null,null,{"$f":"IF(AND(B74>=(F74-Grenser!$G$4),B74<=(G74+Grenser!$G$4)),B74,IF(B74>(G74+Grenser!$G$4),G74+Grenser!$G$4,F74-Grenser!$G$4))","v":0}]
[null,null,"",null,null,null,null,null,null,null,{"$f":"IF(AND(B75>=(F75-Grenser!$G$4),B75<=(G75+Grenser!$G$4)),B75,IF(B75>(G75+Grenser!$G$4),G75+Grenser!$G$4,F75-Grenser!$G$4))","v":0}]
[null,null,"",null,null,null,null,null,null,null,{"$f":"IF(AND(B76>=(F76-Grenser!$G$4),B76<=(G76+Grenser!$G$4)),B76,IF(B76>(G76+Grenser!$G$4),G76+Grenser!$G$4,F76-Grenser!$G$4))","v":0}]
[null,null,"",null,null,null,null,null,null,null,{"$f":"IF(AND(B77>=(F77-Grenser!$G$4),B77<=(G77+Grenser!$G$4)),B77,IF(B77>(G77+Grenser!$G$4),G77+Grenser!$G$4,F77-Grenser!$G$4))","v":0}]
[null,null,"",null,null,null,null,null,null,null,{"$f":"IF(AND(B78>=(F78-Grenser!$G$4),B78<=(G78+Grenser!$G$4)),B78,IF(B78>(G78+Grenser!$G$4),G78+Grenser!$G$4,F78-Grenser!$G$4))","v":0}]
[null,null,"",null,null,null,null,null,null,null,{"$f":"IF(AND(B79>=(F79-Grenser!$G$4),B79<=(G79+Grenser!$G$4)),B79,IF(B79>(G79+Grenser!$G$4),G79+Grenser!$G$4,F79-Grenser!$G$4))","v":0}]
[null,null,"",null,null,null,null,null,null,null,{"$f":"IF(AND(B80>=(F80-Grenser!$G$4),B80<=(G80+Grenser!$G$4)),B80,IF(B80>(G80+Grenser!$G$4),G80+Grenser!$G$4,F80-Grenser!$G$4))","v":0}]
[null,null,"",null,null,null,null,null,null,null,{"$f":"IF(AND(B81>=(F81-Grenser!$G$4),B81<=(G81+Grenser!$G$4)),B81,IF(B81>(G81+Grenser!$G$4),G81+Grenser!$G$4,F81-Grenser!$G$4))","v":0}]
[null,null,"",null,null,null,null,null,null,null,{"$f":"IF(AND(B82>=(F82-Grenser!$G$4),B82<=(G82+Grenser!$G$4)),B82,IF(B82>(G82+Grenser!$G$4),G82+Grenser!$G$4,F82-Grenser!$G$4))","v":0}]
[null,null,"",null,null,null,null,null,null,null,{"$f":"IF(AND(B83>=(F83-Grenser!$G$4),B83<=(G83+Grenser!$G$4)),B83,IF(B83>(G83+Grenser!$G$4),G83+Grenser!$G$4,F83-Grenser!$G$4))","v":0}]
[null,null,"",null,null,null,null,null,null,null,{"$f":"IF(AND(B84>=(F84-Grenser!$G$4),B84<=(G84+Grenser!$G$4)),B84,IF(B84>(G84+Grenser!$G$4),G84+Grenser!$G$4,F84-Grenser!$G$4))","v":0}]
[null,null,"",null,null,null,null,null,null,null,{"$f":"IF(AND(B85>=(F85-Grenser!$G$4),B85<=(G85+Grenser!$G$4)),B85,IF(B85>(G85+Grenser!$G$4),G85+Grenser!$G$4,F85-Grenser!$G$4))","v":0}]
[null,null,"",null,null,null,null,null,null,null,{"$f":"IF(AND(B86>=(F86-Grenser!$G$4),B86<=(G86+Grenser!$G$4)),B86,IF(B86>(G86+Grenser!$G$4),G86+Grenser!$G$4,F86-Grenser!$G$4))","v":0}]
[null,null,"",null,null,null,null,null,null,null,{"$f":"IF(AND(B87>=(F87-Grenser!$G$4),B87<=(G87+Grenser!$G$4)),B87,IF(B87>(G87+Grenser!$G$4),G87+Grenser!$G$4,F87-Grenser!$G$4))","v":0}]
[null,null,"",null,null,null,null,null,null,null,{"$f":"IF(AND(B88>=(F88-Grenser!$G$4),B88<=(G88+Grenser!$G$4)),B88,IF(B88>(G88+Grenser!$G$4),G88+Grenser!$G$4,F88-Grenser!$G$4))","v":0}]
[null,null,"",null,null,null,null,null,null,null,{"$f":"IF(AND(B89>=(F89-Grenser!$G$4),B89<=(G89+Grenser!$G$4)),B89,IF(B89>(G89+Grenser!$G$4),G89+Grenser!$G$4,F89-Grenser!$G$4))","v":0}]
[null,null,"",null,null,null,null,null,null,null,{"$f":"IF(AND(B90>=(F90-Grenser!$G$4),B90<=(G90+Grenser!$G$4)),B90,IF(B90>(G90+Grenser!$G$4),G90+Grenser!$G$4,F90-Grenser!$G$4))","v":0}]
[null,null,"",null,null,null,null,null,null,null,{"$f":"IF(AND(B91>=(F91-Grenser!$G$4),B91<=(G91+Grenser!$G$4)),B91,IF(B91>(G91+Grenser!$G$4),G91+Grenser!$G$4,F91-Grenser!$G$4))","v":0}]
[null,null,"",null,null,null,null,null,null,null,{"$f":"IF(AND(B92>=(F92-Grenser!$G$4),B92<=(G92+Grenser!$G$4)),B92,IF(B92>(G92+Grenser!$G$4),G92+Grenser!$G$4,F92-Grenser!$G$4))","v":0}]
[null,null,"",null,null,null,null,null,null,null,{"$f":"IF(AND(B93>=(F93-Grenser!$G$4),B93<=(G93+Grenser!$G$4)),B93,IF(B93>(G93+Grenser!$G$4),G93+Grenser!$G$4,F93-Grenser!$G$4))","v":0}]
[null,null,"",null,null,null,null,null,null,null,{"$f":"IF(AND(B94>=(F94-Grenser!$G$4),B94<=(G94+Grenser!$G$4)),B94,IF(B94>(G94+Grenser!$G$4),G94+Grenser!$G$4,F94-Grenser!$G$4))","v":0}]
[null,null,"",null,null,null,null,null,null,null,{"$f":"IF(AND(B95>=(F95-Grenser!$G$4),B95<=(G95+Grenser!$G$4)),B95,IF(B95>(G95+Grenser!$G$4),G95+Grenser!$G$4,F95-Grenser!$G$4))","v":0}]
[null,null,"",null,null,null,null,null,null,null,{"$f":"IF(AND(B96>=(F96-Grenser!$G$4),B96<=(G96+Grenser!$G$4)),B96,IF(B96>(G96+Grenser!$G$4),G96+Grenser!$G$4,F96-Grenser!$G$4))","v":0}]
[null,null,"",null,null,null,null,null,null,null,{"$f":"IF(AND(B97>=(F97-Grenser!$G$4),B97<=(G97+Grenser!$G$4)),B97,IF(B97>(G97+Grenser!$G$4),G97+Grenser!$G$4,F97-Grenser!$G$4))","v":0}]
[null,null,"",null,null,null,null,null,null,null,{"$f":"IF(AND(B98>=(F98-Grenser!$G$4),B98<=(G98+Grenser!$G$4)),B98,IF(B98>(G98+Grenser!$G$4),G98+Grenser!$G$4,F98-Grenser!$G$4))","v":0}]
[null,null,"",null,null,null,null,null,null,null,{"$f":"IF(AND(B99>=(F99-Grenser!$G$4),B99<=(G99+Grenser!$G$4)),B99,IF(B99>(G99+Grenser!$G$4),G99+Grenser!$G$4,F99-Grenser!$G$4))","v":0}]
[null,null,"",null,null,null,null,null,null,null,{"$f":"IF(AND(B100>=(F100-Grenser!$G$4),B100<=(G100+Grenser!$G$4)),B100,IF(B100>(G100+Grenser!$G$4),G100+Grenser!$G$4,F100-Grenser!$G$4))","v":0}]
[null,null,"",null,null,null,null,null,null,null,{"$f":"IF(AND(B101>=(F101-Grenser!$G$4),B101<=(G101+Grenser!$G$4)),B101,IF(B101>(G101+Grenser!$G$4),G101+Grenser!$G$4,F101-Grenser!$G$4))","v":0}]
[null,null,"",null,null,null,null,null,null,null,{"$f":"IF(AND(B102>=(F102-Grenser!$G$4),B102<=(G102+Grenser!$G$4)),B102,IF(B102>(G102+Grenser!$G$4),G102+Grenser!$G$4,F102-Grenser!$G$4))","v":0}]
[null,null,"",null,null,null,null,null,null,null,{"$f":"IF(AND(B103>=(F103-Grenser!$G$4),B103<=(G103+Grenser!$G$4)),B103,IF(B103>(G103+Grenser!$G$4),G103+Grenser!$G$4,F103-Grenser!$G$4))","v":0}]
[null,null,"",null,null,null,null,null,null,null,{"$f":"IF(AND(B104>=(F104-Grenser!$G$4),B104<=(G104+Grenser!$G$4)),B104,IF(B104>(G104+Grenser!$G$4),G104+Grenser!$G$4,F104-Grenser!$G$4))","v":0}]
[null,null,"",null,null,null,null,null,null,null,{"$f":"IF(AND(B105>=(F105-Grenser!$G$4),B105<=(G105+Grenser!$G$4)),B105,IF(B105>(G105+Grenser!$G$4),G105+Grenser!$G$4,F105-Grenser!$G$4))","v":0}]
[null,null,"",null,null,null,null,null,null,null,{"$f":"IF(AND(B106>=(F106-Grenser!$G$4),B106<=(G106+Grenser!$G$4)),B106,IF(B106>(G106+Grenser!$G$4),G106+Grenser!$G$4,F106-Grenser!$G$4))","v":0}]
[null,null,"",null,null,null,null,null,null,null,{"$f":"IF(AND(B107>=(F107-Grenser!$G$4),B107<=(G107+Grenser!$G$4)),B107,IF(B107>(G107+Grenser!$G$4),G107+Grenser!$G$4,F107-Grenser!$G$4))","v":0}]
[null,null,"",null,null,null,null,null,null,null,{"$f":"IF(AND(B108>=(F108-Grenser!$G$4),B108<=(G108+Grenser!$G$4)),B108,IF(B108>(G108+Grenser!$G$4),G108+Grenser!$G$4,F108-Grenser!$G$4))","v":0}]
[null,null,"",null,null,null,null,null,null,null,{"$f":"IF(AND(B109>=(F109-Grenser!$G$4),B109<=(G109+Grenser!$G$4)),B109,IF(B109>(G109+Grenser!$G$4),G109+Grenser!$G$4,F109-Grenser!$G$4))","v":0}]
[null,null,"",null,null,null,null,null,null,null,{"$f":"IF(AND(B110>=(F110-Grenser!$G$4),B110<=(G110+Grenser!$G$4)),B110,IF(B110>(G110+Grenser!$G$4),G110+Grenser!$G$4,F110-Grenser!$G$4))","v":0}]
[null,null,"",null,null,null,null,null,null,null,{"$f":"IF(AND(B111>=(F111-Grenser!$G$4),B111<=(G111+Grenser!$G$4)),B111,IF(B111>(G111+Grenser!$G$4),G111+Grenser!$G$4,F111-Grenser!$G$4))","v":0}]
[null,null,"",null,null,null,null,null,null,null,{"$f":"IF(AND(B112>=(F112-Grenser!$G$4),B112<=(G112+Grenser!$G$4)),B112,IF(B112>(G112+Grenser!$G$4),G112+Grenser!$G$4,F112-Grenser!$G$4))","v":0}]
[null,null,"",null,null,null,null,null,null,null,{"$f":"IF(AND(B113>=(F113-Grenser!$G$4),B113<=(G113+Grenser!$G$4)),B113,IF(B113>(G113+Grenser!$G$4),G113+Grenser!$G$4,F113-Grenser!$G$4))","v":0}]
[null,null,"",null,null,null,null,null,null,null,{"$f":"IF(AND(B114>=(F114-Grenser!$G$4),B114<=(G114+Grenser!$G$4)),B114,IF(B114>(G114+Grenser!$G$4),G114+Grenser!$G$4,F114-Grenser!$G$4))","v":0}]
[null,null,"",null,null,null,null,null,null,null,{"$f":"IF(AND(B115>=(F115-Grenser!$G$4),B115<=(G115+Grenser!$G$4)),B115,IF(B115>(G115+Grenser!$G$4),G115+Grenser!$G$4,F115-Grenser!$G$4))","v":0}]
[null,null,"",null,null,null,null,null,null,null,{"$f":"IF(AND(B116>=(F116-Grenser!$G$4),B116<=(G116+Grenser!$G$4)),B116,IF(B116>(G116+Grenser!$G$4),G116+Grenser!$G$4,F116-Grenser!$G$4))","v":0}]
[null,null,"",null,null,null,null,null,null,null,{"$f":"IF(AND(B117>=(F117-Grenser!$G$4),B117<=(G117+Grenser!$G$4)),B117,IF(B117>(G117+Grenser!$G$4),G117+Grenser!$G$4,F117-Grenser!$G$4))","v":0}]
[null,null,"",null,null,null,null,null,null,null,{"$f":"IF(AND(B118>=(F118-Grenser!$G$4),B118<=(G118+Grenser!$G$4)),B118,IF(B118>(G118+Grenser!$G$4),G118+Grenser!$G$4,F118-Grenser!$G$4))","v":0}]
[null,null,"",null,null,null,null,null,null,null,{"$f":"IF(AND(B119>=(F119-Grenser!$G$4),B119<=(G119+Grenser!$G$4)),B119,IF(B119>(G119+Grenser!$G$4),G119+Grenser!$G$4,F119-Grenser!$G$4))","v":0}]
[null,null,"",null,null,null,null,null,null,null,{"$f":"IF(AND(B120>=(F120-Grenser!$G$4),B120<=(G120+Grenser!$G$4)),B120,IF(B120>(G120+Grenser!$G$4),G120+Grenser!$G$4,F120-Grenser!$G$4))","v":0}]
[null,null,"",null,null,null,null,null,null,null,{"$f":"IF(AND(B121>=(F121-Grenser!$G$4),B121<=(G121+Grenser!$G$4)),B121,IF(B121>(G121+Grenser!$G$4),G121+Grenser!$G$4,F121-Grenser!$G$4))","v":0}]
[null,null,"",null,null,null,null,null,null,null,{"$f":"IF(AND(B122>=(F122-Grenser!$G$4),B122<=(G122+Grenser!$G$4)),B122,IF(B122>(G122+Grenser!$G$4),G122+Grenser!$G$4,F122-Grenser!$G$4))","v":0}]
[null,null,"",null,null,null,null,null,null,null,{"$f":"IF(AND(B123>=(F123-Grenser!$G$4),B123<=(G123+Grenser!$G$4)),B123,IF(B123>(G123+Grenser!$G$4),G123+Grenser!$G$4,F123-Grenser!$G$4))","v":0}]
[null,null,"",null,null,null,null,null,null,null,{"$f":"IF(AND(B124>=(F124-Grenser!$G$4),B124<=(G124+Grenser!$G$4)),B124,IF(B124>(G124+Grenser!$G$4),G124+Grenser!$G$4,F124-Grenser!$G$4))","v":0}]
[null,null,"",null,null,null,null,null,null,null,{"$f":"IF(AND(B125>=(F125-Grenser!$G$4),B125<=(G125+Grenser!$G$4)),B125,IF(B125>(G125+Grenser!$G$4),G125+Grenser!$G$4,F125-Grenser!$G$4))","v":0}]
[null,null,"",null,null,null,null,null,null,null,{"$f":"IF(AND(B126>=(F126-Grenser!$G$4),B126<=(G126+Grenser!$G$4)),B126,IF(B126>(G126+Grenser!$G$4),G126+Grenser!$G$4,F126-Grenser!$G$4))","v":0}]
[null,null,"",null,null,null,null,null,null,null,{"$f":"IF(AND(B127>=(F127-Grenser!$G$4),B127<=(G127+Grenser!$G$4)),B127,IF(B127>(G127+Grenser!$G$4),G127+Grenser!$G$4,F127-Grenser!$G$4))","v":0}]
[null,null,"",null,null,null,null,null,null,null,{"$f":"IF(AND(B128>=(F128-Grenser!$G$4),B128<=(G128+Grenser!$G$4)),B128,IF(B128>(G128+Grenser!$G$4),G128+Grenser!$G$4,F128-Grenser!$G$4))","v":0}]
[null,null,"",null,null,null,null,null,null,null,{"$f":"IF(AND(B129>=(F129-Grenser!$G$4),B129<=(G129+Grenser!$G$4)),B129,IF(B129>(G129+Grenser!$G$4),G129+Grenser!$G$4,F129-Grenser!$G$4))","v":0}]
[null,null,"",null,null,null,null,null,null,null,{"$f":"IF(AND(B130>=(F130-Grenser!$G$4),B130<=(G130+Grenser!$G$4)),B130,IF(B130>(G130+Grenser!$G$4),G130+Grenser!$G$4,F130-Grenser!$G$4))","v":0}]
[null,null,"",null,null,null,null,null,null,null,{"$f":"IF(AND(B131>=(F131-Grenser!$G$4),B131<=(G131+Grenser!$G$4)),B131,IF(B131>(G131+Grenser!$G$4),G131+Grenser!$G$4,F131-Grenser!$G$4))","v":0}]
[null,null,"",null,null,null,null,null,null,null,{"$f":"IF(AND(B132>=(F132-Grenser!$G$4),B132<=(G132+Grenser!$G$4)),B132,IF(B132>(G132+Grenser!$G$4),G132+Grenser!$G$4,F132-Grenser!$G$4))","v":0}]
[null,null,"",null,null,null,null,null,null,null,{"$f":"IF(AND(B133>=(F133-Grenser!$G$4),B133<=(G133+Grenser!$G$4)),B133,IF(B133>(G133+Grenser!$G$4),G133+Grenser!$G$4,F133-Grenser!$G$4))","v":0}]
[null,null,"",null,null,null,null,null,null,null,{"$f":"IF(AND(B134>=(F134-Grenser!$G$4),B134<=(G134+Grenser!$G$4)),B134,IF(B134>(G134+Grenser!$G$4),G134+Grenser!$G$4,F134-Grenser!$G$4))","v":0}]
[null,null,{"$f":"IF(B135<>\"\",(IF(OR(B135<F135,B135>G135),\"STOPP\",\"OK\")),\"\")","v":""},null,null,null,null,null,null,null,{"$f":"IF(AND(B135>=(F135-Grenser!$G$4),B135<=(G135+Grenser!$G$4)),B135,IF(B135>(G135+Grenser!$G$4),G135+Grenser!$G$4,F135-Grenser!$G$4))","v":0}]
[null,null,"",null,null,null,null,null,null,null,{"$f":"IF(AND(B136>=(F136-Grenser!$G$4),B136<=(G136+Grenser!$G$4)),B136,IF(B136>(G136+Grenser!$G$4),G136+Grenser!$G$4,F136-Grenser!$G$4))","v":0}]
[null,null,"",null,null,null,null,null,null,null,{"$f":"IF(AND(B137>=(F137-Grenser!$G$4),B137<=(G137+Grenser!$G$4)),B137,IF(B137>(G137+Grenser!$G$4),G137+Grenser!$G$4,F137-Grenser!$G$4))","v":0}]
[null,null,"",null,null,null,null,null,null,null,{"$f":"IF(AND(B138>=(F138-Grenser!$G$4),B138<=(G138+Grenser!$G$4)),B138,IF(B138>(G138+Grenser!$G$4),G138+Grenser!$G$4,F138-Grenser!$G$4))","v":0}]
[null,null,"",null,null,null,null,null,null,null,{"$f":"IF(AND(B139>=(F139-Grenser!$G$4),B139<=(G139+Grenser!$G$4)),B139,IF(B139>(G139+Grenser!$G$4),G139+Grenser!$G$4,F139-Grenser!$G$4))","v":0}]
[null,null,"",null,null,null,null,null,null,null,{"$f":"IF(AND(B140>=(F140-Grenser!$G$4),B140<=(G140+Grenser!$G$4)),B140,IF(B140>(G140+Grenser!$G$4),G140+Grenser!$G$4,F140-Grenser!$G$4))","v":0}]
[null,null,"",null,null,null,null,null,null,null,{"$f":"IF(AND(B141>=(F141-Grenser!$G$4),B141<=(G141+Grenser!$G$4)),B141,IF(B141>(G141+Grenser!$G$4),G141+Grenser!$G$4,F141-Grenser!$G$4))","v":0}]
[null,null,"",null,null,null,null,null,null,null,{"$f":"IF(AND(B142>=(F142-Grenser!$G$4),B142<=(G142+Grenser!$G$4)),B142,IF(B142>(G142+Grenser!$G$4),G142+Grenser!$G$4,F142-Grenser!$G$4))","v":0}]
[null,null,"",null,null,null,null,null,null,null,{"$f":"IF(AND(B143>=(F143-Grenser!$G$4),B143<=(G143+Grenser!$G$4)),B143,IF(B143>(G143+Grenser!$G$4),G143+Grenser!$G$4,F143-Grenser!$G$4))","v":0}]
[null,null,"",null,null,null,null,null,null,null,{"$f":"IF(AND(B144>=(F144-Grenser!$G$4),B144<=(G144+Grenser!$G$4)),B144,IF(B144>(G144+Grenser!$G$4),G144+Grenser!$G$4,F144-Grenser!$G$4))","v":0}]
[null,null,"",null,null,null,null,null,null,null,{"$f":"IF(AND(B145>=(F145-Grenser!$G$4),B145<=(G145+Grenser!$G$4)),B145,IF(B145>(G145+Grenser!$G$4),G145+Grenser!$G$4,F145-Grenser!$G$4))","v":0}]
[null,null,"",null,null,null,null,null,null,null,{"$f":"IF(AND(B146>=(F146-Grenser!$G$4),B146<=(G146+Grenser!$G$4)),B146,IF(B146>(G146+Grenser!$G$4),G146+Grenser!$G$4,F146-Grenser!$G$4))","v":0}]
[null,null,"",null,null,null,null,null,null,null,{"$f":"IF(AND(B147>=(F147-Grenser!$G$4),B147<=(G147+Grenser!$G$4)),B147,IF(B147>(G147+Grenser!$G$4),G147+Grenser!$G$4,F147-Grenser!$G$4))","v":0}]
[null,null,"",null,null,null,null,null,null,null,{"$f":"IF(AND(B148>=(F148-Grenser!$G$4),B148<=(G148+Grenser!$G$4)),B148,IF(B148>(G148+Grenser!$G$4),G148+Grenser!$G$4,F148-Grenser!$G$4))","v":0}]
[null,null,"",null,null,null,null,null,null,null,{"$f":"IF(AND(B149>=(F149-Grenser!$G$4),B149<=(G149+Grenser!$G$4)),B149,IF(B149>(G149+Grenser!$G$4),G149+Grenser!$G$4,F149-Grenser!$G$4))","v":0}]
[null,null,"",null,null,null,null,null,null,null,{"$f":"IF(AND(B150>=(F150-Grenser!$G$4),B150<=(G150+Grenser!$G$4)),B150,IF(B150>(G150+Grenser!$G$4),G150+Grenser!$G$4,F150-Grenser!$G$4))","v":0}]
[null,null,"",null,null,null,null,null,null,null,{"$f":"IF(AND(B151>=(F151-Grenser!$G$4),B151<=(G151+Grenser!$G$4)),B151,IF(B151>(G151+Grenser!$G$4),G151+Grenser!$G$4,F151-Grenser!$G$4))","v":0}]
[null,null,"",null,null,null,null,null,null,null,{"$f":"IF(AND(B152>=(F152-Grenser!$G$4),B152<=(G152+Grenser!$G$4)),B152,IF(B152>(G152+Grenser!$G$4),G152+Grenser!$G$4,F152-Grenser!$G$4))","v":0}]
[null,null,"",null,null,null,null,null,null,null,{"$f":"IF(AND(B153>=(F153-Grenser!$G$4),B153<=(G153+Grenser!$G$4)),B153,IF(B153>(G153+Grenser!$G$4),G153+Grenser!$G$4,F153-Grenser!$G$4))","v":0}]
[null,null,"",null,null,null,null,null,null,null,{"$f":"IF(AND(B154>=(F154-Grenser!$G$4),B154<=(G154+Grenser!$G$4)),B154,IF(B154>(G154+Grenser!$G$4),G154+Grenser!$G$4,F154-Grenser!$G$4))","v":0}]
[null,null,"",null,null,null,null,null,null,null,{"$f":"IF(AND(B155>=(F155-Grenser!$G$4),B155<=(G155+Grenser!$G$4)),B155,IF(B155>(G155+Grenser!$G$4),G155+Grenser!$G$4,F155-Grenser!$G$4))","v":0}]
[null,null,"",null,null,null,null,null,null,null,{"$f":"IF(AND(B156>=(F156-Grenser!$G$4),B156<=(G156+Grenser!$G$4)),B156,IF(B156>(G156+Grenser!$G$4),G156+Grenser!$G$4,F156-Grenser!$G$4))","v":0}]
[null,null,"",null,null,null,null,null,null,null,{"$f":"IF(AND(B157>=(F157-Grenser!$G$4),B157<=(G157+Grenser!$G$4)),B157,IF(B157>(G157+Grenser!$G$4),G157+Grenser!$G$4,F157-Grenser!$G$4))","v":0}]
[null,null,"",null,null,null,null,null,null,null,{"$f":"IF(AND(B158>=(F158-Grenser!$G$4),B158<=(G158+Grenser!$G$4)),B158,IF(B158>(G158+Grenser!$G$4),G158+Grenser!$G$4,F158-Grenser!$G$4))","v":0}]
[null,null,"",null,null,null,null,null,null,null,{"$f":"IF(AND(B159>=(F159-Grenser!$G$4),B159<=(G159+Grenser!$G$4)),B159,IF(B159>(G159+Grenser!$G$4),G159+Grenser!$G$4,F159-Grenser!$G$4))","v":0}]
[null,null,"",null,null,null,null,null,null,null,{"$f":"IF(AND(B160>=(F160-Grenser!$G$4),B160<=(G160+Grenser!$G$4)),B160,IF(B160>(G160+Grenser!$G$4),G160+Grenser!$G$4,F160-Grenser!$G$4))","v":0}]
[null,null,"",null,null,null,null,null,null,null,{"$f":"IF(AND(B161>=(F161-Grenser!$G$4),B161<=(G161+Grenser!$G$4)),B161,IF(B161>(G161+Grenser!$G$4),G161+Grenser!$G$4,F161-Grenser!$G$4))","v":0}]
[null,null,"",null,null,null,null,null,null,null,{"$f":"IF(AND(B162>=(F162-Grenser!$G$4),B162<=(G162+Grenser!$G$4)),B162,IF(B162>(G162+Grenser!$G$4),G162+Grenser!$G$4,F162-Grenser!$G$4))","v":0}]
[null,null,"",null,null,null,null,null,null,null,{"$f":"IF(AND(B163>=(F163-Grenser!$G$4),B163<=(G163+Grenser!$G$4)),B163,IF(B163>(G163+Grenser!$G$4),G163+Grenser!$G$4,F163-Grenser!$G$4))","v":0}]
[null,null,"",null,null,null,null,null,null,null,{"$f":"IF(AND(B164>=(F164-Grenser!$G$4),B164<=(G164+Grenser!$G$4)),B164,IF(B164>(G164+Grenser!$G$4),G164+Grenser!$G$4,F164-Grenser!$G$4))","v":0}]
[null,null,"",null,null,null,null,null,null,null,{"$f":"IF(AND(B165>=(F165-Grenser!$G$4),B165<=(G165+Grenser!$G$4)),B165,IF(B165>(G165+Grenser!$G$4),G165+Grenser!$G$4,F165-Grenser!$G$4))","v":0}]
[null,null,"",null,null,null,null,null,null,null,{"$f":"IF(AND(B166>=(F166-Grenser!$G$4),B166<=(G166+Grenser!$G$4)),B166,IF(B166>(G166+Grenser!$G$4),G166+Grenser!$G$4,F166-Grenser!$G$4))","v":0}]
[null,null,"",null,null,null,null,null,null,null,{"$f":"IF(AND(B167>=(F167-Grenser!$G$4),B167<=(G167+Grenser!$G$4)),B167,IF(B167>(G167+Grenser!$G$4),G167+Grenser!$G$4,F167-Grenser!$G$4))","v":0}]
[null,null,"",null,null,null,null,null,null,null,{"$f":"IF(AND(B168>=(F168-Grenser!$G$4),B168<=(G168+Grenser!$G$4)),B168,IF(B168>(G168+Grenser!$G$4),G168+Grenser!$G$4,F168-Grenser!$G$4))","v":0}]
[null,null,"",null,null,null,null,null,null,null,{"$f":"IF(AND(B169>=(F169-Grenser!$G$4),B169<=(G169+Grenser!$G$4)),B169,IF(B169>(G169+Grenser!$G$4),G169+Grenser!$G$4,F169-Grenser!$G$4))","v":0}]
[null,null,"",null,null,null,null,null,null,null,{"$f":"IF(AND(B170>=(F170-Grenser!$G$4),B170<=(G170+Grenser!$G$4)),B170,IF(B170>(G170+Grenser!$G$4),G170+Grenser!$G$4,F170-Grenser!$G$4))","v":0}]
[null,null,"",null,null,null,null,null,null,null,{"$f":"IF(AND(B171>=(F171-Grenser!$G$4),B171<=(G171+Grenser!$G$4)),B171,IF(B171>(G171+Grenser!$G$4),G171+Grenser!$G$4,F171-Grenser!$G$4))","v":0}]
[null,null,"",null,null,null,null,null,null,null,{"$f":"IF(AND(B172>=(F172-Grenser!$G$4),B172<=(G172+Grenser!$G$4)),B172,IF(B172>(G172+Grenser!$G$4),G172+Grenser!$G$4,F172-Grenser!$G$4))","v":0}]
[null,null,"",null,null,null,null,null,null,null,{"$f":"IF(AND(B173>=(F173-Grenser!$G$4),B173<=(G173+Grenser!$G$4)),B173,IF(B173>(G173+Grenser!$G$4),G173+Grenser!$G$4,F173-Grenser!$G$4))","v":0}]
[null,null,"",null,null,null,null,null,null,null,{"$f":"IF(AND(B174>=(F174-Grenser!$G$4),B174<=(G174+Grenser!$G$4)),B174,IF(B174>(G174+Grenser!$G$4),G174+Grenser!$G$4,F174-Grenser!$G$4))","v":0}]
[null,null,"",null,null,null,null,null,null,null,{"$f":"IF(AND(B175>=(F175-Grenser!$G$4),B175<=(G175+Grenser!$G$4)),B175,IF(B175>(G175+Grenser!$G$4),G175+Grenser!$G$4,F175-Grenser!$G$4))","v":0}]
[null,null,"",null,null,null,null,null,null,null,{"$f":"IF(AND(B176>=(F176-Grenser!$G$4),B176<=(G176+Grenser!$G$4)),B176,IF(B176>(G176+Grenser!$G$4),G176+Grenser!$G$4,F176-Grenser!$G$4))","v":0}]
[null,null,"",null,null,null,null,null,null,null,{"$f":"IF(AND(B177>=(F177-Grenser!$G$4),B177<=(G177+Grenser!$G$4)),B177,IF(B177>(G177+Grenser!$G$4),G177+Grenser!$G$4,F177-Grenser!$G$4))","v":0}]
[null,null,"",null,null,null,null,null,null,null,{"$f":"IF(AND(B178>=(F178-Grenser!$G$4),B178<=(G178+Grenser!$G$4)),B178,IF(B178>(G178+Grenser!$G$4),G178+Grenser!$G$4,F178-Grenser!$G$4))","v":0}]
[null,null,"",null,null,null,null,null,null,null,{"$f":"IF(AND(B179>=(F179-Grenser!$G$4),B179<=(G179+Grenser!$G$4)),B179,IF(B179>(G179+Grenser!$G$4),G179+Grenser!$G$4,F179-Grenser!$G$4))","v":0}]
[null,null,"",null,null,null,null,null,null,null,{"$f":"IF(AND(B180>=(F180-Grenser!$G$4),B180<=(G180+Grenser!$G$4)),B180,IF(B180>(G180+Grenser!$G$4),G180+Grenser!$G$4,F180-Grenser!$G$4))","v":0}]
[null,null,"",null,null,null,null,null,null,null,{"$f":"IF(AND(B181>=(F181-Grenser!$G$4),B181<=(G181+Grenser!$G$4)),B181,IF(B181>(G181+Grenser!$G$4),G181+Grenser!$G$4,F181-Grenser!$G$4))","v":0}]
[null,null,"",null,null,null,null,null,null,null,{"$f":"IF(AND(B182>=(F182-Grenser!$G$4),B182<=(G182+Grenser!$G$4)),B182,IF(B182>(G182+Grenser!$G$4),G182+Grenser!$G$4,F182-Grenser!$G$4))","v":0}]
[null,null,"",null,null,null,null,null,null,null,{"$f":"IF(AND(B183>=(F183-Grenser!$G$4),B183<=(G183+Grenser!$G$4)),B183,IF(B183>(G183+Grenser!$G$4),G183+Grenser!$G$4,F183-Grenser!$G$4))","v":0}]
[null,null,"",null,null,null,null,null,null,null,{"$f":"IF(AND(B184>=(F184-Grenser!$G$4),B184<=(G184+Grenser!$G$4)),B184,IF(B184>(G184+Grenser!$G$4),G184+Grenser!$G$4,F184-Grenser!$G$4))","v":0}]
[null,null,"",null,null,null,null,null,null,null,{"$f":"IF(AND(B185>=(F185-Grenser!$G$4),B185<=(G185+Grenser!$G$4)),B185,IF(B185>(G185+Grenser!$G$4),G185+Grenser!$G$4,F185-Grenser!$G$4))","v":0}]
[null,null,"",null,null,null,null,null,null,null,{"$f":"IF(AND(B186>=(F186-Grenser!$G$4),B186<=(G186+Grenser!$G$4)),B186,IF(B186>(G186+Grenser!$G$4),G186+Grenser!$G$4,F186-Grenser!$G$4))","v":0}]
[null,null,"",null,null,null,null,null,null,null,{"$f":"IF(AND(B187>=(F187-Grenser!$G$4),B187<=(G187+Grenser!$G$4)),B187,IF(B187>(G187+Grenser!$G$4),G187+Grenser!$G$4,F187-Grenser!$G$4))","v":0}]
[null,null,"",null,null,null,null,null,null,null,{"$f":"IF(AND(B188>=(F188-Grenser!$G$4),B188<=(G188+Grenser!$G$4)),B188,IF(B188>(G188+Grenser!$G$4),G188+Grenser!$G$4,F188-Grenser!$G$4))","v":0}]
[null,null,"",null,null,null,null,null,null,null,{"$f":"IF(AND(B189>=(F189-Grenser!$G$4),B189<=(G189+Grenser!$G$4)),B189,IF(B189>(G189+Grenser!$G$4),G189+Grenser!$G$4,F189-Grenser!$G$4))","v":0}]
[null,null,"",null,null,null,null,null,null,null,{"$f":"IF(AND(B190>=(F190-Grenser!$G$4),B190<=(G190+Grenser!$G$4)),B190,IF(B190>(G190+Grenser!$G$4),G190+Grenser!$G$4,F190-Grenser!$G$4))","v":0}]
[null,null,"",null,null,null,null,null,null,null,{"$f":"IF(AND(B191>=(F191-Grenser!$G$4),B191<=(G191+Grenser!$G$4)),B191,IF(B191>(G191+Grenser!$G$4),G191+Grenser!$G$4,F191-Grenser!$G$4))","v":0}]
[null,null,"",null,null,null,null,null,null,null,{"$f":"IF(AND(B192>=(F192-Grenser!$G$4),B192<=(G192+Grenser!$G$4)),B192,IF(B192>(G192+Grenser!$G$4),G192+Grenser!$G$4,F192-Grenser!$G$4))","v":0}]
[null,null,"",null,null,null,null,null,null,null,{"$f":"IF(AND(B193>=(F193-Grenser!$G$4),B193<=(G193+Grenser!$G$4)),B193,IF(B193>(G193+Grenser!$G$4),G193+Grenser!$G$4,F193-Grenser!$G$4))","v":0}]
[null,null,"",null,null,null,null,null,null,null,{"$f":"IF(AND(B194>=(F194-Grenser!$G$4),B194<=(G194+Grenser!$G$4)),B194,IF(B194>(G194+Grenser!$G$4),G194+Grenser!$G$4,F194-Grenser!$G$4))","v":0}]
[null,null,"",null,null,null,null,null,null,null,{"$f":"IF(AND(B195>=(F195-Grenser!$G$4),B195<=(G195+Grenser!$G$4)),B195,IF(B195>(G195+Grenser!$G$4),G195+Grenser!$G$4,F195-Grenser!$G$4))","v":0}]
[null,null,"",null,null,null,null,null,null,null,{"$f":"IF(AND(B196>=(F196-Grenser!$G$4),B196<=(G196+Grenser!$G$4)),B196,IF(B196>(G196+Grenser!$G$4),G196+Grenser!$G$4,F196-Grenser!$G$4))","v":0}]
[null,null,"",null,null,null,null,null,null,null,{"$f":"IF(AND(B197>=(F197-Grenser!$G$4),B197<=(G197+Grenser!$G$4)),B197,IF(B197>(G197+Grenser!$G$4),G197+Grenser!$G$4,F197-Grenser!$G$4))","v":0}]
[null,null,"",null,null,null,null,null,null,null,{"$f":"IF(AND(B198>=(F198-Grenser!$G$4),B198<=(G198+Grenser!$G$4)),B198,IF(B198>(G198+Grenser!$G$4),G198+Grenser!$G$4,F198-Grenser!$G$4))","v":0}]
[null,null,{"$f":"IF(B199<>\"\",(IF(OR(B199<F199,B199>G199),\"STOPP\",\"OK\")),\"\")","v":""},null,null,null,null,null,null,null,{"$f":"IF(AND(B199>=(F199-Grenser!$G$4),B199<=(G199+Grenser!$G$4)),B199,IF(B199>(G199+Grenser!$G$4),G199+Grenser!$G$4,F199-Grenser!$G$4))","v":0}]
[null,null,{"$f":"IF(B200<>\"\",(IF(OR(B200<F200,B200>G200),\"STOPP\",\"OK\")),\"\")","v":""},null,null,null,null,null,null,{"$f":"IF(G200<>\"\",IF((OR((G200>$V200),(G200<$U200))),IF(OR((G200>$T200),(G200<$S200)),\"STOPP\",\"Vurder\"),\"Ok\"),\"\")","v":""},{"$f":"IF(AND(B200>=(F200-Grenser!$G$4),B200<=(G200+Grenser!$G$4)),B200,IF(B200>(G200+Grenser!$G$4),G200+Grenser!$G$4,F200-Grenser!$G$4))","v":0}]
[null,null,{"$f":"IF(B201<>\"\",(IF(OR(B201<F201,B201>G201),\"STOPP\",\"OK\")),\"\")","v":""},null,null,null,null,null,null,"",{"$f":"IF(AND(B201>=(F201-Grenser!$G$4),B201<=(G201+Grenser!$G$4)),B201,IF(B201>(G201+Grenser!$G$4),G201+Grenser!$G$4,F201-Grenser!$G$4))","v":0}]

{"sheet":"Ikke i bruk 10","index":12,"n_rows":201,"n_cols":11,"rows_kept":201,"cut":false,"hidden":false,"merged":[[0,0,0,9]]}
[{"$f":"Grenser!B13","v":"Ikke i bruk 10"}]
["Antall",{"$f":" COUNT(B7:B201)","v":0}]
["Mean",{"$f":"AVERAGE(B7:B201)","v":{"$error":"#DIV/0!"}}]
["Standardavvik",{"$f":"STDEV(B7:B201)","v":{"$error":"#DIV/0!"}}]
["CV",{"$f":"B4*100/B3","v":{"$error":"#DIV/0!"}}]
["Dato avlest","Avlest sone","Vurdering","Produksjonsdato res.skål","Satt opp sign","Lav grense","Høy grense","Dato Satt opp","Avlest sign","Teller","Avlest sone korrigert"]
[null,null,{"$f":"IF(B7<>\"\",(IF(OR(B7<F7,B7>G7),\"STOPP\",\"OK\")),\"\")","v":""},null,null,null,null,null,null,null,{"$f":"IF(AND(B7>=(F7-Grenser!$G$4),B7<=(G7+Grenser!$G$4)),B7,IF(B7>(G7+Grenser!$G$4),G7+Grenser!$G$4,F7-Grenser!$G$4))","v":0}]
[null,null,{"$f":"IF(B8<>\"\",(IF(OR(B8<F8,B8>G8),\"STOPP\",\"OK\")),\"\")","v":""},null,null,null,null,null,null,null,{"$f":"IF(AND(B8>=(F8-Grenser!$G$4),B8<=(G8+Grenser!$G$4)),B8,IF(B8>(G8+Grenser!$G$4),G8+Grenser!$G$4,F8-Grenser!$G$4))","v":0}]
[null,null,"",null,null,null,null,null,null,null,{"$f":"IF(AND(B9>=(F9-Grenser!$G$4),B9<=(G9+Grenser!$G$4)),B9,IF(B9>(G9+Grenser!$G$4),G9+Grenser!$G$4,F9-Grenser!$G$4))","v":0}]
[null,null,"",null,null,null,null,null,null,null,{"$f":"IF(AND(B10>=(F10-Grenser!$G$4),B10<=(G10+Grenser!$G$4)),B10,IF(B10>(G10+Grenser!$G$4),G10+Grenser!$G$4,F10-Grenser!$G$4))","v":0}]
[null,null,"",null,null,null,null,null,null,null,{"$f":"IF(AND(B11>=(F11-Grenser!$G$4),B11<=(G11+Grenser!$G$4)),B11,IF(B11>(G11+Grenser!$G$4),G11+Grenser!$G$4,F11-Grenser!$G$4))","v":0}]
[null,null,"",null,null,null,null,null,null,null,{"$f":"IF(AND(B12>=(F12-Grenser!$G$4),B12<=(G12+Grenser!$G$4)),B12,IF(B12>(G12+Grenser!$G$4),G12+Grenser!$G$4,F12-Grenser!$G$4))","v":0}]
[null,null,"",null,null,null,null,null,null,null,{"$f":"IF(AND(B13>=(F13-Grenser!$G$4),B13<=(G13+Grenser!$G$4)),B13,IF(B13>(G13+Grenser!$G$4),G13+Grenser!$G$4,F13-Grenser!$G$4))","v":0}]
[null,null,"",null,null,null,null,null,null,null,{"$f":"IF(AND(B14>=(F14-Grenser!$G$4),B14<=(G14+Grenser!$G$4)),B14,IF(B14>(G14+Grenser!$G$4),G14+Grenser!$G$4,F14-Grenser!$G$4))","v":0}]
[null,null,"",null,null,null,null,null,null,null,{"$f":"IF(AND(B15>=(F15-Grenser!$G$4),B15<=(G15+Grenser!$G$4)),B15,IF(B15>(G15+Grenser!$G$4),G15+Grenser!$G$4,F15-Grenser!$G$4))","v":0}]
[null,null,"",null,null,null,null,null,null,null,{"$f":"IF(AND(B16>=(F16-Grenser!$G$4),B16<=(G16+Grenser!$G$4)),B16,IF(B16>(G16+Grenser!$G$4),G16+Grenser!$G$4,F16-Grenser!$G$4))","v":0}]
[null,null,"",null,null,null,null,null,null,null,{"$f":"IF(AND(B17>=(F17-Grenser!$G$4),B17<=(G17+Grenser!$G$4)),B17,IF(B17>(G17+Grenser!$G$4),G17+Grenser!$G$4,F17-Grenser!$G$4))","v":0}]
[null,null,"",null,null,null,null,null,null,null,{"$f":"IF(AND(B18>=(F18-Grenser!$G$4),B18<=(G18+Grenser!$G$4)),B18,IF(B18>(G18+Grenser!$G$4),G18+Grenser!$G$4,F18-Grenser!$G$4))","v":0}]
[null,null,"",null,null,null,null,null,null,null,{"$f":"IF(AND(B19>=(F19-Grenser!$G$4),B19<=(G19+Grenser!$G$4)),B19,IF(B19>(G19+Grenser!$G$4),G19+Grenser!$G$4,F19-Grenser!$G$4))","v":0}]
[null,null,"",null,null,null,null,null,null,null,{"$f":"IF(AND(B20>=(F20-Grenser!$G$4),B20<=(G20+Grenser!$G$4)),B20,IF(B20>(G20+Grenser!$G$4),G20+Grenser!$G$4,F20-Grenser!$G$4))","v":0}]
[null,null,"",null,null,null,null,null,null,null,{"$f":"IF(AND(B21>=(F21-Grenser!$G$4),B21<=(G21+Grenser!$G$4)),B21,IF(B21>(G21+Grenser!$G$4),G21+Grenser!$G$4,F21-Grenser!$G$4))","v":0}]
[null,null,"",null,null,null,null,null,null,null,{"$f":"IF(AND(B22>=(F22-Grenser!$G$4),B22<=(G22+Grenser!$G$4)),B22,IF(B22>(G22+Grenser!$G$4),G22+Grenser!$G$4,F22-Grenser!$G$4))","v":0}]
[null,null,"",null,null,null,null,null,null,null,{"$f":"IF(AND(B23>=(F23-Grenser!$G$4),B23<=(G23+Grenser!$G$4)),B23,IF(B23>(G23+Grenser!$G$4),G23+Grenser!$G$4,F23-Grenser!$G$4))","v":0}]
[null,null,"",null,null,null,null,null,null,null,{"$f":"IF(AND(B24>=(F24-Grenser!$G$4),B24<=(G24+Grenser!$G$4)),B24,IF(B24>(G24+Grenser!$G$4),G24+Grenser!$G$4,F24-Grenser!$G$4))","v":0}]
[null,null,"",null,null,null,null,null,null,null,{"$f":"IF(AND(B25>=(F25-Grenser!$G$4),B25<=(G25+Grenser!$G$4)),B25,IF(B25>(G25+Grenser!$G$4),G25+Grenser!$G$4,F25-Grenser!$G$4))","v":0}]
[null,null,"",null,null,null,null,null,null,null,{"$f":"IF(AND(B26>=(F26-Grenser!$G$4),B26<=(G26+Grenser!$G$4)),B26,IF(B26>(G26+Grenser!$G$4),G26+Grenser!$G$4,F26-Grenser!$G$4))","v":0}]
[null,null,"",null,null,null,null,null,null,null,{"$f":"IF(AND(B27>=(F27-Grenser!$G$4),B27<=(G27+Grenser!$G$4)),B27,IF(B27>(G27+Grenser!$G$4),G27+Grenser!$G$4,F27-Grenser!$G$4))","v":0}]
[null,null,"",null,null,null,null,null,null,null,{"$f":"IF(AND(B28>=(F28-Grenser!$G$4),B28<=(G28+Grenser!$G$4)),B28,IF(B28>(G28+Grenser!$G$4),G28+Grenser!$G$4,F28-Grenser!$G$4))","v":0}]
[null,null,"",null,null,null,null,null,null,null,{"$f":"IF(AND(B29>=(F29-Grenser!$G$4),B29<=(G29+Grenser!$G$4)),B29,IF(B29>(G29+Grenser!$G$4),G29+Grenser!$G$4,F29-Grenser!$G$4))","v":0}]
[null,null,"",null,null,null,null,null,null,null,{"$f":"IF(AND(B30>=(F30-Grenser!$G$4),B30<=(G30+Grenser!$G$4)),B30,IF(B30>(G30+Grenser!$G$4),G30+Grenser!$G$4,F30-Grenser!$G$4))","v":0}]
[null,null,"",null,null,null,null,null,null,null,{"$f":"IF(AND(B31>=(F31-Grenser!$G$4),B31<=(G31+Grenser!$G$4)),B31,IF(B31>(G31+Grenser!$G$4),G31+Grenser!$G$4,F31-Grenser!$G$4))","v":0}]
[null,null,"",null,null,null,null,null,null,null,{"$f":"IF(AND(B32>=(F32-Grenser!$G$4),B32<=(G32+Grenser!$G$4)),B32,IF(B32>(G32+Grenser!$G$4),G32+Grenser!$G$4,F32-Grenser!$G$4))","v":0}]
[null,null,"",null,null,null,null,null,null,null,{"$f":"IF(AND(B33>=(F33-Grenser!$G$4),B33<=(G33+Grenser!$G$4)),B33,IF(B33>(G33+Grenser!$G$4),G33+Grenser!$G$4,F33-Grenser!$G$4))","v":0}]
[null,null,"",null,null,null,null,null,null,null,{"$f":"IF(AND(B34>=(F34-Grenser!$G$4),B34<=(G34+Grenser!$G$4)),B34,IF(B34>(G34+Grenser!$G$4),G34+Grenser!$G$4,F34-Grenser!$G$4))","v":0}]
[null,null,"",null,null,null,null,null,null,null,{"$f":"IF(AND(B35>=(F35-Grenser!$G$4),B35<=(G35+Grenser!$G$4)),B35,IF(B35>(G35+Grenser!$G$4),G35+Grenser!$G$4,F35-Grenser!$G$4))","v":0}]
[null,null,"",null,null,null,null,null,null,null,{"$f":"IF(AND(B36>=(F36-Grenser!$G$4),B36<=(G36+Grenser!$G$4)),B36,IF(B36>(G36+Grenser!$G$4),G36+Grenser!$G$4,F36-Grenser!$G$4))","v":0}]
[null,null,"",null,null,null,null,null,null,null,{"$f":"IF(AND(B37>=(F37-Grenser!$G$4),B37<=(G37+Grenser!$G$4)),B37,IF(B37>(G37+Grenser!$G$4),G37+Grenser!$G$4,F37-Grenser!$G$4))","v":0}]
[null,null,"",null,null,null,null,null,null,null,{"$f":"IF(AND(B38>=(F38-Grenser!$G$4),B38<=(G38+Grenser!$G$4)),B38,IF(B38>(G38+Grenser!$G$4),G38+Grenser!$G$4,F38-Grenser!$G$4))","v":0}]
[null,null,"",null,null,null,null,null,null,null,{"$f":"IF(AND(B39>=(F39-Grenser!$G$4),B39<=(G39+Grenser!$G$4)),B39,IF(B39>(G39+Grenser!$G$4),G39+Grenser!$G$4,F39-Grenser!$G$4))","v":0}]
[null,null,"",null,null,null,null,null,null,null,{"$f":"IF(AND(B40>=(F40-Grenser!$G$4),B40<=(G40+Grenser!$G$4)),B40,IF(B40>(G40+Grenser!$G$4),G40+Grenser!$G$4,F40-Grenser!$G$4))","v":0}]
[null,null,"",null,null,null,null,null,null,null,{"$f":"IF(AND(B41>=(F41-Grenser!$G$4),B41<=(G41+Grenser!$G$4)),B41,IF(B41>(G41+Grenser!$G$4),G41+Grenser!$G$4,F41-Grenser!$G$4))","v":0}]
[null,null,"",null,null,null,null,null,null,null,{"$f":"IF(AND(B42>=(F42-Grenser!$G$4),B42<=(G42+Grenser!$G$4)),B42,IF(B42>(G42+Grenser!$G$4),G42+Grenser!$G$4,F42-Grenser!$G$4))","v":0}]
[null,null,"",null,null,null,null,null,null,null,{"$f":"IF(AND(B43>=(F43-Grenser!$G$4),B43<=(G43+Grenser!$G$4)),B43,IF(B43>(G43+Grenser!$G$4),G43+Grenser!$G$4,F43-Grenser!$G$4))","v":0}]
[null,null,"",null,null,null,null,null,null,null,{"$f":"IF(AND(B44>=(F44-Grenser!$G$4),B44<=(G44+Grenser!$G$4)),B44,IF(B44>(G44+Grenser!$G$4),G44+Grenser!$G$4,F44-Grenser!$G$4))","v":0}]
[null,null,"",null,null,null,null,null,null,null,{"$f":"IF(AND(B45>=(F45-Grenser!$G$4),B45<=(G45+Grenser!$G$4)),B45,IF(B45>(G45+Grenser!$G$4),G45+Grenser!$G$4,F45-Grenser!$G$4))","v":0}]
[null,null,"",null,null,null,null,null,null,null,{"$f":"IF(AND(B46>=(F46-Grenser!$G$4),B46<=(G46+Grenser!$G$4)),B46,IF(B46>(G46+Grenser!$G$4),G46+Grenser!$G$4,F46-Grenser!$G$4))","v":0}]
[null,null,"",null,null,null,null,null,null,null,{"$f":"IF(AND(B47>=(F47-Grenser!$G$4),B47<=(G47+Grenser!$G$4)),B47,IF(B47>(G47+Grenser!$G$4),G47+Grenser!$G$4,F47-Grenser!$G$4))","v":0}]
[null,null,"",null,null,null,null,null,null,null,{"$f":"IF(AND(B48>=(F48-Grenser!$G$4),B48<=(G48+Grenser!$G$4)),B48,IF(B48>(G48+Grenser!$G$4),G48+Grenser!$G$4,F48-Grenser!$G$4))","v":0}]
[null,null,"",null,null,null,null,null,null,null,{"$f":"IF(AND(B49>=(F49-Grenser!$G$4),B49<=(G49+Grenser!$G$4)),B49,IF(B49>(G49+Grenser!$G$4),G49+Grenser!$G$4,F49-Grenser!$G$4))","v":0}]
[null,null,"",null,null,null,null,null,null,null,{"$f":"IF(AND(B50>=(F50-Grenser!$G$4),B50<=(G50+Grenser!$G$4)),B50,IF(B50>(G50+Grenser!$G$4),G50+Grenser!$G$4,F50-Grenser!$G$4))","v":0}]
[null,null,"",null,null,null,null,null,null,null,{"$f":"IF(AND(B51>=(F51-Grenser!$G$4),B51<=(G51+Grenser!$G$4)),B51,IF(B51>(G51+Grenser!$G$4),G51+Grenser!$G$4,F51-Grenser!$G$4))","v":0}]
[null,null,"",null,null,null,null,null,null,null,{"$f":"IF(AND(B52>=(F52-Grenser!$G$4),B52<=(G52+Grenser!$G$4)),B52,IF(B52>(G52+Grenser!$G$4),G52+Grenser!$G$4,F52-Grenser!$G$4))","v":0}]
[null,null,"",null,null,null,null,null,null,null,{"$f":"IF(AND(B53>=(F53-Grenser!$G$4),B53<=(G53+Grenser!$G$4)),B53,IF(B53>(G53+Grenser!$G$4),G53+Grenser!$G$4,F53-Grenser!$G$4))","v":0}]
[null,null,"",null,null,null,null,null,null,null,{"$f":"IF(AND(B54>=(F54-Grenser!$G$4),B54<=(G54+Grenser!$G$4)),B54,IF(B54>(G54+Grenser!$G$4),G54+Grenser!$G$4,F54-Grenser!$G$4))","v":0}]
[null,null,"",null,null,null,null,null,null,null,{"$f":"IF(AND(B55>=(F55-Grenser!$G$4),B55<=(G55+Grenser!$G$4)),B55,IF(B55>(G55+Grenser!$G$4),G55+Grenser!$G$4,F55-Grenser!$G$4))","v":0}]
[null,null,"",null,null,null,null,null,null,null,{"$f":"IF(AND(B56>=(F56-Grenser!$G$4),B56<=(G56+Grenser!$G$4)),B56,IF(B56>(G56+Grenser!$G$4),G56+Grenser!$G$4,F56-Grenser!$G$4))","v":0}]
[null,null,"",null,null,null,null,null,null,null,{"$f":"IF(AND(B57>=(F57-Grenser!$G$4),B57<=(G57+Grenser!$G$4)),B57,IF(B57>(G57+Grenser!$G$4),G57+Grenser!$G$4,F57-Grenser!$G$4))","v":0}]
[null,null,"",null,null,null,null,null,null,null,{"$f":"IF(AND(B58>=(F58-Grenser!$G$4),B58<=(G58+Grenser!$G$4)),B58,IF(B58>(G58+Grenser!$G$4),G58+Grenser!$G$4,F58-Grenser!$G$4))","v":0}]
[null,null,"",null,null,null,null,null,null,null,{"$f":"IF(AND(B59>=(F59-Grenser!$G$4),B59<=(G59+Grenser!$G$4)),B59,IF(B59>(G59+Grenser!$G$4),G59+Grenser!$G$4,F59-Grenser!$G$4))","v":0}]
[null,null,"",null,null,null,null,null,null,null,{"$f":"IF(AND(B60>=(F60-Grenser!$G$4),B60<=(G60+Grenser!$G$4)),B60,IF(B60>(G60+Grenser!$G$4),G60+Grenser!$G$4,F60-Grenser!$G$4))","v":0}]
[null,null,"",null,null,null,null,null,null,null,{"$f":"IF(AND(B61>=(F61-Grenser!$G$4),B61<=(G61+Grenser!$G$4)),B61,IF(B61>(G61+Grenser!$G$4),G61+Grenser!$G$4,F61-Grenser!$G$4))","v":0}]
[null,null,"",null,null,null,null,null,null,null,{"$f":"IF(AND(B62>=(F62-Grenser!$G$4),B62<=(G62+Grenser!$G$4)),B62,IF(B62>(G62+Grenser!$G$4),G62+Grenser!$G$4,F62-Grenser!$G$4))","v":0}]
[null,null,"",null,null,null,null,null,null,null,{"$f":"IF(AND(B63>=(F63-Grenser!$G$4),B63<=(G63+Grenser!$G$4)),B63,IF(B63>(G63+Grenser!$G$4),G63+Grenser!$G$4,F63-Grenser!$G$4))","v":0}]
[null,null,"",null,null,null,null,null,null,null,{"$f":"IF(AND(B64>=(F64-Grenser!$G$4),B64<=(G64+Grenser!$G$4)),B64,IF(B64>(G64+Grenser!$G$4),G64+Grenser!$G$4,F64-Grenser!$G$4))","v":0}]
[null,null,"",null,null,null,null,null,null,null,{"$f":"IF(AND(B65>=(F65-Grenser!$G$4),B65<=(G65+Grenser!$G$4)),B65,IF(B65>(G65+Grenser!$G$4),G65+Grenser!$G$4,F65-Grenser!$G$4))","v":0}]
[null,null,"",null,null,null,null,null,null,null,{"$f":"IF(AND(B66>=(F66-Grenser!$G$4),B66<=(G66+Grenser!$G$4)),B66,IF(B66>(G66+Grenser!$G$4),G66+Grenser!$G$4,F66-Grenser!$G$4))","v":0}]
[null,null,"",null,null,null,null,null,null,null,{"$f":"IF(AND(B67>=(F67-Grenser!$G$4),B67<=(G67+Grenser!$G$4)),B67,IF(B67>(G67+Grenser!$G$4),G67+Grenser!$G$4,F67-Grenser!$G$4))","v":0}]
[null,null,"",null,null,null,null,null,null,null,{"$f":"IF(AND(B68>=(F68-Grenser!$G$4),B68<=(G68+Grenser!$G$4)),B68,IF(B68>(G68+Grenser!$G$4),G68+Grenser!$G$4,F68-Grenser!$G$4))","v":0}]
[null,null,"",null,null,null,null,null,null,null,{"$f":"IF(AND(B69>=(F69-Grenser!$G$4),B69<=(G69+Grenser!$G$4)),B69,IF(B69>(G69+Grenser!$G$4),G69+Grenser!$G$4,F69-Grenser!$G$4))","v":0}]
[null,null,"",null,null,null,null,null,null,null,{"$f":"IF(AND(B70>=(F70-Grenser!$G$4),B70<=(G70+Grenser!$G$4)),B70,IF(B70>(G70+Grenser!$G$4),G70+Grenser!$G$4,F70-Grenser!$G$4))","v":0}]
[null,null,"",null,null,null,null,null,null,null,{"$f":"IF(AND(B71>=(F71-Grenser!$G$4),B71<=(G71+Grenser!$G$4)),B71,IF(B71>(G71+Grenser!$G$4),G71+Grenser!$G$4,F71-Grenser!$G$4))","v":0}]
[null,null,{"$f":"IF(B72<>\"\",(IF(OR(B72<F72,B72>G72),\"STOPP\",\"OK\")),\"\")","v":""},null,null,null,null,null,null,null,{"$f":"IF(AND(B72>=(F72-Grenser!$G$4),B72<=(G72+Grenser!$G$4)),B72,IF(B72>(G72+Grenser!$G$4),G72+Grenser!$G$4,F72-Grenser!$G$4))","v":0}]
[null,null,"",null,null,null,null,null,null,null,{"$f":"IF(AND(B73>=(F73-Grenser!$G$4),B73<=(G73+Grenser!$G$4)),B73,IF(B73>(G73+Grenser!$G$4),G73+Grenser!$G$4,F73-Grenser!$G$4))","v":0}]
[null,null,"",null,null,null,null,null,null,null,{"$f":"IF(AND(B74>=(F74-Grenser!$G$4),B74<=(G74+Grenser!$G$4)),B74,IF(B74>(G74+Grenser!$G$4),G74+Grenser!$G$4,F74-Grenser!$G$4))","v":0}]
[null,null,"",null,null,null,null,null,null,null,{"$f":"IF(AND(B75>=(F75-Grenser!$G$4),B75<=(G75+Grenser!$G$4)),B75,IF(B75>(G75+Grenser!$G$4),G75+Grenser!$G$4,F75-Grenser!$G$4))","v":0}]
[null,null,"",null,null,null,null,null,null,null,{"$f":"IF(AND(B76>=(F76-Grenser!$G$4),B76<=(G76+Grenser!$G$4)),B76,IF(B76>(G76+Grenser!$G$4),G76+Grenser!$G$4,F76-Grenser!$G$4))","v":0}]
[null,null,"",null,null,null,null,null,null,null,{"$f":"IF(AND(B77>=(F77-Grenser!$G$4),B77<=(G77+Grenser!$G$4)),B77,IF(B77>(G77+Grenser!$G$4),G77+Grenser!$G$4,F77-Grenser!$G$4))","v":0}]
[null,null,"",null,null,null,null,null,null,null,{"$f":"IF(AND(B78>=(F78-Grenser!$G$4),B78<=(G78+Grenser!$G$4)),B78,IF(B78>(G78+Grenser!$G$4),G78+Grenser!$G$4,F78-Grenser!$G$4))","v":0}]
[null,null,"",null,null,null,null,null,null,null,{"$f":"IF(AND(B79>=(F79-Grenser!$G$4),B79<=(G79+Grenser!$G$4)),B79,IF(B79>(G79+Grenser!$G$4),G79+Grenser!$G$4,F79-Grenser!$G$4))","v":0}]
[null,null,"",null,null,null,null,null,null,null,{"$f":"IF(AND(B80>=(F80-Grenser!$G$4),B80<=(G80+Grenser!$G$4)),B80,IF(B80>(G80+Grenser!$G$4),G80+Grenser!$G$4,F80-Grenser!$G$4))","v":0}]
[null,null,"",null,null,null,null,null,null,null,{"$f":"IF(AND(B81>=(F81-Grenser!$G$4),B81<=(G81+Grenser!$G$4)),B81,IF(B81>(G81+Grenser!$G$4),G81+Grenser!$G$4,F81-Grenser!$G$4))","v":0}]
[null,null,"",null,null,null,null,null,null,null,{"$f":"IF(AND(B82>=(F82-Grenser!$G$4),B82<=(G82+Grenser!$G$4)),B82,IF(B82>(G82+Grenser!$G$4),G82+Grenser!$G$4,F82-Grenser!$G$4))","v":0}]
[null,null,"",null,null,null,null,null,null,null,{"$f":"IF(AND(B83>=(F83-Grenser!$G$4),B83<=(G83+Grenser!$G$4)),B83,IF(B83>(G83+Grenser!$G$4),G83+Grenser!$G$4,F83-Grenser!$G$4))","v":0}]
[null,null,"",null,null,null,null,null,null,null,{"$f":"IF(AND(B84>=(F84-Grenser!$G$4),B84<=(G84+Grenser!$G$4)),B84,IF(B84>(G84+Grenser!$G$4),G84+Grenser!$G$4,F84-Grenser!$G$4))","v":0}]
[null,null,"",null,null,null,null,null,null,null,{"$f":"IF(AND(B85>=(F85-Grenser!$G$4),B85<=(G85+Grenser!$G$4)),B85,IF(B85>(G85+Grenser!$G$4),G85+Grenser!$G$4,F85-Grenser!$G$4))","v":0}]
[null,null,"",null,null,null,null,null,null,null,{"$f":"IF(AND(B86>=(F86-Grenser!$G$4),B86<=(G86+Grenser!$G$4)),B86,IF(B86>(G86+Grenser!$G$4),G86+Grenser!$G$4,F86-Grenser!$G$4))","v":0}]
[null,null,"",null,null,null,null,null,null,null,{"$f":"IF(AND(B87>=(F87-Grenser!$G$4),B87<=(G87+Grenser!$G$4)),B87,IF(B87>(G87+Grenser!$G$4),G87+Grenser!$G$4,F87-Grenser!$G$4))","v":0}]
[null,null,"",null,null,null,null,null,null,null,{"$f":"IF(AND(B88>=(F88-Grenser!$G$4),B88<=(G88+Grenser!$G$4)),B88,IF(B88>(G88+Grenser!$G$4),G88+Grenser!$G$4,F88-Grenser!$G$4))","v":0}]
[null,null,"",null,null,null,null,null,null,null,{"$f":"IF(AND(B89>=(F89-Grenser!$G$4),B89<=(G89+Grenser!$G$4)),B89,IF(B89>(G89+Grenser!$G$4),G89+Grenser!$G$4,F89-Grenser!$G$4))","v":0}]
[null,null,"",null,null,null,null,null,null,null,{"$f":"IF(AND(B90>=(F90-Grenser!$G$4),B90<=(G90+Grenser!$G$4)),B90,IF(B90>(G90+Grenser!$G$4),G90+Grenser!$G$4,F90-Grenser!$G$4))","v":0}]
[null,null,"",null,null,null,null,null,null,null,{"$f":"IF(AND(B91>=(F91-Grenser!$G$4),B91<=(G91+Grenser!$G$4)),B91,IF(B91>(G91+Grenser!$G$4),G91+Grenser!$G$4,F91-Grenser!$G$4))","v":0}]
[null,null,"",null,null,null,null,null,null,null,{"$f":"IF(AND(B92>=(F92-Grenser!$G$4),B92<=(G92+Grenser!$G$4)),B92,IF(B92>(G92+Grenser!$G$4),G92+Grenser!$G$4,F92-Grenser!$G$4))","v":0}]
[null,null,"",null,null,null,null,null,null,null,{"$f":"IF(AND(B93>=(F93-Grenser!$G$4),B93<=(G93+Grenser!$G$4)),B93,IF(B93>(G93+Grenser!$G$4),G93+Grenser!$G$4,F93-Grenser!$G$4))","v":0}]
[null,null,"",null,null,null,null,null,null,null,{"$f":"IF(AND(B94>=(F94-Grenser!$G$4),B94<=(G94+Grenser!$G$4)),B94,IF(B94>(G94+Grenser!$G$4),G94+Grenser!$G$4,F94-Grenser!$G$4))","v":0}]
[null,null,"",null,null,null,null,null,null,null,{"$f":"IF(AND(B95>=(F95-Grenser!$G$4),B95<=(G95+Grenser!$G$4)),B95,IF(B95>(G95+Grenser!$G$4),G95+Grenser!$G$4,F95-Grenser!$G$4))","v":0}]
[null,null,"",null,null,null,null,null,null,null,{"$f":"IF(AND(B96>=(F96-Grenser!$G$4),B96<=(G96+Grenser!$G$4)),B96,IF(B96>(G96+Grenser!$G$4),G96+Grenser!$G$4,F96-Grenser!$G$4))","v":0}]
[null,null,"",null,null,null,null,null,null,null,{"$f":"IF(AND(B97>=(F97-Grenser!$G$4),B97<=(G97+Grenser!$G$4)),B97,IF(B97>(G97+Grenser!$G$4),G97+Grenser!$G$4,F97-Grenser!$G$4))","v":0}]
[null,null,"",null,null,null,null,null,null,null,{"$f":"IF(AND(B98>=(F98-Grenser!$G$4),B98<=(G98+Grenser!$G$4)),B98,IF(B98>(G98+Grenser!$G$4),G98+Grenser!$G$4,F98-Grenser!$G$4))","v":0}]
[null,null,"",null,null,null,null,null,null,null,{"$f":"IF(AND(B99>=(F99-Grenser!$G$4),B99<=(G99+Grenser!$G$4)),B99,IF(B99>(G99+Grenser!$G$4),G99+Grenser!$G$4,F99-Grenser!$G$4))","v":0}]
[null,null,"",null,null,null,null,null,null,null,{"$f":"IF(AND(B100>=(F100-Grenser!$G$4),B100<=(G100+Grenser!$G$4)),B100,IF(B100>(G100+Grenser!$G$4),G100+Grenser!$G$4,F100-Grenser!$G$4))","v":0}]
[null,null,"",null,null,null,null,null,null,null,{"$f":"IF(AND(B101>=(F101-Grenser!$G$4),B101<=(G101+Grenser!$G$4)),B101,IF(B101>(G101+Grenser!$G$4),G101+Grenser!$G$4,F101-Grenser!$G$4))","v":0}]
[null,null,"",null,null,null,null,null,null,null,{"$f":"IF(AND(B102>=(F102-Grenser!$G$4),B102<=(G102+Grenser!$G$4)),B102,IF(B102>(G102+Grenser!$G$4),G102+Grenser!$G$4,F102-Grenser!$G$4))","v":0}]
[null,null,"",null,null,null,null,null,null,null,{"$f":"IF(AND(B103>=(F103-Grenser!$G$4),B103<=(G103+Grenser!$G$4)),B103,IF(B103>(G103+Grenser!$G$4),G103+Grenser!$G$4,F103-Grenser!$G$4))","v":0}]
[null,null,"",null,null,null,null,null,null,null,{"$f":"IF(AND(B104>=(F104-Grenser!$G$4),B104<=(G104+Grenser!$G$4)),B104,IF(B104>(G104+Grenser!$G$4),G104+Grenser!$G$4,F104-Grenser!$G$4))","v":0}]
[null,null,"",null,null,null,null,null,null,null,{"$f":"IF(AND(B105>=(F105-Grenser!$G$4),B105<=(G105+Grenser!$G$4)),B105,IF(B105>(G105+Grenser!$G$4),G105+Grenser!$G$4,F105-Grenser!$G$4))","v":0}]
[null,null,"",null,null,null,null,null,null,null,{"$f":"IF(AND(B106>=(F106-Grenser!$G$4),B106<=(G106+Grenser!$G$4)),B106,IF(B106>(G106+Grenser!$G$4),G106+Grenser!$G$4,F106-Grenser!$G$4))","v":0}]
[null,null,"",null,null,null,null,null,null,null,{"$f":"IF(AND(B107>=(F107-Grenser!$G$4),B107<=(G107+Grenser!$G$4)),B107,IF(B107>(G107+Grenser!$G$4),G107+Grenser!$G$4,F107-Grenser!$G$4))","v":0}]
[null,null,"",null,null,null,null,null,null,null,{"$f":"IF(AND(B108>=(F108-Grenser!$G$4),B108<=(G108+Grenser!$G$4)),B108,IF(B108>(G108+Grenser!$G$4),G108+Grenser!$G$4,F108-Grenser!$G$4))","v":0}]
[null,null,"",null,null,null,null,null,null,null,{"$f":"IF(AND(B109>=(F109-Grenser!$G$4),B109<=(G109+Grenser!$G$4)),B109,IF(B109>(G109+Grenser!$G$4),G109+Grenser!$G$4,F109-Grenser!$G$4))","v":0}]
[null,null,"",null,null,null,null,null,null,null,{"$f":"IF(AND(B110>=(F110-Grenser!$G$4),B110<=(G110+Grenser!$G$4)),B110,IF(B110>(G110+Grenser!$G$4),G110+Grenser!$G$4,F110-Grenser!$G$4))","v":0}]
[null,null,"",null,null,null,null,null,null,null,{"$f":"IF(AND(B111>=(F111-Grenser!$G$4),B111<=(G111+Grenser!$G$4)),B111,IF(B111>(G111+Grenser!$G$4),G111+Grenser!$G$4,F111-Grenser!$G$4))","v":0}]
[null,null,"",null,null,null,null,null,null,null,{"$f":"IF(AND(B112>=(F112-Grenser!$G$4),B112<=(G112+Grenser!$G$4)),B112,IF(B112>(G112+Grenser!$G$4),G112+Grenser!$G$4,F112-Grenser!$G$4))","v":0}]
[null,null,"",null,null,null,null,null,null,null,{"$f":"IF(AND(B113>=(F113-Grenser!$G$4),B113<=(G113+Grenser!$G$4)),B113,IF(B113>(G113+Grenser!$G$4),G113+Grenser!$G$4,F113-Grenser!$G$4))","v":0}]
[null,null,"",null,null,null,null,null,null,null,{"$f":"IF(AND(B114>=(F114-Grenser!$G$4),B114<=(G114+Grenser!$G$4)),B114,IF(B114>(G114+Grenser!$G$4),G114+Grenser!$G$4,F114-Grenser!$G$4))","v":0}]
[null,null,"",null,null,null,null,null,null,null,{"$f":"IF(AND(B115>=(F115-Grenser!$G$4),B115<=(G115+Grenser!$G$4)),B115,IF(B115>(G115+Grenser!$G$4),G115+Grenser!$G$4,F115-Grenser!$G$4))","v":0}]
[null,null,"",null,null,null,null,null,null,null,{"$f":"IF(AND(B116>=(F116-Grenser!$G$4),B116<=(G116+Grenser!$G$4)),B116,IF(B116>(G116+Grenser!$G$4),G116+Grenser!$G$4,F116-Grenser!$G$4))","v":0}]
[null,null,"",null,null,null,null,null,null,null,{"$f":"IF(AND(B117>=(F117-Grenser!$G$4),B117<=(G117+Grenser!$G$4)),B117,IF(B117>(G117+Grenser!$G$4),G117+Grenser!$G$4,F117-Grenser!$G$4))","v":0}]
[null,null,"",null,null,null,null,null,null,null,{"$f":"IF(AND(B118>=(F118-Grenser!$G$4),B118<=(G118+Grenser!$G$4)),B118,IF(B118>(G118+Grenser!$G$4),G118+Grenser!$G$4,F118-Grenser!$G$4))","v":0}]
[null,null,"",null,null,null,null,null,null,null,{"$f":"IF(AND(B119>=(F119-Grenser!$G$4),B119<=(G119+Grenser!$G$4)),B119,IF(B119>(G119+Grenser!$G$4),G119+Grenser!$G$4,F119-Grenser!$G$4))","v":0}]
[null,null,"",null,null,null,null,null,null,null,{"$f":"IF(AND(B120>=(F120-Grenser!$G$4),B120<=(G120+Grenser!$G$4)),B120,IF(B120>(G120+Grenser!$G$4),G120+Grenser!$G$4,F120-Grenser!$G$4))","v":0}]
[null,null,"",null,null,null,null,null,null,null,{"$f":"IF(AND(B121>=(F121-Grenser!$G$4),B121<=(G121+Grenser!$G$4)),B121,IF(B121>(G121+Grenser!$G$4),G121+Grenser!$G$4,F121-Grenser!$G$4))","v":0}]
[null,null,"",null,null,null,null,null,null,null,{"$f":"IF(AND(B122>=(F122-Grenser!$G$4),B122<=(G122+Grenser!$G$4)),B122,IF(B122>(G122+Grenser!$G$4),G122+Grenser!$G$4,F122-Grenser!$G$4))","v":0}]
[null,null,"",null,null,null,null,null,null,null,{"$f":"IF(AND(B123>=(F123-Grenser!$G$4),B123<=(G123+Grenser!$G$4)),B123,IF(B123>(G123+Grenser!$G$4),G123+Grenser!$G$4,F123-Grenser!$G$4))","v":0}]
[null,null,"",null,null,null,null,null,null,null,{"$f":"IF(AND(B124>=(F124-Grenser!$G$4),B124<=(G124+Grenser!$G$4)),B124,IF(B124>(G124+Grenser!$G$4),G124+Grenser!$G$4,F124-Grenser!$G$4))","v":0}]
[null,null,"",null,null,null,null,null,null,null,{"$f":"IF(AND(B125>=(F125-Grenser!$G$4),B125<=(G125+Grenser!$G$4)),B125,IF(B125>(G125+Grenser!$G$4),G125+Grenser!$G$4,F125-Grenser!$G$4))","v":0}]
[null,null,"",null,null,null,null,null,null,null,{"$f":"IF(AND(B126>=(F126-Grenser!$G$4),B126<=(G126+Grenser!$G$4)),B126,IF(B126>(G126+Grenser!$G$4),G126+Grenser!$G$4,F126-Grenser!$G$4))","v":0}]
[null,null,"",null,null,null,null,null,null,null,{"$f":"IF(AND(B127>=(F127-Grenser!$G$4),B127<=(G127+Grenser!$G$4)),B127,IF(B127>(G127+Grenser!$G$4),G127+Grenser!$G$4,F127-Grenser!$G$4))","v":0}]
[null,null,"",null,null,null,null,null,null,null,{"$f":"IF(AND(B128>=(F128-Grenser!$G$4),B128<=(G128+Grenser!$G$4)),B128,IF(B128>(G128+Grenser!$G$4),G128+Grenser!$G$4,F128-Grenser!$G$4))","v":0}]
[null,null,"",null,null,null,null,null,null,null,{"$f":"IF(AND(B129>=(F129-Grenser!$G$4),B129<=(G129+Grenser!$G$4)),B129,IF(B129>(G129+Grenser!$G$4),G129+Grenser!$G$4,F129-Grenser!$G$4))","v":0}]
[null,null,"",null,null,null,null,null,null,null,{"$f":"IF(AND(B130>=(F130-Grenser!$G$4),B130<=(G130+Grenser!$G$4)),B130,IF(B130>(G130+Grenser!$G$4),G130+Grenser!$G$4,F130-Grenser!$G$4))","v":0}]
[null,null,"",null,null,null,null,null,null,null,{"$f":"IF(AND(B131>=(F131-Grenser!$G$4),B131<=(G131+Grenser!$G$4)),B131,IF(B131>(G131+Grenser!$G$4),G131+Grenser!$G$4,F131-Grenser!$G$4))","v":0}]
[null,null,"",null,null,null,null,null,null,null,{"$f":"IF(AND(B132>=(F132-Grenser!$G$4),B132<=(G132+Grenser!$G$4)),B132,IF(B132>(G132+Grenser!$G$4),G132+Grenser!$G$4,F132-Grenser!$G$4))","v":0}]
[null,null,"",null,null,null,null,null,null,null,{"$f":"IF(AND(B133>=(F133-Grenser!$G$4),B133<=(G133+Grenser!$G$4)),B133,IF(B133>(G133+Grenser!$G$4),G133+Grenser!$G$4,F133-Grenser!$G$4))","v":0}]
[null,null,"",null,null,null,null,null,null,null,{"$f":"IF(AND(B134>=(F134-Grenser!$G$4),B134<=(G134+Grenser!$G$4)),B134,IF(B134>(G134+Grenser!$G$4),G134+Grenser!$G$4,F134-Grenser!$G$4))","v":0}]
[null,null,"",null,null,null,null,null,null,null,{"$f":"IF(AND(B135>=(F135-Grenser!$G$4),B135<=(G135+Grenser!$G$4)),B135,IF(B135>(G135+Grenser!$G$4),G135+Grenser!$G$4,F135-Grenser!$G$4))","v":0}]
[null,null,{"$f":"IF(B136<>\"\",(IF(OR(B136<F136,B136>G136),\"STOPP\",\"OK\")),\"\")","v":""},null,null,null,null,null,null,null,{"$f":"IF(AND(B136>=(F136-Grenser!$G$4),B136<=(G136+Grenser!$G$4)),B136,IF(B136>(G136+Grenser!$G$4),G136+Grenser!$G$4,F136-Grenser!$G$4))","v":0}]
[null,null,"",null,null,null,null,null,null,null,{"$f":"IF(AND(B137>=(F137-Grenser!$G$4),B137<=(G137+Grenser!$G$4)),B137,IF(B137>(G137+Grenser!$G$4),G137+Grenser!$G$4,F137-Grenser!$G$4))","v":0}]
[null,null,"",null,null,null,null,null,null,null,{"$f":"IF(AND(B138>=(F138-Grenser!$G$4),B138<=(G138+Grenser!$G$4)),B138,IF(B138>(G138+Grenser!$G$4),G138+Grenser!$G$4,F138-Grenser!$G$4))","v":0}]
[null,null,"",null,null,null,null,null,null,null,{"$f":"IF(AND(B139>=(F139-Grenser!$G$4),B139<=(G139+Grenser!$G$4)),B139,IF(B139>(G139+Grenser!$G$4),G139+Grenser!$G$4,F139-Grenser!$G$4))","v":0}]
[null,null,"",null,null,null,null,null,null,null,{"$f":"IF(AND(B140>=(F140-Grenser!$G$4),B140<=(G140+Grenser!$G$4)),B140,IF(B140>(G140+Grenser!$G$4),G140+Grenser!$G$4,F140-Grenser!$G$4))","v":0}]
[null,null,"",null,null,null,null,null,null,null,{"$f":"IF(AND(B141>=(F141-Grenser!$G$4),B141<=(G141+Grenser!$G$4)),B141,IF(B141>(G141+Grenser!$G$4),G141+Grenser!$G$4,F141-Grenser!$G$4))","v":0}]
[null,null,"",null,null,null,null,null,null,null,{"$f":"IF(AND(B142>=(F142-Grenser!$G$4),B142<=(G142+Grenser!$G$4)),B142,IF(B142>(G142+Grenser!$G$4),G142+Grenser!$G$4,F142-Grenser!$G$4))","v":0}]
[null,null,"",null,null,null,null,null,null,null,{"$f":"IF(AND(B143>=(F143-Grenser!$G$4),B143<=(G143+Grenser!$G$4)),B143,IF(B143>(G143+Grenser!$G$4),G143+Grenser!$G$4,F143-Grenser!$G$4))","v":0}]
[null,null,"",null,null,null,null,null,null,null,{"$f":"IF(AND(B144>=(F144-Grenser!$G$4),B144<=(G144+Grenser!$G$4)),B144,IF(B144>(G144+Grenser!$G$4),G144+Grenser!$G$4,F144-Grenser!$G$4))","v":0}]
[null,null,"",null,null,null,null,null,null,null,{"$f":"IF(AND(B145>=(F145-Grenser!$G$4),B145<=(G145+Grenser!$G$4)),B145,IF(B145>(G145+Grenser!$G$4),G145+Grenser!$G$4,F145-Grenser!$G$4))","v":0}]
[null,null,"",null,null,null,null,null,null,null,{"$f":"IF(AND(B146>=(F146-Grenser!$G$4),B146<=(G146+Grenser!$G$4)),B146,IF(B146>(G146+Grenser!$G$4),G146+Grenser!$G$4,F146-Grenser!$G$4))","v":0}]
[null,null,"",null,null,null,null,null,null,null,{"$f":"IF(AND(B147>=(F147-Grenser!$G$4),B147<=(G147+Grenser!$G$4)),B147,IF(B147>(G147+Grenser!$G$4),G147+Grenser!$G$4,F147-Grenser!$G$4))","v":0}]
[null,null,"",null,null,null,null,null,null,null,{"$f":"IF(AND(B148>=(F148-Grenser!$G$4),B148<=(G148+Grenser!$G$4)),B148,IF(B148>(G148+Grenser!$G$4),G148+Grenser!$G$4,F148-Grenser!$G$4))","v":0}]
[null,null,"",null,null,null,null,null,null,null,{"$f":"IF(AND(B149>=(F149-Grenser!$G$4),B149<=(G149+Grenser!$G$4)),B149,IF(B149>(G149+Grenser!$G$4),G149+Grenser!$G$4,F149-Grenser!$G$4))","v":0}]
[null,null,"",null,null,null,null,null,null,null,{"$f":"IF(AND(B150>=(F150-Grenser!$G$4),B150<=(G150+Grenser!$G$4)),B150,IF(B150>(G150+Grenser!$G$4),G150+Grenser!$G$4,F150-Grenser!$G$4))","v":0}]
[null,null,"",null,null,null,null,null,null,null,{"$f":"IF(AND(B151>=(F151-Grenser!$G$4),B151<=(G151+Grenser!$G$4)),B151,IF(B151>(G151+Grenser!$G$4),G151+Grenser!$G$4,F151-Grenser!$G$4))","v":0}]
[null,null,"",null,null,null,null,null,null,null,{"$f":"IF(AND(B152>=(F152-Grenser!$G$4),B152<=(G152+Grenser!$G$4)),B152,IF(B152>(G152+Grenser!$G$4),G152+Grenser!$G$4,F152-Grenser!$G$4))","v":0}]
[null,null,"",null,null,null,null,null,null,null,{"$f":"IF(AND(B153>=(F153-Grenser!$G$4),B153<=(G153+Grenser!$G$4)),B153,IF(B153>(G153+Grenser!$G$4),G153+Grenser!$G$4,F153-Grenser!$G$4))","v":0}]
[null,null,"",null,null,null,null,null,null,null,{"$f":"IF(AND(B154>=(F154-Grenser!$G$4),B154<=(G154+Grenser!$G$4)),B154,IF(B154>(G154+Grenser!$G$4),G154+Grenser!$G$4,F154-Grenser!$G$4))","v":0}]
[null,null,"",null,null,null,null,null,null,null,{"$f":"IF(AND(B155>=(F155-Grenser!$G$4),B155<=(G155+Grenser!$G$4)),B155,IF(B155>(G155+Grenser!$G$4),G155+Grenser!$G$4,F155-Grenser!$G$4))","v":0}]
[null,null,"",null,null,null,null,null,null,null,{"$f":"IF(AND(B156>=(F156-Grenser!$G$4),B156<=(G156+Grenser!$G$4)),B156,IF(B156>(G156+Grenser!$G$4),G156+Grenser!$G$4,F156-Grenser!$G$4))","v":0}]
[null,null,"",null,null,null,null,null,null,null,{"$f":"IF(AND(B157>=(F157-Grenser!$G$4),B157<=(G157+Grenser!$G$4)),B157,IF(B157>(G157+Grenser!$G$4),G157+Grenser!$G$4,F157-Grenser!$G$4))","v":0}]
[null,null,"",null,null,null,null,null,null,null,{"$f":"IF(AND(B158>=(F158-Grenser!$G$4),B158<=(G158+Grenser!$G$4)),B158,IF(B158>(G158+Grenser!$G$4),G158+Grenser!$G$4,F158-Grenser!$G$4))","v":0}]
[null,null,"",null,null,null,null,null,null,null,{"$f":"IF(AND(B159>=(F159-Grenser!$G$4),B159<=(G159+Grenser!$G$4)),B159,IF(B159>(G159+Grenser!$G$4),G159+Grenser!$G$4,F159-Grenser!$G$4))","v":0}]
[null,null,"",null,null,null,null,null,null,null,{"$f":"IF(AND(B160>=(F160-Grenser!$G$4),B160<=(G160+Grenser!$G$4)),B160,IF(B160>(G160+Grenser!$G$4),G160+Grenser!$G$4,F160-Grenser!$G$4))","v":0}]
[null,null,"",null,null,null,null,null,null,null,{"$f":"IF(AND(B161>=(F161-Grenser!$G$4),B161<=(G161+Grenser!$G$4)),B161,IF(B161>(G161+Grenser!$G$4),G161+Grenser!$G$4,F161-Grenser!$G$4))","v":0}]
[null,null,"",null,null,null,null,null,null,null,{"$f":"IF(AND(B162>=(F162-Grenser!$G$4),B162<=(G162+Grenser!$G$4)),B162,IF(B162>(G162+Grenser!$G$4),G162+Grenser!$G$4,F162-Grenser!$G$4))","v":0}]
[null,null,"",null,null,null,null,null,null,null,{"$f":"IF(AND(B163>=(F163-Grenser!$G$4),B163<=(G163+Grenser!$G$4)),B163,IF(B163>(G163+Grenser!$G$4),G163+Grenser!$G$4,F163-Grenser!$G$4))","v":0}]
[null,null,"",null,null,null,null,null,null,null,{"$f":"IF(AND(B164>=(F164-Grenser!$G$4),B164<=(G164+Grenser!$G$4)),B164,IF(B164>(G164+Grenser!$G$4),G164+Grenser!$G$4,F164-Grenser!$G$4))","v":0}]
[null,null,"",null,null,null,null,null,null,null,{"$f":"IF(AND(B165>=(F165-Grenser!$G$4),B165<=(G165+Grenser!$G$4)),B165,IF(B165>(G165+Grenser!$G$4),G165+Grenser!$G$4,F165-Grenser!$G$4))","v":0}]
[null,null,"",null,null,null,null,null,null,null,{"$f":"IF(AND(B166>=(F166-Grenser!$G$4),B166<=(G166+Grenser!$G$4)),B166,IF(B166>(G166+Grenser!$G$4),G166+Grenser!$G$4,F166-Grenser!$G$4))","v":0}]
[null,null,"",null,null,null,null,null,null,null,{"$f":"IF(AND(B167>=(F167-Grenser!$G$4),B167<=(G167+Grenser!$G$4)),B167,IF(B167>(G167+Grenser!$G$4),G167+Grenser!$G$4,F167-Grenser!$G$4))","v":0}]
[null,null,"",null,null,null,null,null,null,null,{"$f":"IF(AND(B168>=(F168-Grenser!$G$4),B168<=(G168+Grenser!$G$4)),B168,IF(B168>(G168+Grenser!$G$4),G168+Grenser!$G$4,F168-Grenser!$G$4))","v":0}]
[null,null,"",null,null,null,null,null,null,null,{"$f":"IF(AND(B169>=(F169-Grenser!$G$4),B169<=(G169+Grenser!$G$4)),B169,IF(B169>(G169+Grenser!$G$4),G169+Grenser!$G$4,F169-Grenser!$G$4))","v":0}]
[null,null,"",null,null,null,null,null,null,null,{"$f":"IF(AND(B170>=(F170-Grenser!$G$4),B170<=(G170+Grenser!$G$4)),B170,IF(B170>(G170+Grenser!$G$4),G170+Grenser!$G$4,F170-Grenser!$G$4))","v":0}]
[null,null,"",null,null,null,null,null,null,null,{"$f":"IF(AND(B171>=(F171-Grenser!$G$4),B171<=(G171+Grenser!$G$4)),B171,IF(B171>(G171+Grenser!$G$4),G171+Grenser!$G$4,F171-Grenser!$G$4))","v":0}]
[null,null,"",null,null,null,null,null,null,null,{"$f":"IF(AND(B172>=(F172-Grenser!$G$4),B172<=(G172+Grenser!$G$4)),B172,IF(B172>(G172+Grenser!$G$4),G172+Grenser!$G$4,F172-Grenser!$G$4))","v":0}]
[null,null,"",null,null,null,null,null,null,null,{"$f":"IF(AND(B173>=(F173-Grenser!$G$4),B173<=(G173+Grenser!$G$4)),B173,IF(B173>(G173+Grenser!$G$4),G173+Grenser!$G$4,F173-Grenser!$G$4))","v":0}]
[null,null,"",null,null,null,null,null,null,null,{"$f":"IF(AND(B174>=(F174-Grenser!$G$4),B174<=(G174+Grenser!$G$4)),B174,IF(B174>(G174+Grenser!$G$4),G174+Grenser!$G$4,F174-Grenser!$G$4))","v":0}]
[null,null,"",null,null,null,null,null,null,null,{"$f":"IF(AND(B175>=(F175-Grenser!$G$4),B175<=(G175+Grenser!$G$4)),B175,IF(B175>(G175+Grenser!$G$4),G175+Grenser!$G$4,F175-Grenser!$G$4))","v":0}]
[null,null,"",null,null,null,null,null,null,null,{"$f":"IF(AND(B176>=(F176-Grenser!$G$4),B176<=(G176+Grenser!$G$4)),B176,IF(B176>(G176+Grenser!$G$4),G176+Grenser!$G$4,F176-Grenser!$G$4))","v":0}]
[null,null,"",null,null,null,null,null,null,null,{"$f":"IF(AND(B177>=(F177-Grenser!$G$4),B177<=(G177+Grenser!$G$4)),B177,IF(B177>(G177+Grenser!$G$4),G177+Grenser!$G$4,F177-Grenser!$G$4))","v":0}]
[null,null,"",null,null,null,null,null,null,null,{"$f":"IF(AND(B178>=(F178-Grenser!$G$4),B178<=(G178+Grenser!$G$4)),B178,IF(B178>(G178+Grenser!$G$4),G178+Grenser!$G$4,F178-Grenser!$G$4))","v":0}]
[null,null,"",null,null,null,null,null,null,null,{"$f":"IF(AND(B179>=(F179-Grenser!$G$4),B179<=(G179+Grenser!$G$4)),B179,IF(B179>(G179+Grenser!$G$4),G179+Grenser!$G$4,F179-Grenser!$G$4))","v":0}]
[null,null,"",null,null,null,null,null,null,null,{"$f":"IF(AND(B180>=(F180-Grenser!$G$4),B180<=(G180+Grenser!$G$4)),B180,IF(B180>(G180+Grenser!$G$4),G180+Grenser!$G$4,F180-Grenser!$G$4))","v":0}]
[null,null,"",null,null,null,null,null,null,null,{"$f":"IF(AND(B181>=(F181-Grenser!$G$4),B181<=(G181+Grenser!$G$4)),B181,IF(B181>(G181+Grenser!$G$4),G181+Grenser!$G$4,F181-Grenser!$G$4))","v":0}]
[null,null,"",null,null,null,null,null,null,null,{"$f":"IF(AND(B182>=(F182-Grenser!$G$4),B182<=(G182+Grenser!$G$4)),B182,IF(B182>(G182+Grenser!$G$4),G182+Grenser!$G$4,F182-Grenser!$G$4))","v":0}]
[null,null,"",null,null,null,null,null,null,null,{"$f":"IF(AND(B183>=(F183-Grenser!$G$4),B183<=(G183+Grenser!$G$4)),B183,IF(B183>(G183+Grenser!$G$4),G183+Grenser!$G$4,F183-Grenser!$G$4))","v":0}]
[null,null,"",null,null,null,null,null,null,null,{"$f":"IF(AND(B184>=(F184-Grenser!$G$4),B184<=(G184+Grenser!$G$4)),B184,IF(B184>(G184+Grenser!$G$4),G184+Grenser!$G$4,F184-Grenser!$G$4))","v":0}]
[null,null,"",null,null,null,null,null,null,null,{"$f":"IF(AND(B185>=(F185-Grenser!$G$4),B185<=(G185+Grenser!$G$4)),B185,IF(B185>(G185+Grenser!$G$4),G185+Grenser!$G$4,F185-Grenser!$G$4))","v":0}]
[null,null,"",null,null,null,null,null,null,null,{"$f":"IF(AND(B186>=(F186-Grenser!$G$4),B186<=(G186+Grenser!$G$4)),B186,IF(B186>(G186+Grenser!$G$4),G186+Grenser!$G$4,F186-Grenser!$G$4))","v":0}]
[null,null,"",null,null,null,null,null,null,null,{"$f":"IF(AND(B187>=(F187-Grenser!$G$4),B187<=(G187+Grenser!$G$4)),B187,IF(B187>(G187+Grenser!$G$4),G187+Grenser!$G$4,F187-Grenser!$G$4))","v":0}]
[null,null,"",null,null,null,null,null,null,null,{"$f":"IF(AND(B188>=(F188-Grenser!$G$4),B188<=(G188+Grenser!$G$4)),B188,IF(B188>(G188+Grenser!$G$4),G188+Grenser!$G$4,F188-Grenser!$G$4))","v":0}]
[null,null,"",null,null,null,null,null,null,null,{"$f":"IF(AND(B189>=(F189-Grenser!$G$4),B189<=(G189+Grenser!$G$4)),B189,IF(B189>(G189+Grenser!$G$4),G189+Grenser!$G$4,F189-Grenser!$G$4))","v":0}]
[null,null,"",null,null,null,null,null,null,null,{"$f":"IF(AND(B190>=(F190-Grenser!$G$4),B190<=(G190+Grenser!$G$4)),B190,IF(B190>(G190+Grenser!$G$4),G190+Grenser!$G$4,F190-Grenser!$G$4))","v":0}]
[null,null,"",null,null,null,null,null,null,null,{"$f":"IF(AND(B191>=(F191-Grenser!$G$4),B191<=(G191+Grenser!$G$4)),B191,IF(B191>(G191+Grenser!$G$4),G191+Grenser!$G$4,F191-Grenser!$G$4))","v":0}]
[null,null,"",null,null,null,null,null,null,null,{"$f":"IF(AND(B192>=(F192-Grenser!$G$4),B192<=(G192+Grenser!$G$4)),B192,IF(B192>(G192+Grenser!$G$4),G192+Grenser!$G$4,F192-Grenser!$G$4))","v":0}]
[null,null,"",null,null,null,null,null,null,null,{"$f":"IF(AND(B193>=(F193-Grenser!$G$4),B193<=(G193+Grenser!$G$4)),B193,IF(B193>(G193+Grenser!$G$4),G193+Grenser!$G$4,F193-Grenser!$G$4))","v":0}]
[null,null,"",null,null,null,null,null,null,null,{"$f":"IF(AND(B194>=(F194-Grenser!$G$4),B194<=(G194+Grenser!$G$4)),B194,IF(B194>(G194+Grenser!$G$4),G194+Grenser!$G$4,F194-Grenser!$G$4))","v":0}]
[null,null,"",null,null,null,null,null,null,null,{"$f":"IF(AND(B195>=(F195-Grenser!$G$4),B195<=(G195+Grenser!$G$4)),B195,IF(B195>(G195+Grenser!$G$4),G195+Grenser!$G$4,F195-Grenser!$G$4))","v":0}]
[null,null,"",null,null,null,null,null,null,null,{"$f":"IF(AND(B196>=(F196-Grenser!$G$4),B196<=(G196+Grenser!$G$4)),B196,IF(B196>(G196+Grenser!$G$4),G196+Grenser!$G$4,F196-Grenser!$G$4))","v":0}]
[null,null,"",null,null,null,null,null,null,null,{"$f":"IF(AND(B197>=(F197-Grenser!$G$4),B197<=(G197+Grenser!$G$4)),B197,IF(B197>(G197+Grenser!$G$4),G197+Grenser!$G$4,F197-Grenser!$G$4))","v":0}]
[null,null,"",null,null,null,null,null,null,null,{"$f":"IF(AND(B198>=(F198-Grenser!$G$4),B198<=(G198+Grenser!$G$4)),B198,IF(B198>(G198+Grenser!$G$4),G198+Grenser!$G$4,F198-Grenser!$G$4))","v":0}]
[null,null,"",null,null,null,null,null,null,null,{"$f":"IF(AND(B199>=(F199-Grenser!$G$4),B199<=(G199+Grenser!$G$4)),B199,IF(B199>(G199+Grenser!$G$4),G199+Grenser!$G$4,F199-Grenser!$G$4))","v":0}]
[null,null,{"$f":"IF(B200<>\"\",(IF(OR(B200<F200,B200>G200),\"STOPP\",\"OK\")),\"\")","v":""},null,null,null,null,null,null,null,{"$f":"IF(AND(B200>=(F200-Grenser!$G$4),B200<=(G200+Grenser!$G$4)),B200,IF(B200>(G200+Grenser!$G$4),G200+Grenser!$G$4,F200-Grenser!$G$4))","v":0}]
[null,null,{"$f":"IF(B201<>\"\",(IF(OR(B201<F201,B201>G201),\"STOPP\",\"OK\")),\"\")","v":""},null,null,null,null,null,null,null,{"$f":"IF(AND(B201>=(F201-Grenser!$G$4),B201<=(G201+Grenser!$G$4)),B201,IF(B201>(G201+Grenser!$G$4),G201+Grenser!$G$4,F201-Grenser!$G$4))","v":0}]

{"sheet":"Ikke i bruk 11","index":13,"n_rows":201,"n_cols":11,"rows_kept":201,"cut":false,"hidden":false,"merged":[[0,0,0,9]]}
[{"$f":"Grenser!B14","v":"Ikke i bruk 11"}]
["Antall",{"$f":" COUNT(B7:B201)","v":0}]
["Mean",{"$f":"AVERAGE(B7:B201)","v":{"$error":"#DIV/0!"}}]
["Standardavvik",{"$f":"STDEV(B7:B201)","v":{"$error":"#DIV/0!"}}]
["CV",{"$f":"B4*100/B3","v":{"$error":"#DIV/0!"}}]
["Dato avlest","Avlest sone","Vurdering","Produksjonsdato res.skål","Satt opp sign","Lav grense","Høy grense","Dato Satt opp","Avlest sign","Teller","Avlest sone korrigert"]
[null,null,{"$f":"IF(B7<>\"\",(IF(OR(B7<F7,B7>G7),\"STOPP\",\"OK\")),\"\")","v":""},null,null,null,null,null,null,null,{"$f":"IF(AND(B7>=(F7-Grenser!$G$4),B7<=(G7+Grenser!$G$4)),B7,IF(B7>(G7+Grenser!$G$4),G7+Grenser!$G$4,F7-Grenser!$G$4))","v":0}]
[null,null,{"$f":"IF(B8<>\"\",(IF(OR(B8<F8,B8>G8),\"STOPP\",\"OK\")),\"\")","v":""},null,null,null,null,null,null,null,{"$f":"IF(AND(B8>=(F8-Grenser!$G$4),B8<=(G8+Grenser!$G$4)),B8,IF(B8>(G8+Grenser!$G$4),G8+Grenser!$G$4,F8-Grenser!$G$4))","v":0}]
[null,null,"",null,null,null,null,null,null,null,{"$f":"IF(AND(B9>=(F9-Grenser!$G$4),B9<=(G9+Grenser!$G$4)),B9,IF(B9>(G9+Grenser!$G$4),G9+Grenser!$G$4,F9-Grenser!$G$4))","v":0}]
[null,null,"",null,null,null,null,null,null,null,{"$f":"IF(AND(B10>=(F10-Grenser!$G$4),B10<=(G10+Grenser!$G$4)),B10,IF(B10>(G10+Grenser!$G$4),G10+Grenser!$G$4,F10-Grenser!$G$4))","v":0}]
[null,null,"",null,null,null,null,null,null,null,{"$f":"IF(AND(B11>=(F11-Grenser!$G$4),B11<=(G11+Grenser!$G$4)),B11,IF(B11>(G11+Grenser!$G$4),G11+Grenser!$G$4,F11-Grenser!$G$4))","v":0}]
[null,null,"",null,null,null,null,null,null,null,{"$f":"IF(AND(B12>=(F12-Grenser!$G$4),B12<=(G12+Grenser!$G$4)),B12,IF(B12>(G12+Grenser!$G$4),G12+Grenser!$G$4,F12-Grenser!$G$4))","v":0}]
[null,null,"",null,null,null,null,null,null,null,{"$f":"IF(AND(B13>=(F13-Grenser!$G$4),B13<=(G13+Grenser!$G$4)),B13,IF(B13>(G13+Grenser!$G$4),G13+Grenser!$G$4,F13-Grenser!$G$4))","v":0}]
[null,null,"",null,null,null,null,null,null,null,{"$f":"IF(AND(B14>=(F14-Grenser!$G$4),B14<=(G14+Grenser!$G$4)),B14,IF(B14>(G14+Grenser!$G$4),G14+Grenser!$G$4,F14-Grenser!$G$4))","v":0}]
[null,null,"",null,null,null,null,null,null,null,{"$f":"IF(AND(B15>=(F15-Grenser!$G$4),B15<=(G15+Grenser!$G$4)),B15,IF(B15>(G15+Grenser!$G$4),G15+Grenser!$G$4,F15-Grenser!$G$4))","v":0}]
[null,null,"",null,null,null,null,null,null,null,{"$f":"IF(AND(B16>=(F16-Grenser!$G$4),B16<=(G16+Grenser!$G$4)),B16,IF(B16>(G16+Grenser!$G$4),G16+Grenser!$G$4,F16-Grenser!$G$4))","v":0}]
[null,null,"",null,null,null,null,null,null,null,{"$f":"IF(AND(B17>=(F17-Grenser!$G$4),B17<=(G17+Grenser!$G$4)),B17,IF(B17>(G17+Grenser!$G$4),G17+Grenser!$G$4,F17-Grenser!$G$4))","v":0}]
[null,null,"",null,null,null,null,null,null,null,{"$f":"IF(AND(B18>=(F18-Grenser!$G$4),B18<=(G18+Grenser!$G$4)),B18,IF(B18>(G18+Grenser!$G$4),G18+Grenser!$G$4,F18-Grenser!$G$4))","v":0}]
[null,null,"",null,null,null,null,null,null,null,{"$f":"IF(AND(B19>=(F19-Grenser!$G$4),B19<=(G19+Grenser!$G$4)),B19,IF(B19>(G19+Grenser!$G$4),G19+Grenser!$G$4,F19-Grenser!$G$4))","v":0}]
[null,null,"",null,null,null,null,null,null,null,{"$f":"IF(AND(B20>=(F20-Grenser!$G$4),B20<=(G20+Grenser!$G$4)),B20,IF(B20>(G20+Grenser!$G$4),G20+Grenser!$G$4,F20-Grenser!$G$4))","v":0}]
[null,null,"",null,null,null,null,null,null,null,{"$f":"IF(AND(B21>=(F21-Grenser!$G$4),B21<=(G21+Grenser!$G$4)),B21,IF(B21>(G21+Grenser!$G$4),G21+Grenser!$G$4,F21-Grenser!$G$4))","v":0}]
[null,null,"",null,null,null,null,null,null,null,{"$f":"IF(AND(B22>=(F22-Grenser!$G$4),B22<=(G22+Grenser!$G$4)),B22,IF(B22>(G22+Grenser!$G$4),G22+Grenser!$G$4,F22-Grenser!$G$4))","v":0}]
[null,null,"",null,null,null,null,null,null,null,{"$f":"IF(AND(B23>=(F23-Grenser!$G$4),B23<=(G23+Grenser!$G$4)),B23,IF(B23>(G23+Grenser!$G$4),G23+Grenser!$G$4,F23-Grenser!$G$4))","v":0}]
[null,null,"",null,null,null,null,null,null,null,{"$f":"IF(AND(B24>=(F24-Grenser!$G$4),B24<=(G24+Grenser!$G$4)),B24,IF(B24>(G24+Grenser!$G$4),G24+Grenser!$G$4,F24-Grenser!$G$4))","v":0}]
[null,null,"",null,null,null,null,null,null,null,{"$f":"IF(AND(B25>=(F25-Grenser!$G$4),B25<=(G25+Grenser!$G$4)),B25,IF(B25>(G25+Grenser!$G$4),G25+Grenser!$G$4,F25-Grenser!$G$4))","v":0}]
[null,null,"",null,null,null,null,null,null,null,{"$f":"IF(AND(B26>=(F26-Grenser!$G$4),B26<=(G26+Grenser!$G$4)),B26,IF(B26>(G26+Grenser!$G$4),G26+Grenser!$G$4,F26-Grenser!$G$4))","v":0}]
[null,null,"",null,null,null,null,null,null,null,{"$f":"IF(AND(B27>=(F27-Grenser!$G$4),B27<=(G27+Grenser!$G$4)),B27,IF(B27>(G27+Grenser!$G$4),G27+Grenser!$G$4,F27-Grenser!$G$4))","v":0}]
[null,null,"",null,null,null,null,null,null,null,{"$f":"IF(AND(B28>=(F28-Grenser!$G$4),B28<=(G28+Grenser!$G$4)),B28,IF(B28>(G28+Grenser!$G$4),G28+Grenser!$G$4,F28-Grenser!$G$4))","v":0}]
[null,null,"",null,null,null,null,null,null,null,{"$f":"IF(AND(B29>=(F29-Grenser!$G$4),B29<=(G29+Grenser!$G$4)),B29,IF(B29>(G29+Grenser!$G$4),G29+Grenser!$G$4,F29-Grenser!$G$4))","v":0}]
[null,null,"",null,null,null,null,null,null,null,{"$f":"IF(AND(B30>=(F30-Grenser!$G$4),B30<=(G30+Grenser!$G$4)),B30,IF(B30>(G30+Grenser!$G$4),G30+Grenser!$G$4,F30-Grenser!$G$4))","v":0}]
[null,null,"",null,null,null,null,null,null,null,{"$f":"IF(AND(B31>=(F31-Grenser!$G$4),B31<=(G31+Grenser!$G$4)),B31,IF(B31>(G31+Grenser!$G$4),G31+Grenser!$G$4,F31-Grenser!$G$4))","v":0}]
[null,null,"",null,null,null,null,null,null,null,{"$f":"IF(AND(B32>=(F32-Grenser!$G$4),B32<=(G32+Grenser!$G$4)),B32,IF(B32>(G32+Grenser!$G$4),G32+Grenser!$G$4,F32-Grenser!$G$4))","v":0}]
[null,null,"",null,null,null,null,null,null,null,{"$f":"IF(AND(B33>=(F33-Grenser!$G$4),B33<=(G33+Grenser!$G$4)),B33,IF(B33>(G33+Grenser!$G$4),G33+Grenser!$G$4,F33-Grenser!$G$4))","v":0}]
[null,null,"",null,null,null,null,null,null,null,{"$f":"IF(AND(B34>=(F34-Grenser!$G$4),B34<=(G34+Grenser!$G$4)),B34,IF(B34>(G34+Grenser!$G$4),G34+Grenser!$G$4,F34-Grenser!$G$4))","v":0}]
[null,null,"",null,null,null,null,null,null,null,{"$f":"IF(AND(B35>=(F35-Grenser!$G$4),B35<=(G35+Grenser!$G$4)),B35,IF(B35>(G35+Grenser!$G$4),G35+Grenser!$G$4,F35-Grenser!$G$4))","v":0}]
[null,null,"",null,null,null,null,null,null,null,{"$f":"IF(AND(B36>=(F36-Grenser!$G$4),B36<=(G36+Grenser!$G$4)),B36,IF(B36>(G36+Grenser!$G$4),G36+Grenser!$G$4,F36-Grenser!$G$4))","v":0}]
[null,null,"",null,null,null,null,null,null,null,{"$f":"IF(AND(B37>=(F37-Grenser!$G$4),B37<=(G37+Grenser!$G$4)),B37,IF(B37>(G37+Grenser!$G$4),G37+Grenser!$G$4,F37-Grenser!$G$4))","v":0}]
[null,null,"",null,null,null,null,null,null,null,{"$f":"IF(AND(B38>=(F38-Grenser!$G$4),B38<=(G38+Grenser!$G$4)),B38,IF(B38>(G38+Grenser!$G$4),G38+Grenser!$G$4,F38-Grenser!$G$4))","v":0}]
[null,null,"",null,null,null,null,null,null,null,{"$f":"IF(AND(B39>=(F39-Grenser!$G$4),B39<=(G39+Grenser!$G$4)),B39,IF(B39>(G39+Grenser!$G$4),G39+Grenser!$G$4,F39-Grenser!$G$4))","v":0}]
[null,null,"",null,null,null,null,null,null,null,{"$f":"IF(AND(B40>=(F40-Grenser!$G$4),B40<=(G40+Grenser!$G$4)),B40,IF(B40>(G40+Grenser!$G$4),G40+Grenser!$G$4,F40-Grenser!$G$4))","v":0}]
[null,null,"",null,null,null,null,null,null,null,{"$f":"IF(AND(B41>=(F41-Grenser!$G$4),B41<=(G41+Grenser!$G$4)),B41,IF(B41>(G41+Grenser!$G$4),G41+Grenser!$G$4,F41-Grenser!$G$4))","v":0}]
[null,null,"",null,null,null,null,null,null,null,{"$f":"IF(AND(B42>=(F42-Grenser!$G$4),B42<=(G42+Grenser!$G$4)),B42,IF(B42>(G42+Grenser!$G$4),G42+Grenser!$G$4,F42-Grenser!$G$4))","v":0}]
[null,null,"",null,null,null,null,null,null,null,{"$f":"IF(AND(B43>=(F43-Grenser!$G$4),B43<=(G43+Grenser!$G$4)),B43,IF(B43>(G43+Grenser!$G$4),G43+Grenser!$G$4,F43-Grenser!$G$4))","v":0}]
[null,null,"",null,null,null,null,null,null,null,{"$f":"IF(AND(B44>=(F44-Grenser!$G$4),B44<=(G44+Grenser!$G$4)),B44,IF(B44>(G44+Grenser!$G$4),G44+Grenser!$G$4,F44-Grenser!$G$4))","v":0}]
[null,null,"",null,null,null,null,null,null,null,{"$f":"IF(AND(B45>=(F45-Grenser!$G$4),B45<=(G45+Grenser!$G$4)),B45,IF(B45>(G45+Grenser!$G$4),G45+Grenser!$G$4,F45-Grenser!$G$4))","v":0}]
[null,null,"",null,null,null,null,null,null,null,{"$f":"IF(AND(B46>=(F46-Grenser!$G$4),B46<=(G46+Grenser!$G$4)),B46,IF(B46>(G46+Grenser!$G$4),G46+Grenser!$G$4,F46-Grenser!$G$4))","v":0}]
[null,null,"",null,null,null,null,null,null,null,{"$f":"IF(AND(B47>=(F47-Grenser!$G$4),B47<=(G47+Grenser!$G$4)),B47,IF(B47>(G47+Grenser!$G$4),G47+Grenser!$G$4,F47-Grenser!$G$4))","v":0}]
[null,null,"",null,null,null,null,null,null,null,{"$f":"IF(AND(B48>=(F48-Grenser!$G$4),B48<=(G48+Grenser!$G$4)),B48,IF(B48>(G48+Grenser!$G$4),G48+Grenser!$G$4,F48-Grenser!$G$4))","v":0}]
[null,null,"",null,null,null,null,null,null,null,{"$f":"IF(AND(B49>=(F49-Grenser!$G$4),B49<=(G49+Grenser!$G$4)),B49,IF(B49>(G49+Grenser!$G$4),G49+Grenser!$G$4,F49-Grenser!$G$4))","v":0}]
[null,null,"",null,null,null,null,null,null,null,{"$f":"IF(AND(B50>=(F50-Grenser!$G$4),B50<=(G50+Grenser!$G$4)),B50,IF(B50>(G50+Grenser!$G$4),G50+Grenser!$G$4,F50-Grenser!$G$4))","v":0}]
[null,null,"",null,null,null,null,null,null,null,{"$f":"IF(AND(B51>=(F51-Grenser!$G$4),B51<=(G51+Grenser!$G$4)),B51,IF(B51>(G51+Grenser!$G$4),G51+Grenser!$G$4,F51-Grenser!$G$4))","v":0}]
[null,null,"",null,null,null,null,null,null,null,{"$f":"IF(AND(B52>=(F52-Grenser!$G$4),B52<=(G52+Grenser!$G$4)),B52,IF(B52>(G52+Grenser!$G$4),G52+Grenser!$G$4,F52-Grenser!$G$4))","v":0}]
[null,null,"",null,null,null,null,null,null,null,{"$f":"IF(AND(B53>=(F53-Grenser!$G$4),B53<=(G53+Grenser!$G$4)),B53,IF(B53>(G53+Grenser!$G$4),G53+Grenser!$G$4,F53-Grenser!$G$4))","v":0}]
[null,null,"",null,null,null,null,null,null,null,{"$f":"IF(AND(B54>=(F54-Grenser!$G$4),B54<=(G54+Grenser!$G$4)),B54,IF(B54>(G54+Grenser!$G$4),G54+Grenser!$G$4,F54-Grenser!$G$4))","v":0}]
[null,null,"",null,null,null,null,null,null,null,{"$f":"IF(AND(B55>=(F55-Grenser!$G$4),B55<=(G55+Grenser!$G$4)),B55,IF(B55>(G55+Grenser!$G$4),G55+Grenser!$G$4,F55-Grenser!$G$4))","v":0}]
[null,null,"",null,null,null,null,null,null,null,{"$f":"IF(AND(B56>=(F56-Grenser!$G$4),B56<=(G56+Grenser!$G$4)),B56,IF(B56>(G56+Grenser!$G$4),G56+Grenser!$G$4,F56-Grenser!$G$4))","v":0}]
[null,null,"",null,null,null,null,null,null,null,{"$f":"IF(AND(B57>=(F57-Grenser!$G$4),B57<=(G57+Grenser!$G$4)),B57,IF(B57>(G57+Grenser!$G$4),G57+Grenser!$G$4,F57-Grenser!$G$4))","v":0}]
[null,null,"",null,null,null,null,null,null,null,{"$f":"IF(AND(B58>=(F58-Grenser!$G$4),B58<=(G58+Grenser!$G$4)),B58,IF(B58>(G58+Grenser!$G$4),G58+Grenser!$G$4,F58-Grenser!$G$4))","v":0}]
[null,null,"",null,null,null,null,null,null,null,{"$f":"IF(AND(B59>=(F59-Grenser!$G$4),B59<=(G59+Grenser!$G$4)),B59,IF(B59>(G59+Grenser!$G$4),G59+Grenser!$G$4,F59-Grenser!$G$4))","v":0}]
[null,null,"",null,null,null,null,null,null,null,{"$f":"IF(AND(B60>=(F60-Grenser!$G$4),B60<=(G60+Grenser!$G$4)),B60,IF(B60>(G60+Grenser!$G$4),G60+Grenser!$G$4,F60-Grenser!$G$4))","v":0}]
[null,null,"",null,null,null,null,null,null,null,{"$f":"IF(AND(B61>=(F61-Grenser!$G$4),B61<=(G61+Grenser!$G$4)),B61,IF(B61>(G61+Grenser!$G$4),G61+Grenser!$G$4,F61-Grenser!$G$4))","v":0}]
[null,null,"",null,null,null,null,null,null,null,{"$f":"IF(AND(B62>=(F62-Grenser!$G$4),B62<=(G62+Grenser!$G$4)),B62,IF(B62>(G62+Grenser!$G$4),G62+Grenser!$G$4,F62-Grenser!$G$4))","v":0}]
[null,null,"",null,null,null,null,null,null,null,{"$f":"IF(AND(B63>=(F63-Grenser!$G$4),B63<=(G63+Grenser!$G$4)),B63,IF(B63>(G63+Grenser!$G$4),G63+Grenser!$G$4,F63-Grenser!$G$4))","v":0}]
[null,null,"",null,null,null,null,null,null,null,{"$f":"IF(AND(B64>=(F64-Grenser!$G$4),B64<=(G64+Grenser!$G$4)),B64,IF(B64>(G64+Grenser!$G$4),G64+Grenser!$G$4,F64-Grenser!$G$4))","v":0}]
[null,null,"",null,null,null,null,null,null,null,{"$f":"IF(AND(B65>=(F65-Grenser!$G$4),B65<=(G65+Grenser!$G$4)),B65,IF(B65>(G65+Grenser!$G$4),G65+Grenser!$G$4,F65-Grenser!$G$4))","v":0}]
[null,null,"",null,null,null,null,null,null,null,{"$f":"IF(AND(B66>=(F66-Grenser!$G$4),B66<=(G66+Grenser!$G$4)),B66,IF(B66>(G66+Grenser!$G$4),G66+Grenser!$G$4,F66-Grenser!$G$4))","v":0}]
[null,null,"",null,null,null,null,null,null,null,{"$f":"IF(AND(B67>=(F67-Grenser!$G$4),B67<=(G67+Grenser!$G$4)),B67,IF(B67>(G67+Grenser!$G$4),G67+Grenser!$G$4,F67-Grenser!$G$4))","v":0}]
[null,null,"",null,null,null,null,null,null,null,{"$f":"IF(AND(B68>=(F68-Grenser!$G$4),B68<=(G68+Grenser!$G$4)),B68,IF(B68>(G68+Grenser!$G$4),G68+Grenser!$G$4,F68-Grenser!$G$4))","v":0}]
[null,null,"",null,null,null,null,null,null,null,{"$f":"IF(AND(B69>=(F69-Grenser!$G$4),B69<=(G69+Grenser!$G$4)),B69,IF(B69>(G69+Grenser!$G$4),G69+Grenser!$G$4,F69-Grenser!$G$4))","v":0}]
[null,null,"",null,null,null,null,null,null,null,{"$f":"IF(AND(B70>=(F70-Grenser!$G$4),B70<=(G70+Grenser!$G$4)),B70,IF(B70>(G70+Grenser!$G$4),G70+Grenser!$G$4,F70-Grenser!$G$4))","v":0}]
[null,null,"",null,null,null,null,null,null,null,{"$f":"IF(AND(B71>=(F71-Grenser!$G$4),B71<=(G71+Grenser!$G$4)),B71,IF(B71>(G71+Grenser!$G$4),G71+Grenser!$G$4,F71-Grenser!$G$4))","v":0}]
[null,null,{"$f":"IF(B72<>\"\",(IF(OR(B72<F72,B72>G72),\"STOPP\",\"OK\")),\"\")","v":""},null,null,null,null,null,null,null,{"$f":"IF(AND(B72>=(F72-Grenser!$G$4),B72<=(G72+Grenser!$G$4)),B72,IF(B72>(G72+Grenser!$G$4),G72+Grenser!$G$4,F72-Grenser!$G$4))","v":0}]
[null,null,"",null,null,null,null,null,null,null,{"$f":"IF(AND(B73>=(F73-Grenser!$G$4),B73<=(G73+Grenser!$G$4)),B73,IF(B73>(G73+Grenser!$G$4),G73+Grenser!$G$4,F73-Grenser!$G$4))","v":0}]
[null,null,"",null,null,null,null,null,null,null,{"$f":"IF(AND(B74>=(F74-Grenser!$G$4),B74<=(G74+Grenser!$G$4)),B74,IF(B74>(G74+Grenser!$G$4),G74+Grenser!$G$4,F74-Grenser!$G$4))","v":0}]
[null,null,"",null,null,null,null,null,null,null,{"$f":"IF(AND(B75>=(F75-Grenser!$G$4),B75<=(G75+Grenser!$G$4)),B75,IF(B75>(G75+Grenser!$G$4),G75+Grenser!$G$4,F75-Grenser!$G$4))","v":0}]
[null,null,"",null,null,null,null,null,null,null,{"$f":"IF(AND(B76>=(F76-Grenser!$G$4),B76<=(G76+Grenser!$G$4)),B76,IF(B76>(G76+Grenser!$G$4),G76+Grenser!$G$4,F76-Grenser!$G$4))","v":0}]
[null,null,"",null,null,null,null,null,null,null,{"$f":"IF(AND(B77>=(F77-Grenser!$G$4),B77<=(G77+Grenser!$G$4)),B77,IF(B77>(G77+Grenser!$G$4),G77+Grenser!$G$4,F77-Grenser!$G$4))","v":0}]
[null,null,"",null,null,null,null,null,null,null,{"$f":"IF(AND(B78>=(F78-Grenser!$G$4),B78<=(G78+Grenser!$G$4)),B78,IF(B78>(G78+Grenser!$G$4),G78+Grenser!$G$4,F78-Grenser!$G$4))","v":0}]
[null,null,"",null,null,null,null,null,null,null,{"$f":"IF(AND(B79>=(F79-Grenser!$G$4),B79<=(G79+Grenser!$G$4)),B79,IF(B79>(G79+Grenser!$G$4),G79+Grenser!$G$4,F79-Grenser!$G$4))","v":0}]
[null,null,"",null,null,null,null,null,null,null,{"$f":"IF(AND(B80>=(F80-Grenser!$G$4),B80<=(G80+Grenser!$G$4)),B80,IF(B80>(G80+Grenser!$G$4),G80+Grenser!$G$4,F80-Grenser!$G$4))","v":0}]
[null,null,"",null,null,null,null,null,null,null,{"$f":"IF(AND(B81>=(F81-Grenser!$G$4),B81<=(G81+Grenser!$G$4)),B81,IF(B81>(G81+Grenser!$G$4),G81+Grenser!$G$4,F81-Grenser!$G$4))","v":0}]
[null,null,"",null,null,null,null,null,null,null,{"$f":"IF(AND(B82>=(F82-Grenser!$G$4),B82<=(G82+Grenser!$G$4)),B82,IF(B82>(G82+Grenser!$G$4),G82+Grenser!$G$4,F82-Grenser!$G$4))","v":0}]
[null,null,"",null,null,null,null,null,null,null,{"$f":"IF(AND(B83>=(F83-Grenser!$G$4),B83<=(G83+Grenser!$G$4)),B83,IF(B83>(G83+Grenser!$G$4),G83+Grenser!$G$4,F83-Grenser!$G$4))","v":0}]
[null,null,"",null,null,null,null,null,null,null,{"$f":"IF(AND(B84>=(F84-Grenser!$G$4),B84<=(G84+Grenser!$G$4)),B84,IF(B84>(G84+Grenser!$G$4),G84+Grenser!$G$4,F84-Grenser!$G$4))","v":0}]
[null,null,"",null,null,null,null,null,null,null,{"$f":"IF(AND(B85>=(F85-Grenser!$G$4),B85<=(G85+Grenser!$G$4)),B85,IF(B85>(G85+Grenser!$G$4),G85+Grenser!$G$4,F85-Grenser!$G$4))","v":0}]
[null,null,"",null,null,null,null,null,null,null,{"$f":"IF(AND(B86>=(F86-Grenser!$G$4),B86<=(G86+Grenser!$G$4)),B86,IF(B86>(G86+Grenser!$G$4),G86+Grenser!$G$4,F86-Grenser!$G$4))","v":0}]
[null,null,"",null,null,null,null,null,null,null,{"$f":"IF(AND(B87>=(F87-Grenser!$G$4),B87<=(G87+Grenser!$G$4)),B87,IF(B87>(G87+Grenser!$G$4),G87+Grenser!$G$4,F87-Grenser!$G$4))","v":0}]
[null,null,"",null,null,null,null,null,null,null,{"$f":"IF(AND(B88>=(F88-Grenser!$G$4),B88<=(G88+Grenser!$G$4)),B88,IF(B88>(G88+Grenser!$G$4),G88+Grenser!$G$4,F88-Grenser!$G$4))","v":0}]
[null,null,"",null,null,null,null,null,null,null,{"$f":"IF(AND(B89>=(F89-Grenser!$G$4),B89<=(G89+Grenser!$G$4)),B89,IF(B89>(G89+Grenser!$G$4),G89+Grenser!$G$4,F89-Grenser!$G$4))","v":0}]
[null,null,"",null,null,null,null,null,null,null,{"$f":"IF(AND(B90>=(F90-Grenser!$G$4),B90<=(G90+Grenser!$G$4)),B90,IF(B90>(G90+Grenser!$G$4),G90+Grenser!$G$4,F90-Grenser!$G$4))","v":0}]
[null,null,"",null,null,null,null,null,null,null,{"$f":"IF(AND(B91>=(F91-Grenser!$G$4),B91<=(G91+Grenser!$G$4)),B91,IF(B91>(G91+Grenser!$G$4),G91+Grenser!$G$4,F91-Grenser!$G$4))","v":0}]
[null,null,"",null,null,null,null,null,null,null,{"$f":"IF(AND(B92>=(F92-Grenser!$G$4),B92<=(G92+Grenser!$G$4)),B92,IF(B92>(G92+Grenser!$G$4),G92+Grenser!$G$4,F92-Grenser!$G$4))","v":0}]
[null,null,"",null,null,null,null,null,null,null,{"$f":"IF(AND(B93>=(F93-Grenser!$G$4),B93<=(G93+Grenser!$G$4)),B93,IF(B93>(G93+Grenser!$G$4),G93+Grenser!$G$4,F93-Grenser!$G$4))","v":0}]
[null,null,"",null,null,null,null,null,null,null,{"$f":"IF(AND(B94>=(F94-Grenser!$G$4),B94<=(G94+Grenser!$G$4)),B94,IF(B94>(G94+Grenser!$G$4),G94+Grenser!$G$4,F94-Grenser!$G$4))","v":0}]
[null,null,"",null,null,null,null,null,null,null,{"$f":"IF(AND(B95>=(F95-Grenser!$G$4),B95<=(G95+Grenser!$G$4)),B95,IF(B95>(G95+Grenser!$G$4),G95+Grenser!$G$4,F95-Grenser!$G$4))","v":0}]
[null,null,"",null,null,null,null,null,null,null,{"$f":"IF(AND(B96>=(F96-Grenser!$G$4),B96<=(G96+Grenser!$G$4)),B96,IF(B96>(G96+Grenser!$G$4),G96+Grenser!$G$4,F96-Grenser!$G$4))","v":0}]
[null,null,"",null,null,null,null,null,null,null,{"$f":"IF(AND(B97>=(F97-Grenser!$G$4),B97<=(G97+Grenser!$G$4)),B97,IF(B97>(G97+Grenser!$G$4),G97+Grenser!$G$4,F97-Grenser!$G$4))","v":0}]
[null,null,"",null,null,null,null,null,null,null,{"$f":"IF(AND(B98>=(F98-Grenser!$G$4),B98<=(G98+Grenser!$G$4)),B98,IF(B98>(G98+Grenser!$G$4),G98+Grenser!$G$4,F98-Grenser!$G$4))","v":0}]
[null,null,"",null,null,null,null,null,null,null,{"$f":"IF(AND(B99>=(F99-Grenser!$G$4),B99<=(G99+Grenser!$G$4)),B99,IF(B99>(G99+Grenser!$G$4),G99+Grenser!$G$4,F99-Grenser!$G$4))","v":0}]
[null,null,"",null,null,null,null,null,null,null,{"$f":"IF(AND(B100>=(F100-Grenser!$G$4),B100<=(G100+Grenser!$G$4)),B100,IF(B100>(G100+Grenser!$G$4),G100+Grenser!$G$4,F100-Grenser!$G$4))","v":0}]
[null,null,"",null,null,null,null,null,null,null,{"$f":"IF(AND(B101>=(F101-Grenser!$G$4),B101<=(G101+Grenser!$G$4)),B101,IF(B101>(G101+Grenser!$G$4),G101+Grenser!$G$4,F101-Grenser!$G$4))","v":0}]
[null,null,"",null,null,null,null,null,null,null,{"$f":"IF(AND(B102>=(F102-Grenser!$G$4),B102<=(G102+Grenser!$G$4)),B102,IF(B102>(G102+Grenser!$G$4),G102+Grenser!$G$4,F102-Grenser!$G$4))","v":0}]
[null,null,"",null,null,null,null,null,null,null,{"$f":"IF(AND(B103>=(F103-Grenser!$G$4),B103<=(G103+Grenser!$G$4)),B103,IF(B103>(G103+Grenser!$G$4),G103+Grenser!$G$4,F103-Grenser!$G$4))","v":0}]
[null,null,"",null,null,null,null,null,null,null,{"$f":"IF(AND(B104>=(F104-Grenser!$G$4),B104<=(G104+Grenser!$G$4)),B104,IF(B104>(G104+Grenser!$G$4),G104+Grenser!$G$4,F104-Grenser!$G$4))","v":0}]
[null,null,"",null,null,null,null,null,null,null,{"$f":"IF(AND(B105>=(F105-Grenser!$G$4),B105<=(G105+Grenser!$G$4)),B105,IF(B105>(G105+Grenser!$G$4),G105+Grenser!$G$4,F105-Grenser!$G$4))","v":0}]
[null,null,"",null,null,null,null,null,null,null,{"$f":"IF(AND(B106>=(F106-Grenser!$G$4),B106<=(G106+Grenser!$G$4)),B106,IF(B106>(G106+Grenser!$G$4),G106+Grenser!$G$4,F106-Grenser!$G$4))","v":0}]
[null,null,"",null,null,null,null,null,null,null,{"$f":"IF(AND(B107>=(F107-Grenser!$G$4),B107<=(G107+Grenser!$G$4)),B107,IF(B107>(G107+Grenser!$G$4),G107+Grenser!$G$4,F107-Grenser!$G$4))","v":0}]
[null,null,"",null,null,null,null,null,null,null,{"$f":"IF(AND(B108>=(F108-Grenser!$G$4),B108<=(G108+Grenser!$G$4)),B108,IF(B108>(G108+Grenser!$G$4),G108+Grenser!$G$4,F108-Grenser!$G$4))","v":0}]
[null,null,"",null,null,null,null,null,null,null,{"$f":"IF(AND(B109>=(F109-Grenser!$G$4),B109<=(G109+Grenser!$G$4)),B109,IF(B109>(G109+Grenser!$G$4),G109+Grenser!$G$4,F109-Grenser!$G$4))","v":0}]
[null,null,"",null,null,null,null,null,null,null,{"$f":"IF(AND(B110>=(F110-Grenser!$G$4),B110<=(G110+Grenser!$G$4)),B110,IF(B110>(G110+Grenser!$G$4),G110+Grenser!$G$4,F110-Grenser!$G$4))","v":0}]
[null,null,"",null,null,null,null,null,null,null,{"$f":"IF(AND(B111>=(F111-Grenser!$G$4),B111<=(G111+Grenser!$G$4)),B111,IF(B111>(G111+Grenser!$G$4),G111+Grenser!$G$4,F111-Grenser!$G$4))","v":0}]
[null,null,"",null,null,null,null,null,null,null,{"$f":"IF(AND(B112>=(F112-Grenser!$G$4),B112<=(G112+Grenser!$G$4)),B112,IF(B112>(G112+Grenser!$G$4),G112+Grenser!$G$4,F112-Grenser!$G$4))","v":0}]
[null,null,"",null,null,null,null,null,null,null,{"$f":"IF(AND(B113>=(F113-Grenser!$G$4),B113<=(G113+Grenser!$G$4)),B113,IF(B113>(G113+Grenser!$G$4),G113+Grenser!$G$4,F113-Grenser!$G$4))","v":0}]
[null,null,"",null,null,null,null,null,null,null,{"$f":"IF(AND(B114>=(F114-Grenser!$G$4),B114<=(G114+Grenser!$G$4)),B114,IF(B114>(G114+Grenser!$G$4),G114+Grenser!$G$4,F114-Grenser!$G$4))","v":0}]
[null,null,"",null,null,null,null,null,null,null,{"$f":"IF(AND(B115>=(F115-Grenser!$G$4),B115<=(G115+Grenser!$G$4)),B115,IF(B115>(G115+Grenser!$G$4),G115+Grenser!$G$4,F115-Grenser!$G$4))","v":0}]
[null,null,"",null,null,null,null,null,null,null,{"$f":"IF(AND(B116>=(F116-Grenser!$G$4),B116<=(G116+Grenser!$G$4)),B116,IF(B116>(G116+Grenser!$G$4),G116+Grenser!$G$4,F116-Grenser!$G$4))","v":0}]
[null,null,"",null,null,null,null,null,null,null,{"$f":"IF(AND(B117>=(F117-Grenser!$G$4),B117<=(G117+Grenser!$G$4)),B117,IF(B117>(G117+Grenser!$G$4),G117+Grenser!$G$4,F117-Grenser!$G$4))","v":0}]
[null,null,"",null,null,null,null,null,null,null,{"$f":"IF(AND(B118>=(F118-Grenser!$G$4),B118<=(G118+Grenser!$G$4)),B118,IF(B118>(G118+Grenser!$G$4),G118+Grenser!$G$4,F118-Grenser!$G$4))","v":0}]
[null,null,"",null,null,null,null,null,null,null,{"$f":"IF(AND(B119>=(F119-Grenser!$G$4),B119<=(G119+Grenser!$G$4)),B119,IF(B119>(G119+Grenser!$G$4),G119+Grenser!$G$4,F119-Grenser!$G$4))","v":0}]
[null,null,"",null,null,null,null,null,null,null,{"$f":"IF(AND(B120>=(F120-Grenser!$G$4),B120<=(G120+Grenser!$G$4)),B120,IF(B120>(G120+Grenser!$G$4),G120+Grenser!$G$4,F120-Grenser!$G$4))","v":0}]
[null,null,"",null,null,null,null,null,null,null,{"$f":"IF(AND(B121>=(F121-Grenser!$G$4),B121<=(G121+Grenser!$G$4)),B121,IF(B121>(G121+Grenser!$G$4),G121+Grenser!$G$4,F121-Grenser!$G$4))","v":0}]
[null,null,"",null,null,null,null,null,null,null,{"$f":"IF(AND(B122>=(F122-Grenser!$G$4),B122<=(G122+Grenser!$G$4)),B122,IF(B122>(G122+Grenser!$G$4),G122+Grenser!$G$4,F122-Grenser!$G$4))","v":0}]
[null,null,"",null,null,null,null,null,null,null,{"$f":"IF(AND(B123>=(F123-Grenser!$G$4),B123<=(G123+Grenser!$G$4)),B123,IF(B123>(G123+Grenser!$G$4),G123+Grenser!$G$4,F123-Grenser!$G$4))","v":0}]
[null,null,"",null,null,null,null,null,null,null,{"$f":"IF(AND(B124>=(F124-Grenser!$G$4),B124<=(G124+Grenser!$G$4)),B124,IF(B124>(G124+Grenser!$G$4),G124+Grenser!$G$4,F124-Grenser!$G$4))","v":0}]
[null,null,"",null,null,null,null,null,null,null,{"$f":"IF(AND(B125>=(F125-Grenser!$G$4),B125<=(G125+Grenser!$G$4)),B125,IF(B125>(G125+Grenser!$G$4),G125+Grenser!$G$4,F125-Grenser!$G$4))","v":0}]
[null,null,"",null,null,null,null,null,null,null,{"$f":"IF(AND(B126>=(F126-Grenser!$G$4),B126<=(G126+Grenser!$G$4)),B126,IF(B126>(G126+Grenser!$G$4),G126+Grenser!$G$4,F126-Grenser!$G$4))","v":0}]
[null,null,"",null,null,null,null,null,null,null,{"$f":"IF(AND(B127>=(F127-Grenser!$G$4),B127<=(G127+Grenser!$G$4)),B127,IF(B127>(G127+Grenser!$G$4),G127+Grenser!$G$4,F127-Grenser!$G$4))","v":0}]
[null,null,"",null,null,null,null,null,null,null,{"$f":"IF(AND(B128>=(F128-Grenser!$G$4),B128<=(G128+Grenser!$G$4)),B128,IF(B128>(G128+Grenser!$G$4),G128+Grenser!$G$4,F128-Grenser!$G$4))","v":0}]
[null,null,"",null,null,null,null,null,null,null,{"$f":"IF(AND(B129>=(F129-Grenser!$G$4),B129<=(G129+Grenser!$G$4)),B129,IF(B129>(G129+Grenser!$G$4),G129+Grenser!$G$4,F129-Grenser!$G$4))","v":0}]
[null,null,"",null,null,null,null,null,null,null,{"$f":"IF(AND(B130>=(F130-Grenser!$G$4),B130<=(G130+Grenser!$G$4)),B130,IF(B130>(G130+Grenser!$G$4),G130+Grenser!$G$4,F130-Grenser!$G$4))","v":0}]
[null,null,"",null,null,null,null,null,null,null,{"$f":"IF(AND(B131>=(F131-Grenser!$G$4),B131<=(G131+Grenser!$G$4)),B131,IF(B131>(G131+Grenser!$G$4),G131+Grenser!$G$4,F131-Grenser!$G$4))","v":0}]
[null,null,"",null,null,null,null,null,null,null,{"$f":"IF(AND(B132>=(F132-Grenser!$G$4),B132<=(G132+Grenser!$G$4)),B132,IF(B132>(G132+Grenser!$G$4),G132+Grenser!$G$4,F132-Grenser!$G$4))","v":0}]
[null,null,"",null,null,null,null,null,null,null,{"$f":"IF(AND(B133>=(F133-Grenser!$G$4),B133<=(G133+Grenser!$G$4)),B133,IF(B133>(G133+Grenser!$G$4),G133+Grenser!$G$4,F133-Grenser!$G$4))","v":0}]
[null,null,"",null,null,null,null,null,null,null,{"$f":"IF(AND(B134>=(F134-Grenser!$G$4),B134<=(G134+Grenser!$G$4)),B134,IF(B134>(G134+Grenser!$G$4),G134+Grenser!$G$4,F134-Grenser!$G$4))","v":0}]
[null,null,"",null,null,null,null,null,null,null,{"$f":"IF(AND(B135>=(F135-Grenser!$G$4),B135<=(G135+Grenser!$G$4)),B135,IF(B135>(G135+Grenser!$G$4),G135+Grenser!$G$4,F135-Grenser!$G$4))","v":0}]
[null,null,{"$f":"IF(B136<>\"\",(IF(OR(B136<F136,B136>G136),\"STOPP\",\"OK\")),\"\")","v":""},null,null,null,null,null,null,null,{"$f":"IF(AND(B136>=(F136-Grenser!$G$4),B136<=(G136+Grenser!$G$4)),B136,IF(B136>(G136+Grenser!$G$4),G136+Grenser!$G$4,F136-Grenser!$G$4))","v":0}]
[null,null,"",null,null,null,null,null,null,null,{"$f":"IF(AND(B137>=(F137-Grenser!$G$4),B137<=(G137+Grenser!$G$4)),B137,IF(B137>(G137+Grenser!$G$4),G137+Grenser!$G$4,F137-Grenser!$G$4))","v":0}]
[null,null,"",null,null,null,null,null,null,null,{"$f":"IF(AND(B138>=(F138-Grenser!$G$4),B138<=(G138+Grenser!$G$4)),B138,IF(B138>(G138+Grenser!$G$4),G138+Grenser!$G$4,F138-Grenser!$G$4))","v":0}]
[null,null,"",null,null,null,null,null,null,null,{"$f":"IF(AND(B139>=(F139-Grenser!$G$4),B139<=(G139+Grenser!$G$4)),B139,IF(B139>(G139+Grenser!$G$4),G139+Grenser!$G$4,F139-Grenser!$G$4))","v":0}]
[null,null,"",null,null,null,null,null,null,null,{"$f":"IF(AND(B140>=(F140-Grenser!$G$4),B140<=(G140+Grenser!$G$4)),B140,IF(B140>(G140+Grenser!$G$4),G140+Grenser!$G$4,F140-Grenser!$G$4))","v":0}]
[null,null,"",null,null,null,null,null,null,null,{"$f":"IF(AND(B141>=(F141-Grenser!$G$4),B141<=(G141+Grenser!$G$4)),B141,IF(B141>(G141+Grenser!$G$4),G141+Grenser!$G$4,F141-Grenser!$G$4))","v":0}]
[null,null,"",null,null,null,null,null,null,null,{"$f":"IF(AND(B142>=(F142-Grenser!$G$4),B142<=(G142+Grenser!$G$4)),B142,IF(B142>(G142+Grenser!$G$4),G142+Grenser!$G$4,F142-Grenser!$G$4))","v":0}]
[null,null,"",null,null,null,null,null,null,null,{"$f":"IF(AND(B143>=(F143-Grenser!$G$4),B143<=(G143+Grenser!$G$4)),B143,IF(B143>(G143+Grenser!$G$4),G143+Grenser!$G$4,F143-Grenser!$G$4))","v":0}]
[null,null,"",null,null,null,null,null,null,null,{"$f":"IF(AND(B144>=(F144-Grenser!$G$4),B144<=(G144+Grenser!$G$4)),B144,IF(B144>(G144+Grenser!$G$4),G144+Grenser!$G$4,F144-Grenser!$G$4))","v":0}]
[null,null,"",null,null,null,null,null,null,null,{"$f":"IF(AND(B145>=(F145-Grenser!$G$4),B145<=(G145+Grenser!$G$4)),B145,IF(B145>(G145+Grenser!$G$4),G145+Grenser!$G$4,F145-Grenser!$G$4))","v":0}]
[null,null,"",null,null,null,null,null,null,null,{"$f":"IF(AND(B146>=(F146-Grenser!$G$4),B146<=(G146+Grenser!$G$4)),B146,IF(B146>(G146+Grenser!$G$4),G146+Grenser!$G$4,F146-Grenser!$G$4))","v":0}]
[null,null,"",null,null,null,null,null,null,null,{"$f":"IF(AND(B147>=(F147-Grenser!$G$4),B147<=(G147+Grenser!$G$4)),B147,IF(B147>(G147+Grenser!$G$4),G147+Grenser!$G$4,F147-Grenser!$G$4))","v":0}]
[null,null,"",null,null,null,null,null,null,null,{"$f":"IF(AND(B148>=(F148-Grenser!$G$4),B148<=(G148+Grenser!$G$4)),B148,IF(B148>(G148+Grenser!$G$4),G148+Grenser!$G$4,F148-Grenser!$G$4))","v":0}]
[null,null,"",null,null,null,null,null,null,null,{"$f":"IF(AND(B149>=(F149-Grenser!$G$4),B149<=(G149+Grenser!$G$4)),B149,IF(B149>(G149+Grenser!$G$4),G149+Grenser!$G$4,F149-Grenser!$G$4))","v":0}]
[null,null,"",null,null,null,null,null,null,null,{"$f":"IF(AND(B150>=(F150-Grenser!$G$4),B150<=(G150+Grenser!$G$4)),B150,IF(B150>(G150+Grenser!$G$4),G150+Grenser!$G$4,F150-Grenser!$G$4))","v":0}]
[null,null,"",null,null,null,null,null,null,null,{"$f":"IF(AND(B151>=(F151-Grenser!$G$4),B151<=(G151+Grenser!$G$4)),B151,IF(B151>(G151+Grenser!$G$4),G151+Grenser!$G$4,F151-Grenser!$G$4))","v":0}]
[null,null,"",null,null,null,null,null,null,null,{"$f":"IF(AND(B152>=(F152-Grenser!$G$4),B152<=(G152+Grenser!$G$4)),B152,IF(B152>(G152+Grenser!$G$4),G152+Grenser!$G$4,F152-Grenser!$G$4))","v":0}]
[null,null,"",null,null,null,null,null,null,null,{"$f":"IF(AND(B153>=(F153-Grenser!$G$4),B153<=(G153+Grenser!$G$4)),B153,IF(B153>(G153+Grenser!$G$4),G153+Grenser!$G$4,F153-Grenser!$G$4))","v":0}]
[null,null,"",null,null,null,null,null,null,null,{"$f":"IF(AND(B154>=(F154-Grenser!$G$4),B154<=(G154+Grenser!$G$4)),B154,IF(B154>(G154+Grenser!$G$4),G154+Grenser!$G$4,F154-Grenser!$G$4))","v":0}]
[null,null,"",null,null,null,null,null,null,null,{"$f":"IF(AND(B155>=(F155-Grenser!$G$4),B155<=(G155+Grenser!$G$4)),B155,IF(B155>(G155+Grenser!$G$4),G155+Grenser!$G$4,F155-Grenser!$G$4))","v":0}]
[null,null,"",null,null,null,null,null,null,null,{"$f":"IF(AND(B156>=(F156-Grenser!$G$4),B156<=(G156+Grenser!$G$4)),B156,IF(B156>(G156+Grenser!$G$4),G156+Grenser!$G$4,F156-Grenser!$G$4))","v":0}]
[null,null,"",null,null,null,null,null,null,null,{"$f":"IF(AND(B157>=(F157-Grenser!$G$4),B157<=(G157+Grenser!$G$4)),B157,IF(B157>(G157+Grenser!$G$4),G157+Grenser!$G$4,F157-Grenser!$G$4))","v":0}]
[null,null,"",null,null,null,null,null,null,null,{"$f":"IF(AND(B158>=(F158-Grenser!$G$4),B158<=(G158+Grenser!$G$4)),B158,IF(B158>(G158+Grenser!$G$4),G158+Grenser!$G$4,F158-Grenser!$G$4))","v":0}]
[null,null,"",null,null,null,null,null,null,null,{"$f":"IF(AND(B159>=(F159-Grenser!$G$4),B159<=(G159+Grenser!$G$4)),B159,IF(B159>(G159+Grenser!$G$4),G159+Grenser!$G$4,F159-Grenser!$G$4))","v":0}]
[null,null,"",null,null,null,null,null,null,null,{"$f":"IF(AND(B160>=(F160-Grenser!$G$4),B160<=(G160+Grenser!$G$4)),B160,IF(B160>(G160+Grenser!$G$4),G160+Grenser!$G$4,F160-Grenser!$G$4))","v":0}]
[null,null,"",null,null,null,null,null,null,null,{"$f":"IF(AND(B161>=(F161-Grenser!$G$4),B161<=(G161+Grenser!$G$4)),B161,IF(B161>(G161+Grenser!$G$4),G161+Grenser!$G$4,F161-Grenser!$G$4))","v":0}]
[null,null,"",null,null,null,null,null,null,null,{"$f":"IF(AND(B162>=(F162-Grenser!$G$4),B162<=(G162+Grenser!$G$4)),B162,IF(B162>(G162+Grenser!$G$4),G162+Grenser!$G$4,F162-Grenser!$G$4))","v":0}]
[null,null,"",null,null,null,null,null,null,null,{"$f":"IF(AND(B163>=(F163-Grenser!$G$4),B163<=(G163+Grenser!$G$4)),B163,IF(B163>(G163+Grenser!$G$4),G163+Grenser!$G$4,F163-Grenser!$G$4))","v":0}]
[null,null,"",null,null,null,null,null,null,null,{"$f":"IF(AND(B164>=(F164-Grenser!$G$4),B164<=(G164+Grenser!$G$4)),B164,IF(B164>(G164+Grenser!$G$4),G164+Grenser!$G$4,F164-Grenser!$G$4))","v":0}]
[null,null,"",null,null,null,null,null,null,null,{"$f":"IF(AND(B165>=(F165-Grenser!$G$4),B165<=(G165+Grenser!$G$4)),B165,IF(B165>(G165+Grenser!$G$4),G165+Grenser!$G$4,F165-Grenser!$G$4))","v":0}]
[null,null,"",null,null,null,null,null,null,null,{"$f":"IF(AND(B166>=(F166-Grenser!$G$4),B166<=(G166+Grenser!$G$4)),B166,IF(B166>(G166+Grenser!$G$4),G166+Grenser!$G$4,F166-Grenser!$G$4))","v":0}]
[null,null,"",null,null,null,null,null,null,null,{"$f":"IF(AND(B167>=(F167-Grenser!$G$4),B167<=(G167+Grenser!$G$4)),B167,IF(B167>(G167+Grenser!$G$4),G167+Grenser!$G$4,F167-Grenser!$G$4))","v":0}]
[null,null,"",null,null,null,null,null,null,null,{"$f":"IF(AND(B168>=(F168-Grenser!$G$4),B168<=(G168+Grenser!$G$4)),B168,IF(B168>(G168+Grenser!$G$4),G168+Grenser!$G$4,F168-Grenser!$G$4))","v":0}]
[null,null,"",null,null,null,null,null,null,null,{"$f":"IF(AND(B169>=(F169-Grenser!$G$4),B169<=(G169+Grenser!$G$4)),B169,IF(B169>(G169+Grenser!$G$4),G169+Grenser!$G$4,F169-Grenser!$G$4))","v":0}]
[null,null,"",null,null,null,null,null,null,null,{"$f":"IF(AND(B170>=(F170-Grenser!$G$4),B170<=(G170+Grenser!$G$4)),B170,IF(B170>(G170+Grenser!$G$4),G170+Grenser!$G$4,F170-Grenser!$G$4))","v":0}]
[null,null,"",null,null,null,null,null,null,null,{"$f":"IF(AND(B171>=(F171-Grenser!$G$4),B171<=(G171+Grenser!$G$4)),B171,IF(B171>(G171+Grenser!$G$4),G171+Grenser!$G$4,F171-Grenser!$G$4))","v":0}]
[null,null,"",null,null,null,null,null,null,null,{"$f":"IF(AND(B172>=(F172-Grenser!$G$4),B172<=(G172+Grenser!$G$4)),B172,IF(B172>(G172+Grenser!$G$4),G172+Grenser!$G$4,F172-Grenser!$G$4))","v":0}]
[null,null,"",null,null,null,null,null,null,null,{"$f":"IF(AND(B173>=(F173-Grenser!$G$4),B173<=(G173+Grenser!$G$4)),B173,IF(B173>(G173+Grenser!$G$4),G173+Grenser!$G$4,F173-Grenser!$G$4))","v":0}]
[null,null,"",null,null,null,null,null,null,null,{"$f":"IF(AND(B174>=(F174-Grenser!$G$4),B174<=(G174+Grenser!$G$4)),B174,IF(B174>(G174+Grenser!$G$4),G174+Grenser!$G$4,F174-Grenser!$G$4))","v":0}]
[null,null,"",null,null,null,null,null,null,null,{"$f":"IF(AND(B175>=(F175-Grenser!$G$4),B175<=(G175+Grenser!$G$4)),B175,IF(B175>(G175+Grenser!$G$4),G175+Grenser!$G$4,F175-Grenser!$G$4))","v":0}]
[null,null,"",null,null,null,null,null,null,null,{"$f":"IF(AND(B176>=(F176-Grenser!$G$4),B176<=(G176+Grenser!$G$4)),B176,IF(B176>(G176+Grenser!$G$4),G176+Grenser!$G$4,F176-Grenser!$G$4))","v":0}]
[null,null,"",null,null,null,null,null,null,null,{"$f":"IF(AND(B177>=(F177-Grenser!$G$4),B177<=(G177+Grenser!$G$4)),B177,IF(B177>(G177+Grenser!$G$4),G177+Grenser!$G$4,F177-Grenser!$G$4))","v":0}]
[null,null,"",null,null,null,null,null,null,null,{"$f":"IF(AND(B178>=(F178-Grenser!$G$4),B178<=(G178+Grenser!$G$4)),B178,IF(B178>(G178+Grenser!$G$4),G178+Grenser!$G$4,F178-Grenser!$G$4))","v":0}]
[null,null,"",null,null,null,null,null,null,null,{"$f":"IF(AND(B179>=(F179-Grenser!$G$4),B179<=(G179+Grenser!$G$4)),B179,IF(B179>(G179+Grenser!$G$4),G179+Grenser!$G$4,F179-Grenser!$G$4))","v":0}]
[null,null,"",null,null,null,null,null,null,null,{"$f":"IF(AND(B180>=(F180-Grenser!$G$4),B180<=(G180+Grenser!$G$4)),B180,IF(B180>(G180+Grenser!$G$4),G180+Grenser!$G$4,F180-Grenser!$G$4))","v":0}]
[null,null,"",null,null,null,null,null,null,null,{"$f":"IF(AND(B181>=(F181-Grenser!$G$4),B181<=(G181+Grenser!$G$4)),B181,IF(B181>(G181+Grenser!$G$4),G181+Grenser!$G$4,F181-Grenser!$G$4))","v":0}]
[null,null,"",null,null,null,null,null,null,null,{"$f":"IF(AND(B182>=(F182-Grenser!$G$4),B182<=(G182+Grenser!$G$4)),B182,IF(B182>(G182+Grenser!$G$4),G182+Grenser!$G$4,F182-Grenser!$G$4))","v":0}]
[null,null,"",null,null,null,null,null,null,null,{"$f":"IF(AND(B183>=(F183-Grenser!$G$4),B183<=(G183+Grenser!$G$4)),B183,IF(B183>(G183+Grenser!$G$4),G183+Grenser!$G$4,F183-Grenser!$G$4))","v":0}]
[null,null,"",null,null,null,null,null,null,null,{"$f":"IF(AND(B184>=(F184-Grenser!$G$4),B184<=(G184+Grenser!$G$4)),B184,IF(B184>(G184+Grenser!$G$4),G184+Grenser!$G$4,F184-Grenser!$G$4))","v":0}]
[null,null,"",null,null,null,null,null,null,null,{"$f":"IF(AND(B185>=(F185-Grenser!$G$4),B185<=(G185+Grenser!$G$4)),B185,IF(B185>(G185+Grenser!$G$4),G185+Grenser!$G$4,F185-Grenser!$G$4))","v":0}]
[null,null,"",null,null,null,null,null,null,null,{"$f":"IF(AND(B186>=(F186-Grenser!$G$4),B186<=(G186+Grenser!$G$4)),B186,IF(B186>(G186+Grenser!$G$4),G186+Grenser!$G$4,F186-Grenser!$G$4))","v":0}]
[null,null,"",null,null,null,null,null,null,null,{"$f":"IF(AND(B187>=(F187-Grenser!$G$4),B187<=(G187+Grenser!$G$4)),B187,IF(B187>(G187+Grenser!$G$4),G187+Grenser!$G$4,F187-Grenser!$G$4))","v":0}]
[null,null,"",null,null,null,null,null,null,null,{"$f":"IF(AND(B188>=(F188-Grenser!$G$4),B188<=(G188+Grenser!$G$4)),B188,IF(B188>(G188+Grenser!$G$4),G188+Grenser!$G$4,F188-Grenser!$G$4))","v":0}]
[null,null,"",null,null,null,null,null,null,null,{"$f":"IF(AND(B189>=(F189-Grenser!$G$4),B189<=(G189+Grenser!$G$4)),B189,IF(B189>(G189+Grenser!$G$4),G189+Grenser!$G$4,F189-Grenser!$G$4))","v":0}]
[null,null,"",null,null,null,null,null,null,null,{"$f":"IF(AND(B190>=(F190-Grenser!$G$4),B190<=(G190+Grenser!$G$4)),B190,IF(B190>(G190+Grenser!$G$4),G190+Grenser!$G$4,F190-Grenser!$G$4))","v":0}]
[null,null,"",null,null,null,null,null,null,null,{"$f":"IF(AND(B191>=(F191-Grenser!$G$4),B191<=(G191+Grenser!$G$4)),B191,IF(B191>(G191+Grenser!$G$4),G191+Grenser!$G$4,F191-Grenser!$G$4))","v":0}]
[null,null,"",null,null,null,null,null,null,null,{"$f":"IF(AND(B192>=(F192-Grenser!$G$4),B192<=(G192+Grenser!$G$4)),B192,IF(B192>(G192+Grenser!$G$4),G192+Grenser!$G$4,F192-Grenser!$G$4))","v":0}]
[null,null,"",null,null,null,null,null,null,null,{"$f":"IF(AND(B193>=(F193-Grenser!$G$4),B193<=(G193+Grenser!$G$4)),B193,IF(B193>(G193+Grenser!$G$4),G193+Grenser!$G$4,F193-Grenser!$G$4))","v":0}]
[null,null,"",null,null,null,null,null,null,null,{"$f":"IF(AND(B194>=(F194-Grenser!$G$4),B194<=(G194+Grenser!$G$4)),B194,IF(B194>(G194+Grenser!$G$4),G194+Grenser!$G$4,F194-Grenser!$G$4))","v":0}]
[null,null,"",null,null,null,null,null,null,null,{"$f":"IF(AND(B195>=(F195-Grenser!$G$4),B195<=(G195+Grenser!$G$4)),B195,IF(B195>(G195+Grenser!$G$4),G195+Grenser!$G$4,F195-Grenser!$G$4))","v":0}]
[null,null,"",null,null,null,null,null,null,null,{"$f":"IF(AND(B196>=(F196-Grenser!$G$4),B196<=(G196+Grenser!$G$4)),B196,IF(B196>(G196+Grenser!$G$4),G196+Grenser!$G$4,F196-Grenser!$G$4))","v":0}]
[null,null,"",null,null,null,null,null,null,null,{"$f":"IF(AND(B197>=(F197-Grenser!$G$4),B197<=(G197+Grenser!$G$4)),B197,IF(B197>(G197+Grenser!$G$4),G197+Grenser!$G$4,F197-Grenser!$G$4))","v":0}]
[null,null,"",null,null,null,null,null,null,null,{"$f":"IF(AND(B198>=(F198-Grenser!$G$4),B198<=(G198+Grenser!$G$4)),B198,IF(B198>(G198+Grenser!$G$4),G198+Grenser!$G$4,F198-Grenser!$G$4))","v":0}]
[null,null,"",null,null,null,null,null,null,null,{"$f":"IF(AND(B199>=(F199-Grenser!$G$4),B199<=(G199+Grenser!$G$4)),B199,IF(B199>(G199+Grenser!$G$4),G199+Grenser!$G$4,F199-Grenser!$G$4))","v":0}]
[null,null,{"$f":"IF(B200<>\"\",(IF(OR(B200<F200,B200>G200),\"STOPP\",\"OK\")),\"\")","v":""},null,null,null,null,null,null,null,{"$f":"IF(AND(B200>=(F200-Grenser!$G$4),B200<=(G200+Grenser!$G$4)),B200,IF(B200>(G200+Grenser!$G$4),G200+Grenser!$G$4,F200-Grenser!$G$4))","v":0}]
[null,null,{"$f":"IF(B201<>\"\",(IF(OR(B201<F201,B201>G201),\"STOPP\",\"OK\")),\"\")","v":""},null,null,null,null,null,null,null,{"$f":"IF(AND(B201>=(F201-Grenser!$G$4),B201<=(G201+Grenser!$G$4)),B201,IF(B201>(G201+Grenser!$G$4),G201+Grenser!$G$4,F201-Grenser!$G$4))","v":0}]

{"sheet":"Ikke i bruk 12","index":14,"n_rows":201,"n_cols":11,"rows_kept":201,"cut":false,"hidden":false,"merged":[[0,0,0,9]]}
[{"$f":"Grenser!B15","v":"Ikke i bruk 12"}]
["Antall",{"$f":" COUNT(B7:B201)","v":0}]
["Mean",{"$f":"AVERAGE(B7:B201)","v":{"$error":"#DIV/0!"}}]
["Standardavvik",{"$f":"STDEV(B7:B201)","v":{"$error":"#DIV/0!"}}]
["CV",{"$f":"B4*100/B3","v":{"$error":"#DIV/0!"}}]
["Dato avlest","Avlest sone","Vurdering","Produksjonsdato res.skål","Satt opp sign","Lav grense","Høy grense","Dato Satt opp","Avlest sign","Teller","Avlest sone korrigert"]
[null,null,{"$f":"IF(B7<>\"\",(IF(OR(B7<F7,B7>G7),\"STOPP\",\"OK\")),\"\")","v":""},null,null,null,null,null,null,null,{"$f":"IF(AND(B7>=(F7-Grenser!$G$4),B7<=(G7+Grenser!$G$4)),B7,IF(B7>(G7+Grenser!$G$4),G7+Grenser!$G$4,F7-Grenser!$G$4))","v":0}]
[null,null,{"$f":"IF(B8<>\"\",(IF(OR(B8<F8,B8>G8),\"STOPP\",\"OK\")),\"\")","v":""},null,null,null,null,null,null,null,{"$f":"IF(AND(B8>=(F8-Grenser!$G$4),B8<=(G8+Grenser!$G$4)),B8,IF(B8>(G8+Grenser!$G$4),G8+Grenser!$G$4,F8-Grenser!$G$4))","v":0}]
[null,null,"",null,null,null,null,null,null,null,{"$f":"IF(AND(B9>=(F9-Grenser!$G$4),B9<=(G9+Grenser!$G$4)),B9,IF(B9>(G9+Grenser!$G$4),G9+Grenser!$G$4,F9-Grenser!$G$4))","v":0}]
[null,null,"",null,null,null,null,null,null,null,{"$f":"IF(AND(B10>=(F10-Grenser!$G$4),B10<=(G10+Grenser!$G$4)),B10,IF(B10>(G10+Grenser!$G$4),G10+Grenser!$G$4,F10-Grenser!$G$4))","v":0}]
[null,null,"",null,null,null,null,null,null,null,{"$f":"IF(AND(B11>=(F11-Grenser!$G$4),B11<=(G11+Grenser!$G$4)),B11,IF(B11>(G11+Grenser!$G$4),G11+Grenser!$G$4,F11-Grenser!$G$4))","v":0}]
[null,null,"",null,null,null,null,null,null,null,{"$f":"IF(AND(B12>=(F12-Grenser!$G$4),B12<=(G12+Grenser!$G$4)),B12,IF(B12>(G12+Grenser!$G$4),G12+Grenser!$G$4,F12-Grenser!$G$4))","v":0}]
[null,null,"",null,null,null,null,null,null,null,{"$f":"IF(AND(B13>=(F13-Grenser!$G$4),B13<=(G13+Grenser!$G$4)),B13,IF(B13>(G13+Grenser!$G$4),G13+Grenser!$G$4,F13-Grenser!$G$4))","v":0}]
[null,null,"",null,null,null,null,null,null,null,{"$f":"IF(AND(B14>=(F14-Grenser!$G$4),B14<=(G14+Grenser!$G$4)),B14,IF(B14>(G14+Grenser!$G$4),G14+Grenser!$G$4,F14-Grenser!$G$4))","v":0}]
[null,null,"",null,null,null,null,null,null,null,{"$f":"IF(AND(B15>=(F15-Grenser!$G$4),B15<=(G15+Grenser!$G$4)),B15,IF(B15>(G15+Grenser!$G$4),G15+Grenser!$G$4,F15-Grenser!$G$4))","v":0}]
[null,null,"",null,null,null,null,null,null,null,{"$f":"IF(AND(B16>=(F16-Grenser!$G$4),B16<=(G16+Grenser!$G$4)),B16,IF(B16>(G16+Grenser!$G$4),G16+Grenser!$G$4,F16-Grenser!$G$4))","v":0}]
[null,null,"",null,null,null,null,null,null,null,{"$f":"IF(AND(B17>=(F17-Grenser!$G$4),B17<=(G17+Grenser!$G$4)),B17,IF(B17>(G17+Grenser!$G$4),G17+Grenser!$G$4,F17-Grenser!$G$4))","v":0}]
[null,null,"",null,null,null,null,null,null,null,{"$f":"IF(AND(B18>=(F18-Grenser!$G$4),B18<=(G18+Grenser!$G$4)),B18,IF(B18>(G18+Grenser!$G$4),G18+Grenser!$G$4,F18-Grenser!$G$4))","v":0}]
[null,null,"",null,null,null,null,null,null,null,{"$f":"IF(AND(B19>=(F19-Grenser!$G$4),B19<=(G19+Grenser!$G$4)),B19,IF(B19>(G19+Grenser!$G$4),G19+Grenser!$G$4,F19-Grenser!$G$4))","v":0}]
[null,null,"",null,null,null,null,null,null,null,{"$f":"IF(AND(B20>=(F20-Grenser!$G$4),B20<=(G20+Grenser!$G$4)),B20,IF(B20>(G20+Grenser!$G$4),G20+Grenser!$G$4,F20-Grenser!$G$4))","v":0}]
[null,null,"",null,null,null,null,null,null,null,{"$f":"IF(AND(B21>=(F21-Grenser!$G$4),B21<=(G21+Grenser!$G$4)),B21,IF(B21>(G21+Grenser!$G$4),G21+Grenser!$G$4,F21-Grenser!$G$4))","v":0}]
[null,null,"",null,null,null,null,null,null,null,{"$f":"IF(AND(B22>=(F22-Grenser!$G$4),B22<=(G22+Grenser!$G$4)),B22,IF(B22>(G22+Grenser!$G$4),G22+Grenser!$G$4,F22-Grenser!$G$4))","v":0}]
[null,null,"",null,null,null,null,null,null,null,{"$f":"IF(AND(B23>=(F23-Grenser!$G$4),B23<=(G23+Grenser!$G$4)),B23,IF(B23>(G23+Grenser!$G$4),G23+Grenser!$G$4,F23-Grenser!$G$4))","v":0}]
[null,null,"",null,null,null,null,null,null,null,{"$f":"IF(AND(B24>=(F24-Grenser!$G$4),B24<=(G24+Grenser!$G$4)),B24,IF(B24>(G24+Grenser!$G$4),G24+Grenser!$G$4,F24-Grenser!$G$4))","v":0}]
[null,null,"",null,null,null,null,null,null,null,{"$f":"IF(AND(B25>=(F25-Grenser!$G$4),B25<=(G25+Grenser!$G$4)),B25,IF(B25>(G25+Grenser!$G$4),G25+Grenser!$G$4,F25-Grenser!$G$4))","v":0}]
[null,null,"",null,null,null,null,null,null,null,{"$f":"IF(AND(B26>=(F26-Grenser!$G$4),B26<=(G26+Grenser!$G$4)),B26,IF(B26>(G26+Grenser!$G$4),G26+Grenser!$G$4,F26-Grenser!$G$4))","v":0}]
[null,null,"",null,null,null,null,null,null,null,{"$f":"IF(AND(B27>=(F27-Grenser!$G$4),B27<=(G27+Grenser!$G$4)),B27,IF(B27>(G27+Grenser!$G$4),G27+Grenser!$G$4,F27-Grenser!$G$4))","v":0}]
[null,null,"",null,null,null,null,null,null,null,{"$f":"IF(AND(B28>=(F28-Grenser!$G$4),B28<=(G28+Grenser!$G$4)),B28,IF(B28>(G28+Grenser!$G$4),G28+Grenser!$G$4,F28-Grenser!$G$4))","v":0}]
[null,null,"",null,null,null,null,null,null,null,{"$f":"IF(AND(B29>=(F29-Grenser!$G$4),B29<=(G29+Grenser!$G$4)),B29,IF(B29>(G29+Grenser!$G$4),G29+Grenser!$G$4,F29-Grenser!$G$4))","v":0}]
[null,null,"",null,null,null,null,null,null,null,{"$f":"IF(AND(B30>=(F30-Grenser!$G$4),B30<=(G30+Grenser!$G$4)),B30,IF(B30>(G30+Grenser!$G$4),G30+Grenser!$G$4,F30-Grenser!$G$4))","v":0}]
[null,null,"",null,null,null,null,null,null,null,{"$f":"IF(AND(B31>=(F31-Grenser!$G$4),B31<=(G31+Grenser!$G$4)),B31,IF(B31>(G31+Grenser!$G$4),G31+Grenser!$G$4,F31-Grenser!$G$4))","v":0}]
[null,null,"",null,null,null,null,null,null,null,{"$f":"IF(AND(B32>=(F32-Grenser!$G$4),B32<=(G32+Grenser!$G$4)),B32,IF(B32>(G32+Grenser!$G$4),G32+Grenser!$G$4,F32-Grenser!$G$4))","v":0}]
[null,null,"",null,null,null,null,null,null,null,{"$f":"IF(AND(B33>=(F33-Grenser!$G$4),B33<=(G33+Grenser!$G$4)),B33,IF(B33>(G33+Grenser!$G$4),G33+Grenser!$G$4,F33-Grenser!$G$4))","v":0}]
[null,null,"",null,null,null,null,null,null,null,{"$f":"IF(AND(B34>=(F34-Grenser!$G$4),B34<=(G34+Grenser!$G$4)),B34,IF(B34>(G34+Grenser!$G$4),G34+Grenser!$G$4,F34-Grenser!$G$4))","v":0}]
[null,null,"",null,null,null,null,null,null,null,{"$f":"IF(AND(B35>=(F35-Grenser!$G$4),B35<=(G35+Grenser!$G$4)),B35,IF(B35>(G35+Grenser!$G$4),G35+Grenser!$G$4,F35-Grenser!$G$4))","v":0}]
[null,null,"",null,null,null,null,null,null,null,{"$f":"IF(AND(B36>=(F36-Grenser!$G$4),B36<=(G36+Grenser!$G$4)),B36,IF(B36>(G36+Grenser!$G$4),G36+Grenser!$G$4,F36-Grenser!$G$4))","v":0}]
[null,null,"",null,null,null,null,null,null,null,{"$f":"IF(AND(B37>=(F37-Grenser!$G$4),B37<=(G37+Grenser!$G$4)),B37,IF(B37>(G37+Grenser!$G$4),G37+Grenser!$G$4,F37-Grenser!$G$4))","v":0}]
[null,null,"",null,null,null,null,null,null,null,{"$f":"IF(AND(B38>=(F38-Grenser!$G$4),B38<=(G38+Grenser!$G$4)),B38,IF(B38>(G38+Grenser!$G$4),G38+Grenser!$G$4,F38-Grenser!$G$4))","v":0}]
[null,null,"",null,null,null,null,null,null,null,{"$f":"IF(AND(B39>=(F39-Grenser!$G$4),B39<=(G39+Grenser!$G$4)),B39,IF(B39>(G39+Grenser!$G$4),G39+Grenser!$G$4,F39-Grenser!$G$4))","v":0}]
[null,null,"",null,null,null,null,null,null,null,{"$f":"IF(AND(B40>=(F40-Grenser!$G$4),B40<=(G40+Grenser!$G$4)),B40,IF(B40>(G40+Grenser!$G$4),G40+Grenser!$G$4,F40-Grenser!$G$4))","v":0}]
[null,null,"",null,null,null,null,null,null,null,{"$f":"IF(AND(B41>=(F41-Grenser!$G$4),B41<=(G41+Grenser!$G$4)),B41,IF(B41>(G41+Grenser!$G$4),G41+Grenser!$G$4,F41-Grenser!$G$4))","v":0}]
[null,null,"",null,null,null,null,null,null,null,{"$f":"IF(AND(B42>=(F42-Grenser!$G$4),B42<=(G42+Grenser!$G$4)),B42,IF(B42>(G42+Grenser!$G$4),G42+Grenser!$G$4,F42-Grenser!$G$4))","v":0}]
[null,null,"",null,null,null,null,null,null,null,{"$f":"IF(AND(B43>=(F43-Grenser!$G$4),B43<=(G43+Grenser!$G$4)),B43,IF(B43>(G43+Grenser!$G$4),G43+Grenser!$G$4,F43-Grenser!$G$4))","v":0}]
[null,null,"",null,null,null,null,null,null,null,{"$f":"IF(AND(B44>=(F44-Grenser!$G$4),B44<=(G44+Grenser!$G$4)),B44,IF(B44>(G44+Grenser!$G$4),G44+Grenser!$G$4,F44-Grenser!$G$4))","v":0}]
[null,null,"",null,null,null,null,null,null,null,{"$f":"IF(AND(B45>=(F45-Grenser!$G$4),B45<=(G45+Grenser!$G$4)),B45,IF(B45>(G45+Grenser!$G$4),G45+Grenser!$G$4,F45-Grenser!$G$4))","v":0}]
[null,null,"",null,null,null,null,null,null,null,{"$f":"IF(AND(B46>=(F46-Grenser!$G$4),B46<=(G46+Grenser!$G$4)),B46,IF(B46>(G46+Grenser!$G$4),G46+Grenser!$G$4,F46-Grenser!$G$4))","v":0}]
[null,null,"",null,null,null,null,null,null,null,{"$f":"IF(AND(B47>=(F47-Grenser!$G$4),B47<=(G47+Grenser!$G$4)),B47,IF(B47>(G47+Grenser!$G$4),G47+Grenser!$G$4,F47-Grenser!$G$4))","v":0}]
[null,null,"",null,null,null,null,null,null,null,{"$f":"IF(AND(B48>=(F48-Grenser!$G$4),B48<=(G48+Grenser!$G$4)),B48,IF(B48>(G48+Grenser!$G$4),G48+Grenser!$G$4,F48-Grenser!$G$4))","v":0}]
[null,null,"",null,null,null,null,null,null,null,{"$f":"IF(AND(B49>=(F49-Grenser!$G$4),B49<=(G49+Grenser!$G$4)),B49,IF(B49>(G49+Grenser!$G$4),G49+Grenser!$G$4,F49-Grenser!$G$4))","v":0}]
[null,null,"",null,null,null,null,null,null,null,{"$f":"IF(AND(B50>=(F50-Grenser!$G$4),B50<=(G50+Grenser!$G$4)),B50,IF(B50>(G50+Grenser!$G$4),G50+Grenser!$G$4,F50-Grenser!$G$4))","v":0}]
[null,null,"",null,null,null,null,null,null,null,{"$f":"IF(AND(B51>=(F51-Grenser!$G$4),B51<=(G51+Grenser!$G$4)),B51,IF(B51>(G51+Grenser!$G$4),G51+Grenser!$G$4,F51-Grenser!$G$4))","v":0}]
[null,null,"",null,null,null,null,null,null,null,{"$f":"IF(AND(B52>=(F52-Grenser!$G$4),B52<=(G52+Grenser!$G$4)),B52,IF(B52>(G52+Grenser!$G$4),G52+Grenser!$G$4,F52-Grenser!$G$4))","v":0}]
[null,null,"",null,null,null,null,null,null,null,{"$f":"IF(AND(B53>=(F53-Grenser!$G$4),B53<=(G53+Grenser!$G$4)),B53,IF(B53>(G53+Grenser!$G$4),G53+Grenser!$G$4,F53-Grenser!$G$4))","v":0}]
[null,null,"",null,null,null,null,null,null,null,{"$f":"IF(AND(B54>=(F54-Grenser!$G$4),B54<=(G54+Grenser!$G$4)),B54,IF(B54>(G54+Grenser!$G$4),G54+Grenser!$G$4,F54-Grenser!$G$4))","v":0}]
[null,null,"",null,null,null,null,null,null,null,{"$f":"IF(AND(B55>=(F55-Grenser!$G$4),B55<=(G55+Grenser!$G$4)),B55,IF(B55>(G55+Grenser!$G$4),G55+Grenser!$G$4,F55-Grenser!$G$4))","v":0}]
[null,null,"",null,null,null,null,null,null,null,{"$f":"IF(AND(B56>=(F56-Grenser!$G$4),B56<=(G56+Grenser!$G$4)),B56,IF(B56>(G56+Grenser!$G$4),G56+Grenser!$G$4,F56-Grenser!$G$4))","v":0}]
[null,null,"",null,null,null,null,null,null,null,{"$f":"IF(AND(B57>=(F57-Grenser!$G$4),B57<=(G57+Grenser!$G$4)),B57,IF(B57>(G57+Grenser!$G$4),G57+Grenser!$G$4,F57-Grenser!$G$4))","v":0}]
[null,null,"",null,null,null,null,null,null,null,{"$f":"IF(AND(B58>=(F58-Grenser!$G$4),B58<=(G58+Grenser!$G$4)),B58,IF(B58>(G58+Grenser!$G$4),G58+Grenser!$G$4,F58-Grenser!$G$4))","v":0}]
[null,null,"",null,null,null,null,null,null,null,{"$f":"IF(AND(B59>=(F59-Grenser!$G$4),B59<=(G59+Grenser!$G$4)),B59,IF(B59>(G59+Grenser!$G$4),G59+Grenser!$G$4,F59-Grenser!$G$4))","v":0}]
[null,null,"",null,null,null,null,null,null,null,{"$f":"IF(AND(B60>=(F60-Grenser!$G$4),B60<=(G60+Grenser!$G$4)),B60,IF(B60>(G60+Grenser!$G$4),G60+Grenser!$G$4,F60-Grenser!$G$4))","v":0}]
[null,null,"",null,null,null,null,null,null,null,{"$f":"IF(AND(B61>=(F61-Grenser!$G$4),B61<=(G61+Grenser!$G$4)),B61,IF(B61>(G61+Grenser!$G$4),G61+Grenser!$G$4,F61-Grenser!$G$4))","v":0}]
[null,null,"",null,null,null,null,null,null,null,{"$f":"IF(AND(B62>=(F62-Grenser!$G$4),B62<=(G62+Grenser!$G$4)),B62,IF(B62>(G62+Grenser!$G$4),G62+Grenser!$G$4,F62-Grenser!$G$4))","v":0}]
[null,null,"",null,null,null,null,null,null,null,{"$f":"IF(AND(B63>=(F63-Grenser!$G$4),B63<=(G63+Grenser!$G$4)),B63,IF(B63>(G63+Grenser!$G$4),G63+Grenser!$G$4,F63-Grenser!$G$4))","v":0}]
[null,null,"",null,null,null,null,null,null,null,{"$f":"IF(AND(B64>=(F64-Grenser!$G$4),B64<=(G64+Grenser!$G$4)),B64,IF(B64>(G64+Grenser!$G$4),G64+Grenser!$G$4,F64-Grenser!$G$4))","v":0}]
[null,null,"",null,null,null,null,null,null,null,{"$f":"IF(AND(B65>=(F65-Grenser!$G$4),B65<=(G65+Grenser!$G$4)),B65,IF(B65>(G65+Grenser!$G$4),G65+Grenser!$G$4,F65-Grenser!$G$4))","v":0}]
[null,null,"",null,null,null,null,null,null,null,{"$f":"IF(AND(B66>=(F66-Grenser!$G$4),B66<=(G66+Grenser!$G$4)),B66,IF(B66>(G66+Grenser!$G$4),G66+Grenser!$G$4,F66-Grenser!$G$4))","v":0}]
[null,null,"",null,null,null,null,null,null,null,{"$f":"IF(AND(B67>=(F67-Grenser!$G$4),B67<=(G67+Grenser!$G$4)),B67,IF(B67>(G67+Grenser!$G$4),G67+Grenser!$G$4,F67-Grenser!$G$4))","v":0}]
[null,null,"",null,null,null,null,null,null,null,{"$f":"IF(AND(B68>=(F68-Grenser!$G$4),B68<=(G68+Grenser!$G$4)),B68,IF(B68>(G68+Grenser!$G$4),G68+Grenser!$G$4,F68-Grenser!$G$4))","v":0}]
[null,null,"",null,null,null,null,null,null,null,{"$f":"IF(AND(B69>=(F69-Grenser!$G$4),B69<=(G69+Grenser!$G$4)),B69,IF(B69>(G69+Grenser!$G$4),G69+Grenser!$G$4,F69-Grenser!$G$4))","v":0}]
[null,null,"",null,null,null,null,null,null,null,{"$f":"IF(AND(B70>=(F70-Grenser!$G$4),B70<=(G70+Grenser!$G$4)),B70,IF(B70>(G70+Grenser!$G$4),G70+Grenser!$G$4,F70-Grenser!$G$4))","v":0}]
[null,null,"",null,null,null,null,null,null,null,{"$f":"IF(AND(B71>=(F71-Grenser!$G$4),B71<=(G71+Grenser!$G$4)),B71,IF(B71>(G71+Grenser!$G$4),G71+Grenser!$G$4,F71-Grenser!$G$4))","v":0}]
[null,null,{"$f":"IF(B72<>\"\",(IF(OR(B72<F72,B72>G72),\"STOPP\",\"OK\")),\"\")","v":""},null,null,null,null,null,null,null,{"$f":"IF(AND(B72>=(F72-Grenser!$G$4),B72<=(G72+Grenser!$G$4)),B72,IF(B72>(G72+Grenser!$G$4),G72+Grenser!$G$4,F72-Grenser!$G$4))","v":0}]
[null,null,"",null,null,null,null,null,null,null,{"$f":"IF(AND(B73>=(F73-Grenser!$G$4),B73<=(G73+Grenser!$G$4)),B73,IF(B73>(G73+Grenser!$G$4),G73+Grenser!$G$4,F73-Grenser!$G$4))","v":0}]
[null,null,"",null,null,null,null,null,null,null,{"$f":"IF(AND(B74>=(F74-Grenser!$G$4),B74<=(G74+Grenser!$G$4)),B74,IF(B74>(G74+Grenser!$G$4),G74+Grenser!$G$4,F74-Grenser!$G$4))","v":0}]
[null,null,"",null,null,null,null,null,null,null,{"$f":"IF(AND(B75>=(F75-Grenser!$G$4),B75<=(G75+Grenser!$G$4)),B75,IF(B75>(G75+Grenser!$G$4),G75+Grenser!$G$4,F75-Grenser!$G$4))","v":0}]
[null,null,"",null,null,null,null,null,null,null,{"$f":"IF(AND(B76>=(F76-Grenser!$G$4),B76<=(G76+Grenser!$G$4)),B76,IF(B76>(G76+Grenser!$G$4),G76+Grenser!$G$4,F76-Grenser!$G$4))","v":0}]
[null,null,"",null,null,null,null,null,null,null,{"$f":"IF(AND(B77>=(F77-Grenser!$G$4),B77<=(G77+Grenser!$G$4)),B77,IF(B77>(G77+Grenser!$G$4),G77+Grenser!$G$4,F77-Grenser!$G$4))","v":0}]
[null,null,"",null,null,null,null,null,null,null,{"$f":"IF(AND(B78>=(F78-Grenser!$G$4),B78<=(G78+Grenser!$G$4)),B78,IF(B78>(G78+Grenser!$G$4),G78+Grenser!$G$4,F78-Grenser!$G$4))","v":0}]
[null,null,"",null,null,null,null,null,null,null,{"$f":"IF(AND(B79>=(F79-Grenser!$G$4),B79<=(G79+Grenser!$G$4)),B79,IF(B79>(G79+Grenser!$G$4),G79+Grenser!$G$4,F79-Grenser!$G$4))","v":0}]
[null,null,"",null,null,null,null,null,null,null,{"$f":"IF(AND(B80>=(F80-Grenser!$G$4),B80<=(G80+Grenser!$G$4)),B80,IF(B80>(G80+Grenser!$G$4),G80+Grenser!$G$4,F80-Grenser!$G$4))","v":0}]
[null,null,"",null,null,null,null,null,null,null,{"$f":"IF(AND(B81>=(F81-Grenser!$G$4),B81<=(G81+Grenser!$G$4)),B81,IF(B81>(G81+Grenser!$G$4),G81+Grenser!$G$4,F81-Grenser!$G$4))","v":0}]
[null,null,"",null,null,null,null,null,null,null,{"$f":"IF(AND(B82>=(F82-Grenser!$G$4),B82<=(G82+Grenser!$G$4)),B82,IF(B82>(G82+Grenser!$G$4),G82+Grenser!$G$4,F82-Grenser!$G$4))","v":0}]
[null,null,"",null,null,null,null,null,null,null,{"$f":"IF(AND(B83>=(F83-Grenser!$G$4),B83<=(G83+Grenser!$G$4)),B83,IF(B83>(G83+Grenser!$G$4),G83+Grenser!$G$4,F83-Grenser!$G$4))","v":0}]
[null,null,"",null,null,null,null,null,null,null,{"$f":"IF(AND(B84>=(F84-Grenser!$G$4),B84<=(G84+Grenser!$G$4)),B84,IF(B84>(G84+Grenser!$G$4),G84+Grenser!$G$4,F84-Grenser!$G$4))","v":0}]
[null,null,"",null,null,null,null,null,null,null,{"$f":"IF(AND(B85>=(F85-Grenser!$G$4),B85<=(G85+Grenser!$G$4)),B85,IF(B85>(G85+Grenser!$G$4),G85+Grenser!$G$4,F85-Grenser!$G$4))","v":0}]
[null,null,"",null,null,null,null,null,null,null,{"$f":"IF(AND(B86>=(F86-Grenser!$G$4),B86<=(G86+Grenser!$G$4)),B86,IF(B86>(G86+Grenser!$G$4),G86+Grenser!$G$4,F86-Grenser!$G$4))","v":0}]
[null,null,"",null,null,null,null,null,null,null,{"$f":"IF(AND(B87>=(F87-Grenser!$G$4),B87<=(G87+Grenser!$G$4)),B87,IF(B87>(G87+Grenser!$G$4),G87+Grenser!$G$4,F87-Grenser!$G$4))","v":0}]
[null,null,"",null,null,null,null,null,null,null,{"$f":"IF(AND(B88>=(F88-Grenser!$G$4),B88<=(G88+Grenser!$G$4)),B88,IF(B88>(G88+Grenser!$G$4),G88+Grenser!$G$4,F88-Grenser!$G$4))","v":0}]
[null,null,"",null,null,null,null,null,null,null,{"$f":"IF(AND(B89>=(F89-Grenser!$G$4),B89<=(G89+Grenser!$G$4)),B89,IF(B89>(G89+Grenser!$G$4),G89+Grenser!$G$4,F89-Grenser!$G$4))","v":0}]
[null,null,"",null,null,null,null,null,null,null,{"$f":"IF(AND(B90>=(F90-Grenser!$G$4),B90<=(G90+Grenser!$G$4)),B90,IF(B90>(G90+Grenser!$G$4),G90+Grenser!$G$4,F90-Grenser!$G$4))","v":0}]
[null,null,"",null,null,null,null,null,null,null,{"$f":"IF(AND(B91>=(F91-Grenser!$G$4),B91<=(G91+Grenser!$G$4)),B91,IF(B91>(G91+Grenser!$G$4),G91+Grenser!$G$4,F91-Grenser!$G$4))","v":0}]
[null,null,"",null,null,null,null,null,null,null,{"$f":"IF(AND(B92>=(F92-Grenser!$G$4),B92<=(G92+Grenser!$G$4)),B92,IF(B92>(G92+Grenser!$G$4),G92+Grenser!$G$4,F92-Grenser!$G$4))","v":0}]
[null,null,"",null,null,null,null,null,null,null,{"$f":"IF(AND(B93>=(F93-Grenser!$G$4),B93<=(G93+Grenser!$G$4)),B93,IF(B93>(G93+Grenser!$G$4),G93+Grenser!$G$4,F93-Grenser!$G$4))","v":0}]
[null,null,"",null,null,null,null,null,null,null,{"$f":"IF(AND(B94>=(F94-Grenser!$G$4),B94<=(G94+Grenser!$G$4)),B94,IF(B94>(G94+Grenser!$G$4),G94+Grenser!$G$4,F94-Grenser!$G$4))","v":0}]
[null,null,"",null,null,null,null,null,null,null,{"$f":"IF(AND(B95>=(F95-Grenser!$G$4),B95<=(G95+Grenser!$G$4)),B95,IF(B95>(G95+Grenser!$G$4),G95+Grenser!$G$4,F95-Grenser!$G$4))","v":0}]
[null,null,"",null,null,null,null,null,null,null,{"$f":"IF(AND(B96>=(F96-Grenser!$G$4),B96<=(G96+Grenser!$G$4)),B96,IF(B96>(G96+Grenser!$G$4),G96+Grenser!$G$4,F96-Grenser!$G$4))","v":0}]
[null,null,"",null,null,null,null,null,null,null,{"$f":"IF(AND(B97>=(F97-Grenser!$G$4),B97<=(G97+Grenser!$G$4)),B97,IF(B97>(G97+Grenser!$G$4),G97+Grenser!$G$4,F97-Grenser!$G$4))","v":0}]
[null,null,"",null,null,null,null,null,null,null,{"$f":"IF(AND(B98>=(F98-Grenser!$G$4),B98<=(G98+Grenser!$G$4)),B98,IF(B98>(G98+Grenser!$G$4),G98+Grenser!$G$4,F98-Grenser!$G$4))","v":0}]
[null,null,"",null,null,null,null,null,null,null,{"$f":"IF(AND(B99>=(F99-Grenser!$G$4),B99<=(G99+Grenser!$G$4)),B99,IF(B99>(G99+Grenser!$G$4),G99+Grenser!$G$4,F99-Grenser!$G$4))","v":0}]
[null,null,"",null,null,null,null,null,null,null,{"$f":"IF(AND(B100>=(F100-Grenser!$G$4),B100<=(G100+Grenser!$G$4)),B100,IF(B100>(G100+Grenser!$G$4),G100+Grenser!$G$4,F100-Grenser!$G$4))","v":0}]
[null,null,"",null,null,null,null,null,null,null,{"$f":"IF(AND(B101>=(F101-Grenser!$G$4),B101<=(G101+Grenser!$G$4)),B101,IF(B101>(G101+Grenser!$G$4),G101+Grenser!$G$4,F101-Grenser!$G$4))","v":0}]
[null,null,"",null,null,null,null,null,null,null,{"$f":"IF(AND(B102>=(F102-Grenser!$G$4),B102<=(G102+Grenser!$G$4)),B102,IF(B102>(G102+Grenser!$G$4),G102+Grenser!$G$4,F102-Grenser!$G$4))","v":0}]
[null,null,"",null,null,null,null,null,null,null,{"$f":"IF(AND(B103>=(F103-Grenser!$G$4),B103<=(G103+Grenser!$G$4)),B103,IF(B103>(G103+Grenser!$G$4),G103+Grenser!$G$4,F103-Grenser!$G$4))","v":0}]
[null,null,"",null,null,null,null,null,null,null,{"$f":"IF(AND(B104>=(F104-Grenser!$G$4),B104<=(G104+Grenser!$G$4)),B104,IF(B104>(G104+Grenser!$G$4),G104+Grenser!$G$4,F104-Grenser!$G$4))","v":0}]
[null,null,"",null,null,null,null,null,null,null,{"$f":"IF(AND(B105>=(F105-Grenser!$G$4),B105<=(G105+Grenser!$G$4)),B105,IF(B105>(G105+Grenser!$G$4),G105+Grenser!$G$4,F105-Grenser!$G$4))","v":0}]
[null,null,"",null,null,null,null,null,null,null,{"$f":"IF(AND(B106>=(F106-Grenser!$G$4),B106<=(G106+Grenser!$G$4)),B106,IF(B106>(G106+Grenser!$G$4),G106+Grenser!$G$4,F106-Grenser!$G$4))","v":0}]
[null,null,"",null,null,null,null,null,null,null,{"$f":"IF(AND(B107>=(F107-Grenser!$G$4),B107<=(G107+Grenser!$G$4)),B107,IF(B107>(G107+Grenser!$G$4),G107+Grenser!$G$4,F107-Grenser!$G$4))","v":0}]
[null,null,"",null,null,null,null,null,null,null,{"$f":"IF(AND(B108>=(F108-Grenser!$G$4),B108<=(G108+Grenser!$G$4)),B108,IF(B108>(G108+Grenser!$G$4),G108+Grenser!$G$4,F108-Grenser!$G$4))","v":0}]
[null,null,"",null,null,null,null,null,null,null,{"$f":"IF(AND(B109>=(F109-Grenser!$G$4),B109<=(G109+Grenser!$G$4)),B109,IF(B109>(G109+Grenser!$G$4),G109+Grenser!$G$4,F109-Grenser!$G$4))","v":0}]
[null,null,"",null,null,null,null,null,null,null,{"$f":"IF(AND(B110>=(F110-Grenser!$G$4),B110<=(G110+Grenser!$G$4)),B110,IF(B110>(G110+Grenser!$G$4),G110+Grenser!$G$4,F110-Grenser!$G$4))","v":0}]
[null,null,"",null,null,null,null,null,null,null,{"$f":"IF(AND(B111>=(F111-Grenser!$G$4),B111<=(G111+Grenser!$G$4)),B111,IF(B111>(G111+Grenser!$G$4),G111+Grenser!$G$4,F111-Grenser!$G$4))","v":0}]
[null,null,"",null,null,null,null,null,null,null,{"$f":"IF(AND(B112>=(F112-Grenser!$G$4),B112<=(G112+Grenser!$G$4)),B112,IF(B112>(G112+Grenser!$G$4),G112+Grenser!$G$4,F112-Grenser!$G$4))","v":0}]
[null,null,"",null,null,null,null,null,null,null,{"$f":"IF(AND(B113>=(F113-Grenser!$G$4),B113<=(G113+Grenser!$G$4)),B113,IF(B113>(G113+Grenser!$G$4),G113+Grenser!$G$4,F113-Grenser!$G$4))","v":0}]
[null,null,"",null,null,null,null,null,null,null,{"$f":"IF(AND(B114>=(F114-Grenser!$G$4),B114<=(G114+Grenser!$G$4)),B114,IF(B114>(G114+Grenser!$G$4),G114+Grenser!$G$4,F114-Grenser!$G$4))","v":0}]
[null,null,"",null,null,null,null,null,null,null,{"$f":"IF(AND(B115>=(F115-Grenser!$G$4),B115<=(G115+Grenser!$G$4)),B115,IF(B115>(G115+Grenser!$G$4),G115+Grenser!$G$4,F115-Grenser!$G$4))","v":0}]
[null,null,"",null,null,null,null,null,null,null,{"$f":"IF(AND(B116>=(F116-Grenser!$G$4),B116<=(G116+Grenser!$G$4)),B116,IF(B116>(G116+Grenser!$G$4),G116+Grenser!$G$4,F116-Grenser!$G$4))","v":0}]
[null,null,"",null,null,null,null,null,null,null,{"$f":"IF(AND(B117>=(F117-Grenser!$G$4),B117<=(G117+Grenser!$G$4)),B117,IF(B117>(G117+Grenser!$G$4),G117+Grenser!$G$4,F117-Grenser!$G$4))","v":0}]
[null,null,"",null,null,null,null,null,null,null,{"$f":"IF(AND(B118>=(F118-Grenser!$G$4),B118<=(G118+Grenser!$G$4)),B118,IF(B118>(G118+Grenser!$G$4),G118+Grenser!$G$4,F118-Grenser!$G$4))","v":0}]
[null,null,"",null,null,null,null,null,null,null,{"$f":"IF(AND(B119>=(F119-Grenser!$G$4),B119<=(G119+Grenser!$G$4)),B119,IF(B119>(G119+Grenser!$G$4),G119+Grenser!$G$4,F119-Grenser!$G$4))","v":0}]
[null,null,"",null,null,null,null,null,null,null,{"$f":"IF(AND(B120>=(F120-Grenser!$G$4),B120<=(G120+Grenser!$G$4)),B120,IF(B120>(G120+Grenser!$G$4),G120+Grenser!$G$4,F120-Grenser!$G$4))","v":0}]
[null,null,"",null,null,null,null,null,null,null,{"$f":"IF(AND(B121>=(F121-Grenser!$G$4),B121<=(G121+Grenser!$G$4)),B121,IF(B121>(G121+Grenser!$G$4),G121+Grenser!$G$4,F121-Grenser!$G$4))","v":0}]
[null,null,"",null,null,null,null,null,null,null,{"$f":"IF(AND(B122>=(F122-Grenser!$G$4),B122<=(G122+Grenser!$G$4)),B122,IF(B122>(G122+Grenser!$G$4),G122+Grenser!$G$4,F122-Grenser!$G$4))","v":0}]
[null,null,"",null,null,null,null,null,null,null,{"$f":"IF(AND(B123>=(F123-Grenser!$G$4),B123<=(G123+Grenser!$G$4)),B123,IF(B123>(G123+Grenser!$G$4),G123+Grenser!$G$4,F123-Grenser!$G$4))","v":0}]
[null,null,"",null,null,null,null,null,null,null,{"$f":"IF(AND(B124>=(F124-Grenser!$G$4),B124<=(G124+Grenser!$G$4)),B124,IF(B124>(G124+Grenser!$G$4),G124+Grenser!$G$4,F124-Grenser!$G$4))","v":0}]
[null,null,"",null,null,null,null,null,null,null,{"$f":"IF(AND(B125>=(F125-Grenser!$G$4),B125<=(G125+Grenser!$G$4)),B125,IF(B125>(G125+Grenser!$G$4),G125+Grenser!$G$4,F125-Grenser!$G$4))","v":0}]
[null,null,"",null,null,null,null,null,null,null,{"$f":"IF(AND(B126>=(F126-Grenser!$G$4),B126<=(G126+Grenser!$G$4)),B126,IF(B126>(G126+Grenser!$G$4),G126+Grenser!$G$4,F126-Grenser!$G$4))","v":0}]
[null,null,"",null,null,null,null,null,null,null,{"$f":"IF(AND(B127>=(F127-Grenser!$G$4),B127<=(G127+Grenser!$G$4)),B127,IF(B127>(G127+Grenser!$G$4),G127+Grenser!$G$4,F127-Grenser!$G$4))","v":0}]
[null,null,"",null,null,null,null,null,null,null,{"$f":"IF(AND(B128>=(F128-Grenser!$G$4),B128<=(G128+Grenser!$G$4)),B128,IF(B128>(G128+Grenser!$G$4),G128+Grenser!$G$4,F128-Grenser!$G$4))","v":0}]
[null,null,"",null,null,null,null,null,null,null,{"$f":"IF(AND(B129>=(F129-Grenser!$G$4),B129<=(G129+Grenser!$G$4)),B129,IF(B129>(G129+Grenser!$G$4),G129+Grenser!$G$4,F129-Grenser!$G$4))","v":0}]
[null,null,"",null,null,null,null,null,null,null,{"$f":"IF(AND(B130>=(F130-Grenser!$G$4),B130<=(G130+Grenser!$G$4)),B130,IF(B130>(G130+Grenser!$G$4),G130+Grenser!$G$4,F130-Grenser!$G$4))","v":0}]
[null,null,"",null,null,null,null,null,null,null,{"$f":"IF(AND(B131>=(F131-Grenser!$G$4),B131<=(G131+Grenser!$G$4)),B131,IF(B131>(G131+Grenser!$G$4),G131+Grenser!$G$4,F131-Grenser!$G$4))","v":0}]
[null,null,"",null,null,null,null,null,null,null,{"$f":"IF(AND(B132>=(F132-Grenser!$G$4),B132<=(G132+Grenser!$G$4)),B132,IF(B132>(G132+Grenser!$G$4),G132+Grenser!$G$4,F132-Grenser!$G$4))","v":0}]
[null,null,"",null,null,null,null,null,null,null,{"$f":"IF(AND(B133>=(F133-Grenser!$G$4),B133<=(G133+Grenser!$G$4)),B133,IF(B133>(G133+Grenser!$G$4),G133+Grenser!$G$4,F133-Grenser!$G$4))","v":0}]
[null,null,"",null,null,null,null,null,null,null,{"$f":"IF(AND(B134>=(F134-Grenser!$G$4),B134<=(G134+Grenser!$G$4)),B134,IF(B134>(G134+Grenser!$G$4),G134+Grenser!$G$4,F134-Grenser!$G$4))","v":0}]
[null,null,"",null,null,null,null,null,null,null,{"$f":"IF(AND(B135>=(F135-Grenser!$G$4),B135<=(G135+Grenser!$G$4)),B135,IF(B135>(G135+Grenser!$G$4),G135+Grenser!$G$4,F135-Grenser!$G$4))","v":0}]
[null,null,{"$f":"IF(B136<>\"\",(IF(OR(B136<F136,B136>G136),\"STOPP\",\"OK\")),\"\")","v":""},null,null,null,null,null,null,null,{"$f":"IF(AND(B136>=(F136-Grenser!$G$4),B136<=(G136+Grenser!$G$4)),B136,IF(B136>(G136+Grenser!$G$4),G136+Grenser!$G$4,F136-Grenser!$G$4))","v":0}]
[null,null,"",null,null,null,null,null,null,null,{"$f":"IF(AND(B137>=(F137-Grenser!$G$4),B137<=(G137+Grenser!$G$4)),B137,IF(B137>(G137+Grenser!$G$4),G137+Grenser!$G$4,F137-Grenser!$G$4))","v":0}]
[null,null,"",null,null,null,null,null,null,null,{"$f":"IF(AND(B138>=(F138-Grenser!$G$4),B138<=(G138+Grenser!$G$4)),B138,IF(B138>(G138+Grenser!$G$4),G138+Grenser!$G$4,F138-Grenser!$G$4))","v":0}]
[null,null,"",null,null,null,null,null,null,null,{"$f":"IF(AND(B139>=(F139-Grenser!$G$4),B139<=(G139+Grenser!$G$4)),B139,IF(B139>(G139+Grenser!$G$4),G139+Grenser!$G$4,F139-Grenser!$G$4))","v":0}]
[null,null,"",null,null,null,null,null,null,null,{"$f":"IF(AND(B140>=(F140-Grenser!$G$4),B140<=(G140+Grenser!$G$4)),B140,IF(B140>(G140+Grenser!$G$4),G140+Grenser!$G$4,F140-Grenser!$G$4))","v":0}]
[null,null,"",null,null,null,null,null,null,null,{"$f":"IF(AND(B141>=(F141-Grenser!$G$4),B141<=(G141+Grenser!$G$4)),B141,IF(B141>(G141+Grenser!$G$4),G141+Grenser!$G$4,F141-Grenser!$G$4))","v":0}]
[null,null,"",null,null,null,null,null,null,null,{"$f":"IF(AND(B142>=(F142-Grenser!$G$4),B142<=(G142+Grenser!$G$4)),B142,IF(B142>(G142+Grenser!$G$4),G142+Grenser!$G$4,F142-Grenser!$G$4))","v":0}]
[null,null,"",null,null,null,null,null,null,null,{"$f":"IF(AND(B143>=(F143-Grenser!$G$4),B143<=(G143+Grenser!$G$4)),B143,IF(B143>(G143+Grenser!$G$4),G143+Grenser!$G$4,F143-Grenser!$G$4))","v":0}]
[null,null,"",null,null,null,null,null,null,null,{"$f":"IF(AND(B144>=(F144-Grenser!$G$4),B144<=(G144+Grenser!$G$4)),B144,IF(B144>(G144+Grenser!$G$4),G144+Grenser!$G$4,F144-Grenser!$G$4))","v":0}]
[null,null,"",null,null,null,null,null,null,null,{"$f":"IF(AND(B145>=(F145-Grenser!$G$4),B145<=(G145+Grenser!$G$4)),B145,IF(B145>(G145+Grenser!$G$4),G145+Grenser!$G$4,F145-Grenser!$G$4))","v":0}]
[null,null,"",null,null,null,null,null,null,null,{"$f":"IF(AND(B146>=(F146-Grenser!$G$4),B146<=(G146+Grenser!$G$4)),B146,IF(B146>(G146+Grenser!$G$4),G146+Grenser!$G$4,F146-Grenser!$G$4))","v":0}]
[null,null,"",null,null,null,null,null,null,null,{"$f":"IF(AND(B147>=(F147-Grenser!$G$4),B147<=(G147+Grenser!$G$4)),B147,IF(B147>(G147+Grenser!$G$4),G147+Grenser!$G$4,F147-Grenser!$G$4))","v":0}]
[null,null,"",null,null,null,null,null,null,null,{"$f":"IF(AND(B148>=(F148-Grenser!$G$4),B148<=(G148+Grenser!$G$4)),B148,IF(B148>(G148+Grenser!$G$4),G148+Grenser!$G$4,F148-Grenser!$G$4))","v":0}]
[null,null,"",null,null,null,null,null,null,null,{"$f":"IF(AND(B149>=(F149-Grenser!$G$4),B149<=(G149+Grenser!$G$4)),B149,IF(B149>(G149+Grenser!$G$4),G149+Grenser!$G$4,F149-Grenser!$G$4))","v":0}]
[null,null,"",null,null,null,null,null,null,null,{"$f":"IF(AND(B150>=(F150-Grenser!$G$4),B150<=(G150+Grenser!$G$4)),B150,IF(B150>(G150+Grenser!$G$4),G150+Grenser!$G$4,F150-Grenser!$G$4))","v":0}]
[null,null,"",null,null,null,null,null,null,null,{"$f":"IF(AND(B151>=(F151-Grenser!$G$4),B151<=(G151+Grenser!$G$4)),B151,IF(B151>(G151+Grenser!$G$4),G151+Grenser!$G$4,F151-Grenser!$G$4))","v":0}]
[null,null,"",null,null,null,null,null,null,null,{"$f":"IF(AND(B152>=(F152-Grenser!$G$4),B152<=(G152+Grenser!$G$4)),B152,IF(B152>(G152+Grenser!$G$4),G152+Grenser!$G$4,F152-Grenser!$G$4))","v":0}]
[null,null,"",null,null,null,null,null,null,null,{"$f":"IF(AND(B153>=(F153-Grenser!$G$4),B153<=(G153+Grenser!$G$4)),B153,IF(B153>(G153+Grenser!$G$4),G153+Grenser!$G$4,F153-Grenser!$G$4))","v":0}]
[null,null,"",null,null,null,null,null,null,null,{"$f":"IF(AND(B154>=(F154-Grenser!$G$4),B154<=(G154+Grenser!$G$4)),B154,IF(B154>(G154+Grenser!$G$4),G154+Grenser!$G$4,F154-Grenser!$G$4))","v":0}]
[null,null,"",null,null,null,null,null,null,null,{"$f":"IF(AND(B155>=(F155-Grenser!$G$4),B155<=(G155+Grenser!$G$4)),B155,IF(B155>(G155+Grenser!$G$4),G155+Grenser!$G$4,F155-Grenser!$G$4))","v":0}]
[null,null,"",null,null,null,null,null,null,null,{"$f":"IF(AND(B156>=(F156-Grenser!$G$4),B156<=(G156+Grenser!$G$4)),B156,IF(B156>(G156+Grenser!$G$4),G156+Grenser!$G$4,F156-Grenser!$G$4))","v":0}]
[null,null,"",null,null,null,null,null,null,null,{"$f":"IF(AND(B157>=(F157-Grenser!$G$4),B157<=(G157+Grenser!$G$4)),B157,IF(B157>(G157+Grenser!$G$4),G157+Grenser!$G$4,F157-Grenser!$G$4))","v":0}]
[null,null,"",null,null,null,null,null,null,null,{"$f":"IF(AND(B158>=(F158-Grenser!$G$4),B158<=(G158+Grenser!$G$4)),B158,IF(B158>(G158+Grenser!$G$4),G158+Grenser!$G$4,F158-Grenser!$G$4))","v":0}]
[null,null,"",null,null,null,null,null,null,null,{"$f":"IF(AND(B159>=(F159-Grenser!$G$4),B159<=(G159+Grenser!$G$4)),B159,IF(B159>(G159+Grenser!$G$4),G159+Grenser!$G$4,F159-Grenser!$G$4))","v":0}]
[null,null,"",null,null,null,null,null,null,null,{"$f":"IF(AND(B160>=(F160-Grenser!$G$4),B160<=(G160+Grenser!$G$4)),B160,IF(B160>(G160+Grenser!$G$4),G160+Grenser!$G$4,F160-Grenser!$G$4))","v":0}]
[null,null,"",null,null,null,null,null,null,null,{"$f":"IF(AND(B161>=(F161-Grenser!$G$4),B161<=(G161+Grenser!$G$4)),B161,IF(B161>(G161+Grenser!$G$4),G161+Grenser!$G$4,F161-Grenser!$G$4))","v":0}]
[null,null,"",null,null,null,null,null,null,null,{"$f":"IF(AND(B162>=(F162-Grenser!$G$4),B162<=(G162+Grenser!$G$4)),B162,IF(B162>(G162+Grenser!$G$4),G162+Grenser!$G$4,F162-Grenser!$G$4))","v":0}]
[null,null,"",null,null,null,null,null,null,null,{"$f":"IF(AND(B163>=(F163-Grenser!$G$4),B163<=(G163+Grenser!$G$4)),B163,IF(B163>(G163+Grenser!$G$4),G163+Grenser!$G$4,F163-Grenser!$G$4))","v":0}]
[null,null,"",null,null,null,null,null,null,null,{"$f":"IF(AND(B164>=(F164-Grenser!$G$4),B164<=(G164+Grenser!$G$4)),B164,IF(B164>(G164+Grenser!$G$4),G164+Grenser!$G$4,F164-Grenser!$G$4))","v":0}]
[null,null,"",null,null,null,null,null,null,null,{"$f":"IF(AND(B165>=(F165-Grenser!$G$4),B165<=(G165+Grenser!$G$4)),B165,IF(B165>(G165+Grenser!$G$4),G165+Grenser!$G$4,F165-Grenser!$G$4))","v":0}]
[null,null,"",null,null,null,null,null,null,null,{"$f":"IF(AND(B166>=(F166-Grenser!$G$4),B166<=(G166+Grenser!$G$4)),B166,IF(B166>(G166+Grenser!$G$4),G166+Grenser!$G$4,F166-Grenser!$G$4))","v":0}]
[null,null,"",null,null,null,null,null,null,null,{"$f":"IF(AND(B167>=(F167-Grenser!$G$4),B167<=(G167+Grenser!$G$4)),B167,IF(B167>(G167+Grenser!$G$4),G167+Grenser!$G$4,F167-Grenser!$G$4))","v":0}]
[null,null,"",null,null,null,null,null,null,null,{"$f":"IF(AND(B168>=(F168-Grenser!$G$4),B168<=(G168+Grenser!$G$4)),B168,IF(B168>(G168+Grenser!$G$4),G168+Grenser!$G$4,F168-Grenser!$G$4))","v":0}]
[null,null,"",null,null,null,null,null,null,null,{"$f":"IF(AND(B169>=(F169-Grenser!$G$4),B169<=(G169+Grenser!$G$4)),B169,IF(B169>(G169+Grenser!$G$4),G169+Grenser!$G$4,F169-Grenser!$G$4))","v":0}]
[null,null,"",null,null,null,null,null,null,null,{"$f":"IF(AND(B170>=(F170-Grenser!$G$4),B170<=(G170+Grenser!$G$4)),B170,IF(B170>(G170+Grenser!$G$4),G170+Grenser!$G$4,F170-Grenser!$G$4))","v":0}]
[null,null,"",null,null,null,null,null,null,null,{"$f":"IF(AND(B171>=(F171-Grenser!$G$4),B171<=(G171+Grenser!$G$4)),B171,IF(B171>(G171+Grenser!$G$4),G171+Grenser!$G$4,F171-Grenser!$G$4))","v":0}]
[null,null,"",null,null,null,null,null,null,null,{"$f":"IF(AND(B172>=(F172-Grenser!$G$4),B172<=(G172+Grenser!$G$4)),B172,IF(B172>(G172+Grenser!$G$4),G172+Grenser!$G$4,F172-Grenser!$G$4))","v":0}]
[null,null,"",null,null,null,null,null,null,null,{"$f":"IF(AND(B173>=(F173-Grenser!$G$4),B173<=(G173+Grenser!$G$4)),B173,IF(B173>(G173+Grenser!$G$4),G173+Grenser!$G$4,F173-Grenser!$G$4))","v":0}]
[null,null,"",null,null,null,null,null,null,null,{"$f":"IF(AND(B174>=(F174-Grenser!$G$4),B174<=(G174+Grenser!$G$4)),B174,IF(B174>(G174+Grenser!$G$4),G174+Grenser!$G$4,F174-Grenser!$G$4))","v":0}]
[null,null,"",null,null,null,null,null,null,null,{"$f":"IF(AND(B175>=(F175-Grenser!$G$4),B175<=(G175+Grenser!$G$4)),B175,IF(B175>(G175+Grenser!$G$4),G175+Grenser!$G$4,F175-Grenser!$G$4))","v":0}]
[null,null,"",null,null,null,null,null,null,null,{"$f":"IF(AND(B176>=(F176-Grenser!$G$4),B176<=(G176+Grenser!$G$4)),B176,IF(B176>(G176+Grenser!$G$4),G176+Grenser!$G$4,F176-Grenser!$G$4))","v":0}]
[null,null,"",null,null,null,null,null,null,null,{"$f":"IF(AND(B177>=(F177-Grenser!$G$4),B177<=(G177+Grenser!$G$4)),B177,IF(B177>(G177+Grenser!$G$4),G177+Grenser!$G$4,F177-Grenser!$G$4))","v":0}]
[null,null,"",null,null,null,null,null,null,null,{"$f":"IF(AND(B178>=(F178-Grenser!$G$4),B178<=(G178+Grenser!$G$4)),B178,IF(B178>(G178+Grenser!$G$4),G178+Grenser!$G$4,F178-Grenser!$G$4))","v":0}]
[null,null,"",null,null,null,null,null,null,null,{"$f":"IF(AND(B179>=(F179-Grenser!$G$4),B179<=(G179+Grenser!$G$4)),B179,IF(B179>(G179+Grenser!$G$4),G179+Grenser!$G$4,F179-Grenser!$G$4))","v":0}]
[null,null,"",null,null,null,null,null,null,null,{"$f":"IF(AND(B180>=(F180-Grenser!$G$4),B180<=(G180+Grenser!$G$4)),B180,IF(B180>(G180+Grenser!$G$4),G180+Grenser!$G$4,F180-Grenser!$G$4))","v":0}]
[null,null,"",null,null,null,null,null,null,null,{"$f":"IF(AND(B181>=(F181-Grenser!$G$4),B181<=(G181+Grenser!$G$4)),B181,IF(B181>(G181+Grenser!$G$4),G181+Grenser!$G$4,F181-Grenser!$G$4))","v":0}]
[null,null,"",null,null,null,null,null,null,null,{"$f":"IF(AND(B182>=(F182-Grenser!$G$4),B182<=(G182+Grenser!$G$4)),B182,IF(B182>(G182+Grenser!$G$4),G182+Grenser!$G$4,F182-Grenser!$G$4))","v":0}]
[null,null,"",null,null,null,null,null,null,null,{"$f":"IF(AND(B183>=(F183-Grenser!$G$4),B183<=(G183+Grenser!$G$4)),B183,IF(B183>(G183+Grenser!$G$4),G183+Grenser!$G$4,F183-Grenser!$G$4))","v":0}]
[null,null,"",null,null,null,null,null,null,null,{"$f":"IF(AND(B184>=(F184-Grenser!$G$4),B184<=(G184+Grenser!$G$4)),B184,IF(B184>(G184+Grenser!$G$4),G184+Grenser!$G$4,F184-Grenser!$G$4))","v":0}]
[null,null,"",null,null,null,null,null,null,null,{"$f":"IF(AND(B185>=(F185-Grenser!$G$4),B185<=(G185+Grenser!$G$4)),B185,IF(B185>(G185+Grenser!$G$4),G185+Grenser!$G$4,F185-Grenser!$G$4))","v":0}]
[null,null,"",null,null,null,null,null,null,null,{"$f":"IF(AND(B186>=(F186-Grenser!$G$4),B186<=(G186+Grenser!$G$4)),B186,IF(B186>(G186+Grenser!$G$4),G186+Grenser!$G$4,F186-Grenser!$G$4))","v":0}]
[null,null,"",null,null,null,null,null,null,null,{"$f":"IF(AND(B187>=(F187-Grenser!$G$4),B187<=(G187+Grenser!$G$4)),B187,IF(B187>(G187+Grenser!$G$4),G187+Grenser!$G$4,F187-Grenser!$G$4))","v":0}]
[null,null,"",null,null,null,null,null,null,null,{"$f":"IF(AND(B188>=(F188-Grenser!$G$4),B188<=(G188+Grenser!$G$4)),B188,IF(B188>(G188+Grenser!$G$4),G188+Grenser!$G$4,F188-Grenser!$G$4))","v":0}]
[null,null,"",null,null,null,null,null,null,null,{"$f":"IF(AND(B189>=(F189-Grenser!$G$4),B189<=(G189+Grenser!$G$4)),B189,IF(B189>(G189+Grenser!$G$4),G189+Grenser!$G$4,F189-Grenser!$G$4))","v":0}]
[null,null,"",null,null,null,null,null,null,null,{"$f":"IF(AND(B190>=(F190-Grenser!$G$4),B190<=(G190+Grenser!$G$4)),B190,IF(B190>(G190+Grenser!$G$4),G190+Grenser!$G$4,F190-Grenser!$G$4))","v":0}]
[null,null,"",null,null,null,null,null,null,null,{"$f":"IF(AND(B191>=(F191-Grenser!$G$4),B191<=(G191+Grenser!$G$4)),B191,IF(B191>(G191+Grenser!$G$4),G191+Grenser!$G$4,F191-Grenser!$G$4))","v":0}]
[null,null,"",null,null,null,null,null,null,null,{"$f":"IF(AND(B192>=(F192-Grenser!$G$4),B192<=(G192+Grenser!$G$4)),B192,IF(B192>(G192+Grenser!$G$4),G192+Grenser!$G$4,F192-Grenser!$G$4))","v":0}]
[null,null,"",null,null,null,null,null,null,null,{"$f":"IF(AND(B193>=(F193-Grenser!$G$4),B193<=(G193+Grenser!$G$4)),B193,IF(B193>(G193+Grenser!$G$4),G193+Grenser!$G$4,F193-Grenser!$G$4))","v":0}]
[null,null,"",null,null,null,null,null,null,null,{"$f":"IF(AND(B194>=(F194-Grenser!$G$4),B194<=(G194+Grenser!$G$4)),B194,IF(B194>(G194+Grenser!$G$4),G194+Grenser!$G$4,F194-Grenser!$G$4))","v":0}]
[null,null,"",null,null,null,null,null,null,null,{"$f":"IF(AND(B195>=(F195-Grenser!$G$4),B195<=(G195+Grenser!$G$4)),B195,IF(B195>(G195+Grenser!$G$4),G195+Grenser!$G$4,F195-Grenser!$G$4))","v":0}]
[null,null,"",null,null,null,null,null,null,null,{"$f":"IF(AND(B196>=(F196-Grenser!$G$4),B196<=(G196+Grenser!$G$4)),B196,IF(B196>(G196+Grenser!$G$4),G196+Grenser!$G$4,F196-Grenser!$G$4))","v":0}]
[null,null,"",null,null,null,null,null,null,null,{"$f":"IF(AND(B197>=(F197-Grenser!$G$4),B197<=(G197+Grenser!$G$4)),B197,IF(B197>(G197+Grenser!$G$4),G197+Grenser!$G$4,F197-Grenser!$G$4))","v":0}]
[null,null,"",null,null,null,null,null,null,null,{"$f":"IF(AND(B198>=(F198-Grenser!$G$4),B198<=(G198+Grenser!$G$4)),B198,IF(B198>(G198+Grenser!$G$4),G198+Grenser!$G$4,F198-Grenser!$G$4))","v":0}]
[null,null,"",null,null,null,null,null,null,null,{"$f":"IF(AND(B199>=(F199-Grenser!$G$4),B199<=(G199+Grenser!$G$4)),B199,IF(B199>(G199+Grenser!$G$4),G199+Grenser!$G$4,F199-Grenser!$G$4))","v":0}]
[null,null,{"$f":"IF(B200<>\"\",(IF(OR(B200<F200,B200>G200),\"STOPP\",\"OK\")),\"\")","v":""},null,null,null,null,null,null,null,{"$f":"IF(AND(B200>=(F200-Grenser!$G$4),B200<=(G200+Grenser!$G$4)),B200,IF(B200>(G200+Grenser!$G$4),G200+Grenser!$G$4,F200-Grenser!$G$4))","v":0}]
[null,null,{"$f":"IF(B201<>\"\",(IF(OR(B201<F201,B201>G201),\"STOPP\",\"OK\")),\"\")","v":""},null,null,null,null,null,null,null,{"$f":"IF(AND(B201>=(F201-Grenser!$G$4),B201<=(G201+Grenser!$G$4)),B201,IF(B201>(G201+Grenser!$G$4),G201+Grenser!$G$4,F201-Grenser!$G$4))","v":0}]